{"text_format":"1","workbook":"xlsx","n_sheets":24,"sheets":["Inicio","Información general"," Reporte1","Resumen","Detallado","Precio","Hoja1","Precio 2","Datos","Administrativos","Administrativos AE","Docentes","Docentes AE","Cátedra","Prestación de servicios","Monitores","C.I.S. - Fundación UdeA","Viáticos","Tiquetes","Materiales","Equipos","Espacios","Otros costos","Listas"],"not_rendered":{"charts":0,"images":6,"macros":1,"external_links":0,"defined_names":7,"comments":0,"pivot_tables":0},"unopened":[],"bounds":{"document_bytes":16777216,"sheet_cells":100000,"rows_first":2000,"rows_last":500,"rows_between":2000,"halvings":0,"cell_chars":16384,"cell_head_chars":4096},"cells_cut":0,"cells_raw":0,"read":"whole","date_system":"1900"}

{"sheet":"Inicio","index":0,"n_rows":22,"n_cols":5,"rows_kept":22,"cut":false,"hidden":false,"merged":[[21,1,21,4],[3,1,3,4],[4,1,4,4],[5,1,5,4],[6,1,6,4]]}
[]
[null,null,null,null,"VA-GF-FO-014"]
[]
[null,"Formato de Costos"]
[null,"Proyectos de Extensión e Investigación"]
[null,"Acuerdo Superior 466 de 2020 - Estatuto Financiero \nAcuerdo Superior 124 de 1997 Estatuto Básico de Extensión"]
[null,"Vicerrectoría Administrativa y Vicerrectoría de Extensión"]
[]
[]
[]
[]
[]
[]
[]
[]
[]
[]
[]
[]
[]
[]
[null,"División de Gestión Financiera\nProceso de Control de Gestión y Análisis Financiero"]

{"sheet":"Información general","index":1,"n_rows":24,"n_cols":5,"rows_kept":24,"cut":false,"hidden":false,"merged":[[25,1,25,5],[3,2,3,4]]}
[]
[]
[]
[null,null,"DATOS GENERALES DEL PROYECTO"]
[]
[]
[null,null,"Nombre del proyecto "]
[null,null,"Centro de Costo",null,""]
[null,null,"Elemento PEP (Código del proyecto, si aplica)"]
[null,null,"Tipo de actividad",null,""]
[null,null,"Responsable"]
[null,null,"Fecha"]
[]
[null,null,"FASES O ENTREGABLES",null,"FINANCIADORES"]
[null,null,"etapa 1",null,"Universidad de Antioquia (Contrapartida)"]
[null,null,"etapa 2"]
[]
[]
[]
[null,null,null,null,"Notas: "]
[null,null,null,null,"*Puede digitar los nombres de las fases o entregables, "]
[null,null,null,null,"  según necesidad del proyecto"]
[null,null,null,null,"*Puede digitar el nombre de los financiadore externos "]
[null,null,null,null,"  (entidades cooperantes), según necesidad del proyecto"]

{"sheet":" Reporte1","index":2,"n_rows":48,"n_cols":6,"rows_kept":48,"cut":false,"hidden":true,"merged":[[2,1,2,4],[3,1,3,4],[12,1,12,3]]}
[]
[]
[null,"Resumen del Proyecto"]
[null,{"$f":"+'Información general'!E7","v":0}]
[]
[null,null,"Externo","UdeA","Total"]
[]
[null,"TOTAL PROYECTO",{"$f":"+C10+C14+C18+C22+C26+C30+C34+C38+C42+C46","v":0},{"$f":"+D10+D14+D18+D22+D26+D30+D34+D38+D42+D46","v":0},{"$f":"+E10+E14+E18+E22+E26+E30+E34+E38+E42+E46","v":0}]
[]
[null,{"$f":"+'Información general'!C15","v":"etapa 1"},{"$f":"+C11+C12","v":0},{"$f":"+D11+D12","v":0},{"$f":"+E11+E12","v":0}]
[null,"Recurso Humano",{"$f":"+Resumen!C11","v":0},{"$f":"+Resumen!D11","v":0},{"$f":"+C11+D11","v":0}]
[null,"Gastos Generales",{"$f":"+Resumen!C20","v":0},{"$f":"+Resumen!D20","v":0},{"$f":"+C12+D12","v":0}]
[]
[null,{"$f":"+'Información general'!C16","v":"etapa 2"},{"$f":"+C15+C16","v":0},{"$f":"+D15+D16","v":0},{"$f":"+E15+E16","v":0},{"$f":"SUM(C14:E14)","v":0}]
[null,"Recurso Humano",{"$f":"+Resumen!C29","v":0},{"$f":"+Resumen!D29","v":0},{"$f":"+C15+D15","v":0}]
[null,"Gastos Generales",{"$f":"+Resumen!C38","v":0},{"$f":"+Resumen!D38","v":0},{"$f":"+C16+D16","v":0}]
[]
[null,{"$f":"+'Información general'!C17","v":0},{"$f":"+C19+C20","v":0},{"$f":"+D19+D20","v":0},{"$f":"+E19+E20","v":0},{"$f":"+SUM(C18:E18)","v":0}]
[null,"Recurso Humano",{"$f":"+Resumen!C47","v":0},{"$f":"+Resumen!D47","v":0},{"$f":"+C19+D19","v":0}]
[null,"Gastos Generales",{"$f":"+Resumen!C56","v":0},{"$f":"+Resumen!D56","v":0},{"$f":"+C20+D20","v":0}]
[]
[null,{"$f":"+'Información general'!C18","v":0},{"$f":"+C23+C24","v":0},{"$f":"+D23+D24","v":0},{"$f":"+E23+E24","v":0},{"$f":"SUM(C22:E22)","v":0}]
[null,"Recurso Humano",{"$f":"+Resumen!C65","v":0},{"$f":"+Resumen!D65","v":0},{"$f":"+C23+D23","v":0}]
[null,"Gastos Generales",{"$f":"+Resumen!C74","v":0},{"$f":"+Resumen!D74","v":0},{"$f":"+C24+D24","v":0}]
[]
[null,{"$f":"+'Información general'!C19","v":0},{"$f":"+C27+C28","v":0},{"$f":"+D27+D28","v":0},{"$f":"+E27+E28","v":0},{"$f":"SUM(C26:E26)","v":0}]
[null,"Recurso Humano",{"$f":"+Resumen!C83","v":0},{"$f":"+Resumen!D83","v":0},{"$f":"+C27+D27","v":0}]
[null,"Gastos Generales",{"$f":"+Resumen!C92","v":0},{"$f":"+Resumen!D92","v":0},{"$f":"+C28+D28","v":0}]
[]
[null,{"$f":"+'Información general'!C20","v":0},{"$f":"+C31+C32","v":0},{"$f":"+D31+D32","v":0},{"$f":"+E31+E32","v":0},{"$f":"SUM(C30:E30)","v":0}]
[null,"Recurso Humano",{"$f":"+Resumen!C101","v":0},{"$f":"+Resumen!D101","v":0},{"$f":"+C31+D31","v":0}]
[null,"Gastos Generales",{"$f":"+Resumen!C110","v":0},{"$f":"+Resumen!D110","v":0},{"$f":"+C32+D32","v":0}]
[]
[null,{"$f":"+'Información general'!C21","v":0},{"$f":"+C35+C36","v":0},{"$f":"+D35+D36","v":0},{"$f":"+E35+E36","v":0},{"$f":"SUM(C34:E34)","v":0}]
[null,"Recurso Humano",{"$f":"+Resumen!C119","v":0},{"$f":"+Resumen!D119","v":0},{"$f":"+C35+D35","v":0}]
[null,"Gastos Generales",{"$f":"+Resumen!C128","v":0},{"$f":"+Resumen!D128","v":0},{"$f":"+C36+D36","v":0}]
[]
[null,{"$f":"+'Información general'!C22","v":0},{"$f":"+C39+C40","v":0},{"$f":"+D39+D40","v":0},{"$f":"+E39+E40","v":0},{"$f":"SUM(C38:E38)","v":0}]
[null,"Recurso Humano",{"$f":"+Resumen!C137","v":0},{"$f":"+Resumen!D137","v":0},{"$f":"+C39+D39","v":0}]
[null,"Gastos Generales",{"$f":"+Resumen!C146","v":0},{"$f":"+Resumen!D146","v":0},{"$f":"+C40+D40","v":0}]
[]
[null,{"$f":"+'Información general'!C23","v":0},{"$f":"+C43+C44","v":0},{"$f":"+D43+D44","v":0},{"$f":"+E43+E44","v":0},{"$f":"SUM(C42:E42)","v":0}]
[null,"Recurso Humano",{"$f":"+Resumen!C155","v":0},{"$f":"+Resumen!D155","v":0},{"$f":"+C43+D43","v":0}]
[null,"Gastos Generales",{"$f":"+Resumen!C164","v":0},{"$f":"+Resumen!D164","v":0},{"$f":"+C44+D44","v":0}]
[]
[null,{"$f":"+'Información general'!C24","v":0},{"$f":"+C47+C48","v":0},{"$f":"+D47+D48","v":0},{"$f":"+E47+E48","v":0},{"$f":"SUM(C46:E46)","v":0}]
[null,"Recurso Humano",{"$f":"+Resumen!C173","v":0},{"$f":"+Resumen!D173","v":0},{"$f":"+C47+D47","v":0}]
[null,"Gastos Generales",{"$f":"+Resumen!C182","v":0},{"$f":"+Resumen!D182","v":0},{"$f":"+C48+D48","v":0}]

{"sheet":"Resumen","index":3,"n_rows":188,"n_cols":6,"rows_kept":188,"cut":false,"hidden":false,"merged":[[2,1,2,4],[26,1,26,3],[3,1,3,4]]}
[]
[]
[null,"Resumen del Proyecto"]
[null,{"$f":"+IF(IFERROR('Información general'!E7,\"\")=0,\"\",'Información general'!E7)","v":""}]
[]
[null,null,"Financiador\nExterno","Contrapartida\nU de A","Total"]
[]
[null,"TOTAL PROYECTO",{"$f":"+C10+C28+C46+C64+C82+C100+C118+C136+C154+C172","v":0},{"$f":"+D10+D28+D46+D64+D82+D100+D118+D136+D154+D172","v":0},{"$f":"+E10+E28+E46+E64+E82+E100+E118+E136+E154+E172","v":0}]
[]
[null,{"$f":"+'Información general'!C15","v":"etapa 1"},{"$f":"+C11+C20","v":0},{"$f":"+D11+D20","v":0},{"$f":"+E11+E20","v":0}]
[null,"Personal",{"$f":"+SUM(C12:C19)","v":0},{"$f":"+SUM(D12:D19)","v":0},{"$f":"+SUM(E12:E19)","v":0}]
[null,"Administrativo vinculado",{"$f":"+SUMIFS(Administrativos!Q:Q,Administrativos!A:A,\"<>Universidad de Antioquia (Contrapartida)\",Administrativos!B:B,$B$10)","v":0},{"$f":"+SUMIFS(Administrativos!Q:Q,Administrativos!A:A,\"Universidad de Antioquia (Contrapartida)\",Administrativos!B:B,$B$10)","v":0},{"$f":"+C12+D12","v":0}]
[null,"Actividad Especial de Administrativo vinculado",{"$f":"+SUMIFS('Administrativos AE'!M:M,'Administrativos AE'!A:A,\"<>Universidad de Antioquia (Contrapartida)\",'Administrativos AE'!B:B,$B$10)","v":0},{"$f":"+SUMIFS('Administrativos AE'!M:M,'Administrativos AE'!A:A,\"Universidad de Antioquia (Contrapartida)\",'Administrativos AE'!B:B,$B$10)","v":0},0]
[null,"Docente vinculado",{"$f":"+SUMIFS(Docentes!Q:Q,Docentes!A:A,\"<>Universidad de Antioquia (Contrapartida)\",Docentes!B:B,$B$10)","v":0},{"$f":"+SUMIFS(Docentes!Q:Q,Docentes!A:A,\"Universidad de Antioquia (Contrapartida)\",Docentes!B:B,$B$10)","v":0},0]
[null,"Actividad Especial de docente vinculado",{"$f":"+SUMIFS('Docentes AE'!N:N,'Docentes AE'!A:A,\"<>Universidad de Antioquia (Contrapartida)\",'Docentes AE'!B:B,$B$10)","v":0},{"$f":"+SUMIFS('Docentes AE'!N:N,'Docentes AE'!A:A,\"Universidad de Antioquia (Contrapartida)\",'Docentes AE'!B:B,$B$10)","v":0},0]
[null,"Cátedra",{"$f":"+SUMIFS(Cátedra!O:O,Cátedra!A:A,\"<>Universidad de Antioquia (Contrapartida)\",Cátedra!B:B,$B$10)","v":0},{"$f":"+SUMIFS(Cátedra!O:O,Cátedra!A:A,\"Universidad de Antioquia (Contrapartida)\",Cátedra!B:B,$B$10)","v":0},0]
[null,"Prestación de servicios",{"$f":"+SUMIFS('Prestación de servicios'!L:L,'Prestación de servicios'!A:A,\"<>Universidad de Antioquia (Contrapartida)\",'Prestación de servicios'!B:B,$B$10)","v":0},{"$f":"+SUMIFS('Prestación de servicios'!L:L,'Prestación de servicios'!A:A,\"Universidad de Antioquia (Contrapartida)\",'Prestación de servicios'!B:B,$B$10)","v":0},0]
[null,"Monitores",{"$f":"+SUMIFS(Monitores!K:K,Monitores!A:A,\"<>Universidad de Antioquia (Contrapartida)\",Monitores!B:B,$B$10)","v":0},{"$f":"+SUMIFS(Monitores!K:K,Monitores!A:A,\"Universidad de Antioquia (Contrapartida)\",Monitores!B:B,$B$10)","v":0},0]
[null,"Personal C.I.S. -Fundación UdeA",{"$f":"+SUMIFS('C.I.S. - Fundación UdeA'!Q:Q,'C.I.S. - Fundación UdeA'!A:A,\"<>Universidad de Antioquia (Contrapartida)\",'C.I.S. - Fundación UdeA'!B:B,$B$10)","v":0},{"$f":"+SUMIFS('C.I.S. - Fundación UdeA'!Q:Q,'C.I.S. - Fundación UdeA'!A:A,\"Universidad de Antioquia (Contrapartida)\",'C.I.S. - Fundación UdeA'!B:B,$B$10)","v":0},0]
[null,"Gastos Generales",{"$f":"+SUM(C21:C26)","v":0},{"$f":"+SUM(D21:D26)","v":0},{"$f":"+SUM(E21:E26)","v":0}]
[null,"Viáticos",{"$f":"+SUMIFS(Viáticos!N:N,Viáticos!A:A,\"<>Universidad de Antioquia (Contrapartida)\",Viáticos!B:B,$B$10)","v":0},{"$f":"+SUMIFS(Viáticos!N:N,Viáticos!A:A,\"Universidad de Antioquia (Contrapartida)\",Viáticos!B:B,$B$10)","v":0},{"$f":"+C21+D21","v":0}]
[null,"Tiquetes",{"$f":"+SUMIFS(Tiquetes!L:L,Tiquetes!A:A,\"<>Universidad de Antioquia (Contrapartida)\",Tiquetes!B:B,$B$10)","v":0},{"$f":"+SUMIFS(Tiquetes!L:L,Tiquetes!A:A,\"Universidad de Antioquia (Contrapartida)\",Tiquetes!B:B,$B$10)","v":0},0]
[null,"Materiales",{"$f":"+SUMIFS(Materiales!I:I,Materiales!A:A,\"<>Universidad de Antioquia (Contrapartida)\",Materiales!B:B,$B$10)","v":0},{"$f":"+SUMIFS(Materiales!I:I,Materiales!A:A,\"Universidad de Antioquia (Contrapartida)\",Materiales!B:B,$B$10)","v":0},0]
[null,"Equipos",{"$f":"+SUMIFS(Equipos!P:P,Equipos!A:A,\"<>Universidad de Antioquia (Contrapartida)\",Equipos!B:B,$B$10)","v":0},{"$f":"+SUMIFS(Equipos!P:P,Equipos!A:A,\"Universidad de Antioquia (Contrapartida)\",Equipos!B:B,$B$10)","v":0},0]
[null,"Espacios",{"$f":"+SUMIFS(Espacios!N:N,Espacios!A:A,\"<>Universidad de Antioquia (Contrapartida)\",Espacios!B:B,$B$10)","v":0},{"$f":"+SUMIFS(Espacios!N:N,Espacios!A:A,\"Universidad de Antioquia (Contrapartida)\",Espacios!B:B,$B$10)","v":0},0]
[null,"Otros costos",{"$f":"+SUMIFS('Otros costos'!I:I,'Otros costos'!A:A,\"<>Universidad de Antioquia (Contrapartida)\",'Otros costos'!B:B,$B$10)","v":0},{"$f":"+SUMIFS('Otros costos'!I:I,'Otros costos'!A:A,\"Universidad de Antioquia (Contrapartida)\",'Otros costos'!B:B,$B$10)","v":0},0]
[]
[null,{"$f":"+'Información general'!C16","v":"etapa 2"},{"$f":"+C29+C38","v":0},{"$f":"+D29+D38","v":0},{"$f":"+E29+E38","v":0},{"$f":"+SUM(C28:E28)","v":0}]
[null,"Personal",{"$f":"+SUM(C30:C37)","v":0},{"$f":"+SUM(D30:D37)","v":0},{"$f":"+SUM(E30:E37)","v":0}]
[null,"Administrativo vinculado",{"$f":"+SUMIFS(Administrativos!Q:Q,Administrativos!A:A,\"<>Universidad de Antioquia (Contrapartida)\",Administrativos!B:B,$B$28)","v":0},{"$f":"+SUMIFS(Administrativos!Q:Q,Administrativos!A:A,\"Universidad de Antioquia (Contrapartida)\",Administrativos!B:B,$B$28)","v":0},{"$f":"+C30+D30","v":0}]
[null,"Actividad Especial de Administrativo vinculado",{"$f":"+SUMIFS('Administrativos AE'!M:M,'Administrativos AE'!A:A,\"<>Universidad de Antioquia (Contrapartida)\",'Administrativos AE'!B:B,$B$28)","v":0},{"$f":"+SUMIFS('Administrativos AE'!M:M,'Administrativos AE'!A:A,\"Universidad de Antioquia (Contrapartida)\",'Administrativos AE'!B:B,$B$28)","v":0},0]
[null,"Docente vinculado",{"$f":"+SUMIFS(Docentes!Q:Q,Docentes!A:A,\"<>Universidad de Antioquia (Contrapartida)\",Docentes!B:B,$B$28)","v":0},{"$f":"+SUMIFS(Docentes!Q:Q,Docentes!A:A,\"Universidad de Antioquia (Contrapartida)\",Docentes!B:B,$B$28)","v":0},0]
[null,"Actividad Especial de docente vinculado",{"$f":"+SUMIFS('Docentes AE'!N:N,'Docentes AE'!A:A,\"<>Universidad de Antioquia (Contrapartida)\",'Docentes AE'!B:B,$B$28)","v":0},{"$f":"+SUMIFS('Docentes AE'!N:N,'Docentes AE'!A:A,\"Universidad de Antioquia (Contrapartida)\",'Docentes AE'!B:B,$B$28)","v":0},0]
[null,"Cátedra",{"$f":"+SUMIFS(Cátedra!O:O,Cátedra!A:A,\"<>Universidad de Antioquia (Contrapartida)\",Cátedra!B:B,$B$28)","v":0},{"$f":"+SUMIFS(Cátedra!O:O,Cátedra!A:A,\"Universidad de Antioquia (Contrapartida)\",Cátedra!B:B,$B$28)","v":0},0]
[null,"Prestación de servicios",{"$f":"+SUMIFS('Prestación de servicios'!L:L,'Prestación de servicios'!A:A,\"<>Universidad de Antioquia (Contrapartida)\",'Prestación de servicios'!B:B,$B$28)","v":0},{"$f":"+SUMIFS('Prestación de servicios'!L:L,'Prestación de servicios'!A:A,\"Universidad de Antioquia (Contrapartida)\",'Prestación de servicios'!B:B,$B$28)","v":0},0]
[null,"Monitores",{"$f":"+SUMIFS(Monitores!K:K,Monitores!A:A,\"<>Universidad de Antioquia (Contrapartida)\",Monitores!B:B,$B$28)","v":0},{"$f":"+SUMIFS(Monitores!K:K,Monitores!A:A,\"Universidad de Antioquia (Contrapartida)\",Monitores!B:B,$B$28)","v":0},0]
[null,"Personal C.I.S. -Fundación UdeA",{"$f":"+SUMIFS('C.I.S. - Fundación UdeA'!Q:Q,'C.I.S. - Fundación UdeA'!A:A,\"<>Universidad de Antioquia (Contrapartida)\",'C.I.S. - Fundación UdeA'!B:B,$B$28)","v":0},{"$f":"+SUMIFS('C.I.S. - Fundación UdeA'!Q:Q,'C.I.S. - Fundación UdeA'!A:A,\"Universidad de Antioquia (Contrapartida)\",'C.I.S. - Fundación UdeA'!B:B,$B$28)","v":0},0]
[null,"Gastos Generales",{"$f":"+SUM(C39:C44)","v":0},{"$f":"+SUM(D39:D44)","v":0},{"$f":"+SUM(E39:E44)","v":0}]
[null,"Viáticos",{"$f":"+SUMIFS(Viáticos!N:N,Viáticos!A:A,\"<>Universidad de Antioquia (Contrapartida)\",Viáticos!B:B,$B$28)","v":0},{"$f":"+SUMIFS(Viáticos!N:N,Viáticos!A:A,\"Universidad de Antioquia (Contrapartida)\",Viáticos!B:B,$B$28)","v":0},{"$f":"+C39+D39","v":0}]
[null,"Tiquetes",{"$f":"+SUMIFS(Tiquetes!L:L,Tiquetes!A:A,\"<>Universidad de Antioquia (Contrapartida)\",Tiquetes!B:B,$B$28)","v":0},{"$f":"+SUMIFS(Tiquetes!L:L,Tiquetes!A:A,\"Universidad de Antioquia (Contrapartida)\",Tiquetes!B:B,$B$28)","v":0},0]
[null,"Materiales",{"$f":"+SUMIFS(Materiales!I:I,Materiales!A:A,\"<>Universidad de Antioquia (Contrapartida)\",Materiales!B:B,$B$28)","v":0},{"$f":"+SUMIFS(Materiales!I:I,Materiales!A:A,\"Universidad de Antioquia (Contrapartida)\",Materiales!B:B,$B$28)","v":0},0]
[null,"Equipos",{"$f":"+SUMIFS(Equipos!P:P,Equipos!A:A,\"<>Universidad de Antioquia (Contrapartida)\",Equipos!B:B,$B$28)","v":0},{"$f":"+SUMIFS(Equipos!P:P,Equipos!A:A,\"Universidad de Antioquia (Contrapartida)\",Equipos!B:B,$B$28)","v":0},0]
[null,"Espacios",{"$f":"+SUMIFS(Espacios!N:N,Espacios!A:A,\"<>Universidad de Antioquia (Contrapartida)\",Espacios!B:B,$B$28)","v":0},{"$f":"+SUMIFS(Espacios!N:N,Espacios!A:A,\"Universidad de Antioquia (Contrapartida)\",Espacios!B:B,$B$28)","v":0},0]
[null,"Otros costos",{"$f":"+SUMIFS('Otros costos'!I:I,'Otros costos'!A:A,\"<>Universidad de Antioquia (Contrapartida)\",'Otros costos'!B:B,$B$28)","v":0},{"$f":"+SUMIFS('Otros costos'!I:I,'Otros costos'!A:A,\"Universidad de Antioquia (Contrapartida)\",'Otros costos'!B:B,$B$28)","v":0},0]
[]
[null,{"$f":"+'Información general'!C17","v":0},{"$f":"+C47+C56","v":0},{"$f":"+D47+D56","v":0},{"$f":"+E47+E56","v":0},{"$f":"+SUM(C46:E46)","v":0}]
[null,"Personal",{"$f":"+SUM(C48:C55)","v":0},{"$f":"+SUM(D48:D55)","v":0},{"$f":"+SUM(E48:E55)","v":0}]
[null,"Administrativo vinculado",{"$f":"+SUMIFS(Administrativos!Q:Q,Administrativos!A:A,\"<>Universidad de Antioquia (Contrapartida)\",Administrativos!B:B,$B$46)","v":0},{"$f":"+SUMIFS(Administrativos!Q:Q,Administrativos!A:A,\"Universidad de Antioquia (Contrapartida)\",Administrativos!B:B,$B$46)","v":0},{"$f":"+C48+D48","v":0}]
[null,"Actividad Especial de Administrativo vinculado",{"$f":"+SUMIFS('Administrativos AE'!M:M,'Administrativos AE'!A:A,\"<>Universidad de Antioquia (Contrapartida)\",'Administrativos AE'!B:B,$B$46)","v":0},{"$f":"+SUMIFS('Administrativos AE'!M:M,'Administrativos AE'!A:A,\"Universidad de Antioquia (Contrapartida)\",'Administrativos AE'!B:B,$B$46)","v":0},0]
[null,"Docente vinculado",{"$f":"+SUMIFS(Docentes!Q:Q,Docentes!A:A,\"<>Universidad de Antioquia (Contrapartida)\",Docentes!B:B,$B$46)","v":0},{"$f":"+SUMIFS(Docentes!Q:Q,Docentes!A:A,\"Universidad de Antioquia (Contrapartida)\",Docentes!B:B,$B$46)","v":0},0]
[null,"Actividad Especial de docente vinculado",{"$f":"+SUMIFS('Docentes AE'!N:N,'Docentes AE'!A:A,\"<>Universidad de Antioquia (Contrapartida)\",'Docentes AE'!B:B,$B$46)","v":0},{"$f":"+SUMIFS('Docentes AE'!N:N,'Docentes AE'!A:A,\"Universidad de Antioquia (Contrapartida)\",'Docentes AE'!B:B,$B$46)","v":0},0]
[null,"Cátedra",{"$f":"+SUMIFS(Cátedra!O:O,Cátedra!A:A,\"<>Universidad de Antioquia (Contrapartida)\",Cátedra!B:B,$B$46)","v":0},{"$f":"+SUMIFS(Cátedra!O:O,Cátedra!A:A,\"Universidad de Antioquia (Contrapartida)\",Cátedra!B:B,$B$46)","v":0},0]
[null,"Prestación de servicios",{"$f":"+SUMIFS('Prestación de servicios'!L:L,'Prestación de servicios'!A:A,\"<>Universidad de Antioquia (Contrapartida)\",'Prestación de servicios'!B:B,$B$46)","v":0},{"$f":"+SUMIFS('Prestación de servicios'!L:L,'Prestación de servicios'!A:A,\"Universidad de Antioquia (Contrapartida)\",'Prestación de servicios'!B:B,$B$46)","v":0},0]
[null,"Monitores",{"$f":"+SUMIFS(Monitores!K:K,Monitores!A:A,\"<>Universidad de Antioquia (Contrapartida)\",Monitores!B:B,$B$46)","v":0},{"$f":"+SUMIFS(Monitores!K:K,Monitores!A:A,\"Universidad de Antioquia (Contrapartida)\",Monitores!B:B,$B$46)","v":0},0]
[null,"Personal C.I.S. -Fundación UdeA",{"$f":"+SUMIFS('C.I.S. - Fundación UdeA'!Q:Q,'C.I.S. - Fundación UdeA'!A:A,\"<>Universidad de Antioquia (Contrapartida)\",'C.I.S. - Fundación UdeA'!B:B,$B$46)","v":0},{"$f":"+SUMIFS('C.I.S. - Fundación UdeA'!Q:Q,'C.I.S. - Fundación UdeA'!A:A,\"Universidad de Antioquia (Contrapartida)\",'C.I.S. - Fundación UdeA'!B:B,$B$46)","v":0},0]
[null,"Gastos Generales",{"$f":"+SUM(C57:C62)","v":0},{"$f":"+SUM(D57:D62)","v":0},{"$f":"+SUM(E57:E62)","v":0}]
[null,"Viáticos",{"$f":"+SUMIFS(Viáticos!N:N,Viáticos!A:A,\"<>Universidad de Antioquia (Contrapartida)\",Viáticos!B:B,$B$46)","v":0},{"$f":"+SUMIFS(Viáticos!N:N,Viáticos!A:A,\"Universidad de Antioquia (Contrapartida)\",Viáticos!B:B,$B$46)","v":0},{"$f":"+C57+D57","v":0}]
[null,"Tiquetes",{"$f":"+SUMIFS(Tiquetes!L:L,Tiquetes!A:A,\"<>Universidad de Antioquia (Contrapartida)\",Tiquetes!B:B,$B$46)","v":0},{"$f":"+SUMIFS(Tiquetes!L:L,Tiquetes!A:A,\"Universidad de Antioquia (Contrapartida)\",Tiquetes!B:B,$B$46)","v":0},0]
[null,"Materiales",{"$f":"+SUMIFS(Materiales!I:I,Materiales!A:A,\"<>Universidad de Antioquia (Contrapartida)\",Materiales!B:B,$B$46)","v":0},{"$f":"+SUMIFS(Materiales!I:I,Materiales!A:A,\"Universidad de Antioquia (Contrapartida)\",Materiales!B:B,$B$46)","v":0},0]
[null,"Equipos",{"$f":"+SUMIFS(Equipos!P:P,Equipos!A:A,\"<>Universidad de Antioquia (Contrapartida)\",Equipos!B:B,$B$46)","v":0},{"$f":"+SUMIFS(Equipos!P:P,Equipos!A:A,\"Universidad de Antioquia (Contrapartida)\",Equipos!B:B,$B$46)","v":0},0]
[null,"Espacios",{"$f":"+SUMIFS(Espacios!N:N,Espacios!A:A,\"<>Universidad de Antioquia (Contrapartida)\",Espacios!B:B,$B$46)","v":0},{"$f":"+SUMIFS(Espacios!N:N,Espacios!A:A,\"Universidad de Antioquia (Contrapartida)\",Espacios!B:B,$B$46)","v":0},0]
[null,"Otros costos",{"$f":"+SUMIFS('Otros costos'!I:I,'Otros costos'!A:A,\"<>Universidad de Antioquia (Contrapartida)\",'Otros costos'!B:B,$B$46)","v":0},{"$f":"+SUMIFS('Otros costos'!I:I,'Otros costos'!A:A,\"Universidad de Antioquia (Contrapartida)\",'Otros costos'!B:B,$B$46)","v":0},0]
[]
[null,{"$f":"+'Información general'!C18","v":0},{"$f":"+C65+C74","v":0},{"$f":"+D65+D74","v":0},{"$f":"+E65+E74","v":0},{"$f":"+SUM(C64:E64)","v":0}]
[null,"Personal",{"$f":"+SUM(C66:C73)","v":0},{"$f":"+SUM(D66:D73)","v":0},{"$f":"+SUM(E66:E73)","v":0}]
[null,"Administrativo vinculado",{"$f":"+SUMIFS(Administrativos!Q:Q,Administrativos!A:A,\"<>Universidad de Antioquia (Contrapartida)\",Administrativos!B:B,$B$64)","v":0},{"$f":"+SUMIFS(Administrativos!Q:Q,Administrativos!A:A,\"Universidad de Antioquia (Contrapartida)\",Administrativos!B:B,$B$64)","v":0},{"$f":"+C66+D66","v":0}]
[null,"Actividad Especial de Administrativo vinculado",{"$f":"+SUMIFS('Administrativos AE'!M:M,'Administrativos AE'!A:A,\"<>Universidad de Antioquia (Contrapartida)\",'Administrativos AE'!B:B,$B$64)","v":0},{"$f":"+SUMIFS('Administrativos AE'!M:M,'Administrativos AE'!A:A,\"Universidad de Antioquia (Contrapartida)\",'Administrativos AE'!B:B,$B$64)","v":0},0]
[null,"Docente vinculado",{"$f":"+SUMIFS(Docentes!Q:Q,Docentes!A:A,\"<>Universidad de Antioquia (Contrapartida)\",Docentes!B:B,$B$64)","v":0},{"$f":"+SUMIFS(Docentes!Q:Q,Docentes!A:A,\"Universidad de Antioquia (Contrapartida)\",Docentes!B:B,$B$64)","v":0},0]
[null,"Actividad Especial de docente vinculado",{"$f":"+SUMIFS('Docentes AE'!N:N,'Docentes AE'!A:A,\"<>Universidad de Antioquia (Contrapartida)\",'Docentes AE'!B:B,$B$64)","v":0},{"$f":"+SUMIFS('Docentes AE'!N:N,'Docentes AE'!A:A,\"Universidad de Antioquia (Contrapartida)\",'Docentes AE'!B:B,$B$64)","v":0},0]
[null,"Cátedra",{"$f":"+SUMIFS(Cátedra!O:O,Cátedra!A:A,\"<>Universidad de Antioquia (Contrapartida)\",Cátedra!B:B,$B$64)","v":0},{"$f":"+SUMIFS(Cátedra!O:O,Cátedra!A:A,\"Universidad de Antioquia (Contrapartida)\",Cátedra!B:B,$B$64)","v":0},0]
[null,"Prestación de servicios",{"$f":"+SUMIFS('Prestación de servicios'!L:L,'Prestación de servicios'!A:A,\"<>Universidad de Antioquia (Contrapartida)\",'Prestación de servicios'!B:B,$B$64)","v":0},{"$f":"+SUMIFS('Prestación de servicios'!L:L,'Prestación de servicios'!A:A,\"Universidad de Antioquia (Contrapartida)\",'Prestación de servicios'!B:B,$B$64)","v":0},0]
[null,"Monitores",{"$f":"+SUMIFS(Monitores!K:K,Monitores!A:A,\"<>Universidad de Antioquia (Contrapartida)\",Monitores!B:B,$B$64)","v":0},{"$f":"+SUMIFS(Monitores!K:K,Monitores!A:A,\"Universidad de Antioquia (Contrapartida)\",Monitores!B:B,$B$64)","v":0},0]
[null,"Personal C.I.S. -Fundación UdeA",{"$f":"+SUMIFS('C.I.S. - Fundación UdeA'!Q:Q,'C.I.S. - Fundación UdeA'!A:A,\"<>Universidad de Antioquia (Contrapartida)\",'C.I.S. - Fundación UdeA'!B:B,$B$64)","v":0},{"$f":"+SUMIFS('C.I.S. - Fundación UdeA'!Q:Q,'C.I.S. - Fundación UdeA'!A:A,\"Universidad de Antioquia (Contrapartida)\",'C.I.S. - Fundación UdeA'!B:B,$B$64)","v":0},0]
[null,"Gastos Generales",{"$f":"+SUM(C75:C80)","v":0},{"$f":"+SUM(D75:D80)","v":0},{"$f":"+SUM(E75:E80)","v":0}]
[null,"Viáticos",{"$f":"+SUMIFS(Viáticos!N:N,Viáticos!A:A,\"<>Universidad de Antioquia (Contrapartida)\",Viáticos!B:B,$B$64)","v":0},{"$f":"+SUMIFS(Viáticos!N:N,Viáticos!A:A,\"Universidad de Antioquia (Contrapartida)\",Viáticos!B:B,$B$64)","v":0},{"$f":"+C75+D75","v":0}]
[null,"Tiquetes",{"$f":"+SUMIFS(Tiquetes!L:L,Tiquetes!A:A,\"<>Universidad de Antioquia (Contrapartida)\",Tiquetes!B:B,$B$64)","v":0},{"$f":"+SUMIFS(Tiquetes!L:L,Tiquetes!A:A,\"Universidad de Antioquia (Contrapartida)\",Tiquetes!B:B,$B$64)","v":0},0]
[null,"Materiales",{"$f":"+SUMIFS(Materiales!I:I,Materiales!A:A,\"<>Universidad de Antioquia (Contrapartida)\",Materiales!B:B,$B$64)","v":0},{"$f":"+SUMIFS(Materiales!I:I,Materiales!A:A,\"Universidad de Antioquia (Contrapartida)\",Materiales!B:B,$B$64)","v":0},0]
[null,"Equipos",{"$f":"+SUMIFS(Equipos!P:P,Equipos!A:A,\"<>Universidad de Antioquia (Contrapartida)\",Equipos!B:B,$B$64)","v":0},{"$f":"+SUMIFS(Equipos!P:P,Equipos!A:A,\"Universidad de Antioquia (Contrapartida)\",Equipos!B:B,$B$64)","v":0},0]
[null,"Espacios",{"$f":"+SUMIFS(Espacios!N:N,Espacios!A:A,\"<>Universidad de Antioquia (Contrapartida)\",Espacios!B:B,$B$64)","v":0},{"$f":"+SUMIFS(Espacios!N:N,Espacios!A:A,\"Universidad de Antioquia (Contrapartida)\",Espacios!B:B,$B$64)","v":0},0]
[null,"Otros costos",{"$f":"+SUMIFS('Otros costos'!I:I,'Otros costos'!A:A,\"<>Universidad de Antioquia (Contrapartida)\",'Otros costos'!B:B,$B$64)","v":0},{"$f":"+SUMIFS('Otros costos'!I:I,'Otros costos'!A:A,\"Universidad de Antioquia (Contrapartida)\",'Otros costos'!B:B,$B$64)","v":0},0]
[]
[null,{"$f":"+'Información general'!C19","v":0},{"$f":"+C83+C92","v":0},{"$f":"+D83+D92","v":0},{"$f":"+E83+E92","v":0},{"$f":"+SUM(C82:E82)","v":0}]
[null,"Personal",{"$f":"+SUM(C84:C91)","v":0},{"$f":"+SUM(D84:D91)","v":0},{"$f":"+SUM(E84:E91)","v":0}]
[null,"Administrativo vinculado",{"$f":"+SUMIFS(Administrativos!Q:Q,Administrativos!A:A,\"<>Universidad de Antioquia (Contrapartida)\",Administrativos!B:B,$B$82)","v":0},{"$f":"+SUMIFS(Administrativos!Q:Q,Administrativos!A:A,\"Universidad de Antioquia (Contrapartida)\",Administrativos!B:B,$B$82)","v":0},{"$f":"+C84+D84","v":0}]
[null,"Actividad Especial de Administrativo vinculado",{"$f":"+SUMIFS('Administrativos AE'!M:M,'Administrativos AE'!A:A,\"<>Universidad de Antioquia (Contrapartida)\",'Administrativos AE'!B:B,$B$82)","v":0},{"$f":"+SUMIFS('Administrativos AE'!M:M,'Administrativos AE'!A:A,\"Universidad de Antioquia (Contrapartida)\",'Administrativos AE'!B:B,$B$82)","v":0},0]
[null,"Docente vinculado",{"$f":"+SUMIFS(Docentes!Q:Q,Docentes!A:A,\"<>Universidad de Antioquia (Contrapartida)\",Docentes!B:B,$B$82)","v":0},{"$f":"+SUMIFS(Docentes!Q:Q,Docentes!A:A,\"Universidad de Antioquia (Contrapartida)\",Docentes!B:B,$B$82)","v":0},0]
[null,"Actividad Especial de docente vinculado",{"$f":"+SUMIFS('Docentes AE'!N:N,'Docentes AE'!A:A,\"<>Universidad de Antioquia (Contrapartida)\",'Docentes AE'!B:B,$B$82)","v":0},{"$f":"+SUMIFS('Docentes AE'!N:N,'Docentes AE'!A:A,\"Universidad de Antioquia (Contrapartida)\",'Docentes AE'!B:B,$B$82)","v":0},0]
[null,"Cátedra",{"$f":"+SUMIFS(Cátedra!O:O,Cátedra!A:A,\"<>Universidad de Antioquia (Contrapartida)\",Cátedra!B:B,$B$82)","v":0},{"$f":"+SUMIFS(Cátedra!O:O,Cátedra!A:A,\"Universidad de Antioquia (Contrapartida)\",Cátedra!B:B,$B$82)","v":0},0]
[null,"Prestación de servicios",{"$f":"+SUMIFS('Prestación de servicios'!L:L,'Prestación de servicios'!A:A,\"<>Universidad de Antioquia (Contrapartida)\",'Prestación de servicios'!B:B,$B$82)","v":0},{"$f":"+SUMIFS('Prestación de servicios'!L:L,'Prestación de servicios'!A:A,\"Universidad de Antioquia (Contrapartida)\",'Prestación de servicios'!B:B,$B$82)","v":0},0]
[null,"Monitores",{"$f":"+SUMIFS(Monitores!K:K,Monitores!A:A,\"<>Universidad de Antioquia (Contrapartida)\",Monitores!B:B,$B$82)","v":0},{"$f":"+SUMIFS(Monitores!K:K,Monitores!A:A,\"Universidad de Antioquia (Contrapartida)\",Monitores!B:B,$B$82)","v":0},0]
[null,"Personal C.I.S. -Fundación UdeA",{"$f":"+SUMIFS('C.I.S. - Fundación UdeA'!Q:Q,'C.I.S. - Fundación UdeA'!A:A,\"<>Universidad de Antioquia (Contrapartida)\",'C.I.S. - Fundación UdeA'!B:B,$B$82)","v":0},{"$f":"+SUMIFS('C.I.S. - Fundación UdeA'!Q:Q,'C.I.S. - Fundación UdeA'!A:A,\"Universidad de Antioquia (Contrapartida)\",'C.I.S. - Fundación UdeA'!B:B,$B$82)","v":0},0]
[null,"Gastos Generales",{"$f":"+SUM(C93:C98)","v":0},{"$f":"+SUM(D93:D98)","v":0},{"$f":"+SUM(E93:E98)","v":0}]
[null,"Viáticos",{"$f":"+SUMIFS(Viáticos!N:N,Viáticos!A:A,\"<>Universidad de Antioquia (Contrapartida)\",Viáticos!B:B,$B$82)","v":0},{"$f":"+SUMIFS(Viáticos!N:N,Viáticos!A:A,\"Universidad de Antioquia (Contrapartida)\",Viáticos!B:B,$B$82)","v":0},{"$f":"+C93+D93","v":0}]
[null,"Tiquetes",{"$f":"+SUMIFS(Tiquetes!L:L,Tiquetes!A:A,\"<>Universidad de Antioquia (Contrapartida)\",Tiquetes!B:B,$B$82)","v":0},{"$f":"+SUMIFS(Tiquetes!L:L,Tiquetes!A:A,\"Universidad de Antioquia (Contrapartida)\",Tiquetes!B:B,$B$82)","v":0},0]
[null,"Materiales",{"$f":"+SUMIFS(Materiales!I:I,Materiales!A:A,\"<>Universidad de Antioquia (Contrapartida)\",Materiales!B:B,$B$82)","v":0},{"$f":"+SUMIFS(Materiales!I:I,Materiales!A:A,\"Universidad de Antioquia (Contrapartida)\",Materiales!B:B,$B$82)","v":0},0]
[null,"Equipos",{"$f":"+SUMIFS(Equipos!P:P,Equipos!A:A,\"<>Universidad de Antioquia (Contrapartida)\",Equipos!B:B,$B$82)","v":0},{"$f":"+SUMIFS(Equipos!P:P,Equipos!A:A,\"Universidad de Antioquia (Contrapartida)\",Equipos!B:B,$B$82)","v":0},0]
[null,"Espacios",{"$f":"+SUMIFS(Espacios!N:N,Espacios!A:A,\"<>Universidad de Antioquia (Contrapartida)\",Espacios!B:B,$B$82)","v":0},{"$f":"+SUMIFS(Espacios!N:N,Espacios!A:A,\"Universidad de Antioquia (Contrapartida)\",Espacios!B:B,$B$82)","v":0},0]
[null,"Otros costos",{"$f":"+SUMIFS('Otros costos'!I:I,'Otros costos'!A:A,\"<>Universidad de Antioquia (Contrapartida)\",'Otros costos'!B:B,$B$82)","v":0},{"$f":"+SUMIFS('Otros costos'!I:I,'Otros costos'!A:A,\"Universidad de Antioquia (Contrapartida)\",'Otros costos'!B:B,$B$82)","v":0},0]
[]
[null,{"$f":"+'Información general'!C20","v":0},{"$f":"+C101+C110","v":0},{"$f":"+D101+D110","v":0},{"$f":"+E101+E110","v":0},{"$f":"+SUM(C100:E100)","v":0}]
[null,"Personal",{"$f":"+SUM(C102:C109)","v":0},{"$f":"+SUM(D102:D109)","v":0},{"$f":"+SUM(E102:E109)","v":0}]
[null,"Administrativo vinculado",{"$f":"+SUMIFS(Administrativos!Q:Q,Administrativos!A:A,\"<>Universidad de Antioquia (Contrapartida)\",Administrativos!B:B,$B$100)","v":0},{"$f":"+SUMIFS(Administrativos!Q:Q,Administrativos!A:A,\"Universidad de Antioquia (Contrapartida)\",Administrativos!B:B,$B$100)","v":0},{"$f":"+C102+D102","v":0}]
[null,"Actividad Especial de Administrativo vinculado",{"$f":"+SUMIFS('Administrativos AE'!M:M,'Administrativos AE'!A:A,\"<>Universidad de Antioquia (Contrapartida)\",'Administrativos AE'!B:B,$B$100)","v":0},{"$f":"+SUMIFS('Administrativos AE'!M:M,'Administrativos AE'!A:A,\"Universidad de Antioquia (Contrapartida)\",'Administrativos AE'!B:B,$B$100)","v":0},0]
[null,"Docente vinculado",{"$f":"+SUMIFS(Docentes!Q:Q,Docentes!A:A,\"<>Universidad de Antioquia (Contrapartida)\",Docentes!B:B,$B$100)","v":0},{"$f":"+SUMIFS(Docentes!Q:Q,Docentes!A:A,\"Universidad de Antioquia (Contrapartida)\",Docentes!B:B,$B$100)","v":0},0]
[null,"Actividad Especial de docente vinculado",{"$f":"+SUMIFS('Docentes AE'!N:N,'Docentes AE'!A:A,\"<>Universidad de Antioquia (Contrapartida)\",'Docentes AE'!B:B,$B$100)","v":0},{"$f":"+SUMIFS('Docentes AE'!N:N,'Docentes AE'!A:A,\"Universidad de Antioquia (Contrapartida)\",'Docentes AE'!B:B,$B$100)","v":0},0]
[null,"Cátedra",{"$f":"+SUMIFS(Cátedra!O:O,Cátedra!A:A,\"<>Universidad de Antioquia (Contrapartida)\",Cátedra!B:B,$B$100)","v":0},{"$f":"+SUMIFS(Cátedra!O:O,Cátedra!A:A,\"Universidad de Antioquia (Contrapartida)\",Cátedra!B:B,$B$100)","v":0},0]
[null,"Prestación de servicios",{"$f":"+SUMIFS('Prestación de servicios'!L:L,'Prestación de servicios'!A:A,\"<>Universidad de Antioquia (Contrapartida)\",'Prestación de servicios'!B:B,$B$100)","v":0},{"$f":"+SUMIFS('Prestación de servicios'!L:L,'Prestación de servicios'!A:A,\"Universidad de Antioquia (Contrapartida)\",'Prestación de servicios'!B:B,$B$100)","v":0},0]
[null,"Monitores",{"$f":"+SUMIFS(Monitores!K:K,Monitores!A:A,\"<>Universidad de Antioquia (Contrapartida)\",Monitores!B:B,$B$100)","v":0},{"$f":"+SUMIFS(Monitores!K:K,Monitores!A:A,\"Universidad de Antioquia (Contrapartida)\",Monitores!B:B,$B$100)","v":0},0]
[null,"Personal C.I.S. -Fundación UdeA",{"$f":"+SUMIFS('C.I.S. - Fundación UdeA'!Q:Q,'C.I.S. - Fundación UdeA'!A:A,\"<>Universidad de Antioquia (Contrapartida)\",'C.I.S. - Fundación UdeA'!B:B,$B$100)","v":0},{"$f":"+SUMIFS('C.I.S. - Fundación UdeA'!Q:Q,'C.I.S. - Fundación UdeA'!A:A,\"Universidad de Antioquia (Contrapartida)\",'C.I.S. - Fundación UdeA'!B:B,$B$100)","v":0},0]
[null,"Gastos Generales",{"$f":"+SUM(C111:C116)","v":0},{"$f":"+SUM(D111:D116)","v":0},{"$f":"+SUM(E111:E116)","v":0}]
[null,"Viáticos",{"$f":"+SUMIFS(Viáticos!N:N,Viáticos!A:A,\"<>Universidad de Antioquia (Contrapartida)\",Viáticos!B:B,$B$100)","v":0},{"$f":"+SUMIFS(Viáticos!N:N,Viáticos!A:A,\"Universidad de Antioquia (Contrapartida)\",Viáticos!B:B,$B$100)","v":0},{"$f":"+C111+D111","v":0}]
[null,"Tiquetes",{"$f":"+SUMIFS(Tiquetes!L:L,Tiquetes!A:A,\"<>Universidad de Antioquia (Contrapartida)\",Tiquetes!B:B,$B$100)","v":0},{"$f":"+SUMIFS(Tiquetes!L:L,Tiquetes!A:A,\"Universidad de Antioquia (Contrapartida)\",Tiquetes!B:B,$B$100)","v":0},0]
[null,"Materiales",{"$f":"+SUMIFS(Materiales!I:I,Materiales!A:A,\"<>Universidad de Antioquia (Contrapartida)\",Materiales!B:B,$B$100)","v":0},{"$f":"+SUMIFS(Materiales!I:I,Materiales!A:A,\"Universidad de Antioquia (Contrapartida)\",Materiales!B:B,$B$100)","v":0},0]
[null,"Equipos",{"$f":"+SUMIFS(Equipos!P:P,Equipos!A:A,\"<>Universidad de Antioquia (Contrapartida)\",Equipos!B:B,$B$100)","v":0},{"$f":"+SUMIFS(Equipos!P:P,Equipos!A:A,\"Universidad de Antioquia (Contrapartida)\",Equipos!B:B,$B$100)","v":0},0]
[null,"Espacios",{"$f":"+SUMIFS(Espacios!N:N,Espacios!A:A,\"<>Universidad de Antioquia (Contrapartida)\",Espacios!B:B,$B$100)","v":0},{"$f":"+SUMIFS(Espacios!N:N,Espacios!A:A,\"Universidad de Antioquia (Contrapartida)\",Espacios!B:B,$B$100)","v":0},0]
[null,"Otros costos",{"$f":"+SUMIFS('Otros costos'!I:I,'Otros costos'!A:A,\"<>Universidad de Antioquia (Contrapartida)\",'Otros costos'!B:B,$B$100)","v":0},{"$f":"+SUMIFS('Otros costos'!I:I,'Otros costos'!A:A,\"Universidad de Antioquia (Contrapartida)\",'Otros costos'!B:B,$B$100)","v":0},0]
[]
[null,{"$f":"+'Información general'!C21","v":0},{"$f":"+C119+C128","v":0},{"$f":"+D119+D128","v":0},{"$f":"+E119+E128","v":0},{"$f":"+SUM(C118:E118)","v":0}]
[null,"Personal",{"$f":"+SUM(C120:C127)","v":0},{"$f":"+SUM(D120:D127)","v":0},{"$f":"+SUM(E120:E127)","v":0}]
[null,"Administrativo vinculado",{"$f":"+SUMIFS(Administrativos!Q:Q,Administrativos!A:A,\"<>Universidad de Antioquia (Contrapartida)\",Administrativos!B:B,$B$118)","v":0},{"$f":"+SUMIFS(Administrativos!Q:Q,Administrativos!A:A,\"Universidad de Antioquia (Contrapartida)\",Administrativos!B:B,$B$118)","v":0},{"$f":"+C120+D120","v":0}]
[null,"Actividad Especial de Administrativo vinculado",{"$f":"+SUMIFS('Administrativos AE'!M:M,'Administrativos AE'!A:A,\"<>Universidad de Antioquia (Contrapartida)\",'Administrativos AE'!B:B,$B$118)","v":0},{"$f":"+SUMIFS('Administrativos AE'!M:M,'Administrativos AE'!A:A,\"Universidad de Antioquia (Contrapartida)\",'Administrativos AE'!B:B,$B$118)","v":0},0]
[null,"Docente vinculado",{"$f":"+SUMIFS(Docentes!Q:Q,Docentes!A:A,\"<>Universidad de Antioquia (Contrapartida)\",Docentes!B:B,$B$118)","v":0},{"$f":"+SUMIFS(Docentes!Q:Q,Docentes!A:A,\"Universidad de Antioquia (Contrapartida)\",Docentes!B:B,$B$118)","v":0},0]
[null,"Actividad Especial de docente vinculado",{"$f":"+SUMIFS('Docentes AE'!N:N,'Docentes AE'!A:A,\"<>Universidad de Antioquia (Contrapartida)\",'Docentes AE'!B:B,$B$118)","v":0},{"$f":"+SUMIFS('Docentes AE'!N:N,'Docentes AE'!A:A,\"Universidad de Antioquia (Contrapartida)\",'Docentes AE'!B:B,$B$118)","v":0},0]
[null,"Cátedra",{"$f":"+SUMIFS(Cátedra!O:O,Cátedra!A:A,\"<>Universidad de Antioquia (Contrapartida)\",Cátedra!B:B,$B$118)","v":0},{"$f":"+SUMIFS(Cátedra!O:O,Cátedra!A:A,\"Universidad de Antioquia (Contrapartida)\",Cátedra!B:B,$B$118)","v":0},0]
[null,"Prestación de servicios",{"$f":"+SUMIFS('Prestación de servicios'!L:L,'Prestación de servicios'!A:A,\"<>Universidad de Antioquia (Contrapartida)\",'Prestación de servicios'!B:B,$B$118)","v":0},{"$f":"+SUMIFS('Prestación de servicios'!L:L,'Prestación de servicios'!A:A,\"Universidad de Antioquia (Contrapartida)\",'Prestación de servicios'!B:B,$B$118)","v":0},0]
[null,"Monitores",{"$f":"+SUMIFS(Monitores!K:K,Monitores!A:A,\"<>Universidad de Antioquia (Contrapartida)\",Monitores!B:B,$B$118)","v":0},{"$f":"+SUMIFS(Monitores!K:K,Monitores!A:A,\"Universidad de Antioquia (Contrapartida)\",Monitores!B:B,$B$118)","v":0},0]
[null,"Personal C.I.S. -Fundación UdeA",{"$f":"+SUMIFS('C.I.S. - Fundación UdeA'!Q:Q,'C.I.S. - Fundación UdeA'!A:A,\"<>Universidad de Antioquia (Contrapartida)\",'C.I.S. - Fundación UdeA'!B:B,$B$118)","v":0},{"$f":"+SUMIFS('C.I.S. - Fundación UdeA'!Q:Q,'C.I.S. - Fundación UdeA'!A:A,\"Universidad de Antioquia (Contrapartida)\",'C.I.S. - Fundación UdeA'!B:B,$B$118)","v":0},0]
[null,"Gastos Generales",{"$f":"+SUM(C129:C134)","v":0},{"$f":"+SUM(D129:D134)","v":0},{"$f":"+SUM(E129:E134)","v":0}]
[null,"Viáticos",{"$f":"+SUMIFS(Viáticos!N:N,Viáticos!A:A,\"<>Universidad de Antioquia (Contrapartida)\",Viáticos!B:B,$B$118)","v":0},{"$f":"+SUMIFS(Viáticos!N:N,Viáticos!A:A,\"Universidad de Antioquia (Contrapartida)\",Viáticos!B:B,$B$118)","v":0},{"$f":"+C129+D129","v":0}]
[null,"Tiquetes",{"$f":"+SUMIFS(Tiquetes!L:L,Tiquetes!A:A,\"<>Universidad de Antioquia (Contrapartida)\",Tiquetes!B:B,$B$118)","v":0},{"$f":"+SUMIFS(Tiquetes!L:L,Tiquetes!A:A,\"Universidad de Antioquia (Contrapartida)\",Tiquetes!B:B,$B$118)","v":0},0]
[null,"Materiales",{"$f":"+SUMIFS(Materiales!I:I,Materiales!A:A,\"<>Universidad de Antioquia (Contrapartida)\",Materiales!B:B,$B$118)","v":0},{"$f":"+SUMIFS(Materiales!I:I,Materiales!A:A,\"Universidad de Antioquia (Contrapartida)\",Materiales!B:B,$B$118)","v":0},0]
[null,"Equipos",{"$f":"+SUMIFS(Equipos!P:P,Equipos!A:A,\"<>Universidad de Antioquia (Contrapartida)\",Equipos!B:B,$B$118)","v":0},{"$f":"+SUMIFS(Equipos!P:P,Equipos!A:A,\"Universidad de Antioquia (Contrapartida)\",Equipos!B:B,$B$118)","v":0},0]
[null,"Espacios",{"$f":"+SUMIFS(Espacios!N:N,Espacios!A:A,\"<>Universidad de Antioquia (Contrapartida)\",Espacios!B:B,$B$118)","v":0},{"$f":"+SUMIFS(Espacios!N:N,Espacios!A:A,\"Universidad de Antioquia (Contrapartida)\",Espacios!B:B,$B$118)","v":0},0]
[null,"Otros costos",{"$f":"+SUMIFS('Otros costos'!I:I,'Otros costos'!A:A,\"<>Universidad de Antioquia (Contrapartida)\",'Otros costos'!B:B,$B$118)","v":0},{"$f":"+SUMIFS('Otros costos'!I:I,'Otros costos'!A:A,\"Universidad de Antioquia (Contrapartida)\",'Otros costos'!B:B,$B$118)","v":0},0]
[]
[null,{"$f":"+'Información general'!C22","v":0},{"$f":"+C137+C146","v":0},{"$f":"+D137+D146","v":0},{"$f":"+E137+E146","v":0},{"$f":"+SUM(C136:E136)","v":0}]
[null,"Personal",{"$f":"+SUM(C138:C145)","v":0},{"$f":"+SUM(D138:D145)","v":0},{"$f":"+SUM(E138:E145)","v":0}]
[null,"Administrativo vinculado",{"$f":"+SUMIFS(Administrativos!Q:Q,Administrativos!A:A,\"<>Universidad de Antioquia (Contrapartida)\",Administrativos!B:B,$B$136)","v":0},{"$f":"+SUMIFS(Administrativos!Q:Q,Administrativos!A:A,\"Universidad de Antioquia (Contrapartida)\",Administrativos!B:B,$B$136)","v":0},{"$f":"+C138+D138","v":0}]
[null,"Actividad Especial de Administrativo vinculado",{"$f":"+SUMIFS('Administrativos AE'!M:M,'Administrativos AE'!A:A,\"<>Universidad de Antioquia (Contrapartida)\",'Administrativos AE'!B:B,$B$136)","v":0},{"$f":"+SUMIFS('Administrativos AE'!M:M,'Administrativos AE'!A:A,\"Universidad de Antioquia (Contrapartida)\",'Administrativos AE'!B:B,$B$136)","v":0},0]
[null,"Docente vinculado",{"$f":"+SUMIFS(Docentes!Q:Q,Docentes!A:A,\"<>Universidad de Antioquia (Contrapartida)\",Docentes!B:B,$B$136)","v":0},{"$f":"+SUMIFS(Docentes!Q:Q,Docentes!A:A,\"Universidad de Antioquia (Contrapartida)\",Docentes!B:B,$B$136)","v":0},0]
[null,"Actividad Especial de docente vinculado",{"$f":"+SUMIFS('Docentes AE'!N:N,'Docentes AE'!A:A,\"<>Universidad de Antioquia (Contrapartida)\",'Docentes AE'!B:B,$B$136)","v":0},{"$f":"+SUMIFS('Docentes AE'!N:N,'Docentes AE'!A:A,\"Universidad de Antioquia (Contrapartida)\",'Docentes AE'!B:B,$B$136)","v":0},0]
[null,"Cátedra",{"$f":"+SUMIFS(Cátedra!O:O,Cátedra!A:A,\"<>Universidad de Antioquia (Contrapartida)\",Cátedra!B:B,$B$136)","v":0},{"$f":"+SUMIFS(Cátedra!O:O,Cátedra!A:A,\"Universidad de Antioquia (Contrapartida)\",Cátedra!B:B,$B$136)","v":0},0]
[null,"Prestación de servicios",{"$f":"+SUMIFS('Prestación de servicios'!L:L,'Prestación de servicios'!A:A,\"<>Universidad de Antioquia (Contrapartida)\",'Prestación de servicios'!B:B,$B$136)","v":0},{"$f":"+SUMIFS('Prestación de servicios'!L:L,'Prestación de servicios'!A:A,\"Universidad de Antioquia (Contrapartida)\",'Prestación de servicios'!B:B,$B$136)","v":0},0]
[null,"Monitores",{"$f":"+SUMIFS(Monitores!K:K,Monitores!A:A,\"<>Universidad de Antioquia (Contrapartida)\",Monitores!B:B,$B$136)","v":0},{"$f":"+SUMIFS(Monitores!K:K,Monitores!A:A,\"Universidad de Antioquia (Contrapartida)\",Monitores!B:B,$B$136)","v":0},0]
[null,"Personal C.I.S. -Fundación UdeA",{"$f":"+SUMIFS('C.I.S. - Fundación UdeA'!Q:Q,'C.I.S. - Fundación UdeA'!A:A,\"<>Universidad de Antioquia (Contrapartida)\",'C.I.S. - Fundación UdeA'!B:B,$B$136)","v":0},{"$f":"+SUMIFS('C.I.S. - Fundación UdeA'!Q:Q,'C.I.S. - Fundación UdeA'!A:A,\"Universidad de Antioquia (Contrapartida)\",'C.I.S. - Fundación UdeA'!B:B,$B$136)","v":0},0]
[null,"Gastos Generales",{"$f":"+SUM(C147:C152)","v":0},{"$f":"+SUM(D147:D152)","v":0},{"$f":"+SUM(E147:E152)","v":0}]
[null,"Viáticos",{"$f":"+SUMIFS(Viáticos!N:N,Viáticos!A:A,\"<>Universidad de Antioquia (Contrapartida)\",Viáticos!B:B,$B$136)","v":0},{"$f":"+SUMIFS(Viáticos!N:N,Viáticos!A:A,\"Universidad de Antioquia (Contrapartida)\",Viáticos!B:B,$B$136)","v":0},{"$f":"+C147+D147","v":0}]
[null,"Tiquetes",{"$f":"+SUMIFS(Tiquetes!L:L,Tiquetes!A:A,\"<>Universidad de Antioquia (Contrapartida)\",Tiquetes!B:B,$B$136)","v":0},{"$f":"+SUMIFS(Tiquetes!L:L,Tiquetes!A:A,\"Universidad de Antioquia (Contrapartida)\",Tiquetes!B:B,$B$136)","v":0},0]
[null,"Materiales",{"$f":"+SUMIFS(Materiales!I:I,Materiales!A:A,\"<>Universidad de Antioquia (Contrapartida)\",Materiales!B:B,$B$136)","v":0},{"$f":"+SUMIFS(Materiales!I:I,Materiales!A:A,\"Universidad de Antioquia (Contrapartida)\",Materiales!B:B,$B$136)","v":0},0]
[null,"Equipos",{"$f":"+SUMIFS(Equipos!P:P,Equipos!A:A,\"<>Universidad de Antioquia (Contrapartida)\",Equipos!B:B,$B$136)","v":0},{"$f":"+SUMIFS(Equipos!P:P,Equipos!A:A,\"Universidad de Antioquia (Contrapartida)\",Equipos!B:B,$B$136)","v":0},0]
[null,"Espacios",{"$f":"+SUMIFS(Espacios!N:N,Espacios!A:A,\"<>Universidad de Antioquia (Contrapartida)\",Espacios!B:B,$B$136)","v":0},{"$f":"+SUMIFS(Espacios!N:N,Espacios!A:A,\"Universidad de Antioquia (Contrapartida)\",Espacios!B:B,$B$136)","v":0},0]
[null,"Otros costos",{"$f":"+SUMIFS('Otros costos'!I:I,'Otros costos'!A:A,\"<>Universidad de Antioquia (Contrapartida)\",'Otros costos'!B:B,$B$136)","v":0},{"$f":"+SUMIFS('Otros costos'!I:I,'Otros costos'!A:A,\"Universidad de Antioquia (Contrapartida)\",'Otros costos'!B:B,$B$136)","v":0},0]
[]
[null,{"$f":"+'Información general'!C23","v":0},{"$f":"+C155+C164","v":0},{"$f":"+D155+D164","v":0},{"$f":"+E155+E164","v":0},{"$f":"+SUM(C154:E154)","v":0}]
[null,"Personal",{"$f":"+SUM(C156:C163)","v":0},{"$f":"+SUM(D156:D163)","v":0},{"$f":"+SUM(E156:E163)","v":0}]
[null,"Administrativo vinculado",{"$f":"+SUMIFS(Administrativos!Q:Q,Administrativos!A:A,\"<>Universidad de Antioquia (Contrapartida)\",Administrativos!B:B,$B$154)","v":0},{"$f":"+SUMIFS(Administrativos!Q:Q,Administrativos!A:A,\"Universidad de Antioquia (Contrapartida)\",Administrativos!B:B,$B$154)","v":0},{"$f":"+C156+D156","v":0}]
[null,"Actividad Especial de Administrativo vinculado",{"$f":"+SUMIFS('Administrativos AE'!M:M,'Administrativos AE'!A:A,\"<>Universidad de Antioquia (Contrapartida)\",'Administrativos AE'!B:B,$B$154)","v":0},{"$f":"+SUMIFS('Administrativos AE'!M:M,'Administrativos AE'!A:A,\"Universidad de Antioquia (Contrapartida)\",'Administrativos AE'!B:B,$B$154)","v":0},0]
[null,"Docente vinculado",{"$f":"+SUMIFS(Docentes!Q:Q,Docentes!A:A,\"<>Universidad de Antioquia (Contrapartida)\",Docentes!B:B,$B$154)","v":0},{"$f":"+SUMIFS(Docentes!Q:Q,Docentes!A:A,\"Universidad de Antioquia (Contrapartida)\",Docentes!B:B,$B$154)","v":0},0]
[null,"Actividad Especial de docente vinculado",{"$f":"+SUMIFS('Docentes AE'!N:N,'Docentes AE'!A:A,\"<>Universidad de Antioquia (Contrapartida)\",'Docentes AE'!B:B,$B$154)","v":0},{"$f":"+SUMIFS('Docentes AE'!N:N,'Docentes AE'!A:A,\"Universidad de Antioquia (Contrapartida)\",'Docentes AE'!B:B,$B$154)","v":0},0]
[null,"Cátedra",{"$f":"+SUMIFS(Cátedra!O:O,Cátedra!A:A,\"<>Universidad de Antioquia (Contrapartida)\",Cátedra!B:B,$B$154)","v":0},{"$f":"+SUMIFS(Cátedra!O:O,Cátedra!A:A,\"Universidad de Antioquia (Contrapartida)\",Cátedra!B:B,$B$154)","v":0},0]
[null,"Prestación de servicios",{"$f":"+SUMIFS('Prestación de servicios'!L:L,'Prestación de servicios'!A:A,\"<>Universidad de Antioquia (Contrapartida)\",'Prestación de servicios'!B:B,$B$154)","v":0},{"$f":"+SUMIFS('Prestación de servicios'!L:L,'Prestación de servicios'!A:A,\"Universidad de Antioquia (Contrapartida)\",'Prestación de servicios'!B:B,$B$154)","v":0},0]
[null,"Monitores",{"$f":"+SUMIFS(Monitores!K:K,Monitores!A:A,\"<>Universidad de Antioquia (Contrapartida)\",Monitores!B:B,$B$154)","v":0},{"$f":"+SUMIFS(Monitores!K:K,Monitores!A:A,\"Universidad de Antioquia (Contrapartida)\",Monitores!B:B,$B$154)","v":0},0]
[null,"Personal C.I.S. -Fundación UdeA",{"$f":"+SUMIFS('C.I.S. - Fundación UdeA'!Q:Q,'C.I.S. - Fundación UdeA'!A:A,\"<>Universidad de Antioquia (Contrapartida)\",'C.I.S. - Fundación UdeA'!B:B,$B$154)","v":0},{"$f":"+SUMIFS('C.I.S. - Fundación UdeA'!Q:Q,'C.I.S. - Fundación UdeA'!A:A,\"Universidad de Antioquia (Contrapartida)\",'C.I.S. - Fundación UdeA'!B:B,$B$154)","v":0},0]
[null,"Gastos Generales",{"$f":"+SUM(C165:C170)","v":0},{"$f":"+SUM(D165:D170)","v":0},{"$f":"+SUM(E165:E170)","v":0}]
[null,"Viáticos",{"$f":"+SUMIFS(Viáticos!N:N,Viáticos!A:A,\"<>Universidad de Antioquia (Contrapartida)\",Viáticos!B:B,$B$154)","v":0},{"$f":"+SUMIFS(Viáticos!N:N,Viáticos!A:A,\"Universidad de Antioquia (Contrapartida)\",Viáticos!B:B,$B$154)","v":0},{"$f":"+C165+D165","v":0}]
[null,"Tiquetes",{"$f":"+SUMIFS(Tiquetes!L:L,Tiquetes!A:A,\"<>Universidad de Antioquia (Contrapartida)\",Tiquetes!B:B,$B$154)","v":0},{"$f":"+SUMIFS(Tiquetes!L:L,Tiquetes!A:A,\"Universidad de Antioquia (Contrapartida)\",Tiquetes!B:B,$B$154)","v":0},0]
[null,"Materiales",{"$f":"+SUMIFS(Materiales!I:I,Materiales!A:A,\"<>Universidad de Antioquia (Contrapartida)\",Materiales!B:B,$B$154)","v":0},{"$f":"+SUMIFS(Materiales!I:I,Materiales!A:A,\"Universidad de Antioquia (Contrapartida)\",Materiales!B:B,$B$154)","v":0},0]
[null,"Equipos",{"$f":"+SUMIFS(Equipos!P:P,Equipos!A:A,\"<>Universidad de Antioquia (Contrapartida)\",Equipos!B:B,$B$154)","v":0},{"$f":"+SUMIFS(Equipos!P:P,Equipos!A:A,\"Universidad de Antioquia (Contrapartida)\",Equipos!B:B,$B$154)","v":0},0]
[null,"Espacios",{"$f":"+SUMIFS(Espacios!N:N,Espacios!A:A,\"<>Universidad de Antioquia (Contrapartida)\",Espacios!B:B,$B$154)","v":0},{"$f":"+SUMIFS(Espacios!N:N,Espacios!A:A,\"Universidad de Antioquia (Contrapartida)\",Espacios!B:B,$B$154)","v":0},0]
[null,"Otros costos",{"$f":"+SUMIFS('Otros costos'!I:I,'Otros costos'!A:A,\"<>Universidad de Antioquia (Contrapartida)\",'Otros costos'!B:B,$B$154)","v":0},{"$f":"+SUMIFS('Otros costos'!I:I,'Otros costos'!A:A,\"Universidad de Antioquia (Contrapartida)\",'Otros costos'!B:B,$B$154)","v":0},0]
[]
[null,{"$f":"+'Información general'!C24","v":0},{"$f":"+C173+C182","v":0},{"$f":"+D173+D182","v":0},{"$f":"+E173+E182","v":0},{"$f":"+SUM(C172:E172)","v":0}]
[null,"Personal",{"$f":"+SUM(C174:C181)","v":0},{"$f":"+SUM(D174:D181)","v":0},{"$f":"+SUM(E174:E181)","v":0}]
[null,"Administrativo vinculado",{"$f":"+SUMIFS(Administrativos!Q:Q,Administrativos!A:A,\"<>Universidad de Antioquia (Contrapartida)\",Administrativos!B:B,$B$172)","v":0},{"$f":"+SUMIFS(Administrativos!Q:Q,Administrativos!A:A,\"Universidad de Antioquia (Contrapartida)\",Administrativos!B:B,$B$172)","v":0},{"$f":"+C174+D174","v":0}]
[null,"Actividad Especial de Administrativo vinculado",{"$f":"+SUMIFS('Administrativos AE'!M:M,'Administrativos AE'!A:A,\"<>Universidad de Antioquia (Contrapartida)\",'Administrativos AE'!B:B,$B$172)","v":0},{"$f":"+SUMIFS('Administrativos AE'!M:M,'Administrativos AE'!A:A,\"Universidad de Antioquia (Contrapartida)\",'Administrativos AE'!B:B,$B$172)","v":0},0]
[null,"Docente vinculado",{"$f":"+SUMIFS(Docentes!Q:Q,Docentes!A:A,\"<>Universidad de Antioquia (Contrapartida)\",Docentes!B:B,$B$172)","v":0},{"$f":"+SUMIFS(Docentes!Q:Q,Docentes!A:A,\"Universidad de Antioquia (Contrapartida)\",Docentes!B:B,$B$172)","v":0},0]
[null,"Actividad Especial de docente vinculado",{"$f":"+SUMIFS('Docentes AE'!N:N,'Docentes AE'!A:A,\"<>Universidad de Antioquia (Contrapartida)\",'Docentes AE'!B:B,$B$172)","v":0},{"$f":"+SUMIFS('Docentes AE'!N:N,'Docentes AE'!A:A,\"Universidad de Antioquia (Contrapartida)\",'Docentes AE'!B:B,$B$172)","v":0},0]
[null,"Cátedra",{"$f":"+SUMIFS(Cátedra!O:O,Cátedra!A:A,\"<>Universidad de Antioquia (Contrapartida)\",Cátedra!B:B,$B$172)","v":0},{"$f":"+SUMIFS(Cátedra!O:O,Cátedra!A:A,\"Universidad de Antioquia (Contrapartida)\",Cátedra!B:B,$B$172)","v":0},0]
[null,"Prestación de servicios",{"$f":"+SUMIFS('Prestación de servicios'!L:L,'Prestación de servicios'!A:A,\"<>Universidad de Antioquia (Contrapartida)\",'Prestación de servicios'!B:B,$B$172)","v":0},{"$f":"+SUMIFS('Prestación de servicios'!L:L,'Prestación de servicios'!A:A,\"Universidad de Antioquia (Contrapartida)\",'Prestación de servicios'!B:B,$B$172)","v":0},0]
[null,"Monitores",{"$f":"+SUMIFS(Monitores!K:K,Monitores!A:A,\"<>Universidad de Antioquia (Contrapartida)\",Monitores!B:B,$B$172)","v":0},{"$f":"+SUMIFS(Monitores!K:K,Monitores!A:A,\"Universidad de Antioquia (Contrapartida)\",Monitores!B:B,$B$172)","v":0},0]
[null,"Personal C.I.S. -Fundación UdeA",{"$f":"+SUMIFS('C.I.S. - Fundación UdeA'!Q:Q,'C.I.S. - Fundación UdeA'!A:A,\"<>Universidad de Antioquia (Contrapartida)\",'C.I.S. - Fundación UdeA'!B:B,$B$172)","v":0},{"$f":"+SUMIFS('C.I.S. - Fundación UdeA'!Q:Q,'C.I.S. - Fundación UdeA'!A:A,\"Universidad de Antioquia (Contrapartida)\",'C.I.S. - Fundación UdeA'!B:B,$B$172)","v":0},0]
[null,"Gastos Generales",{"$f":"+SUM(C183:C188)","v":0},{"$f":"+SUM(D183:D188)","v":0},{"$f":"+SUM(E183:E188)","v":0}]
[null,"Viáticos",{"$f":"+SUMIFS(Viáticos!N:N,Viáticos!A:A,\"<>Universidad de Antioquia (Contrapartida)\",Viáticos!B:B,$B$172)","v":0},{"$f":"+SUMIFS(Viáticos!N:N,Viáticos!A:A,\"Universidad de Antioquia (Contrapartida)\",Viáticos!B:B,$B$172)","v":0},{"$f":"+C183+D183","v":0}]
[null,"Tiquetes",{"$f":"+SUMIFS(Tiquetes!L:L,Tiquetes!A:A,\"<>Universidad de Antioquia (Contrapartida)\",Tiquetes!B:B,$B$172)","v":0},{"$f":"+SUMIFS(Tiquetes!L:L,Tiquetes!A:A,\"Universidad de Antioquia (Contrapartida)\",Tiquetes!B:B,$B$172)","v":0},0]
[null,"Materiales",{"$f":"+SUMIFS(Materiales!I:I,Materiales!A:A,\"<>Universidad de Antioquia (Contrapartida)\",Materiales!B:B,$B$172)","v":0},{"$f":"+SUMIFS(Materiales!I:I,Materiales!A:A,\"Universidad de Antioquia (Contrapartida)\",Materiales!B:B,$B$172)","v":0},0]
[null,"Equipos",{"$f":"+SUMIFS(Equipos!P:P,Equipos!A:A,\"<>Universidad de Antioquia (Contrapartida)\",Equipos!B:B,$B$172)","v":0},{"$f":"+SUMIFS(Equipos!P:P,Equipos!A:A,\"Universidad de Antioquia (Contrapartida)\",Equipos!B:B,$B$172)","v":0},0]
[null,"Espacios",{"$f":"+SUMIFS(Espacios!N:N,Espacios!A:A,\"<>Universidad de Antioquia (Contrapartida)\",Espacios!B:B,$B$172)","v":0},{"$f":"+SUMIFS(Espacios!N:N,Espacios!A:A,\"Universidad de Antioquia (Contrapartida)\",Espacios!B:B,$B$172)","v":0},0]
[null,"Otros costos",{"$f":"+SUMIFS('Otros costos'!I:I,'Otros costos'!A:A,\"<>Universidad de Antioquia (Contrapartida)\",'Otros costos'!B:B,$B$172)","v":0},{"$f":"+SUMIFS('Otros costos'!I:I,'Otros costos'!A:A,\"Universidad de Antioquia (Contrapartida)\",'Otros costos'!B:B,$B$172)","v":0},0]

{"sheet":"Detallado","index":4,"n_rows":8,"n_cols":8,"rows_kept":8,"cut":false,"hidden":false,"merged":[[2,1,2,10],[3,1,3,10]]}
[]
[]
[null,"Detalle del Proyecto"]
[null,{"$f":"+IF(IFERROR('Información general'!E7,\"\")=0,\"\",'Información general'!E7)","v":""}]
[]
[null,"Fase","Tipo Recurso","Detalle Recurso","Descripción","Financiador Externo","Contrapartida U de A","Costo"]
[]
[null,null,null,null,null,{"$f":"SUBTOTAL(109,Consulta1_2[Financiador Externo])","v":0},{"$f":"SUBTOTAL(109,Consulta1_2[Contrapartida U de A])","v":0},{"$f":"SUBTOTAL(109,Consulta1_2[Costo])","v":0}]

{"sheet":"Precio","index":5,"n_rows":31,"n_cols":7,"rows_kept":31,"cut":false,"hidden":false,"merged":[[30,5,30,6],[27,5,27,6],[23,5,23,6],[22,5,22,6],[2,3,2,7],[4,5,4,6],[6,5,6,6],[22,3,23,4],[10,5,10,6]]}
[]
[]
[null,null,null,"Simulación Precio"]
[]
[null,null,null,"Total Costos (Sin porcentajes de manejo y costos administrativos, contribuciones, impuestos, tasas y estampillas, utilidad)",null,{"$f":"+F8+F9+F12+F14","v":0}]
[]
[null,null,null,"Contrapartida UdeA",null,{"$f":"+F8+F9","v":0}]
[null,null,null,"Personal UdeA",null,{"$f":"+SUMIF(Administrativos!A:A,\"Universidad de Antioquia (Contrapartida)\",Administrativos!Q:Q)+SUMIF('Administrativos AE'!A:A,\"Universidad de Antioquia (Contrapartida)\",'Administrativos AE'!M:M)+SUMIF(Docentes!A:A,\"Universidad de Antioquia (Contrapartida)\",Docentes!Q:Q)+SUMIF('Docentes AE'!A:A,\"Universidad de Antioquia (Contrapartida)\",'Docentes AE'!N:N)+SUMIF(Cátedra!A:A,\"Universidad de Antioquia (Contrapartida)\",Cátedra!O:O)+SUMIF('Prestación de servicios'!A:A,\"Universidad de Antioquia (Contrapartida)\",'Prestación de servicios'!L:L)+SUMIF(Monitores!A:A,\"Universidad de Antioquia (Contrapartida)\",Monitores!K:K)+SUMIF('C.I.S. - Fundación UdeA'!A:A,\"Universidad de Antioquia (Contrapartida)\",'C.I.S. - Fundación UdeA'!Q:Q)","v":0}]
[null,null,null,"Gastos Generales UdeA",null,{"$f":"+SUMIF(Viáticos!A:A,\"Universidad de Antioquia (Contrapartida)\",Viáticos!N:N)+SUMIF(Tiquetes!A:A,\"Universidad de Antioquia (Contrapartida)\",Tiquetes!L:L)+SUMIF(Materiales!A:A,\"Universidad de Antioquia (Contrapartida)\",Materiales!I:I)+SUMIF(Equipos!A:A,\"Universidad de Antioquia (Contrapartida)\",Equipos!P:P)+SUMIF(Espacios!A:A,\"Universidad de Antioquia (Contrapartida)\",Espacios!N:N)+SUMIF('Otros costos'!A:A,\"Universidad de Antioquia (Contrapartida)\",'Otros costos'!I:I)","v":0}]
[]
[null,null,null,"Costos del proyecto",null,{"$f":"+F12+F14+F16","v":0}]
[null,null,null,"Personal",null,{"$f":"+SUMIF(Administrativos!A:A,\"<>Universidad de Antioquia (Contrapartida)\",Administrativos!Q:Q)+SUMIF('Administrativos AE'!A:A,\"<>Universidad de Antioquia (Contrapartida)\",'Administrativos AE'!M:M)+SUMIF(Docentes!A:A,\"<>Universidad de Antioquia (Contrapartida)\",Docentes!Q:Q)+SUMIF('Docentes AE'!A:A,\"<>Universidad de Antioquia (Contrapartida)\",'Docentes AE'!N:N)+SUMIF(Cátedra!A:A,\"<>Universidad de Antioquia (Contrapartida)\",Cátedra!O:O)+SUMIF('Prestación de servicios'!A:A,\"<>Universidad de Antioquia (Contrapartida)\",'Prestación de servicios'!L:L)+SUMIF(Monitores!A:A,\"<>Universidad de Antioquia (Contrapartida)\",Monitores!K:K)+SUMIF('C.I.S. - Fundación UdeA'!A:A,\"<>Universidad de Antioquia (Contrapartida)\",'C.I.S. - Fundación UdeA'!Q:Q)","v":0}]
[null,null,null,"Gastos Generales más costos administrativos",null,{"$f":"+F14+F16","v":0}]
[null,null,null,"Gastos Generales",null,{"$f":"+SUMIF(Viáticos!A:A,\"<>Universidad de Antioquia (Contrapartida)\",Viáticos!N:N)+SUMIF(Tiquetes!A:A,\"<>Universidad de Antioquia (Contrapartida)\",Tiquetes!L:L)+SUMIF(Materiales!A:A,\"<>Universidad de Antioquia (Contrapartida)\",Materiales!I:I)+SUMIF(Equipos!A:A,\"<>Universidad de Antioquia (Contrapartida)\",Equipos!P:P)+SUMIF(Espacios!A:A,\"<>Universidad de Antioquia (Contrapartida)\",Espacios!N:N)+SUMIF('Otros costos'!A:A,\"<>Universidad de Antioquia (Contrapartida)\",'Otros costos'!I:I)","v":0}]
[null,null,null,"% Manejo y costos administrativos",null,10,"%"]
[null,null,null,"Valor Manejo y costos administrativos",null,{"$f":"+F14*F15/100","v":0}]
[]
[null,null,null,"% Rete ICA  (Retención en la fuente a título de Industria y Comercio)",null,0,"%"]
[null,null,null,"% Impuestos, tasas y estampillas -ITE- (Verificar con la entidad contratante)",null,null,"%"]
[null,null,null,"% Contribuciones UdeA                                                 ",{"$f":"+IFERROR(CONCATENATE(\"Sugerido\",\" \",(VLOOKUP('Información general'!E10,Tabla3[#All],2,0)),\"%\"),\"\")","v":""},null,"%"]
[null,null,null,"% Contribución dependencia",null,null,"%"]
[]
[null,null,null,"Precio mínimo para cubrir costos y contribuciones -PMV-\n(Punto de Equilibrio) ",null,{"$f":"+IFERROR((F12+F14+F16)/(1-((F19+F20+F21)/100)),\"\")","v":0}]
[]
[]
[null,null,null,"% Utilidad dependencia (Margen de utilidad)",null,null,"%"]
[]
[null,null,null,"Precio final",null,{"$f":"+IFERROR((F12+F14+F16)/(1-(F19+F20+F21+F26)/100),\"\")","v":0}]
[]
[]
[null,null,null,"Excedente que genera el proyecto",null,{"$f":"+IFERROR((F28*F26%),\"\")","v":0}]

{"sheet":"Hoja1","index":6,"n_rows":28,"n_cols":6,"rows_kept":28,"cut":false,"hidden":false,"merged":[[2,3,2,6],[6,5,6,6],[8,5,8,6],[19,5,19,6],[5,5,5,6]]}
[]
[]
[null,null,null,"DETALLE DE COSTOS EN FUNCIÓN DEL PRECIO FINAL"]
[]
[]
[null,null,null,null,"COSTO BRUTO","PRECIO FINAL"]
[null,null,null,"Costos del proyecto",{"$f":"+E9+E20","v":0},{"$f":"+F9+F20","v":{"$error":"#DIV/0!"}}]
[]
[null,null,null,"Personal",{"$f":"+SUM(E11:E18)","v":0},{"$f":"+SUM(F11:F18)","v":{"$error":"#DIV/0!"}}]
[]
[null,null,null,"Administrativo vinculado",{"$f":"+SUMIF(Administrativos!A:A,\"<>Universidad de Antioquia (Contrapartida)\",Administrativos!Q:Q)","v":0},{"$f":"+E11+(E11/Precio!$F$11)*(Precio!$F$28-Precio!$F$11)","v":{"$error":"#DIV/0!"}}]
[null,null,null,"Actividad Especial de Administrativo vinculado",{"$f":"+SUMIF('Administrativos AE'!A:A,\"<>Universidad de Antioquia (Contrapartida)\",'Administrativos AE'!M:M)","v":0},{"$f":"+E12+(E12/Precio!$F$11)*(Precio!$F$28-Precio!$F$11)","v":{"$error":"#DIV/0!"}}]
[null,null,null,"Docente vinculado",{"$f":"+SUMIF(Docentes!A:A,\"<>Universidad de Antioquia (Contrapartida)\",Docentes!Q:Q)","v":0},{"$f":"+E13+(E13/Precio!$F$11)*(Precio!$F$28-Precio!$F$11)","v":{"$error":"#DIV/0!"}}]
[null,null,null,"Actividad Especial de docente vinculado",{"$f":"+SUMIF('Docentes AE'!A:A,\"<>Universidad de Antioquia (Contrapartida)\",'Docentes AE'!N:N)","v":0},{"$f":"+E14+(E14/Precio!$F$11)*(Precio!$F$28-Precio!$F$11)","v":{"$error":"#DIV/0!"}}]
[null,null,null,"Cátedra",{"$f":"+SUMIF(Cátedra!A:A,\"<>Universidad de Antioquia (Contrapartida)\",Cátedra!O:O)","v":0},{"$f":"+E15+(E15/Precio!$F$11)*(Precio!$F$28-Precio!$F$11)","v":{"$error":"#DIV/0!"}}]
[null,null,null,"Prestación de servicios",{"$f":"+SUMIF('Prestación de servicios'!A:A,\"<>Universidad de Antioquia (Contrapartida)\",'Prestación de servicios'!L:L)","v":0},{"$f":"+E16+(E16/Precio!$F$11)*(Precio!$F$28-Precio!$F$11)","v":{"$error":"#DIV/0!"}}]
[null,null,null,"Monitores",{"$f":"+SUMIF(Monitores!A:A,\"<>Universidad de Antioquia (Contrapartida)\",Monitores!K:K)","v":0},{"$f":"+E17+(E17/Precio!$F$11)*(Precio!$F$28-Precio!$F$11)","v":{"$error":"#DIV/0!"}}]
[null,null,null,"Personal C.I.S. -Fundación UdeA",{"$f":"+SUMIF('C.I.S. - Fundación UdeA'!A:A,\"<>Universidad de Antioquia (Contrapartida)\",'C.I.S. - Fundación UdeA'!Q:Q)","v":0},{"$f":"+E18+(E18/Precio!$F$11)*(Precio!$F$28-Precio!$F$11)","v":{"$error":"#DIV/0!"}}]
[]
[null,null,null,"Gastos Generales",{"$f":"+SUM(E22:E28)","v":0},{"$f":"+SUM(F22:F28)","v":{"$error":"#DIV/0!"}}]
[]
[null,null,null,"Viáticos",{"$f":"+SUMIF(Viáticos!A:A,\"<>Universidad de Antioquia (Contrapartida)\",Viáticos!N:N)","v":0},{"$f":"+E22+(E22/Precio!$F$11)*(Precio!$F$28-Precio!$F$11)","v":{"$error":"#DIV/0!"}}]
[null,null,null,"Tiquetes",{"$f":"+SUMIF(Tiquetes!A:A,\"<>Universidad de Antioquia (Contrapartida)\",Tiquetes!L:L)","v":0},{"$f":"+E23+(E23/Precio!$F$11)*(Precio!$F$28-Precio!$F$11)","v":{"$error":"#DIV/0!"}}]
[null,null,null,"Materiales",{"$f":"+SUMIF(Materiales!A:A,\"<>Universidad de Antioquia (Contrapartida)\",Materiales!I:I)","v":0},{"$f":"+E24+(E24/Precio!$F$11)*(Precio!$F$28-Precio!$F$11)","v":{"$error":"#DIV/0!"}}]
[null,null,null,"Equipos",{"$f":"+SUMIF(Equipos!A:A,\"<>Universidad de Antioquia (Contrapartida)\",Equipos!P:P)","v":0},{"$f":"+E25+(E25/Precio!$F$11)*(Precio!$F$28-Precio!$F$11)","v":{"$error":"#DIV/0!"}}]
[null,null,null,"Espacios",{"$f":"+SUMIF(Espacios!A:A,\"<>Universidad de Antioquia (Contrapartida)\",Espacios!N:N)","v":0},{"$f":"+E26+(E26/Precio!$F$11)*(Precio!$F$28-Precio!$F$11)","v":{"$error":"#DIV/0!"}}]
[null,null,null,"Otros costos",{"$f":"+SUMIF('Otros costos'!A:A,\"<>Universidad de Antioquia (Contrapartida)\",'Otros costos'!I:I)","v":0},{"$f":"+E27+(E27/Precio!$F$11)*(Precio!$F$28-Precio!$F$11)","v":{"$error":"#DIV/0!"}}]
[null,null,null,"Manejo y costos administrativos",{"$f":"Precio!F16","v":0},{"$f":"+E28+(E28/Precio!$F$11)*(Precio!$F$28-Precio!$F$11)","v":{"$error":"#DIV/0!"}}]

{"sheet":"Precio 2","index":7,"n_rows":48,"n_cols":6,"rows_kept":48,"cut":false,"hidden":false,"merged":[[2,1,2,4],[3,1,3,4],[12,1,12,3]]}
[]
[]
[null,"Simulación Precio por Entregable o Fase"]
[null,{"$f":"+IF(IFERROR('Información general'!E7,\"\")=0,\"\",'Información general'!E7)","v":""}]
[]
[null,"TOTAL PROYECTO",null,null,{"$f":"IFERROR((+E10+E14+E18+E22+E26+E30+E34+E38+E42+E46),\"\")","v":""}]
[null,"Precio mínimo para cubrir costos y contribuciones -PMV- (Punto de Equilibrio) ",null,null,{"$f":"+IFERROR((Precio!$F$23*E6),\"\")","v":""}]
[null,"Precio final (Con contribución dependencia y margende utilidad)",null,null,{"$f":"+IFERROR((Precio!$F$28*E6),\"\")","v":""}]
[]
[null,{"$f":"+'Información general'!C15","v":"etapa 1"},null,null,{"$f":"+IFERROR((Resumen!E10/Resumen!$E$8),\"\")","v":""},{"$f":"+SUM(D10:E10)","v":0}]
[null,"Precio mínimo para cubrir costos y contribuciones -PMV- (Punto de Equilibrio) ",null,null,{"$f":"+IFERROR((Precio!$F$23*E10),\"\")","v":""}]
[null,"Precio final (Con contribución dependencia y margende utilidad)",null,null,{"$f":"+IFERROR((Precio!$F$28*E10),\"\")","v":""}]
[]
[null,{"$f":"+'Información general'!C16","v":"etapa 2"},null,null,{"$f":"+IFERROR((Resumen!E28/Resumen!$E$8),\"\")","v":""},{"$f":"+SUM(C14:E14)","v":0}]
[null,"Precio mínimo para cubrir costos y contribuciones -PMV- (Punto de Equilibrio) ",null,null,{"$f":"+Precio!$F$23*E14","v":{"$error":"#VALUE!"}}]
[null,"Precio final (Con contribución dependencia y margende utilidad)",null,null,{"$f":"+Precio!$F$28*E14","v":{"$error":"#VALUE!"}}]
[]
[null,{"$f":"+'Información general'!C17","v":0},null,null,{"$f":"+IFERROR((Resumen!E46/Resumen!$E$8),\"\")","v":""},{"$f":"+SUM(C18:E18)","v":0}]
[null,"Precio mínimo para cubrir costos y contribuciones -PMV- (Punto de Equilibrio) ",null,null,{"$f":"+Precio!$F$23*E18","v":{"$error":"#VALUE!"}}]
[null,"Precio final (Con contribución dependencia y margende utilidad)",null,null,{"$f":"+Precio!$F$28*E18","v":{"$error":"#VALUE!"}}]
[]
[null,{"$f":"+'Información general'!C18","v":0},null,null,{"$f":"+IFERROR((Resumen!E64/Resumen!$E$8),\"\")","v":""},{"$f":"+SUM(C22:E22)","v":0}]
[null,"Precio mínimo para cubrir costos y contribuciones -PMV- (Punto de Equilibrio) ",null,null,{"$f":"+Precio!$F$23*E22","v":{"$error":"#VALUE!"}}]
[null,"Precio final (Con contribución dependencia y margende utilidad)",null,null,{"$f":"+Precio!$F$28*E22","v":{"$error":"#VALUE!"}}]
[]
[null,{"$f":"+'Información general'!C19","v":0},null,null,{"$f":"+IFERROR((Resumen!E82/Resumen!$E$8),\"\")","v":""},{"$f":"+SUM(C26:E26)","v":0}]
[null,"Precio mínimo para cubrir costos y contribuciones -PMV- (Punto de Equilibrio) ",null,null,{"$f":"+Precio!$F$23*E26","v":{"$error":"#VALUE!"}}]
[null,"Precio final (Con contribución dependencia y margende utilidad)",null,null,{"$f":"+Precio!$F$28*E26","v":{"$error":"#VALUE!"}}]
[]
[null,{"$f":"+'Información general'!C20","v":0},null,null,{"$f":"+IFERROR((Resumen!E100/Resumen!$E$8),\"\")","v":""},{"$f":"+SUM(C30:E30)","v":0}]
[null,"Precio mínimo para cubrir costos y contribuciones -PMV- (Punto de Equilibrio) ",null,null,{"$f":"+Precio!$F$23*E30","v":{"$error":"#VALUE!"}}]
[null,"Precio final (Con contribución dependencia y margende utilidad)",null,null,{"$f":"+Precio!$F$28*E30","v":{"$error":"#VALUE!"}}]
[]
[null,{"$f":"+'Información general'!C21","v":0},null,null,{"$f":"+IFERROR((Resumen!E118/Resumen!$E$8),\"\")","v":""},{"$f":"+SUM(C34:E34)","v":0}]
[null,"Precio mínimo para cubrir costos y contribuciones -PMV- (Punto de Equilibrio) ",null,null,{"$f":"+Precio!$F$23*E34","v":{"$error":"#VALUE!"}}]
[null,"Precio final (Con contribución dependencia y margende utilidad)",null,null,{"$f":"+Precio!$F$28*E34","v":{"$error":"#VALUE!"}}]
[]
[null,{"$f":"+'Información general'!C22","v":0},null,null,{"$f":"+IFERROR((Resumen!E136/Resumen!$E$8),\"\")","v":""},{"$f":"+SUM(C38:E38)","v":0}]
[null,"Precio mínimo para cubrir costos y contribuciones -PMV- (Punto de Equilibrio) ",null,null,{"$f":"+Precio!$F$23*E38","v":{"$error":"#VALUE!"}}]
[null,"Precio final (Con contribución dependencia y margende utilidad)",null,null,{"$f":"+Precio!$F$28*E38","v":{"$error":"#VALUE!"}}]
[]
[null,{"$f":"+'Información general'!C23","v":0},null,null,{"$f":"+IFERROR((Resumen!E154/Resumen!$E$8),\"\")","v":""},{"$f":"+SUM(C42:E42)","v":0}]
[null,"Precio mínimo para cubrir costos y contribuciones -PMV- (Punto de Equilibrio) ",null,null,{"$f":"+Precio!$F$23*E42","v":{"$error":"#VALUE!"}}]
[null,"Precio final (Con contribución dependencia y margende utilidad)",null,null,{"$f":"+Precio!$F$28*E42","v":{"$error":"#VALUE!"}}]
[]
[null,{"$f":"+'Información general'!C24","v":0},null,null,{"$f":"+IFERROR((Resumen!E172/Resumen!$E$8),\"\")","v":""},{"$f":"+SUM(C46:E46)","v":0}]
[null,"Precio mínimo para cubrir costos y contribuciones -PMV- (Punto de Equilibrio) ",null,null,{"$f":"+Precio!$F$23*E46","v":{"$error":"#VALUE!"}}]
[null,"Precio final (Con contribución dependencia y margende utilidad)",null,null,{"$f":"+Precio!$F$28*E46","v":{"$error":"#VALUE!"}}]

{"sheet":"Datos","index":8,"n_rows":36,"n_cols":7,"rows_kept":36,"cut":false,"hidden":false,"merged":[]}
[]
[]
[]
[null,"Salario mínimo 2022","Valor",null,null,"Salarios administrativos","Salario Mes"]
[null,"SMMLV",{"$f":"+Tabla202[Columna1]","v":1160000},null,null,"Asistencial 1",{"$f":"+Listas!C62","v":1908406.9531999999}]
[null,null,null,null,null,"Asistencial 2",{"$f":"+Listas!C63","v":2058241.6557999998}]
[null,"Factor prestacional","Factor",null,null,"Asistencial 3",{"$f":"+Listas!C64","v":2244912.9339999999}]
[null,"Vinculado Administrativo",1.6696675620218842,null,null,"Asistencial 4",{"$f":"+Listas!C65","v":2473958.0799999996}]
[null,"Vinculado Docente",1.7070885842282539,null,null,"Asistencial 5",{"$f":"+Listas!C66","v":2660593.8259999999}]
[null,"Cátedra",1.6418453536522635,null,null,"Asistencial 6",{"$f":"+Listas!C67","v":2964113.3169999998}]
[null,"CIS, Fundación y similares",1.5352000000000001,null,null,"Técnico 1 Técnica profesional 6 meses de experiencia",{"$f":"+Listas!C68","v":2660593.8259999999}]
[null,null,null,null,null,"Técnico 2 Técnica profesional 6 meses de experiencia",{"$f":"+Listas!C69","v":2964113.3169999998}]
[null,"Punto docente","Valor",null,null,"Técnico 3 Tecnología 6 meses de experiencia",{"$f":"+Listas!C70","v":3056063.7733999998}]
[null,"Valor",{"$f":"+Tabla208[Columna1]","v":18844.674199999998},null,null,"Técnico 4 Tecnología 12 meses de experiencia",{"$f":"+Listas!C71","v":3259787.0689999997}]
[null,null,null,null,null,"Técnico 5 Tecnología 12 meses de experiencia",{"$f":"+Listas!C72","v":3360254.9375999998}]
[null,"Otro personal  adtivo.","Valor hora",null,null,"Técnico 6 Tecnología 24 meses de experiencia",{"$f":"+Listas!C73","v":3694410.0621999996}]
[null,"Monitor",{"$f":"+Listas!C111","v":7901.9199999999992},null,null,"Profesional 1 Titulo profesional no requiere experiencia",{"$f":"+Listas!C74","v":3940286.0089999996}]
[null,"Auxiliar Administrativo",{"$f":"+Listas!C112","v":6418.28},null,null,"Profesional 2 Titulo profesional 6 meses de experiencia",{"$f":"+Listas!C75","v":4365604.1505999994}]
[null,"Auxiliar de Programación",{"$f":"+Listas!C113","v":11359.88},null,null,"Profesional 3 Titulo profesional 12 meses de experiencia",{"$f":"+Listas!C76","v":4813178.0575999999}]
[null,"Docente Auxiliar de Cátedra 1",{"$f":"+Listas!C114","v":30552.079999999998},null,null,"Profesional 4 Titulo profesional 12  meses de experiencia / Requiere posgrado",{"$f":"+Listas!C77","v":5304068.008799999}]
[null,"Docente Auxiliar de Cátedra 2",{"$f":"+Listas!C115","v":24121.039999999997},null,null,"Profesional 5 Titulo profesional 18  meses de experiencia / Requiere posgrado",{"$f":"+Listas!C78","v":5874954.6965999994}]
[null,null,null,null,null,"Profesional 6 Titulo profesional 24  meses de experiencia / Requiere posgrado",{"$f":"+Listas!C79","v":6479907.5945999995}]
[null,"Categoría cátedra"," Valor Cátedra","Valor AE",null,"Profesional 7 Titulo profesional 30  meses de experiencia / Requiere posgrado",{"$f":"+Listas!C80","v":7167422.4247999992}]
[null,"CAT01 (Unidades 0 - 19.9 = Vr. Minimo permitido a pagar por horá cátedra)",{"$f":"+Listas!C96","v":24315.486799999999},{"$f":"+Listas!D96","v":37915.149799999999},null,"Profesional 8 Titulo profesional 36  meses de experiencia / Requiere posgrado",{"$f":"+Listas!C81","v":7917703.1669999994}]
[null,"CAT02 (Unidades 20 - 39.9)",{"$f":"+Listas!C97","v":27801.080999999998},{"$f":"+Listas!D97","v":43330.944799999997},null,"Profesional 9 Titulo profesional 36  meses de experiencia / Requiere posgrado",{"$f":"+Listas!C82","v":9088364.2211999986}]
[null,"CAT03 (Unidades 40 - 59.9)",{"$f":"+Listas!C98","v":31731.400799999996},{"$f":"+Listas!D98","v":49426.436399999999},null,"Directivo 1",{"$f":"+Listas!C83","v":6531797.2147999993}]
[null,"CAT04 (Unidades 60 - 79.9)",{"$f":"+Listas!C99","v":36266.914199999999},{"$f":"+Listas!D99","v":56519.121999999996},null,"Directivo 2",{"$f":"+Listas!C84","v":7167422.4247999992}]
[null,"CAT05 (Unidades 80 - 99.9)",{"$f":"+Listas!C100","v":41461.492599999998},{"$f":"+Listas!D100","v":64634.217999999993},null,"Directivo 3",{"$f":"+Listas!C85","v":7320228.0777999992}]
[null,"CAT06 (Unidades 100 - 119.9)",{"$f":"+Listas!C101","v":47340.352399999996},{"$f":"+Listas!D101","v":73956.262599999987},null,"Directivo 4",{"$f":"+Listas!C86","v":7917702.0207999991}]
[null,"CAT07 (Unidades 120 - 139.9)",{"$f":"+Listas!C102","v":54089.177999999993},{"$f":"+Listas!D102","v":84599.875799999994},null,"Directivo 5",{"$f":"+Listas!C87","v":9088364.2211999986}]
[null,"CAT08 (Unidades 140 - 159.9)",{"$f":"+Listas!C103","v":61969.302999999993},{"$f":"+Listas!D103","v":97040.730599999995},null,"Directivo 6",{"$f":"+Listas!C88","v":9109019.8913999982}]
[null,"CAT09 (Unidades 160 - 179.9)",{"$f":"+Listas!C104","v":70972.703999999998},{"$f":"+Listas!D104","v":111332.69839999999},null,"Directivo 7",{"$f":"+Listas!C89","v":10088944.095999999}]
[null,"CAT10 (Unidades 180 en adelante)",{"$f":"+Listas!C105","v":81440.948599999989},{"$f":"+Listas!D105","v":127834.53979999998},null,"Directivo 8",{"$f":"+Listas!C90","v":11480159.246599998}]
[null,null,null,null,null,"Directivo 9",{"$f":"+Listas!C91","v":14296153.722399998}]
[null,null,null,null,null,"Directivo 10",{"$f":"+Listas!C92","v":16308479.752399998}]
[null,null,null,null,null,"Directivo 11",{"$f":"+Listas!C93","v":20377785.471999999}]

{"sheet":"Administrativos","index":9,"n_rows":50,"n_cols":17,"rows_kept":50,"cut":false,"hidden":false,"merged":[]}
["Financiador","Fase","Cargo ","Descripción","Salario Sugerido","Salario","Factor","% Administración","Salario con factor","Unidad de tiempo","Costo unidad de tiempo","Cantidad de tiempo","Número de personas","Dedicación","Costo parcial","% Participación","Costo"]
[null,null,null,null,{"$f":"+IFERROR(VLOOKUP(Administrativos[[#This Row],[Cargo ]],Tabla206[],2,0),\"\")","v":""},null,{"$f":"+IF(Administrativos[[#This Row],[Cargo ]]=\"\",\"\",Listas!$D$56)","v":""},null,{"$f":"+IFERROR(IF(Administrativos[[#This Row],[Salario]]=\"\",((Administrativos[[#This Row],[Salario Sugerido]]*Administrativos[[#This Row],[Factor]]*(1+Administrativos[[#This Row],[% Administración]]))),(Administrativos[[#This Row],[Salario]]*Administrativos[[#This Row],[Factor]]*(1+Administrativos[[#This Row],[% Administración]]))),\"\")","v":""},null,{"$f":"IFERROR(Administrativos[[#This Row],[Salario con factor]]/VLOOKUP(Administrativos[[#This Row],[Unidad de tiempo]],Tabla210[],3,0),\"\")","v":""},null,null,null,{"$f":"+IFERROR((Administrativos[[#This Row],[Costo unidad de tiempo]]*Administrativos[[#This Row],[Cantidad de tiempo]]*Administrativos[[#This Row],[Número de personas]]*VLOOKUP(Administrativos[[#This Row],[Dedicación]],Tabla201[#All],2,0)),\"\")","v":""},null,{"$f":"+IFERROR(Administrativos[[#This Row],[Costo parcial]]*Administrativos[[#This Row],[% Participación]]/100,\"\")","v":""}]
[null,null,null,null,{"$f":"+IFERROR(VLOOKUP(Administrativos[[#This Row],[Cargo ]],Tabla206[],2,0),\"\")","v":""},null,{"$f":"+IF(Administrativos[[#This Row],[Cargo ]]=\"\",\"\",Listas!$D$56)","v":""},null,{"$f":"+IFERROR(IF(Administrativos[[#This Row],[Salario]]=\"\",((Administrativos[[#This Row],[Salario Sugerido]]*Administrativos[[#This Row],[Factor]]*(1+Administrativos[[#This Row],[% Administración]]))),(Administrativos[[#This Row],[Salario]]*Administrativos[[#This Row],[Factor]]*(1+Administrativos[[#This Row],[% Administración]]))),\"\")","v":""},null,{"$f":"IFERROR(Administrativos[[#This Row],[Salario con factor]]/VLOOKUP(Administrativos[[#This Row],[Unidad de tiempo]],Tabla210[],3,0),\"\")","v":""},null,null,null,{"$f":"+IFERROR((Administrativos[[#This Row],[Costo unidad de tiempo]]*Administrativos[[#This Row],[Cantidad de tiempo]]*Administrativos[[#This Row],[Número de personas]]*VLOOKUP(Administrativos[[#This Row],[Dedicación]],Tabla201[#All],2,0)),\"\")","v":""},null,{"$f":"+IFERROR(Administrativos[[#This Row],[Costo parcial]]*Administrativos[[#This Row],[% Participación]]/100,\"\")","v":""}]
[null,null,null,null,{"$f":"+IFERROR(VLOOKUP(Administrativos[[#This Row],[Cargo ]],Tabla206[],2,0),\"\")","v":""},null,{"$f":"+IF(Administrativos[[#This Row],[Cargo ]]=\"\",\"\",Listas!$D$56)","v":""},null,{"$f":"+IFERROR(IF(Administrativos[[#This Row],[Salario]]=\"\",((Administrativos[[#This Row],[Salario Sugerido]]*Administrativos[[#This Row],[Factor]]*(1+Administrativos[[#This Row],[% Administración]]))),(Administrativos[[#This Row],[Salario]]*Administrativos[[#This Row],[Factor]]*(1+Administrativos[[#This Row],[% Administración]]))),\"\")","v":""},null,{"$f":"IFERROR(Administrativos[[#This Row],[Salario con factor]]/VLOOKUP(Administrativos[[#This Row],[Unidad de tiempo]],Tabla210[],3,0),\"\")","v":""},null,null,null,{"$f":"+IFERROR((Administrativos[[#This Row],[Costo unidad de tiempo]]*Administrativos[[#This Row],[Cantidad de tiempo]]*Administrativos[[#This Row],[Número de personas]]*VLOOKUP(Administrativos[[#This Row],[Dedicación]],Tabla201[#All],2,0)),\"\")","v":""},null,{"$f":"+IFERROR(Administrativos[[#This Row],[Costo parcial]]*Administrativos[[#This Row],[% Participación]]/100,\"\")","v":""}]
[null,null,null,null,{"$f":"+IFERROR(VLOOKUP(Administrativos[[#This Row],[Cargo ]],Tabla206[],2,0),\"\")","v":""},null,{"$f":"+IF(Administrativos[[#This Row],[Cargo ]]=\"\",\"\",Listas!$D$56)","v":""},null,{"$f":"+IFERROR(IF(Administrativos[[#This Row],[Salario]]=\"\",((Administrativos[[#This Row],[Salario Sugerido]]*Administrativos[[#This Row],[Factor]]*(1+Administrativos[[#This Row],[% Administración]]))),(Administrativos[[#This Row],[Salario]]*Administrativos[[#This Row],[Factor]]*(1+Administrativos[[#This Row],[% Administración]]))),\"\")","v":""},null,{"$f":"IFERROR(Administrativos[[#This Row],[Salario con factor]]/VLOOKUP(Administrativos[[#This Row],[Unidad de tiempo]],Tabla210[],3,0),\"\")","v":""},null,null,null,{"$f":"+IFERROR((Administrativos[[#This Row],[Costo unidad de tiempo]]*Administrativos[[#This Row],[Cantidad de tiempo]]*Administrativos[[#This Row],[Número de personas]]*VLOOKUP(Administrativos[[#This Row],[Dedicación]],Tabla201[#All],2,0)),\"\")","v":""},null,{"$f":"+IFERROR(Administrativos[[#This Row],[Costo parcial]]*Administrativos[[#This Row],[% Participación]]/100,\"\")","v":""}]
[null,null,null,null,{"$f":"+IFERROR(VLOOKUP(Administrativos[[#This Row],[Cargo ]],Tabla206[],2,0),\"\")","v":""},null,{"$f":"+IF(Administrativos[[#This Row],[Cargo ]]=\"\",\"\",Listas!$D$56)","v":""},null,{"$f":"+IFERROR(IF(Administrativos[[#This Row],[Salario]]=\"\",((Administrativos[[#This Row],[Salario Sugerido]]*Administrativos[[#This Row],[Factor]]*(1+Administrativos[[#This Row],[% Administración]]))),(Administrativos[[#This Row],[Salario]]*Administrativos[[#This Row],[Factor]]*(1+Administrativos[[#This Row],[% Administración]]))),\"\")","v":""},null,{"$f":"IFERROR(Administrativos[[#This Row],[Salario con factor]]/VLOOKUP(Administrativos[[#This Row],[Unidad de tiempo]],Tabla210[],3,0),\"\")","v":""},null,null,null,{"$f":"+IFERROR((Administrativos[[#This Row],[Costo unidad de tiempo]]*Administrativos[[#This Row],[Cantidad de tiempo]]*Administrativos[[#This Row],[Número de personas]]*VLOOKUP(Administrativos[[#This Row],[Dedicación]],Tabla201[#All],2,0)),\"\")","v":""},null,{"$f":"+IFERROR(Administrativos[[#This Row],[Costo parcial]]*Administrativos[[#This Row],[% Participación]]/100,\"\")","v":""}]
[null,null,null,null,{"$f":"+IFERROR(VLOOKUP(Administrativos[[#This Row],[Cargo ]],Tabla206[],2,0),\"\")","v":""},null,{"$f":"+IF(Administrativos[[#This Row],[Cargo ]]=\"\",\"\",Listas!$D$56)","v":""},null,{"$f":"+IFERROR(IF(Administrativos[[#This Row],[Salario]]=\"\",((Administrativos[[#This Row],[Salario Sugerido]]*Administrativos[[#This Row],[Factor]]*(1+Administrativos[[#This Row],[% Administración]]))),(Administrativos[[#This Row],[Salario]]*Administrativos[[#This Row],[Factor]]*(1+Administrativos[[#This Row],[% Administración]]))),\"\")","v":""},null,{"$f":"IFERROR(Administrativos[[#This Row],[Salario con factor]]/VLOOKUP(Administrativos[[#This Row],[Unidad de tiempo]],Tabla210[],3,0),\"\")","v":""},null,null,null,{"$f":"+IFERROR((Administrativos[[#This Row],[Costo unidad de tiempo]]*Administrativos[[#This Row],[Cantidad de tiempo]]*Administrativos[[#This Row],[Número de personas]]*VLOOKUP(Administrativos[[#This Row],[Dedicación]],Tabla201[#All],2,0)),\"\")","v":""},null,{"$f":"+IFERROR(Administrativos[[#This Row],[Costo parcial]]*Administrativos[[#This Row],[% Participación]]/100,\"\")","v":""}]
[null,null,null,null,{"$f":"+IFERROR(VLOOKUP(Administrativos[[#This Row],[Cargo ]],Tabla206[],2,0),\"\")","v":""},null,{"$f":"+IF(Administrativos[[#This Row],[Cargo ]]=\"\",\"\",Listas!$D$56)","v":""},null,{"$f":"+IFERROR(IF(Administrativos[[#This Row],[Salario]]=\"\",((Administrativos[[#This Row],[Salario Sugerido]]*Administrativos[[#This Row],[Factor]]*(1+Administrativos[[#This Row],[% Administración]]))),(Administrativos[[#This Row],[Salario]]*Administrativos[[#This Row],[Factor]]*(1+Administrativos[[#This Row],[% Administración]]))),\"\")","v":""},null,{"$f":"IFERROR(Administrativos[[#This Row],[Salario con factor]]/VLOOKUP(Administrativos[[#This Row],[Unidad de tiempo]],Tabla210[],3,0),\"\")","v":""},null,null,null,{"$f":"+IFERROR((Administrativos[[#This Row],[Costo unidad de tiempo]]*Administrativos[[#This Row],[Cantidad de tiempo]]*Administrativos[[#This Row],[Número de personas]]*VLOOKUP(Administrativos[[#This Row],[Dedicación]],Tabla201[#All],2,0)),\"\")","v":""},null,{"$f":"+IFERROR(Administrativos[[#This Row],[Costo parcial]]*Administrativos[[#This Row],[% Participación]]/100,\"\")","v":""}]
[null,null,null,null,{"$f":"+IFERROR(VLOOKUP(Administrativos[[#This Row],[Cargo ]],Tabla206[],2,0),\"\")","v":""},null,{"$f":"+IF(Administrativos[[#This Row],[Cargo ]]=\"\",\"\",Listas!$D$56)","v":""},null,{"$f":"+IFERROR(IF(Administrativos[[#This Row],[Salario]]=\"\",((Administrativos[[#This Row],[Salario Sugerido]]*Administrativos[[#This Row],[Factor]]*(1+Administrativos[[#This Row],[% Administración]]))),(Administrativos[[#This Row],[Salario]]*Administrativos[[#This Row],[Factor]]*(1+Administrativos[[#This Row],[% Administración]]))),\"\")","v":""},null,{"$f":"IFERROR(Administrativos[[#This Row],[Salario con factor]]/VLOOKUP(Administrativos[[#This Row],[Unidad de tiempo]],Tabla210[],3,0),\"\")","v":""},null,null,null,{"$f":"+IFERROR((Administrativos[[#This Row],[Costo unidad de tiempo]]*Administrativos[[#This Row],[Cantidad de tiempo]]*Administrativos[[#This Row],[Número de personas]]*VLOOKUP(Administrativos[[#This Row],[Dedicación]],Tabla201[#All],2,0)),\"\")","v":""},null,{"$f":"+IFERROR(Administrativos[[#This Row],[Costo parcial]]*Administrativos[[#This Row],[% Participación]]/100,\"\")","v":""}]
[null,null,null,null,{"$f":"+IFERROR(VLOOKUP(Administrativos[[#This Row],[Cargo ]],Tabla206[],2,0),\"\")","v":""},null,{"$f":"+IF(Administrativos[[#This Row],[Cargo ]]=\"\",\"\",Listas!$D$56)","v":""},null,{"$f":"+IFERROR(IF(Administrativos[[#This Row],[Salario]]=\"\",((Administrativos[[#This Row],[Salario Sugerido]]*Administrativos[[#This Row],[Factor]]*(1+Administrativos[[#This Row],[% Administración]]))),(Administrativos[[#This Row],[Salario]]*Administrativos[[#This Row],[Factor]]*(1+Administrativos[[#This Row],[% Administración]]))),\"\")","v":""},null,{"$f":"IFERROR(Administrativos[[#This Row],[Salario con factor]]/VLOOKUP(Administrativos[[#This Row],[Unidad de tiempo]],Tabla210[],3,0),\"\")","v":""},null,null,null,{"$f":"+IFERROR((Administrativos[[#This Row],[Costo unidad de tiempo]]*Administrativos[[#This Row],[Cantidad de tiempo]]*Administrativos[[#This Row],[Número de personas]]*VLOOKUP(Administrativos[[#This Row],[Dedicación]],Tabla201[#All],2,0)),\"\")","v":""},null,{"$f":"+IFERROR(Administrativos[[#This Row],[Costo parcial]]*Administrativos[[#This Row],[% Participación]]/100,\"\")","v":""}]
[null,null,null,null,{"$f":"+IFERROR(VLOOKUP(Administrativos[[#This Row],[Cargo ]],Tabla206[],2,0),\"\")","v":""},null,{"$f":"+IF(Administrativos[[#This Row],[Cargo ]]=\"\",\"\",Listas!$D$56)","v":""},null,{"$f":"+IFERROR(IF(Administrativos[[#This Row],[Salario]]=\"\",((Administrativos[[#This Row],[Salario Sugerido]]*Administrativos[[#This Row],[Factor]]*(1+Administrativos[[#This Row],[% Administración]]))),(Administrativos[[#This Row],[Salario]]*Administrativos[[#This Row],[Factor]]*(1+Administrativos[[#This Row],[% Administración]]))),\"\")","v":""},null,{"$f":"IFERROR(Administrativos[[#This Row],[Salario con factor]]/VLOOKUP(Administrativos[[#This Row],[Unidad de tiempo]],Tabla210[],3,0),\"\")","v":""},null,null,null,{"$f":"+IFERROR((Administrativos[[#This Row],[Costo unidad de tiempo]]*Administrativos[[#This Row],[Cantidad de tiempo]]*Administrativos[[#This Row],[Número de personas]]*VLOOKUP(Administrativos[[#This Row],[Dedicación]],Tabla201[#All],2,0)),\"\")","v":""},null,{"$f":"+IFERROR(Administrativos[[#This Row],[Costo parcial]]*Administrativos[[#This Row],[% Participación]]/100,\"\")","v":""}]
[null,null,null,null,{"$f":"+IFERROR(VLOOKUP(Administrativos[[#This Row],[Cargo ]],Tabla206[],2,0),\"\")","v":""},null,{"$f":"+IF(Administrativos[[#This Row],[Cargo ]]=\"\",\"\",Listas!$D$56)","v":""},null,{"$f":"+IFERROR(IF(Administrativos[[#This Row],[Salario]]=\"\",((Administrativos[[#This Row],[Salario Sugerido]]*Administrativos[[#This Row],[Factor]]*(1+Administrativos[[#This Row],[% Administración]]))),(Administrativos[[#This Row],[Salario]]*Administrativos[[#This Row],[Factor]]*(1+Administrativos[[#This Row],[% Administración]]))),\"\")","v":""},null,{"$f":"IFERROR(Administrativos[[#This Row],[Salario con factor]]/VLOOKUP(Administrativos[[#This Row],[Unidad de tiempo]],Tabla210[],3,0),\"\")","v":""},null,null,null,{"$f":"+IFERROR((Administrativos[[#This Row],[Costo unidad de tiempo]]*Administrativos[[#This Row],[Cantidad de tiempo]]*Administrativos[[#This Row],[Número de personas]]*VLOOKUP(Administrativos[[#This Row],[Dedicación]],Tabla201[#All],2,0)),\"\")","v":""},null,{"$f":"+IFERROR(Administrativos[[#This Row],[Costo parcial]]*Administrativos[[#This Row],[% Participación]]/100,\"\")","v":""}]
[null,null,null,null,{"$f":"+IFERROR(VLOOKUP(Administrativos[[#This Row],[Cargo ]],Tabla206[],2,0),\"\")","v":""},null,{"$f":"+IF(Administrativos[[#This Row],[Cargo ]]=\"\",\"\",Listas!$D$56)","v":""},null,{"$f":"+IFERROR(IF(Administrativos[[#This Row],[Salario]]=\"\",((Administrativos[[#This Row],[Salario Sugerido]]*Administrativos[[#This Row],[Factor]]*(1+Administrativos[[#This Row],[% Administración]]))),(Administrativos[[#This Row],[Salario]]*Administrativos[[#This Row],[Factor]]*(1+Administrativos[[#This Row],[% Administración]]))),\"\")","v":""},null,{"$f":"IFERROR(Administrativos[[#This Row],[Salario con factor]]/VLOOKUP(Administrativos[[#This Row],[Unidad de tiempo]],Tabla210[],3,0),\"\")","v":""},null,null,null,{"$f":"+IFERROR((Administrativos[[#This Row],[Costo unidad de tiempo]]*Administrativos[[#This Row],[Cantidad de tiempo]]*Administrativos[[#This Row],[Número de personas]]*VLOOKUP(Administrativos[[#This Row],[Dedicación]],Tabla201[#All],2,0)),\"\")","v":""},null,{"$f":"+IFERROR(Administrativos[[#This Row],[Costo parcial]]*Administrativos[[#This Row],[% Participación]]/100,\"\")","v":""}]
[null,null,null,null,{"$f":"+IFERROR(VLOOKUP(Administrativos[[#This Row],[Cargo ]],Tabla206[],2,0),\"\")","v":""},null,{"$f":"+IF(Administrativos[[#This Row],[Cargo ]]=\"\",\"\",Listas!$D$56)","v":""},null,{"$f":"+IFERROR(IF(Administrativos[[#This Row],[Salario]]=\"\",((Administrativos[[#This Row],[Salario Sugerido]]*Administrativos[[#This Row],[Factor]]*(1+Administrativos[[#This Row],[% Administración]]))),(Administrativos[[#This Row],[Salario]]*Administrativos[[#This Row],[Factor]]*(1+Administrativos[[#This Row],[% Administración]]))),\"\")","v":""},null,{"$f":"IFERROR(Administrativos[[#This Row],[Salario con factor]]/VLOOKUP(Administrativos[[#This Row],[Unidad de tiempo]],Tabla210[],3,0),\"\")","v":""},null,null,null,{"$f":"+IFERROR((Administrativos[[#This Row],[Costo unidad de tiempo]]*Administrativos[[#This Row],[Cantidad de tiempo]]*Administrativos[[#This Row],[Número de personas]]*VLOOKUP(Administrativos[[#This Row],[Dedicación]],Tabla201[#All],2,0)),\"\")","v":""},null,{"$f":"+IFERROR(Administrativos[[#This Row],[Costo parcial]]*Administrativos[[#This Row],[% Participación]]/100,\"\")","v":""}]
[null,null,null,null,{"$f":"+IFERROR(VLOOKUP(Administrativos[[#This Row],[Cargo ]],Tabla206[],2,0),\"\")","v":""},null,{"$f":"+IF(Administrativos[[#This Row],[Cargo ]]=\"\",\"\",Listas!$D$56)","v":""},null,{"$f":"+IFERROR(IF(Administrativos[[#This Row],[Salario]]=\"\",((Administrativos[[#This Row],[Salario Sugerido]]*Administrativos[[#This Row],[Factor]]*(1+Administrativos[[#This Row],[% Administración]]))),(Administrativos[[#This Row],[Salario]]*Administrativos[[#This Row],[Factor]]*(1+Administrativos[[#This Row],[% Administración]]))),\"\")","v":""},null,{"$f":"IFERROR(Administrativos[[#This Row],[Salario con factor]]/VLOOKUP(Administrativos[[#This Row],[Unidad de tiempo]],Tabla210[],3,0),\"\")","v":""},null,null,null,{"$f":"+IFERROR((Administrativos[[#This Row],[Costo unidad de tiempo]]*Administrativos[[#This Row],[Cantidad de tiempo]]*Administrativos[[#This Row],[Número de personas]]*VLOOKUP(Administrativos[[#This Row],[Dedicación]],Tabla201[#All],2,0)),\"\")","v":""},null,{"$f":"+IFERROR(Administrativos[[#This Row],[Costo parcial]]*Administrativos[[#This Row],[% Participación]]/100,\"\")","v":""}]
[null,null,null,null,{"$f":"+IFERROR(VLOOKUP(Administrativos[[#This Row],[Cargo ]],Tabla206[],2,0),\"\")","v":""},null,{"$f":"+IF(Administrativos[[#This Row],[Cargo ]]=\"\",\"\",Listas!$D$56)","v":""},null,{"$f":"+IFERROR(IF(Administrativos[[#This Row],[Salario]]=\"\",((Administrativos[[#This Row],[Salario Sugerido]]*Administrativos[[#This Row],[Factor]]*(1+Administrativos[[#This Row],[% Administración]]))),(Administrativos[[#This Row],[Salario]]*Administrativos[[#This Row],[Factor]]*(1+Administrativos[[#This Row],[% Administración]]))),\"\")","v":""},null,{"$f":"IFERROR(Administrativos[[#This Row],[Salario con factor]]/VLOOKUP(Administrativos[[#This Row],[Unidad de tiempo]],Tabla210[],3,0),\"\")","v":""},null,null,null,{"$f":"+IFERROR((Administrativos[[#This Row],[Costo unidad de tiempo]]*Administrativos[[#This Row],[Cantidad de tiempo]]*Administrativos[[#This Row],[Número de personas]]*VLOOKUP(Administrativos[[#This Row],[Dedicación]],Tabla201[#All],2,0)),\"\")","v":""},null,{"$f":"+IFERROR(Administrativos[[#This Row],[Costo parcial]]*Administrativos[[#This Row],[% Participación]]/100,\"\")","v":""}]
[null,null,null,null,{"$f":"+IFERROR(VLOOKUP(Administrativos[[#This Row],[Cargo ]],Tabla206[],2,0),\"\")","v":""},null,{"$f":"+IF(Administrativos[[#This Row],[Cargo ]]=\"\",\"\",Listas!$D$56)","v":""},null,{"$f":"+IFERROR(IF(Administrativos[[#This Row],[Salario]]=\"\",((Administrativos[[#This Row],[Salario Sugerido]]*Administrativos[[#This Row],[Factor]]*(1+Administrativos[[#This Row],[% Administración]]))),(Administrativos[[#This Row],[Salario]]*Administrativos[[#This Row],[Factor]]*(1+Administrativos[[#This Row],[% Administración]]))),\"\")","v":""},null,{"$f":"IFERROR(Administrativos[[#This Row],[Salario con factor]]/VLOOKUP(Administrativos[[#This Row],[Unidad de tiempo]],Tabla210[],3,0),\"\")","v":""},null,null,null,{"$f":"+IFERROR((Administrativos[[#This Row],[Costo unidad de tiempo]]*Administrativos[[#This Row],[Cantidad de tiempo]]*Administrativos[[#This Row],[Número de personas]]*VLOOKUP(Administrativos[[#This Row],[Dedicación]],Tabla201[#All],2,0)),\"\")","v":""},null,{"$f":"+IFERROR(Administrativos[[#This Row],[Costo parcial]]*Administrativos[[#This Row],[% Participación]]/100,\"\")","v":""}]
[null,null,null,null,{"$f":"+IFERROR(VLOOKUP(Administrativos[[#This Row],[Cargo ]],Tabla206[],2,0),\"\")","v":""},null,{"$f":"+IF(Administrativos[[#This Row],[Cargo ]]=\"\",\"\",Listas!$D$56)","v":""},null,{"$f":"+IFERROR(IF(Administrativos[[#This Row],[Salario]]=\"\",((Administrativos[[#This Row],[Salario Sugerido]]*Administrativos[[#This Row],[Factor]]*(1+Administrativos[[#This Row],[% Administración]]))),(Administrativos[[#This Row],[Salario]]*Administrativos[[#This Row],[Factor]]*(1+Administrativos[[#This Row],[% Administración]]))),\"\")","v":""},null,{"$f":"IFERROR(Administrativos[[#This Row],[Salario con factor]]/VLOOKUP(Administrativos[[#This Row],[Unidad de tiempo]],Tabla210[],3,0),\"\")","v":""},null,null,null,{"$f":"+IFERROR((Administrativos[[#This Row],[Costo unidad de tiempo]]*Administrativos[[#This Row],[Cantidad de tiempo]]*Administrativos[[#This Row],[Número de personas]]*VLOOKUP(Administrativos[[#This Row],[Dedicación]],Tabla201[#All],2,0)),\"\")","v":""},null,{"$f":"+IFERROR(Administrativos[[#This Row],[Costo parcial]]*Administrativos[[#This Row],[% Participación]]/100,\"\")","v":""}]
[null,null,null,null,{"$f":"+IFERROR(VLOOKUP(Administrativos[[#This Row],[Cargo ]],Tabla206[],2,0),\"\")","v":""},null,{"$f":"+IF(Administrativos[[#This Row],[Cargo ]]=\"\",\"\",Listas!$D$56)","v":""},null,{"$f":"+IFERROR(IF(Administrativos[[#This Row],[Salario]]=\"\",((Administrativos[[#This Row],[Salario Sugerido]]*Administrativos[[#This Row],[Factor]]*(1+Administrativos[[#This Row],[% Administración]]))),(Administrativos[[#This Row],[Salario]]*Administrativos[[#This Row],[Factor]]*(1+Administrativos[[#This Row],[% Administración]]))),\"\")","v":""},null,{"$f":"IFERROR(Administrativos[[#This Row],[Salario con factor]]/VLOOKUP(Administrativos[[#This Row],[Unidad de tiempo]],Tabla210[],3,0),\"\")","v":""},null,null,null,{"$f":"+IFERROR((Administrativos[[#This Row],[Costo unidad de tiempo]]*Administrativos[[#This Row],[Cantidad de tiempo]]*Administrativos[[#This Row],[Número de personas]]*VLOOKUP(Administrativos[[#This Row],[Dedicación]],Tabla201[#All],2,0)),\"\")","v":""},null,{"$f":"+IFERROR(Administrativos[[#This Row],[Costo parcial]]*Administrativos[[#This Row],[% Participación]]/100,\"\")","v":""}]
[null,null,null,null,{"$f":"+IFERROR(VLOOKUP(Administrativos[[#This Row],[Cargo ]],Tabla206[],2,0),\"\")","v":""},null,{"$f":"+IF(Administrativos[[#This Row],[Cargo ]]=\"\",\"\",Listas!$D$56)","v":""},null,{"$f":"+IFERROR(IF(Administrativos[[#This Row],[Salario]]=\"\",((Administrativos[[#This Row],[Salario Sugerido]]*Administrativos[[#This Row],[Factor]]*(1+Administrativos[[#This Row],[% Administración]]))),(Administrativos[[#This Row],[Salario]]*Administrativos[[#This Row],[Factor]]*(1+Administrativos[[#This Row],[% Administración]]))),\"\")","v":""},null,{"$f":"IFERROR(Administrativos[[#This Row],[Salario con factor]]/VLOOKUP(Administrativos[[#This Row],[Unidad de tiempo]],Tabla210[],3,0),\"\")","v":""},null,null,null,{"$f":"+IFERROR((Administrativos[[#This Row],[Costo unidad de tiempo]]*Administrativos[[#This Row],[Cantidad de tiempo]]*Administrativos[[#This Row],[Número de personas]]*VLOOKUP(Administrativos[[#This Row],[Dedicación]],Tabla201[#All],2,0)),\"\")","v":""},null,{"$f":"+IFERROR(Administrativos[[#This Row],[Costo parcial]]*Administrativos[[#This Row],[% Participación]]/100,\"\")","v":""}]
[null,null,null,null,{"$f":"+IFERROR(VLOOKUP(Administrativos[[#This Row],[Cargo ]],Tabla206[],2,0),\"\")","v":""},null,{"$f":"+IF(Administrativos[[#This Row],[Cargo ]]=\"\",\"\",Listas!$D$56)","v":""},null,{"$f":"+IFERROR(IF(Administrativos[[#This Row],[Salario]]=\"\",((Administrativos[[#This Row],[Salario Sugerido]]*Administrativos[[#This Row],[Factor]]*(1+Administrativos[[#This Row],[% Administración]]))),(Administrativos[[#This Row],[Salario]]*Administrativos[[#This Row],[Factor]]*(1+Administrativos[[#This Row],[% Administración]]))),\"\")","v":""},null,{"$f":"IFERROR(Administrativos[[#This Row],[Salario con factor]]/VLOOKUP(Administrativos[[#This Row],[Unidad de tiempo]],Tabla210[],3,0),\"\")","v":""},null,null,null,{"$f":"+IFERROR((Administrativos[[#This Row],[Costo unidad de tiempo]]*Administrativos[[#This Row],[Cantidad de tiempo]]*Administrativos[[#This Row],[Número de personas]]*VLOOKUP(Administrativos[[#This Row],[Dedicación]],Tabla201[#All],2,0)),\"\")","v":""},null,{"$f":"+IFERROR(Administrativos[[#This Row],[Costo parcial]]*Administrativos[[#This Row],[% Participación]]/100,\"\")","v":""}]
[null,null,null,null,{"$f":"+IFERROR(VLOOKUP(Administrativos[[#This Row],[Cargo ]],Tabla206[],2,0),\"\")","v":""},null,{"$f":"+IF(Administrativos[[#This Row],[Cargo ]]=\"\",\"\",Listas!$D$56)","v":""},null,{"$f":"+IFERROR(IF(Administrativos[[#This Row],[Salario]]=\"\",((Administrativos[[#This Row],[Salario Sugerido]]*Administrativos[[#This Row],[Factor]]*(1+Administrativos[[#This Row],[% Administración]]))),(Administrativos[[#This Row],[Salario]]*Administrativos[[#This Row],[Factor]]*(1+Administrativos[[#This Row],[% Administración]]))),\"\")","v":""},null,{"$f":"IFERROR(Administrativos[[#This Row],[Salario con factor]]/VLOOKUP(Administrativos[[#This Row],[Unidad de tiempo]],Tabla210[],3,0),\"\")","v":""},null,null,null,{"$f":"+IFERROR((Administrativos[[#This Row],[Costo unidad de tiempo]]*Administrativos[[#This Row],[Cantidad de tiempo]]*Administrativos[[#This Row],[Número de personas]]*VLOOKUP(Administrativos[[#This Row],[Dedicación]],Tabla201[#All],2,0)),\"\")","v":""},null,{"$f":"+IFERROR(Administrativos[[#This Row],[Costo parcial]]*Administrativos[[#This Row],[% Participación]]/100,\"\")","v":""}]
[null,null,null,null,{"$f":"+IFERROR(VLOOKUP(Administrativos[[#This Row],[Cargo ]],Tabla206[],2,0),\"\")","v":""},null,{"$f":"+IF(Administrativos[[#This Row],[Cargo ]]=\"\",\"\",Listas!$D$56)","v":""},null,{"$f":"+IFERROR(IF(Administrativos[[#This Row],[Salario]]=\"\",((Administrativos[[#This Row],[Salario Sugerido]]*Administrativos[[#This Row],[Factor]]*(1+Administrativos[[#This Row],[% Administración]]))),(Administrativos[[#This Row],[Salario]]*Administrativos[[#This Row],[Factor]]*(1+Administrativos[[#This Row],[% Administración]]))),\"\")","v":""},null,{"$f":"IFERROR(Administrativos[[#This Row],[Salario con factor]]/VLOOKUP(Administrativos[[#This Row],[Unidad de tiempo]],Tabla210[],3,0),\"\")","v":""},null,null,null,{"$f":"+IFERROR((Administrativos[[#This Row],[Costo unidad de tiempo]]*Administrativos[[#This Row],[Cantidad de tiempo]]*Administrativos[[#This Row],[Número de personas]]*VLOOKUP(Administrativos[[#This Row],[Dedicación]],Tabla201[#All],2,0)),\"\")","v":""},null,{"$f":"+IFERROR(Administrativos[[#This Row],[Costo parcial]]*Administrativos[[#This Row],[% Participación]]/100,\"\")","v":""}]
[null,null,null,null,{"$f":"+IFERROR(VLOOKUP(Administrativos[[#This Row],[Cargo ]],Tabla206[],2,0),\"\")","v":""},null,{"$f":"+IF(Administrativos[[#This Row],[Cargo ]]=\"\",\"\",Listas!$D$56)","v":""},null,{"$f":"+IFERROR(IF(Administrativos[[#This Row],[Salario]]=\"\",((Administrativos[[#This Row],[Salario Sugerido]]*Administrativos[[#This Row],[Factor]]*(1+Administrativos[[#This Row],[% Administración]]))),(Administrativos[[#This Row],[Salario]]*Administrativos[[#This Row],[Factor]]*(1+Administrativos[[#This Row],[% Administración]]))),\"\")","v":""},null,{"$f":"IFERROR(Administrativos[[#This Row],[Salario con factor]]/VLOOKUP(Administrativos[[#This Row],[Unidad de tiempo]],Tabla210[],3,0),\"\")","v":""},null,null,null,{"$f":"+IFERROR((Administrativos[[#This Row],[Costo unidad de tiempo]]*Administrativos[[#This Row],[Cantidad de tiempo]]*Administrativos[[#This Row],[Número de personas]]*VLOOKUP(Administrativos[[#This Row],[Dedicación]],Tabla201[#All],2,0)),\"\")","v":""},null,{"$f":"+IFERROR(Administrativos[[#This Row],[Costo parcial]]*Administrativos[[#This Row],[% Participación]]/100,\"\")","v":""}]
[null,null,null,null,{"$f":"+IFERROR(VLOOKUP(Administrativos[[#This Row],[Cargo ]],Tabla206[],2,0),\"\")","v":""},null,{"$f":"+IF(Administrativos[[#This Row],[Cargo ]]=\"\",\"\",Listas!$D$56)","v":""},null,{"$f":"+IFERROR(IF(Administrativos[[#This Row],[Salario]]=\"\",((Administrativos[[#This Row],[Salario Sugerido]]*Administrativos[[#This Row],[Factor]]*(1+Administrativos[[#This Row],[% Administración]]))),(Administrativos[[#This Row],[Salario]]*Administrativos[[#This Row],[Factor]]*(1+Administrativos[[#This Row],[% Administración]]))),\"\")","v":""},null,{"$f":"IFERROR(Administrativos[[#This Row],[Salario con factor]]/VLOOKUP(Administrativos[[#This Row],[Unidad de tiempo]],Tabla210[],3,0),\"\")","v":""},null,null,null,{"$f":"+IFERROR((Administrativos[[#This Row],[Costo unidad de tiempo]]*Administrativos[[#This Row],[Cantidad de tiempo]]*Administrativos[[#This Row],[Número de personas]]*VLOOKUP(Administrativos[[#This Row],[Dedicación]],Tabla201[#All],2,0)),\"\")","v":""},null,{"$f":"+IFERROR(Administrativos[[#This Row],[Costo parcial]]*Administrativos[[#This Row],[% Participación]]/100,\"\")","v":""}]
[null,null,null,null,{"$f":"+IFERROR(VLOOKUP(Administrativos[[#This Row],[Cargo ]],Tabla206[],2,0),\"\")","v":""},null,{"$f":"+IF(Administrativos[[#This Row],[Cargo ]]=\"\",\"\",Listas!$D$56)","v":""},null,{"$f":"+IFERROR(IF(Administrativos[[#This Row],[Salario]]=\"\",((Administrativos[[#This Row],[Salario Sugerido]]*Administrativos[[#This Row],[Factor]]*(1+Administrativos[[#This Row],[% Administración]]))),(Administrativos[[#This Row],[Salario]]*Administrativos[[#This Row],[Factor]]*(1+Administrativos[[#This Row],[% Administración]]))),\"\")","v":""},null,{"$f":"IFERROR(Administrativos[[#This Row],[Salario con factor]]/VLOOKUP(Administrativos[[#This Row],[Unidad de tiempo]],Tabla210[],3,0),\"\")","v":""},null,null,null,{"$f":"+IFERROR((Administrativos[[#This Row],[Costo unidad de tiempo]]*Administrativos[[#This Row],[Cantidad de tiempo]]*Administrativos[[#This Row],[Número de personas]]*VLOOKUP(Administrativos[[#This Row],[Dedicación]],Tabla201[#All],2,0)),\"\")","v":""},null,{"$f":"+IFERROR(Administrativos[[#This Row],[Costo parcial]]*Administrativos[[#This Row],[% Participación]]/100,\"\")","v":""}]
[null,null,null,null,{"$f":"+IFERROR(VLOOKUP(Administrativos[[#This Row],[Cargo ]],Tabla206[],2,0),\"\")","v":""},null,{"$f":"+IF(Administrativos[[#This Row],[Cargo ]]=\"\",\"\",Listas!$D$56)","v":""},null,{"$f":"+IFERROR(IF(Administrativos[[#This Row],[Salario]]=\"\",((Administrativos[[#This Row],[Salario Sugerido]]*Administrativos[[#This Row],[Factor]]*(1+Administrativos[[#This Row],[% Administración]]))),(Administrativos[[#This Row],[Salario]]*Administrativos[[#This Row],[Factor]]*(1+Administrativos[[#This Row],[% Administración]]))),\"\")","v":""},null,{"$f":"IFERROR(Administrativos[[#This Row],[Salario con factor]]/VLOOKUP(Administrativos[[#This Row],[Unidad de tiempo]],Tabla210[],3,0),\"\")","v":""},null,null,null,{"$f":"+IFERROR((Administrativos[[#This Row],[Costo unidad de tiempo]]*Administrativos[[#This Row],[Cantidad de tiempo]]*Administrativos[[#This Row],[Número de personas]]*VLOOKUP(Administrativos[[#This Row],[Dedicación]],Tabla201[#All],2,0)),\"\")","v":""},null,{"$f":"+IFERROR(Administrativos[[#This Row],[Costo parcial]]*Administrativos[[#This Row],[% Participación]]/100,\"\")","v":""}]
[null,null,null,null,{"$f":"+IFERROR(VLOOKUP(Administrativos[[#This Row],[Cargo ]],Tabla206[],2,0),\"\")","v":""},null,{"$f":"+IF(Administrativos[[#This Row],[Cargo ]]=\"\",\"\",Listas!$D$56)","v":""},null,{"$f":"+IFERROR(IF(Administrativos[[#This Row],[Salario]]=\"\",((Administrativos[[#This Row],[Salario Sugerido]]*Administrativos[[#This Row],[Factor]]*(1+Administrativos[[#This Row],[% Administración]]))),(Administrativos[[#This Row],[Salario]]*Administrativos[[#This Row],[Factor]]*(1+Administrativos[[#This Row],[% Administración]]))),\"\")","v":""},null,{"$f":"IFERROR(Administrativos[[#This Row],[Salario con factor]]/VLOOKUP(Administrativos[[#This Row],[Unidad de tiempo]],Tabla210[],3,0),\"\")","v":""},null,null,null,{"$f":"+IFERROR((Administrativos[[#This Row],[Costo unidad de tiempo]]*Administrativos[[#This Row],[Cantidad de tiempo]]*Administrativos[[#This Row],[Número de personas]]*VLOOKUP(Administrativos[[#This Row],[Dedicación]],Tabla201[#All],2,0)),\"\")","v":""},null,{"$f":"+IFERROR(Administrativos[[#This Row],[Costo parcial]]*Administrativos[[#This Row],[% Participación]]/100,\"\")","v":""}]
[null,null,null,null,{"$f":"+IFERROR(VLOOKUP(Administrativos[[#This Row],[Cargo ]],Tabla206[],2,0),\"\")","v":""},null,{"$f":"+IF(Administrativos[[#This Row],[Cargo ]]=\"\",\"\",Listas!$D$56)","v":""},null,{"$f":"+IFERROR(IF(Administrativos[[#This Row],[Salario]]=\"\",((Administrativos[[#This Row],[Salario Sugerido]]*Administrativos[[#This Row],[Factor]]*(1+Administrativos[[#This Row],[% Administración]]))),(Administrativos[[#This Row],[Salario]]*Administrativos[[#This Row],[Factor]]*(1+Administrativos[[#This Row],[% Administración]]))),\"\")","v":""},null,{"$f":"IFERROR(Administrativos[[#This Row],[Salario con factor]]/VLOOKUP(Administrativos[[#This Row],[Unidad de tiempo]],Tabla210[],3,0),\"\")","v":""},null,null,null,{"$f":"+IFERROR((Administrativos[[#This Row],[Costo unidad de tiempo]]*Administrativos[[#This Row],[Cantidad de tiempo]]*Administrativos[[#This Row],[Número de personas]]*VLOOKUP(Administrativos[[#This Row],[Dedicación]],Tabla201[#All],2,0)),\"\")","v":""},null,{"$f":"+IFERROR(Administrativos[[#This Row],[Costo parcial]]*Administrativos[[#This Row],[% Participación]]/100,\"\")","v":""}]
[null,null,null,null,{"$f":"+IFERROR(VLOOKUP(Administrativos[[#This Row],[Cargo ]],Tabla206[],2,0),\"\")","v":""},null,{"$f":"+IF(Administrativos[[#This Row],[Cargo ]]=\"\",\"\",Listas!$D$56)","v":""},null,{"$f":"+IFERROR(IF(Administrativos[[#This Row],[Salario]]=\"\",((Administrativos[[#This Row],[Salario Sugerido]]*Administrativos[[#This Row],[Factor]]*(1+Administrativos[[#This Row],[% Administración]]))),(Administrativos[[#This Row],[Salario]]*Administrativos[[#This Row],[Factor]]*(1+Administrativos[[#This Row],[% Administración]]))),\"\")","v":""},null,{"$f":"IFERROR(Administrativos[[#This Row],[Salario con factor]]/VLOOKUP(Administrativos[[#This Row],[Unidad de tiempo]],Tabla210[],3,0),\"\")","v":""},null,null,null,{"$f":"+IFERROR((Administrativos[[#This Row],[Costo unidad de tiempo]]*Administrativos[[#This Row],[Cantidad de tiempo]]*Administrativos[[#This Row],[Número de personas]]*VLOOKUP(Administrativos[[#This Row],[Dedicación]],Tabla201[#All],2,0)),\"\")","v":""},null,{"$f":"+IFERROR(Administrativos[[#This Row],[Costo parcial]]*Administrativos[[#This Row],[% Participación]]/100,\"\")","v":""}]
[null,null,null,null,{"$f":"+IFERROR(VLOOKUP(Administrativos[[#This Row],[Cargo ]],Tabla206[],2,0),\"\")","v":""},null,{"$f":"+IF(Administrativos[[#This Row],[Cargo ]]=\"\",\"\",Listas!$D$56)","v":""},null,{"$f":"+IFERROR(IF(Administrativos[[#This Row],[Salario]]=\"\",((Administrativos[[#This Row],[Salario Sugerido]]*Administrativos[[#This Row],[Factor]]*(1+Administrativos[[#This Row],[% Administración]]))),(Administrativos[[#This Row],[Salario]]*Administrativos[[#This Row],[Factor]]*(1+Administrativos[[#This Row],[% Administración]]))),\"\")","v":""},null,{"$f":"IFERROR(Administrativos[[#This Row],[Salario con factor]]/VLOOKUP(Administrativos[[#This Row],[Unidad de tiempo]],Tabla210[],3,0),\"\")","v":""},null,null,null,{"$f":"+IFERROR((Administrativos[[#This Row],[Costo unidad de tiempo]]*Administrativos[[#This Row],[Cantidad de tiempo]]*Administrativos[[#This Row],[Número de personas]]*VLOOKUP(Administrativos[[#This Row],[Dedicación]],Tabla201[#All],2,0)),\"\")","v":""},null,{"$f":"+IFERROR(Administrativos[[#This Row],[Costo parcial]]*Administrativos[[#This Row],[% Participación]]/100,\"\")","v":""}]
[null,null,null,null,{"$f":"+IFERROR(VLOOKUP(Administrativos[[#This Row],[Cargo ]],Tabla206[],2,0),\"\")","v":""},null,{"$f":"+IF(Administrativos[[#This Row],[Cargo ]]=\"\",\"\",Listas!$D$56)","v":""},null,{"$f":"+IFERROR(IF(Administrativos[[#This Row],[Salario]]=\"\",((Administrativos[[#This Row],[Salario Sugerido]]*Administrativos[[#This Row],[Factor]]*(1+Administrativos[[#This Row],[% Administración]]))),(Administrativos[[#This Row],[Salario]]*Administrativos[[#This Row],[Factor]]*(1+Administrativos[[#This Row],[% Administración]]))),\"\")","v":""},null,{"$f":"IFERROR(Administrativos[[#This Row],[Salario con factor]]/VLOOKUP(Administrativos[[#This Row],[Unidad de tiempo]],Tabla210[],3,0),\"\")","v":""},null,null,null,{"$f":"+IFERROR((Administrativos[[#This Row],[Costo unidad de tiempo]]*Administrativos[[#This Row],[Cantidad de tiempo]]*Administrativos[[#This Row],[Número de personas]]*VLOOKUP(Administrativos[[#This Row],[Dedicación]],Tabla201[#All],2,0)),\"\")","v":""},null,{"$f":"+IFERROR(Administrativos[[#This Row],[Costo parcial]]*Administrativos[[#This Row],[% Participación]]/100,\"\")","v":""}]
[null,null,null,null,{"$f":"+IFERROR(VLOOKUP(Administrativos[[#This Row],[Cargo ]],Tabla206[],2,0),\"\")","v":""},null,{"$f":"+IF(Administrativos[[#This Row],[Cargo ]]=\"\",\"\",Listas!$D$56)","v":""},null,{"$f":"+IFERROR(IF(Administrativos[[#This Row],[Salario]]=\"\",((Administrativos[[#This Row],[Salario Sugerido]]*Administrativos[[#This Row],[Factor]]*(1+Administrativos[[#This Row],[% Administración]]))),(Administrativos[[#This Row],[Salario]]*Administrativos[[#This Row],[Factor]]*(1+Administrativos[[#This Row],[% Administración]]))),\"\")","v":""},null,{"$f":"IFERROR(Administrativos[[#This Row],[Salario con factor]]/VLOOKUP(Administrativos[[#This Row],[Unidad de tiempo]],Tabla210[],3,0),\"\")","v":""},null,null,null,{"$f":"+IFERROR((Administrativos[[#This Row],[Costo unidad de tiempo]]*Administrativos[[#This Row],[Cantidad de tiempo]]*Administrativos[[#This Row],[Número de personas]]*VLOOKUP(Administrativos[[#This Row],[Dedicación]],Tabla201[#All],2,0)),\"\")","v":""},null,{"$f":"+IFERROR(Administrativos[[#This Row],[Costo parcial]]*Administrativos[[#This Row],[% Participación]]/100,\"\")","v":""}]
[null,null,null,null,{"$f":"+IFERROR(VLOOKUP(Administrativos[[#This Row],[Cargo ]],Tabla206[],2,0),\"\")","v":""},null,{"$f":"+IF(Administrativos[[#This Row],[Cargo ]]=\"\",\"\",Listas!$D$56)","v":""},null,{"$f":"+IFERROR(IF(Administrativos[[#This Row],[Salario]]=\"\",((Administrativos[[#This Row],[Salario Sugerido]]*Administrativos[[#This Row],[Factor]]*(1+Administrativos[[#This Row],[% Administración]]))),(Administrativos[[#This Row],[Salario]]*Administrativos[[#This Row],[Factor]]*(1+Administrativos[[#This Row],[% Administración]]))),\"\")","v":""},null,{"$f":"IFERROR(Administrativos[[#This Row],[Salario con factor]]/VLOOKUP(Administrativos[[#This Row],[Unidad de tiempo]],Tabla210[],3,0),\"\")","v":""},null,null,null,{"$f":"+IFERROR((Administrativos[[#This Row],[Costo unidad de tiempo]]*Administrativos[[#This Row],[Cantidad de tiempo]]*Administrativos[[#This Row],[Número de personas]]*VLOOKUP(Administrativos[[#This Row],[Dedicación]],Tabla201[#All],2,0)),\"\")","v":""},null,{"$f":"+IFERROR(Administrativos[[#This Row],[Costo parcial]]*Administrativos[[#This Row],[% Participación]]/100,\"\")","v":""}]
[null,null,null,null,{"$f":"+IFERROR(VLOOKUP(Administrativos[[#This Row],[Cargo ]],Tabla206[],2,0),\"\")","v":""},null,{"$f":"+IF(Administrativos[[#This Row],[Cargo ]]=\"\",\"\",Listas!$D$56)","v":""},null,{"$f":"+IFERROR(IF(Administrativos[[#This Row],[Salario]]=\"\",((Administrativos[[#This Row],[Salario Sugerido]]*Administrativos[[#This Row],[Factor]]*(1+Administrativos[[#This Row],[% Administración]]))),(Administrativos[[#This Row],[Salario]]*Administrativos[[#This Row],[Factor]]*(1+Administrativos[[#This Row],[% Administración]]))),\"\")","v":""},null,{"$f":"IFERROR(Administrativos[[#This Row],[Salario con factor]]/VLOOKUP(Administrativos[[#This Row],[Unidad de tiempo]],Tabla210[],3,0),\"\")","v":""},null,null,null,{"$f":"+IFERROR((Administrativos[[#This Row],[Costo unidad de tiempo]]*Administrativos[[#This Row],[Cantidad de tiempo]]*Administrativos[[#This Row],[Número de personas]]*VLOOKUP(Administrativos[[#This Row],[Dedicación]],Tabla201[#All],2,0)),\"\")","v":""},null,{"$f":"+IFERROR(Administrativos[[#This Row],[Costo parcial]]*Administrativos[[#This Row],[% Participación]]/100,\"\")","v":""}]
[null,null,null,null,{"$f":"+IFERROR(VLOOKUP(Administrativos[[#This Row],[Cargo ]],Tabla206[],2,0),\"\")","v":""},null,{"$f":"+IF(Administrativos[[#This Row],[Cargo ]]=\"\",\"\",Listas!$D$56)","v":""},null,{"$f":"+IFERROR(IF(Administrativos[[#This Row],[Salario]]=\"\",((Administrativos[[#This Row],[Salario Sugerido]]*Administrativos[[#This Row],[Factor]]*(1+Administrativos[[#This Row],[% Administración]]))),(Administrativos[[#This Row],[Salario]]*Administrativos[[#This Row],[Factor]]*(1+Administrativos[[#This Row],[% Administración]]))),\"\")","v":""},null,{"$f":"IFERROR(Administrativos[[#This Row],[Salario con factor]]/VLOOKUP(Administrativos[[#This Row],[Unidad de tiempo]],Tabla210[],3,0),\"\")","v":""},null,null,null,{"$f":"+IFERROR((Administrativos[[#This Row],[Costo unidad de tiempo]]*Administrativos[[#This Row],[Cantidad de tiempo]]*Administrativos[[#This Row],[Número de personas]]*VLOOKUP(Administrativos[[#This Row],[Dedicación]],Tabla201[#All],2,0)),\"\")","v":""},null,{"$f":"+IFERROR(Administrativos[[#This Row],[Costo parcial]]*Administrativos[[#This Row],[% Participación]]/100,\"\")","v":""}]
[null,null,null,null,{"$f":"+IFERROR(VLOOKUP(Administrativos[[#This Row],[Cargo ]],Tabla206[],2,0),\"\")","v":""},null,{"$f":"+IF(Administrativos[[#This Row],[Cargo ]]=\"\",\"\",Listas!$D$56)","v":""},null,{"$f":"+IFERROR(IF(Administrativos[[#This Row],[Salario]]=\"\",((Administrativos[[#This Row],[Salario Sugerido]]*Administrativos[[#This Row],[Factor]]*(1+Administrativos[[#This Row],[% Administración]]))),(Administrativos[[#This Row],[Salario]]*Administrativos[[#This Row],[Factor]]*(1+Administrativos[[#This Row],[% Administración]]))),\"\")","v":""},null,{"$f":"IFERROR(Administrativos[[#This Row],[Salario con factor]]/VLOOKUP(Administrativos[[#This Row],[Unidad de tiempo]],Tabla210[],3,0),\"\")","v":""},null,null,null,{"$f":"+IFERROR((Administrativos[[#This Row],[Costo unidad de tiempo]]*Administrativos[[#This Row],[Cantidad de tiempo]]*Administrativos[[#This Row],[Número de personas]]*VLOOKUP(Administrativos[[#This Row],[Dedicación]],Tabla201[#All],2,0)),\"\")","v":""},null,{"$f":"+IFERROR(Administrativos[[#This Row],[Costo parcial]]*Administrativos[[#This Row],[% Participación]]/100,\"\")","v":""}]
[null,null,null,null,{"$f":"+IFERROR(VLOOKUP(Administrativos[[#This Row],[Cargo ]],Tabla206[],2,0),\"\")","v":""},null,{"$f":"+IF(Administrativos[[#This Row],[Cargo ]]=\"\",\"\",Listas!$D$56)","v":""},null,{"$f":"+IFERROR(IF(Administrativos[[#This Row],[Salario]]=\"\",((Administrativos[[#This Row],[Salario Sugerido]]*Administrativos[[#This Row],[Factor]]*(1+Administrativos[[#This Row],[% Administración]]))),(Administrativos[[#This Row],[Salario]]*Administrativos[[#This Row],[Factor]]*(1+Administrativos[[#This Row],[% Administración]]))),\"\")","v":""},null,{"$f":"IFERROR(Administrativos[[#This Row],[Salario con factor]]/VLOOKUP(Administrativos[[#This Row],[Unidad de tiempo]],Tabla210[],3,0),\"\")","v":""},null,null,null,{"$f":"+IFERROR((Administrativos[[#This Row],[Costo unidad de tiempo]]*Administrativos[[#This Row],[Cantidad de tiempo]]*Administrativos[[#This Row],[Número de personas]]*VLOOKUP(Administrativos[[#This Row],[Dedicación]],Tabla201[#All],2,0)),\"\")","v":""},null,{"$f":"+IFERROR(Administrativos[[#This Row],[Costo parcial]]*Administrativos[[#This Row],[% Participación]]/100,\"\")","v":""}]
[null,null,null,null,{"$f":"+IFERROR(VLOOKUP(Administrativos[[#This Row],[Cargo ]],Tabla206[],2,0),\"\")","v":""},null,{"$f":"+IF(Administrativos[[#This Row],[Cargo ]]=\"\",\"\",Listas!$D$56)","v":""},null,{"$f":"+IFERROR(IF(Administrativos[[#This Row],[Salario]]=\"\",((Administrativos[[#This Row],[Salario Sugerido]]*Administrativos[[#This Row],[Factor]]*(1+Administrativos[[#This Row],[% Administración]]))),(Administrativos[[#This Row],[Salario]]*Administrativos[[#This Row],[Factor]]*(1+Administrativos[[#This Row],[% Administración]]))),\"\")","v":""},null,{"$f":"IFERROR(Administrativos[[#This Row],[Salario con factor]]/VLOOKUP(Administrativos[[#This Row],[Unidad de tiempo]],Tabla210[],3,0),\"\")","v":""},null,null,null,{"$f":"+IFERROR((Administrativos[[#This Row],[Costo unidad de tiempo]]*Administrativos[[#This Row],[Cantidad de tiempo]]*Administrativos[[#This Row],[Número de personas]]*VLOOKUP(Administrativos[[#This Row],[Dedicación]],Tabla201[#All],2,0)),\"\")","v":""},null,{"$f":"+IFERROR(Administrativos[[#This Row],[Costo parcial]]*Administrativos[[#This Row],[% Participación]]/100,\"\")","v":""}]
[null,null,null,null,{"$f":"+IFERROR(VLOOKUP(Administrativos[[#This Row],[Cargo ]],Tabla206[],2,0),\"\")","v":""},null,{"$f":"+IF(Administrativos[[#This Row],[Cargo ]]=\"\",\"\",Listas!$D$56)","v":""},null,{"$f":"+IFERROR(IF(Administrativos[[#This Row],[Salario]]=\"\",((Administrativos[[#This Row],[Salario Sugerido]]*Administrativos[[#This Row],[Factor]]*(1+Administrativos[[#This Row],[% Administración]]))),(Administrativos[[#This Row],[Salario]]*Administrativos[[#This Row],[Factor]]*(1+Administrativos[[#This Row],[% Administración]]))),\"\")","v":""},null,{"$f":"IFERROR(Administrativos[[#This Row],[Salario con factor]]/VLOOKUP(Administrativos[[#This Row],[Unidad de tiempo]],Tabla210[],3,0),\"\")","v":""},null,null,null,{"$f":"+IFERROR((Administrativos[[#This Row],[Costo unidad de tiempo]]*Administrativos[[#This Row],[Cantidad de tiempo]]*Administrativos[[#This Row],[Número de personas]]*VLOOKUP(Administrativos[[#This Row],[Dedicación]],Tabla201[#All],2,0)),\"\")","v":""},null,{"$f":"+IFERROR(Administrativos[[#This Row],[Costo parcial]]*Administrativos[[#This Row],[% Participación]]/100,\"\")","v":""}]
[null,null,null,null,{"$f":"+IFERROR(VLOOKUP(Administrativos[[#This Row],[Cargo ]],Tabla206[],2,0),\"\")","v":""},null,{"$f":"+IF(Administrativos[[#This Row],[Cargo ]]=\"\",\"\",Listas!$D$56)","v":""},null,{"$f":"+IFERROR(IF(Administrativos[[#This Row],[Salario]]=\"\",((Administrativos[[#This Row],[Salario Sugerido]]*Administrativos[[#This Row],[Factor]]*(1+Administrativos[[#This Row],[% Administración]]))),(Administrativos[[#This Row],[Salario]]*Administrativos[[#This Row],[Factor]]*(1+Administrativos[[#This Row],[% Administración]]))),\"\")","v":""},null,{"$f":"IFERROR(Administrativos[[#This Row],[Salario con factor]]/VLOOKUP(Administrativos[[#This Row],[Unidad de tiempo]],Tabla210[],3,0),\"\")","v":""},null,null,null,{"$f":"+IFERROR((Administrativos[[#This Row],[Costo unidad de tiempo]]*Administrativos[[#This Row],[Cantidad de tiempo]]*Administrativos[[#This Row],[Número de personas]]*VLOOKUP(Administrativos[[#This Row],[Dedicación]],Tabla201[#All],2,0)),\"\")","v":""},null,{"$f":"+IFERROR(Administrativos[[#This Row],[Costo parcial]]*Administrativos[[#This Row],[% Participación]]/100,\"\")","v":""}]
[null,null,null,null,{"$f":"+IFERROR(VLOOKUP(Administrativos[[#This Row],[Cargo ]],Tabla206[],2,0),\"\")","v":""},null,{"$f":"+IF(Administrativos[[#This Row],[Cargo ]]=\"\",\"\",Listas!$D$56)","v":""},null,{"$f":"+IFERROR(IF(Administrativos[[#This Row],[Salario]]=\"\",((Administrativos[[#This Row],[Salario Sugerido]]*Administrativos[[#This Row],[Factor]]*(1+Administrativos[[#This Row],[% Administración]]))),(Administrativos[[#This Row],[Salario]]*Administrativos[[#This Row],[Factor]]*(1+Administrativos[[#This Row],[% Administración]]))),\"\")","v":""},null,{"$f":"IFERROR(Administrativos[[#This Row],[Salario con factor]]/VLOOKUP(Administrativos[[#This Row],[Unidad de tiempo]],Tabla210[],3,0),\"\")","v":""},null,null,null,{"$f":"+IFERROR((Administrativos[[#This Row],[Costo unidad de tiempo]]*Administrativos[[#This Row],[Cantidad de tiempo]]*Administrativos[[#This Row],[Número de personas]]*VLOOKUP(Administrativos[[#This Row],[Dedicación]],Tabla201[#All],2,0)),\"\")","v":""},null,{"$f":"+IFERROR(Administrativos[[#This Row],[Costo parcial]]*Administrativos[[#This Row],[% Participación]]/100,\"\")","v":""}]
[null,null,null,null,{"$f":"+IFERROR(VLOOKUP(Administrativos[[#This Row],[Cargo ]],Tabla206[],2,0),\"\")","v":""},null,{"$f":"+IF(Administrativos[[#This Row],[Cargo ]]=\"\",\"\",Listas!$D$56)","v":""},null,{"$f":"+IFERROR(IF(Administrativos[[#This Row],[Salario]]=\"\",((Administrativos[[#This Row],[Salario Sugerido]]*Administrativos[[#This Row],[Factor]]*(1+Administrativos[[#This Row],[% Administración]]))),(Administrativos[[#This Row],[Salario]]*Administrativos[[#This Row],[Factor]]*(1+Administrativos[[#This Row],[% Administración]]))),\"\")","v":""},null,{"$f":"IFERROR(Administrativos[[#This Row],[Salario con factor]]/VLOOKUP(Administrativos[[#This Row],[Unidad de tiempo]],Tabla210[],3,0),\"\")","v":""},null,null,null,{"$f":"+IFERROR((Administrativos[[#This Row],[Costo unidad de tiempo]]*Administrativos[[#This Row],[Cantidad de tiempo]]*Administrativos[[#This Row],[Número de personas]]*VLOOKUP(Administrativos[[#This Row],[Dedicación]],Tabla201[#All],2,0)),\"\")","v":""},null,{"$f":"+IFERROR(Administrativos[[#This Row],[Costo parcial]]*Administrativos[[#This Row],[% Participación]]/100,\"\")","v":""}]
[null,null,null,null,{"$f":"+IFERROR(VLOOKUP(Administrativos[[#This Row],[Cargo ]],Tabla206[],2,0),\"\")","v":""},null,{"$f":"+IF(Administrativos[[#This Row],[Cargo ]]=\"\",\"\",Listas!$D$56)","v":""},null,{"$f":"+IFERROR(IF(Administrativos[[#This Row],[Salario]]=\"\",((Administrativos[[#This Row],[Salario Sugerido]]*Administrativos[[#This Row],[Factor]]*(1+Administrativos[[#This Row],[% Administración]]))),(Administrativos[[#This Row],[Salario]]*Administrativos[[#This Row],[Factor]]*(1+Administrativos[[#This Row],[% Administración]]))),\"\")","v":""},null,{"$f":"IFERROR(Administrativos[[#This Row],[Salario con factor]]/VLOOKUP(Administrativos[[#This Row],[Unidad de tiempo]],Tabla210[],3,0),\"\")","v":""},null,null,null,{"$f":"+IFERROR((Administrativos[[#This Row],[Costo unidad de tiempo]]*Administrativos[[#This Row],[Cantidad de tiempo]]*Administrativos[[#This Row],[Número de personas]]*VLOOKUP(Administrativos[[#This Row],[Dedicación]],Tabla201[#All],2,0)),\"\")","v":""},null,{"$f":"+IFERROR(Administrativos[[#This Row],[Costo parcial]]*Administrativos[[#This Row],[% Participación]]/100,\"\")","v":""}]
[null,null,null,null,{"$f":"+IFERROR(VLOOKUP(Administrativos[[#This Row],[Cargo ]],Tabla206[],2,0),\"\")","v":""},null,{"$f":"+IF(Administrativos[[#This Row],[Cargo ]]=\"\",\"\",Listas!$D$56)","v":""},null,{"$f":"+IFERROR(IF(Administrativos[[#This Row],[Salario]]=\"\",((Administrativos[[#This Row],[Salario Sugerido]]*Administrativos[[#This Row],[Factor]]*(1+Administrativos[[#This Row],[% Administración]]))),(Administrativos[[#This Row],[Salario]]*Administrativos[[#This Row],[Factor]]*(1+Administrativos[[#This Row],[% Administración]]))),\"\")","v":""},null,{"$f":"IFERROR(Administrativos[[#This Row],[Salario con factor]]/VLOOKUP(Administrativos[[#This Row],[Unidad de tiempo]],Tabla210[],3,0),\"\")","v":""},null,null,null,{"$f":"+IFERROR((Administrativos[[#This Row],[Costo unidad de tiempo]]*Administrativos[[#This Row],[Cantidad de tiempo]]*Administrativos[[#This Row],[Número de personas]]*VLOOKUP(Administrativos[[#This Row],[Dedicación]],Tabla201[#All],2,0)),\"\")","v":""},null,{"$f":"+IFERROR(Administrativos[[#This Row],[Costo parcial]]*Administrativos[[#This Row],[% Participación]]/100,\"\")","v":""}]
[null,null,null,null,{"$f":"+IFERROR(VLOOKUP(Administrativos[[#This Row],[Cargo ]],Tabla206[],2,0),\"\")","v":""},null,{"$f":"+IF(Administrativos[[#This Row],[Cargo ]]=\"\",\"\",Listas!$D$56)","v":""},null,{"$f":"+IFERROR(IF(Administrativos[[#This Row],[Salario]]=\"\",((Administrativos[[#This Row],[Salario Sugerido]]*Administrativos[[#This Row],[Factor]]*(1+Administrativos[[#This Row],[% Administración]]))),(Administrativos[[#This Row],[Salario]]*Administrativos[[#This Row],[Factor]]*(1+Administrativos[[#This Row],[% Administración]]))),\"\")","v":""},null,{"$f":"IFERROR(Administrativos[[#This Row],[Salario con factor]]/VLOOKUP(Administrativos[[#This Row],[Unidad de tiempo]],Tabla210[],3,0),\"\")","v":""},null,null,null,{"$f":"+IFERROR((Administrativos[[#This Row],[Costo unidad de tiempo]]*Administrativos[[#This Row],[Cantidad de tiempo]]*Administrativos[[#This Row],[Número de personas]]*VLOOKUP(Administrativos[[#This Row],[Dedicación]],Tabla201[#All],2,0)),\"\")","v":""},null,{"$f":"+IFERROR(Administrativos[[#This Row],[Costo parcial]]*Administrativos[[#This Row],[% Participación]]/100,\"\")","v":""}]
[null,null,null,null,{"$f":"+IFERROR(VLOOKUP(Administrativos[[#This Row],[Cargo ]],Tabla206[],2,0),\"\")","v":""},null,{"$f":"+IF(Administrativos[[#This Row],[Cargo ]]=\"\",\"\",Listas!$D$56)","v":""},null,{"$f":"+IFERROR(IF(Administrativos[[#This Row],[Salario]]=\"\",((Administrativos[[#This Row],[Salario Sugerido]]*Administrativos[[#This Row],[Factor]]*(1+Administrativos[[#This Row],[% Administración]]))),(Administrativos[[#This Row],[Salario]]*Administrativos[[#This Row],[Factor]]*(1+Administrativos[[#This Row],[% Administración]]))),\"\")","v":""},null,{"$f":"IFERROR(Administrativos[[#This Row],[Salario con factor]]/VLOOKUP(Administrativos[[#This Row],[Unidad de tiempo]],Tabla210[],3,0),\"\")","v":""},null,null,null,{"$f":"+IFERROR((Administrativos[[#This Row],[Costo unidad de tiempo]]*Administrativos[[#This Row],[Cantidad de tiempo]]*Administrativos[[#This Row],[Número de personas]]*VLOOKUP(Administrativos[[#This Row],[Dedicación]],Tabla201[#All],2,0)),\"\")","v":""},null,{"$f":"+IFERROR(Administrativos[[#This Row],[Costo parcial]]*Administrativos[[#This Row],[% Participación]]/100,\"\")","v":""}]
[null,null,null,null,{"$f":"+IFERROR(VLOOKUP(Administrativos[[#This Row],[Cargo ]],Tabla206[],2,0),\"\")","v":""},null,{"$f":"+IF(Administrativos[[#This Row],[Cargo ]]=\"\",\"\",Listas!$D$56)","v":""},null,{"$f":"+IFERROR(IF(Administrativos[[#This Row],[Salario]]=\"\",((Administrativos[[#This Row],[Salario Sugerido]]*Administrativos[[#This Row],[Factor]]*(1+Administrativos[[#This Row],[% Administración]]))),(Administrativos[[#This Row],[Salario]]*Administrativos[[#This Row],[Factor]]*(1+Administrativos[[#This Row],[% Administración]]))),\"\")","v":""},null,{"$f":"IFERROR(Administrativos[[#This Row],[Salario con factor]]/VLOOKUP(Administrativos[[#This Row],[Unidad de tiempo]],Tabla210[],3,0),\"\")","v":""},null,null,null,{"$f":"+IFERROR((Administrativos[[#This Row],[Costo unidad de tiempo]]*Administrativos[[#This Row],[Cantidad de tiempo]]*Administrativos[[#This Row],[Número de personas]]*VLOOKUP(Administrativos[[#This Row],[Dedicación]],Tabla201[#All],2,0)),\"\")","v":""},null,{"$f":"+IFERROR(Administrativos[[#This Row],[Costo parcial]]*Administrativos[[#This Row],[% Participación]]/100,\"\")","v":""}]
[null,null,null,null,{"$f":"+IFERROR(VLOOKUP(Administrativos[[#This Row],[Cargo ]],Tabla206[],2,0),\"\")","v":""},null,{"$f":"+IF(Administrativos[[#This Row],[Cargo ]]=\"\",\"\",Listas!$D$56)","v":""},null,{"$f":"+IFERROR(IF(Administrativos[[#This Row],[Salario]]=\"\",((Administrativos[[#This Row],[Salario Sugerido]]*Administrativos[[#This Row],[Factor]]*(1+Administrativos[[#This Row],[% Administración]]))),(Administrativos[[#This Row],[Salario]]*Administrativos[[#This Row],[Factor]]*(1+Administrativos[[#This Row],[% Administración]]))),\"\")","v":""},null,{"$f":"IFERROR(Administrativos[[#This Row],[Salario con factor]]/VLOOKUP(Administrativos[[#This Row],[Unidad de tiempo]],Tabla210[],3,0),\"\")","v":""},null,null,null,{"$f":"+IFERROR((Administrativos[[#This Row],[Costo unidad de tiempo]]*Administrativos[[#This Row],[Cantidad de tiempo]]*Administrativos[[#This Row],[Número de personas]]*VLOOKUP(Administrativos[[#This Row],[Dedicación]],Tabla201[#All],2,0)),\"\")","v":""},null,{"$f":"+IFERROR(Administrativos[[#This Row],[Costo parcial]]*Administrativos[[#This Row],[% Participación]]/100,\"\")","v":""}]
[null,null,null,null,{"$f":"+IFERROR(VLOOKUP(Administrativos[[#This Row],[Cargo ]],Tabla206[],2,0),\"\")","v":""},null,{"$f":"+IF(Administrativos[[#This Row],[Cargo ]]=\"\",\"\",Listas!$D$56)","v":""},null,{"$f":"+IFERROR(IF(Administrativos[[#This Row],[Salario]]=\"\",((Administrativos[[#This Row],[Salario Sugerido]]*Administrativos[[#This Row],[Factor]]*(1+Administrativos[[#This Row],[% Administración]]))),(Administrativos[[#This Row],[Salario]]*Administrativos[[#This Row],[Factor]]*(1+Administrativos[[#This Row],[% Administración]]))),\"\")","v":""},null,{"$f":"IFERROR(Administrativos[[#This Row],[Salario con factor]]/VLOOKUP(Administrativos[[#This Row],[Unidad de tiempo]],Tabla210[],3,0),\"\")","v":""},null,null,null,{"$f":"+IFERROR((Administrativos[[#This Row],[Costo unidad de tiempo]]*Administrativos[[#This Row],[Cantidad de tiempo]]*Administrativos[[#This Row],[Número de personas]]*VLOOKUP(Administrativos[[#This Row],[Dedicación]],Tabla201[#All],2,0)),\"\")","v":""},null,{"$f":"+IFERROR(Administrativos[[#This Row],[Costo parcial]]*Administrativos[[#This Row],[% Participación]]/100,\"\")","v":""}]

{"sheet":"Administrativos AE","index":10,"n_rows":50,"n_cols":13,"rows_kept":50,"cut":false,"hidden":false,"merged":[]}
["Financiador","Fase","Categoría","Descripción","Valor hora Sugerido","Valor hora máximo","Valor hora ","% Sobre remuneración","Número de personas","Número de horas","Costo parcial","% Participación","Costo"]
[null,null,null,null,{"$f":"+IFERROR(VLOOKUP(Administrativos_AE[[#This Row],[Categoría]],Tabla207[],3,0),\"\")","v":""},{"$f":"+IFERROR(Administrativos_AE[[#This Row],[Valor hora Sugerido]]*(1+200%),\"\")","v":""},null,{"$f":"+IFERROR(IF(Administrativos_AE[[#This Row],[Valor hora ]]=\"\",\"\",(Administrativos_AE[[#This Row],[Valor hora ]]-Administrativos_AE[[#This Row],[Valor hora Sugerido]])/Administrativos_AE[[#This Row],[Valor hora Sugerido]]),\"\")","v":""},null,null,{"$f":"+IFERROR(IF(Administrativos_AE[[#This Row],[Valor hora ]]=\"\",(Administrativos_AE[[#This Row],[Valor hora Sugerido]]*Administrativos_AE[[#This Row],[Número de personas]]*Administrativos_AE[[#This Row],[Número de horas]]),(Administrativos_AE[[#This Row],[Valor hora ]]*Administrativos_AE[[#This Row],[Número de horas]]*Administrativos_AE[[#This Row],[Número de personas]])),\"\")","v":""},null,{"$f":"+IFERROR(Administrativos_AE[[#This Row],[Costo parcial]]*Administrativos_AE[[#This Row],[% Participación]]/100,\"\")","v":""}]
[null,null,null,null,{"$f":"+IFERROR(VLOOKUP(Administrativos_AE[[#This Row],[Categoría]],Tabla207[],3,0),\"\")","v":""},{"$f":"+IFERROR(Administrativos_AE[[#This Row],[Valor hora Sugerido]]*(1+200%),\"\")","v":""},null,{"$f":"+IFERROR(IF(Administrativos_AE[[#This Row],[Valor hora ]]=\"\",\"\",(Administrativos_AE[[#This Row],[Valor hora ]]-Administrativos_AE[[#This Row],[Valor hora Sugerido]])/Administrativos_AE[[#This Row],[Valor hora Sugerido]]),\"\")","v":""},null,null,{"$f":"+IFERROR(IF(Administrativos_AE[[#This Row],[Valor hora ]]=\"\",(Administrativos_AE[[#This Row],[Valor hora Sugerido]]*Administrativos_AE[[#This Row],[Número de personas]]*Administrativos_AE[[#This Row],[Número de horas]]),(Administrativos_AE[[#This Row],[Valor hora ]]*Administrativos_AE[[#This Row],[Número de horas]]*Administrativos_AE[[#This Row],[Número de personas]])),\"\")","v":""},null,{"$f":"+IFERROR(Administrativos_AE[[#This Row],[Costo parcial]]*Administrativos_AE[[#This Row],[% Participación]]/100,\"\")","v":""}]
[null,null,null,null,{"$f":"+IFERROR(VLOOKUP(Administrativos_AE[[#This Row],[Categoría]],Tabla207[],3,0),\"\")","v":""},{"$f":"+IFERROR(Administrativos_AE[[#This Row],[Valor hora Sugerido]]*(1+200%),\"\")","v":""},null,{"$f":"+IFERROR(IF(Administrativos_AE[[#This Row],[Valor hora ]]=\"\",\"\",(Administrativos_AE[[#This Row],[Valor hora ]]-Administrativos_AE[[#This Row],[Valor hora Sugerido]])/Administrativos_AE[[#This Row],[Valor hora Sugerido]]),\"\")","v":""},null,null,{"$f":"+IFERROR(IF(Administrativos_AE[[#This Row],[Valor hora ]]=\"\",(Administrativos_AE[[#This Row],[Valor hora Sugerido]]*Administrativos_AE[[#This Row],[Número de personas]]*Administrativos_AE[[#This Row],[Número de horas]]),(Administrativos_AE[[#This Row],[Valor hora ]]*Administrativos_AE[[#This Row],[Número de horas]]*Administrativos_AE[[#This Row],[Número de personas]])),\"\")","v":""},null,{"$f":"+IFERROR(Administrativos_AE[[#This Row],[Costo parcial]]*Administrativos_AE[[#This Row],[% Participación]]/100,\"\")","v":""}]
[null,null,null,null,{"$f":"+IFERROR(VLOOKUP(Administrativos_AE[[#This Row],[Categoría]],Tabla207[],3,0),\"\")","v":""},{"$f":"+IFERROR(Administrativos_AE[[#This Row],[Valor hora Sugerido]]*(1+200%),\"\")","v":""},null,{"$f":"+IFERROR(IF(Administrativos_AE[[#This Row],[Valor hora ]]=\"\",\"\",(Administrativos_AE[[#This Row],[Valor hora ]]-Administrativos_AE[[#This Row],[Valor hora Sugerido]])/Administrativos_AE[[#This Row],[Valor hora Sugerido]]),\"\")","v":""},null,null,{"$f":"+IFERROR(IF(Administrativos_AE[[#This Row],[Valor hora ]]=\"\",(Administrativos_AE[[#This Row],[Valor hora Sugerido]]*Administrativos_AE[[#This Row],[Número de personas]]*Administrativos_AE[[#This Row],[Número de horas]]),(Administrativos_AE[[#This Row],[Valor hora ]]*Administrativos_AE[[#This Row],[Número de horas]]*Administrativos_AE[[#This Row],[Número de personas]])),\"\")","v":""},null,{"$f":"+IFERROR(Administrativos_AE[[#This Row],[Costo parcial]]*Administrativos_AE[[#This Row],[% Participación]]/100,\"\")","v":""}]
[null,null,null,null,{"$f":"+IFERROR(VLOOKUP(Administrativos_AE[[#This Row],[Categoría]],Tabla207[],3,0),\"\")","v":""},{"$f":"+IFERROR(Administrativos_AE[[#This Row],[Valor hora Sugerido]]*(1+200%),\"\")","v":""},null,{"$f":"+IFERROR(IF(Administrativos_AE[[#This Row],[Valor hora ]]=\"\",\"\",(Administrativos_AE[[#This Row],[Valor hora ]]-Administrativos_AE[[#This Row],[Valor hora Sugerido]])/Administrativos_AE[[#This Row],[Valor hora Sugerido]]),\"\")","v":""},null,null,{"$f":"+IFERROR(IF(Administrativos_AE[[#This Row],[Valor hora ]]=\"\",(Administrativos_AE[[#This Row],[Valor hora Sugerido]]*Administrativos_AE[[#This Row],[Número de personas]]*Administrativos_AE[[#This Row],[Número de horas]]),(Administrativos_AE[[#This Row],[Valor hora ]]*Administrativos_AE[[#This Row],[Número de horas]]*Administrativos_AE[[#This Row],[Número de personas]])),\"\")","v":""},null,{"$f":"+IFERROR(Administrativos_AE[[#This Row],[Costo parcial]]*Administrativos_AE[[#This Row],[% Participación]]/100,\"\")","v":""}]
[null,null,null,null,{"$f":"+IFERROR(VLOOKUP(Administrativos_AE[[#This Row],[Categoría]],Tabla207[],3,0),\"\")","v":""},{"$f":"+IFERROR(Administrativos_AE[[#This Row],[Valor hora Sugerido]]*(1+200%),\"\")","v":""},null,{"$f":"+IFERROR(IF(Administrativos_AE[[#This Row],[Valor hora ]]=\"\",\"\",(Administrativos_AE[[#This Row],[Valor hora ]]-Administrativos_AE[[#This Row],[Valor hora Sugerido]])/Administrativos_AE[[#This Row],[Valor hora Sugerido]]),\"\")","v":""},null,null,{"$f":"+IFERROR(IF(Administrativos_AE[[#This Row],[Valor hora ]]=\"\",(Administrativos_AE[[#This Row],[Valor hora Sugerido]]*Administrativos_AE[[#This Row],[Número de personas]]*Administrativos_AE[[#This Row],[Número de horas]]),(Administrativos_AE[[#This Row],[Valor hora ]]*Administrativos_AE[[#This Row],[Número de horas]]*Administrativos_AE[[#This Row],[Número de personas]])),\"\")","v":""},null,{"$f":"+IFERROR(Administrativos_AE[[#This Row],[Costo parcial]]*Administrativos_AE[[#This Row],[% Participación]]/100,\"\")","v":""}]
[null,null,null,null,{"$f":"+IFERROR(VLOOKUP(Administrativos_AE[[#This Row],[Categoría]],Tabla207[],3,0),\"\")","v":""},{"$f":"+IFERROR(Administrativos_AE[[#This Row],[Valor hora Sugerido]]*(1+200%),\"\")","v":""},null,{"$f":"+IFERROR(IF(Administrativos_AE[[#This Row],[Valor hora ]]=\"\",\"\",(Administrativos_AE[[#This Row],[Valor hora ]]-Administrativos_AE[[#This Row],[Valor hora Sugerido]])/Administrativos_AE[[#This Row],[Valor hora Sugerido]]),\"\")","v":""},null,null,{"$f":"+IFERROR(IF(Administrativos_AE[[#This Row],[Valor hora ]]=\"\",(Administrativos_AE[[#This Row],[Valor hora Sugerido]]*Administrativos_AE[[#This Row],[Número de personas]]*Administrativos_AE[[#This Row],[Número de horas]]),(Administrativos_AE[[#This Row],[Valor hora ]]*Administrativos_AE[[#This Row],[Número de horas]]*Administrativos_AE[[#This Row],[Número de personas]])),\"\")","v":""},null,{"$f":"+IFERROR(Administrativos_AE[[#This Row],[Costo parcial]]*Administrativos_AE[[#This Row],[% Participación]]/100,\"\")","v":""}]
[null,null,null,null,{"$f":"+IFERROR(VLOOKUP(Administrativos_AE[[#This Row],[Categoría]],Tabla207[],3,0),\"\")","v":""},{"$f":"+IFERROR(Administrativos_AE[[#This Row],[Valor hora Sugerido]]*(1+200%),\"\")","v":""},null,{"$f":"+IFERROR(IF(Administrativos_AE[[#This Row],[Valor hora ]]=\"\",\"\",(Administrativos_AE[[#This Row],[Valor hora ]]-Administrativos_AE[[#This Row],[Valor hora Sugerido]])/Administrativos_AE[[#This Row],[Valor hora Sugerido]]),\"\")","v":""},null,null,{"$f":"+IFERROR(IF(Administrativos_AE[[#This Row],[Valor hora ]]=\"\",(Administrativos_AE[[#This Row],[Valor hora Sugerido]]*Administrativos_AE[[#This Row],[Número de personas]]*Administrativos_AE[[#This Row],[Número de horas]]),(Administrativos_AE[[#This Row],[Valor hora ]]*Administrativos_AE[[#This Row],[Número de horas]]*Administrativos_AE[[#This Row],[Número de personas]])),\"\")","v":""},null,{"$f":"+IFERROR(Administrativos_AE[[#This Row],[Costo parcial]]*Administrativos_AE[[#This Row],[% Participación]]/100,\"\")","v":""}]
[null,null,null,null,{"$f":"+IFERROR(VLOOKUP(Administrativos_AE[[#This Row],[Categoría]],Tabla207[],3,0),\"\")","v":""},{"$f":"+IFERROR(Administrativos_AE[[#This Row],[Valor hora Sugerido]]*(1+200%),\"\")","v":""},null,{"$f":"+IFERROR(IF(Administrativos_AE[[#This Row],[Valor hora ]]=\"\",\"\",(Administrativos_AE[[#This Row],[Valor hora ]]-Administrativos_AE[[#This Row],[Valor hora Sugerido]])/Administrativos_AE[[#This Row],[Valor hora Sugerido]]),\"\")","v":""},null,null,{"$f":"+IFERROR(IF(Administrativos_AE[[#This Row],[Valor hora ]]=\"\",(Administrativos_AE[[#This Row],[Valor hora Sugerido]]*Administrativos_AE[[#This Row],[Número de personas]]*Administrativos_AE[[#This Row],[Número de horas]]),(Administrativos_AE[[#This Row],[Valor hora ]]*Administrativos_AE[[#This Row],[Número de horas]]*Administrativos_AE[[#This Row],[Número de personas]])),\"\")","v":""},null,{"$f":"+IFERROR(Administrativos_AE[[#This Row],[Costo parcial]]*Administrativos_AE[[#This Row],[% Participación]]/100,\"\")","v":""}]
[null,null,null,null,{"$f":"+IFERROR(VLOOKUP(Administrativos_AE[[#This Row],[Categoría]],Tabla207[],3,0),\"\")","v":""},{"$f":"+IFERROR(Administrativos_AE[[#This Row],[Valor hora Sugerido]]*(1+200%),\"\")","v":""},null,{"$f":"+IFERROR(IF(Administrativos_AE[[#This Row],[Valor hora ]]=\"\",\"\",(Administrativos_AE[[#This Row],[Valor hora ]]-Administrativos_AE[[#This Row],[Valor hora Sugerido]])/Administrativos_AE[[#This Row],[Valor hora Sugerido]]),\"\")","v":""},null,null,{"$f":"+IFERROR(IF(Administrativos_AE[[#This Row],[Valor hora ]]=\"\",(Administrativos_AE[[#This Row],[Valor hora Sugerido]]*Administrativos_AE[[#This Row],[Número de personas]]*Administrativos_AE[[#This Row],[Número de horas]]),(Administrativos_AE[[#This Row],[Valor hora ]]*Administrativos_AE[[#This Row],[Número de horas]]*Administrativos_AE[[#This Row],[Número de personas]])),\"\")","v":""},null,{"$f":"+IFERROR(Administrativos_AE[[#This Row],[Costo parcial]]*Administrativos_AE[[#This Row],[% Participación]]/100,\"\")","v":""}]
[null,null,null,null,{"$f":"+IFERROR(VLOOKUP(Administrativos_AE[[#This Row],[Categoría]],Tabla207[],3,0),\"\")","v":""},{"$f":"+IFERROR(Administrativos_AE[[#This Row],[Valor hora Sugerido]]*(1+200%),\"\")","v":""},null,{"$f":"+IFERROR(IF(Administrativos_AE[[#This Row],[Valor hora ]]=\"\",\"\",(Administrativos_AE[[#This Row],[Valor hora ]]-Administrativos_AE[[#This Row],[Valor hora Sugerido]])/Administrativos_AE[[#This Row],[Valor hora Sugerido]]),\"\")","v":""},null,null,{"$f":"+IFERROR(IF(Administrativos_AE[[#This Row],[Valor hora ]]=\"\",(Administrativos_AE[[#This Row],[Valor hora Sugerido]]*Administrativos_AE[[#This Row],[Número de personas]]*Administrativos_AE[[#This Row],[Número de horas]]),(Administrativos_AE[[#This Row],[Valor hora ]]*Administrativos_AE[[#This Row],[Número de horas]]*Administrativos_AE[[#This Row],[Número de personas]])),\"\")","v":""},null,{"$f":"+IFERROR(Administrativos_AE[[#This Row],[Costo parcial]]*Administrativos_AE[[#This Row],[% Participación]]/100,\"\")","v":""}]
[null,null,null,null,{"$f":"+IFERROR(VLOOKUP(Administrativos_AE[[#This Row],[Categoría]],Tabla207[],3,0),\"\")","v":""},{"$f":"+IFERROR(Administrativos_AE[[#This Row],[Valor hora Sugerido]]*(1+200%),\"\")","v":""},null,{"$f":"+IFERROR(IF(Administrativos_AE[[#This Row],[Valor hora ]]=\"\",\"\",(Administrativos_AE[[#This Row],[Valor hora ]]-Administrativos_AE[[#This Row],[Valor hora Sugerido]])/Administrativos_AE[[#This Row],[Valor hora Sugerido]]),\"\")","v":""},null,null,{"$f":"+IFERROR(IF(Administrativos_AE[[#This Row],[Valor hora ]]=\"\",(Administrativos_AE[[#This Row],[Valor hora Sugerido]]*Administrativos_AE[[#This Row],[Número de personas]]*Administrativos_AE[[#This Row],[Número de horas]]),(Administrativos_AE[[#This Row],[Valor hora ]]*Administrativos_AE[[#This Row],[Número de horas]]*Administrativos_AE[[#This Row],[Número de personas]])),\"\")","v":""},null,{"$f":"+IFERROR(Administrativos_AE[[#This Row],[Costo parcial]]*Administrativos_AE[[#This Row],[% Participación]]/100,\"\")","v":""}]
[null,null,null,null,{"$f":"+IFERROR(VLOOKUP(Administrativos_AE[[#This Row],[Categoría]],Tabla207[],3,0),\"\")","v":""},{"$f":"+IFERROR(Administrativos_AE[[#This Row],[Valor hora Sugerido]]*(1+200%),\"\")","v":""},null,{"$f":"+IFERROR(IF(Administrativos_AE[[#This Row],[Valor hora ]]=\"\",\"\",(Administrativos_AE[[#This Row],[Valor hora ]]-Administrativos_AE[[#This Row],[Valor hora Sugerido]])/Administrativos_AE[[#This Row],[Valor hora Sugerido]]),\"\")","v":""},null,null,{"$f":"+IFERROR(IF(Administrativos_AE[[#This Row],[Valor hora ]]=\"\",(Administrativos_AE[[#This Row],[Valor hora Sugerido]]*Administrativos_AE[[#This Row],[Número de personas]]*Administrativos_AE[[#This Row],[Número de horas]]),(Administrativos_AE[[#This Row],[Valor hora ]]*Administrativos_AE[[#This Row],[Número de horas]]*Administrativos_AE[[#This Row],[Número de personas]])),\"\")","v":""},null,{"$f":"+IFERROR(Administrativos_AE[[#This Row],[Costo parcial]]*Administrativos_AE[[#This Row],[% Participación]]/100,\"\")","v":""}]
[null,null,null,null,{"$f":"+IFERROR(VLOOKUP(Administrativos_AE[[#This Row],[Categoría]],Tabla207[],3,0),\"\")","v":""},{"$f":"+IFERROR(Administrativos_AE[[#This Row],[Valor hora Sugerido]]*(1+200%),\"\")","v":""},null,{"$f":"+IFERROR(IF(Administrativos_AE[[#This Row],[Valor hora ]]=\"\",\"\",(Administrativos_AE[[#This Row],[Valor hora ]]-Administrativos_AE[[#This Row],[Valor hora Sugerido]])/Administrativos_AE[[#This Row],[Valor hora Sugerido]]),\"\")","v":""},null,null,{"$f":"+IFERROR(IF(Administrativos_AE[[#This Row],[Valor hora ]]=\"\",(Administrativos_AE[[#This Row],[Valor hora Sugerido]]*Administrativos_AE[[#This Row],[Número de personas]]*Administrativos_AE[[#This Row],[Número de horas]]),(Administrativos_AE[[#This Row],[Valor hora ]]*Administrativos_AE[[#This Row],[Número de horas]]*Administrativos_AE[[#This Row],[Número de personas]])),\"\")","v":""},null,{"$f":"+IFERROR(Administrativos_AE[[#This Row],[Costo parcial]]*Administrativos_AE[[#This Row],[% Participación]]/100,\"\")","v":""}]
[null,null,null,null,{"$f":"+IFERROR(VLOOKUP(Administrativos_AE[[#This Row],[Categoría]],Tabla207[],3,0),\"\")","v":""},{"$f":"+IFERROR(Administrativos_AE[[#This Row],[Valor hora Sugerido]]*(1+200%),\"\")","v":""},null,{"$f":"+IFERROR(IF(Administrativos_AE[[#This Row],[Valor hora ]]=\"\",\"\",(Administrativos_AE[[#This Row],[Valor hora ]]-Administrativos_AE[[#This Row],[Valor hora Sugerido]])/Administrativos_AE[[#This Row],[Valor hora Sugerido]]),\"\")","v":""},null,null,{"$f":"+IFERROR(IF(Administrativos_AE[[#This Row],[Valor hora ]]=\"\",(Administrativos_AE[[#This Row],[Valor hora Sugerido]]*Administrativos_AE[[#This Row],[Número de personas]]*Administrativos_AE[[#This Row],[Número de horas]]),(Administrativos_AE[[#This Row],[Valor hora ]]*Administrativos_AE[[#This Row],[Número de horas]]*Administrativos_AE[[#This Row],[Número de personas]])),\"\")","v":""},null,{"$f":"+IFERROR(Administrativos_AE[[#This Row],[Costo parcial]]*Administrativos_AE[[#This Row],[% Participación]]/100,\"\")","v":""}]
[null,null,null,null,{"$f":"+IFERROR(VLOOKUP(Administrativos_AE[[#This Row],[Categoría]],Tabla207[],3,0),\"\")","v":""},{"$f":"+IFERROR(Administrativos_AE[[#This Row],[Valor hora Sugerido]]*(1+200%),\"\")","v":""},null,{"$f":"+IFERROR(IF(Administrativos_AE[[#This Row],[Valor hora ]]=\"\",\"\",(Administrativos_AE[[#This Row],[Valor hora ]]-Administrativos_AE[[#This Row],[Valor hora Sugerido]])/Administrativos_AE[[#This Row],[Valor hora Sugerido]]),\"\")","v":""},null,null,{"$f":"+IFERROR(IF(Administrativos_AE[[#This Row],[Valor hora ]]=\"\",(Administrativos_AE[[#This Row],[Valor hora Sugerido]]*Administrativos_AE[[#This Row],[Número de personas]]*Administrativos_AE[[#This Row],[Número de horas]]),(Administrativos_AE[[#This Row],[Valor hora ]]*Administrativos_AE[[#This Row],[Número de horas]]*Administrativos_AE[[#This Row],[Número de personas]])),\"\")","v":""},null,{"$f":"+IFERROR(Administrativos_AE[[#This Row],[Costo parcial]]*Administrativos_AE[[#This Row],[% Participación]]/100,\"\")","v":""}]
[null,null,null,null,{"$f":"+IFERROR(VLOOKUP(Administrativos_AE[[#This Row],[Categoría]],Tabla207[],3,0),\"\")","v":""},{"$f":"+IFERROR(Administrativos_AE[[#This Row],[Valor hora Sugerido]]*(1+200%),\"\")","v":""},null,{"$f":"+IFERROR(IF(Administrativos_AE[[#This Row],[Valor hora ]]=\"\",\"\",(Administrativos_AE[[#This Row],[Valor hora ]]-Administrativos_AE[[#This Row],[Valor hora Sugerido]])/Administrativos_AE[[#This Row],[Valor hora Sugerido]]),\"\")","v":""},null,null,{"$f":"+IFERROR(IF(Administrativos_AE[[#This Row],[Valor hora ]]=\"\",(Administrativos_AE[[#This Row],[Valor hora Sugerido]]*Administrativos_AE[[#This Row],[Número de personas]]*Administrativos_AE[[#This Row],[Número de horas]]),(Administrativos_AE[[#This Row],[Valor hora ]]*Administrativos_AE[[#This Row],[Número de horas]]*Administrativos_AE[[#This Row],[Número de personas]])),\"\")","v":""},null,{"$f":"+IFERROR(Administrativos_AE[[#This Row],[Costo parcial]]*Administrativos_AE[[#This Row],[% Participación]]/100,\"\")","v":""}]
[null,null,null,null,{"$f":"+IFERROR(VLOOKUP(Administrativos_AE[[#This Row],[Categoría]],Tabla207[],3,0),\"\")","v":""},{"$f":"+IFERROR(Administrativos_AE[[#This Row],[Valor hora Sugerido]]*(1+200%),\"\")","v":""},null,{"$f":"+IFERROR(IF(Administrativos_AE[[#This Row],[Valor hora ]]=\"\",\"\",(Administrativos_AE[[#This Row],[Valor hora ]]-Administrativos_AE[[#This Row],[Valor hora Sugerido]])/Administrativos_AE[[#This Row],[Valor hora Sugerido]]),\"\")","v":""},null,null,{"$f":"+IFERROR(IF(Administrativos_AE[[#This Row],[Valor hora ]]=\"\",(Administrativos_AE[[#This Row],[Valor hora Sugerido]]*Administrativos_AE[[#This Row],[Número de personas]]*Administrativos_AE[[#This Row],[Número de horas]]),(Administrativos_AE[[#This Row],[Valor hora ]]*Administrativos_AE[[#This Row],[Número de horas]]*Administrativos_AE[[#This Row],[Número de personas]])),\"\")","v":""},null,{"$f":"+IFERROR(Administrativos_AE[[#This Row],[Costo parcial]]*Administrativos_AE[[#This Row],[% Participación]]/100,\"\")","v":""}]
[null,null,null,null,{"$f":"+IFERROR(VLOOKUP(Administrativos_AE[[#This Row],[Categoría]],Tabla207[],3,0),\"\")","v":""},{"$f":"+IFERROR(Administrativos_AE[[#This Row],[Valor hora Sugerido]]*(1+200%),\"\")","v":""},null,{"$f":"+IFERROR(IF(Administrativos_AE[[#This Row],[Valor hora ]]=\"\",\"\",(Administrativos_AE[[#This Row],[Valor hora ]]-Administrativos_AE[[#This Row],[Valor hora Sugerido]])/Administrativos_AE[[#This Row],[Valor hora Sugerido]]),\"\")","v":""},null,null,{"$f":"+IFERROR(IF(Administrativos_AE[[#This Row],[Valor hora ]]=\"\",(Administrativos_AE[[#This Row],[Valor hora Sugerido]]*Administrativos_AE[[#This Row],[Número de personas]]*Administrativos_AE[[#This Row],[Número de horas]]),(Administrativos_AE[[#This Row],[Valor hora ]]*Administrativos_AE[[#This Row],[Número de horas]]*Administrativos_AE[[#This Row],[Número de personas]])),\"\")","v":""},null,{"$f":"+IFERROR(Administrativos_AE[[#This Row],[Costo parcial]]*Administrativos_AE[[#This Row],[% Participación]]/100,\"\")","v":""}]
[null,null,null,null,{"$f":"+IFERROR(VLOOKUP(Administrativos_AE[[#This Row],[Categoría]],Tabla207[],3,0),\"\")","v":""},{"$f":"+IFERROR(Administrativos_AE[[#This Row],[Valor hora Sugerido]]*(1+200%),\"\")","v":""},null,{"$f":"+IFERROR(IF(Administrativos_AE[[#This Row],[Valor hora ]]=\"\",\"\",(Administrativos_AE[[#This Row],[Valor hora ]]-Administrativos_AE[[#This Row],[Valor hora Sugerido]])/Administrativos_AE[[#This Row],[Valor hora Sugerido]]),\"\")","v":""},null,null,{"$f":"+IFERROR(IF(Administrativos_AE[[#This Row],[Valor hora ]]=\"\",(Administrativos_AE[[#This Row],[Valor hora Sugerido]]*Administrativos_AE[[#This Row],[Número de personas]]*Administrativos_AE[[#This Row],[Número de horas]]),(Administrativos_AE[[#This Row],[Valor hora ]]*Administrativos_AE[[#This Row],[Número de horas]]*Administrativos_AE[[#This Row],[Número de personas]])),\"\")","v":""},null,{"$f":"+IFERROR(Administrativos_AE[[#This Row],[Costo parcial]]*Administrativos_AE[[#This Row],[% Participación]]/100,\"\")","v":""}]
[null,null,null,null,{"$f":"+IFERROR(VLOOKUP(Administrativos_AE[[#This Row],[Categoría]],Tabla207[],3,0),\"\")","v":""},{"$f":"+IFERROR(Administrativos_AE[[#This Row],[Valor hora Sugerido]]*(1+200%),\"\")","v":""},null,{"$f":"+IFERROR(IF(Administrativos_AE[[#This Row],[Valor hora ]]=\"\",\"\",(Administrativos_AE[[#This Row],[Valor hora ]]-Administrativos_AE[[#This Row],[Valor hora Sugerido]])/Administrativos_AE[[#This Row],[Valor hora Sugerido]]),\"\")","v":""},null,null,{"$f":"+IFERROR(IF(Administrativos_AE[[#This Row],[Valor hora ]]=\"\",(Administrativos_AE[[#This Row],[Valor hora Sugerido]]*Administrativos_AE[[#This Row],[Número de personas]]*Administrativos_AE[[#This Row],[Número de horas]]),(Administrativos_AE[[#This Row],[Valor hora ]]*Administrativos_AE[[#This Row],[Número de horas]]*Administrativos_AE[[#This Row],[Número de personas]])),\"\")","v":""},null,{"$f":"+IFERROR(Administrativos_AE[[#This Row],[Costo parcial]]*Administrativos_AE[[#This Row],[% Participación]]/100,\"\")","v":""}]
[null,null,null,null,{"$f":"+IFERROR(VLOOKUP(Administrativos_AE[[#This Row],[Categoría]],Tabla207[],3,0),\"\")","v":""},{"$f":"+IFERROR(Administrativos_AE[[#This Row],[Valor hora Sugerido]]*(1+200%),\"\")","v":""},null,{"$f":"+IFERROR(IF(Administrativos_AE[[#This Row],[Valor hora ]]=\"\",\"\",(Administrativos_AE[[#This Row],[Valor hora ]]-Administrativos_AE[[#This Row],[Valor hora Sugerido]])/Administrativos_AE[[#This Row],[Valor hora Sugerido]]),\"\")","v":""},null,null,{"$f":"+IFERROR(IF(Administrativos_AE[[#This Row],[Valor hora ]]=\"\",(Administrativos_AE[[#This Row],[Valor hora Sugerido]]*Administrativos_AE[[#This Row],[Número de personas]]*Administrativos_AE[[#This Row],[Número de horas]]),(Administrativos_AE[[#This Row],[Valor hora ]]*Administrativos_AE[[#This Row],[Número de horas]]*Administrativos_AE[[#This Row],[Número de personas]])),\"\")","v":""},null,{"$f":"+IFERROR(Administrativos_AE[[#This Row],[Costo parcial]]*Administrativos_AE[[#This Row],[% Participación]]/100,\"\")","v":""}]
[null,null,null,null,{"$f":"+IFERROR(VLOOKUP(Administrativos_AE[[#This Row],[Categoría]],Tabla207[],3,0),\"\")","v":""},{"$f":"+IFERROR(Administrativos_AE[[#This Row],[Valor hora Sugerido]]*(1+200%),\"\")","v":""},null,{"$f":"+IFERROR(IF(Administrativos_AE[[#This Row],[Valor hora ]]=\"\",\"\",(Administrativos_AE[[#This Row],[Valor hora ]]-Administrativos_AE[[#This Row],[Valor hora Sugerido]])/Administrativos_AE[[#This Row],[Valor hora Sugerido]]),\"\")","v":""},null,null,{"$f":"+IFERROR(IF(Administrativos_AE[[#This Row],[Valor hora ]]=\"\",(Administrativos_AE[[#This Row],[Valor hora Sugerido]]*Administrativos_AE[[#This Row],[Número de personas]]*Administrativos_AE[[#This Row],[Número de horas]]),(Administrativos_AE[[#This Row],[Valor hora ]]*Administrativos_AE[[#This Row],[Número de horas]]*Administrativos_AE[[#This Row],[Número de personas]])),\"\")","v":""},null,{"$f":"+IFERROR(Administrativos_AE[[#This Row],[Costo parcial]]*Administrativos_AE[[#This Row],[% Participación]]/100,\"\")","v":""}]
[null,null,null,null,{"$f":"+IFERROR(VLOOKUP(Administrativos_AE[[#This Row],[Categoría]],Tabla207[],3,0),\"\")","v":""},{"$f":"+IFERROR(Administrativos_AE[[#This Row],[Valor hora Sugerido]]*(1+200%),\"\")","v":""},null,{"$f":"+IFERROR(IF(Administrativos_AE[[#This Row],[Valor hora ]]=\"\",\"\",(Administrativos_AE[[#This Row],[Valor hora ]]-Administrativos_AE[[#This Row],[Valor hora Sugerido]])/Administrativos_AE[[#This Row],[Valor hora Sugerido]]),\"\")","v":""},null,null,{"$f":"+IFERROR(IF(Administrativos_AE[[#This Row],[Valor hora ]]=\"\",(Administrativos_AE[[#This Row],[Valor hora Sugerido]]*Administrativos_AE[[#This Row],[Número de personas]]*Administrativos_AE[[#This Row],[Número de horas]]),(Administrativos_AE[[#This Row],[Valor hora ]]*Administrativos_AE[[#This Row],[Número de horas]]*Administrativos_AE[[#This Row],[Número de personas]])),\"\")","v":""},null,{"$f":"+IFERROR(Administrativos_AE[[#This Row],[Costo parcial]]*Administrativos_AE[[#This Row],[% Participación]]/100,\"\")","v":""}]
[null,null,null,null,{"$f":"+IFERROR(VLOOKUP(Administrativos_AE[[#This Row],[Categoría]],Tabla207[],3,0),\"\")","v":""},{"$f":"+IFERROR(Administrativos_AE[[#This Row],[Valor hora Sugerido]]*(1+200%),\"\")","v":""},null,{"$f":"+IFERROR(IF(Administrativos_AE[[#This Row],[Valor hora ]]=\"\",\"\",(Administrativos_AE[[#This Row],[Valor hora ]]-Administrativos_AE[[#This Row],[Valor hora Sugerido]])/Administrativos_AE[[#This Row],[Valor hora Sugerido]]),\"\")","v":""},null,null,{"$f":"+IFERROR(IF(Administrativos_AE[[#This Row],[Valor hora ]]=\"\",(Administrativos_AE[[#This Row],[Valor hora Sugerido]]*Administrativos_AE[[#This Row],[Número de personas]]*Administrativos_AE[[#This Row],[Número de horas]]),(Administrativos_AE[[#This Row],[Valor hora ]]*Administrativos_AE[[#This Row],[Número de horas]]*Administrativos_AE[[#This Row],[Número de personas]])),\"\")","v":""},null,{"$f":"+IFERROR(Administrativos_AE[[#This Row],[Costo parcial]]*Administrativos_AE[[#This Row],[% Participación]]/100,\"\")","v":""}]
[null,null,null,null,{"$f":"+IFERROR(VLOOKUP(Administrativos_AE[[#This Row],[Categoría]],Tabla207[],3,0),\"\")","v":""},{"$f":"+IFERROR(Administrativos_AE[[#This Row],[Valor hora Sugerido]]*(1+200%),\"\")","v":""},null,{"$f":"+IFERROR(IF(Administrativos_AE[[#This Row],[Valor hora ]]=\"\",\"\",(Administrativos_AE[[#This Row],[Valor hora ]]-Administrativos_AE[[#This Row],[Valor hora Sugerido]])/Administrativos_AE[[#This Row],[Valor hora Sugerido]]),\"\")","v":""},null,null,{"$f":"+IFERROR(IF(Administrativos_AE[[#This Row],[Valor hora ]]=\"\",(Administrativos_AE[[#This Row],[Valor hora Sugerido]]*Administrativos_AE[[#This Row],[Número de personas]]*Administrativos_AE[[#This Row],[Número de horas]]),(Administrativos_AE[[#This Row],[Valor hora ]]*Administrativos_AE[[#This Row],[Número de horas]]*Administrativos_AE[[#This Row],[Número de personas]])),\"\")","v":""},null,{"$f":"+IFERROR(Administrativos_AE[[#This Row],[Costo parcial]]*Administrativos_AE[[#This Row],[% Participación]]/100,\"\")","v":""}]
[null,null,null,null,{"$f":"+IFERROR(VLOOKUP(Administrativos_AE[[#This Row],[Categoría]],Tabla207[],3,0),\"\")","v":""},{"$f":"+IFERROR(Administrativos_AE[[#This Row],[Valor hora Sugerido]]*(1+200%),\"\")","v":""},null,{"$f":"+IFERROR(IF(Administrativos_AE[[#This Row],[Valor hora ]]=\"\",\"\",(Administrativos_AE[[#This Row],[Valor hora ]]-Administrativos_AE[[#This Row],[Valor hora Sugerido]])/Administrativos_AE[[#This Row],[Valor hora Sugerido]]),\"\")","v":""},null,null,{"$f":"+IFERROR(IF(Administrativos_AE[[#This Row],[Valor hora ]]=\"\",(Administrativos_AE[[#This Row],[Valor hora Sugerido]]*Administrativos_AE[[#This Row],[Número de personas]]*Administrativos_AE[[#This Row],[Número de horas]]),(Administrativos_AE[[#This Row],[Valor hora ]]*Administrativos_AE[[#This Row],[Número de horas]]*Administrativos_AE[[#This Row],[Número de personas]])),\"\")","v":""},null,{"$f":"+IFERROR(Administrativos_AE[[#This Row],[Costo parcial]]*Administrativos_AE[[#This Row],[% Participación]]/100,\"\")","v":""}]
[null,null,null,null,{"$f":"+IFERROR(VLOOKUP(Administrativos_AE[[#This Row],[Categoría]],Tabla207[],3,0),\"\")","v":""},{"$f":"+IFERROR(Administrativos_AE[[#This Row],[Valor hora Sugerido]]*(1+200%),\"\")","v":""},null,{"$f":"+IFERROR(IF(Administrativos_AE[[#This Row],[Valor hora ]]=\"\",\"\",(Administrativos_AE[[#This Row],[Valor hora ]]-Administrativos_AE[[#This Row],[Valor hora Sugerido]])/Administrativos_AE[[#This Row],[Valor hora Sugerido]]),\"\")","v":""},null,null,{"$f":"+IFERROR(IF(Administrativos_AE[[#This Row],[Valor hora ]]=\"\",(Administrativos_AE[[#This Row],[Valor hora Sugerido]]*Administrativos_AE[[#This Row],[Número de personas]]*Administrativos_AE[[#This Row],[Número de horas]]),(Administrativos_AE[[#This Row],[Valor hora ]]*Administrativos_AE[[#This Row],[Número de horas]]*Administrativos_AE[[#This Row],[Número de personas]])),\"\")","v":""},null,{"$f":"+IFERROR(Administrativos_AE[[#This Row],[Costo parcial]]*Administrativos_AE[[#This Row],[% Participación]]/100,\"\")","v":""}]
[null,null,null,null,{"$f":"+IFERROR(VLOOKUP(Administrativos_AE[[#This Row],[Categoría]],Tabla207[],3,0),\"\")","v":""},{"$f":"+IFERROR(Administrativos_AE[[#This Row],[Valor hora Sugerido]]*(1+200%),\"\")","v":""},null,{"$f":"+IFERROR(IF(Administrativos_AE[[#This Row],[Valor hora ]]=\"\",\"\",(Administrativos_AE[[#This Row],[Valor hora ]]-Administrativos_AE[[#This Row],[Valor hora Sugerido]])/Administrativos_AE[[#This Row],[Valor hora Sugerido]]),\"\")","v":""},null,null,{"$f":"+IFERROR(IF(Administrativos_AE[[#This Row],[Valor hora ]]=\"\",(Administrativos_AE[[#This Row],[Valor hora Sugerido]]*Administrativos_AE[[#This Row],[Número de personas]]*Administrativos_AE[[#This Row],[Número de horas]]),(Administrativos_AE[[#This Row],[Valor hora ]]*Administrativos_AE[[#This Row],[Número de horas]]*Administrativos_AE[[#This Row],[Número de personas]])),\"\")","v":""},null,{"$f":"+IFERROR(Administrativos_AE[[#This Row],[Costo parcial]]*Administrativos_AE[[#This Row],[% Participación]]/100,\"\")","v":""}]
[null,null,null,null,{"$f":"+IFERROR(VLOOKUP(Administrativos_AE[[#This Row],[Categoría]],Tabla207[],3,0),\"\")","v":""},{"$f":"+IFERROR(Administrativos_AE[[#This Row],[Valor hora Sugerido]]*(1+200%),\"\")","v":""},null,{"$f":"+IFERROR(IF(Administrativos_AE[[#This Row],[Valor hora ]]=\"\",\"\",(Administrativos_AE[[#This Row],[Valor hora ]]-Administrativos_AE[[#This Row],[Valor hora Sugerido]])/Administrativos_AE[[#This Row],[Valor hora Sugerido]]),\"\")","v":""},null,null,{"$f":"+IFERROR(IF(Administrativos_AE[[#This Row],[Valor hora ]]=\"\",(Administrativos_AE[[#This Row],[Valor hora Sugerido]]*Administrativos_AE[[#This Row],[Número de personas]]*Administrativos_AE[[#This Row],[Número de horas]]),(Administrativos_AE[[#This Row],[Valor hora ]]*Administrativos_AE[[#This Row],[Número de horas]]*Administrativos_AE[[#This Row],[Número de personas]])),\"\")","v":""},null,{"$f":"+IFERROR(Administrativos_AE[[#This Row],[Costo parcial]]*Administrativos_AE[[#This Row],[% Participación]]/100,\"\")","v":""}]
[null,null,null,null,{"$f":"+IFERROR(VLOOKUP(Administrativos_AE[[#This Row],[Categoría]],Tabla207[],3,0),\"\")","v":""},{"$f":"+IFERROR(Administrativos_AE[[#This Row],[Valor hora Sugerido]]*(1+200%),\"\")","v":""},null,{"$f":"+IFERROR(IF(Administrativos_AE[[#This Row],[Valor hora ]]=\"\",\"\",(Administrativos_AE[[#This Row],[Valor hora ]]-Administrativos_AE[[#This Row],[Valor hora Sugerido]])/Administrativos_AE[[#This Row],[Valor hora Sugerido]]),\"\")","v":""},null,null,{"$f":"+IFERROR(IF(Administrativos_AE[[#This Row],[Valor hora ]]=\"\",(Administrativos_AE[[#This Row],[Valor hora Sugerido]]*Administrativos_AE[[#This Row],[Número de personas]]*Administrativos_AE[[#This Row],[Número de horas]]),(Administrativos_AE[[#This Row],[Valor hora ]]*Administrativos_AE[[#This Row],[Número de horas]]*Administrativos_AE[[#This Row],[Número de personas]])),\"\")","v":""},null,{"$f":"+IFERROR(Administrativos_AE[[#This Row],[Costo parcial]]*Administrativos_AE[[#This Row],[% Participación]]/100,\"\")","v":""}]
[null,null,null,null,{"$f":"+IFERROR(VLOOKUP(Administrativos_AE[[#This Row],[Categoría]],Tabla207[],3,0),\"\")","v":""},{"$f":"+IFERROR(Administrativos_AE[[#This Row],[Valor hora Sugerido]]*(1+200%),\"\")","v":""},null,{"$f":"+IFERROR(IF(Administrativos_AE[[#This Row],[Valor hora ]]=\"\",\"\",(Administrativos_AE[[#This Row],[Valor hora ]]-Administrativos_AE[[#This Row],[Valor hora Sugerido]])/Administrativos_AE[[#This Row],[Valor hora Sugerido]]),\"\")","v":""},null,null,{"$f":"+IFERROR(IF(Administrativos_AE[[#This Row],[Valor hora ]]=\"\",(Administrativos_AE[[#This Row],[Valor hora Sugerido]]*Administrativos_AE[[#This Row],[Número de personas]]*Administrativos_AE[[#This Row],[Número de horas]]),(Administrativos_AE[[#This Row],[Valor hora ]]*Administrativos_AE[[#This Row],[Número de horas]]*Administrativos_AE[[#This Row],[Número de personas]])),\"\")","v":""},null,{"$f":"+IFERROR(Administrativos_AE[[#This Row],[Costo parcial]]*Administrativos_AE[[#This Row],[% Participación]]/100,\"\")","v":""}]
[null,null,null,null,{"$f":"+IFERROR(VLOOKUP(Administrativos_AE[[#This Row],[Categoría]],Tabla207[],3,0),\"\")","v":""},{"$f":"+IFERROR(Administrativos_AE[[#This Row],[Valor hora Sugerido]]*(1+200%),\"\")","v":""},null,{"$f":"+IFERROR(IF(Administrativos_AE[[#This Row],[Valor hora ]]=\"\",\"\",(Administrativos_AE[[#This Row],[Valor hora ]]-Administrativos_AE[[#This Row],[Valor hora Sugerido]])/Administrativos_AE[[#This Row],[Valor hora Sugerido]]),\"\")","v":""},null,null,{"$f":"+IFERROR(IF(Administrativos_AE[[#This Row],[Valor hora ]]=\"\",(Administrativos_AE[[#This Row],[Valor hora Sugerido]]*Administrativos_AE[[#This Row],[Número de personas]]*Administrativos_AE[[#This Row],[Número de horas]]),(Administrativos_AE[[#This Row],[Valor hora ]]*Administrativos_AE[[#This Row],[Número de horas]]*Administrativos_AE[[#This Row],[Número de personas]])),\"\")","v":""},null,{"$f":"+IFERROR(Administrativos_AE[[#This Row],[Costo parcial]]*Administrativos_AE[[#This Row],[% Participación]]/100,\"\")","v":""}]
[null,null,null,null,{"$f":"+IFERROR(VLOOKUP(Administrativos_AE[[#This Row],[Categoría]],Tabla207[],3,0),\"\")","v":""},{"$f":"+IFERROR(Administrativos_AE[[#This Row],[Valor hora Sugerido]]*(1+200%),\"\")","v":""},null,{"$f":"+IFERROR(IF(Administrativos_AE[[#This Row],[Valor hora ]]=\"\",\"\",(Administrativos_AE[[#This Row],[Valor hora ]]-Administrativos_AE[[#This Row],[Valor hora Sugerido]])/Administrativos_AE[[#This Row],[Valor hora Sugerido]]),\"\")","v":""},null,null,{"$f":"+IFERROR(IF(Administrativos_AE[[#This Row],[Valor hora ]]=\"\",(Administrativos_AE[[#This Row],[Valor hora Sugerido]]*Administrativos_AE[[#This Row],[Número de personas]]*Administrativos_AE[[#This Row],[Número de horas]]),(Administrativos_AE[[#This Row],[Valor hora ]]*Administrativos_AE[[#This Row],[Número de horas]]*Administrativos_AE[[#This Row],[Número de personas]])),\"\")","v":""},null,{"$f":"+IFERROR(Administrativos_AE[[#This Row],[Costo parcial]]*Administrativos_AE[[#This Row],[% Participación]]/100,\"\")","v":""}]
[null,null,null,null,{"$f":"+IFERROR(VLOOKUP(Administrativos_AE[[#This Row],[Categoría]],Tabla207[],3,0),\"\")","v":""},{"$f":"+IFERROR(Administrativos_AE[[#This Row],[Valor hora Sugerido]]*(1+200%),\"\")","v":""},null,{"$f":"+IFERROR(IF(Administrativos_AE[[#This Row],[Valor hora ]]=\"\",\"\",(Administrativos_AE[[#This Row],[Valor hora ]]-Administrativos_AE[[#This Row],[Valor hora Sugerido]])/Administrativos_AE[[#This Row],[Valor hora Sugerido]]),\"\")","v":""},null,null,{"$f":"+IFERROR(IF(Administrativos_AE[[#This Row],[Valor hora ]]=\"\",(Administrativos_AE[[#This Row],[Valor hora Sugerido]]*Administrativos_AE[[#This Row],[Número de personas]]*Administrativos_AE[[#This Row],[Número de horas]]),(Administrativos_AE[[#This Row],[Valor hora ]]*Administrativos_AE[[#This Row],[Número de horas]]*Administrativos_AE[[#This Row],[Número de personas]])),\"\")","v":""},null,{"$f":"+IFERROR(Administrativos_AE[[#This Row],[Costo parcial]]*Administrativos_AE[[#This Row],[% Participación]]/100,\"\")","v":""}]
[null,null,null,null,{"$f":"+IFERROR(VLOOKUP(Administrativos_AE[[#This Row],[Categoría]],Tabla207[],3,0),\"\")","v":""},{"$f":"+IFERROR(Administrativos_AE[[#This Row],[Valor hora Sugerido]]*(1+200%),\"\")","v":""},null,{"$f":"+IFERROR(IF(Administrativos_AE[[#This Row],[Valor hora ]]=\"\",\"\",(Administrativos_AE[[#This Row],[Valor hora ]]-Administrativos_AE[[#This Row],[Valor hora Sugerido]])/Administrativos_AE[[#This Row],[Valor hora Sugerido]]),\"\")","v":""},null,null,{"$f":"+IFERROR(IF(Administrativos_AE[[#This Row],[Valor hora ]]=\"\",(Administrativos_AE[[#This Row],[Valor hora Sugerido]]*Administrativos_AE[[#This Row],[Número de personas]]*Administrativos_AE[[#This Row],[Número de horas]]),(Administrativos_AE[[#This Row],[Valor hora ]]*Administrativos_AE[[#This Row],[Número de horas]]*Administrativos_AE[[#This Row],[Número de personas]])),\"\")","v":""},null,{"$f":"+IFERROR(Administrativos_AE[[#This Row],[Costo parcial]]*Administrativos_AE[[#This Row],[% Participación]]/100,\"\")","v":""}]
[null,null,null,null,{"$f":"+IFERROR(VLOOKUP(Administrativos_AE[[#This Row],[Categoría]],Tabla207[],3,0),\"\")","v":""},{"$f":"+IFERROR(Administrativos_AE[[#This Row],[Valor hora Sugerido]]*(1+200%),\"\")","v":""},null,{"$f":"+IFERROR(IF(Administrativos_AE[[#This Row],[Valor hora ]]=\"\",\"\",(Administrativos_AE[[#This Row],[Valor hora ]]-Administrativos_AE[[#This Row],[Valor hora Sugerido]])/Administrativos_AE[[#This Row],[Valor hora Sugerido]]),\"\")","v":""},null,null,{"$f":"+IFERROR(IF(Administrativos_AE[[#This Row],[Valor hora ]]=\"\",(Administrativos_AE[[#This Row],[Valor hora Sugerido]]*Administrativos_AE[[#This Row],[Número de personas]]*Administrativos_AE[[#This Row],[Número de horas]]),(Administrativos_AE[[#This Row],[Valor hora ]]*Administrativos_AE[[#This Row],[Número de horas]]*Administrativos_AE[[#This Row],[Número de personas]])),\"\")","v":""},null,{"$f":"+IFERROR(Administrativos_AE[[#This Row],[Costo parcial]]*Administrativos_AE[[#This Row],[% Participación]]/100,\"\")","v":""}]
[null,null,null,null,{"$f":"+IFERROR(VLOOKUP(Administrativos_AE[[#This Row],[Categoría]],Tabla207[],3,0),\"\")","v":""},{"$f":"+IFERROR(Administrativos_AE[[#This Row],[Valor hora Sugerido]]*(1+200%),\"\")","v":""},null,{"$f":"+IFERROR(IF(Administrativos_AE[[#This Row],[Valor hora ]]=\"\",\"\",(Administrativos_AE[[#This Row],[Valor hora ]]-Administrativos_AE[[#This Row],[Valor hora Sugerido]])/Administrativos_AE[[#This Row],[Valor hora Sugerido]]),\"\")","v":""},null,null,{"$f":"+IFERROR(IF(Administrativos_AE[[#This Row],[Valor hora ]]=\"\",(Administrativos_AE[[#This Row],[Valor hora Sugerido]]*Administrativos_AE[[#This Row],[Número de personas]]*Administrativos_AE[[#This Row],[Número de horas]]),(Administrativos_AE[[#This Row],[Valor hora ]]*Administrativos_AE[[#This Row],[Número de horas]]*Administrativos_AE[[#This Row],[Número de personas]])),\"\")","v":""},null,{"$f":"+IFERROR(Administrativos_AE[[#This Row],[Costo parcial]]*Administrativos_AE[[#This Row],[% Participación]]/100,\"\")","v":""}]
[null,null,null,null,{"$f":"+IFERROR(VLOOKUP(Administrativos_AE[[#This Row],[Categoría]],Tabla207[],3,0),\"\")","v":""},{"$f":"+IFERROR(Administrativos_AE[[#This Row],[Valor hora Sugerido]]*(1+200%),\"\")","v":""},null,{"$f":"+IFERROR(IF(Administrativos_AE[[#This Row],[Valor hora ]]=\"\",\"\",(Administrativos_AE[[#This Row],[Valor hora ]]-Administrativos_AE[[#This Row],[Valor hora Sugerido]])/Administrativos_AE[[#This Row],[Valor hora Sugerido]]),\"\")","v":""},null,null,{"$f":"+IFERROR(IF(Administrativos_AE[[#This Row],[Valor hora ]]=\"\",(Administrativos_AE[[#This Row],[Valor hora Sugerido]]*Administrativos_AE[[#This Row],[Número de personas]]*Administrativos_AE[[#This Row],[Número de horas]]),(Administrativos_AE[[#This Row],[Valor hora ]]*Administrativos_AE[[#This Row],[Número de horas]]*Administrativos_AE[[#This Row],[Número de personas]])),\"\")","v":""},null,{"$f":"+IFERROR(Administrativos_AE[[#This Row],[Costo parcial]]*Administrativos_AE[[#This Row],[% Participación]]/100,\"\")","v":""}]
[null,null,null,null,{"$f":"+IFERROR(VLOOKUP(Administrativos_AE[[#This Row],[Categoría]],Tabla207[],3,0),\"\")","v":""},{"$f":"+IFERROR(Administrativos_AE[[#This Row],[Valor hora Sugerido]]*(1+200%),\"\")","v":""},null,{"$f":"+IFERROR(IF(Administrativos_AE[[#This Row],[Valor hora ]]=\"\",\"\",(Administrativos_AE[[#This Row],[Valor hora ]]-Administrativos_AE[[#This Row],[Valor hora Sugerido]])/Administrativos_AE[[#This Row],[Valor hora Sugerido]]),\"\")","v":""},null,null,{"$f":"+IFERROR(IF(Administrativos_AE[[#This Row],[Valor hora ]]=\"\",(Administrativos_AE[[#This Row],[Valor hora Sugerido]]*Administrativos_AE[[#This Row],[Número de personas]]*Administrativos_AE[[#This Row],[Número de horas]]),(Administrativos_AE[[#This Row],[Valor hora ]]*Administrativos_AE[[#This Row],[Número de horas]]*Administrativos_AE[[#This Row],[Número de personas]])),\"\")","v":""},null,{"$f":"+IFERROR(Administrativos_AE[[#This Row],[Costo parcial]]*Administrativos_AE[[#This Row],[% Participación]]/100,\"\")","v":""}]
[null,null,null,null,{"$f":"+IFERROR(VLOOKUP(Administrativos_AE[[#This Row],[Categoría]],Tabla207[],3,0),\"\")","v":""},{"$f":"+IFERROR(Administrativos_AE[[#This Row],[Valor hora Sugerido]]*(1+200%),\"\")","v":""},null,{"$f":"+IFERROR(IF(Administrativos_AE[[#This Row],[Valor hora ]]=\"\",\"\",(Administrativos_AE[[#This Row],[Valor hora ]]-Administrativos_AE[[#This Row],[Valor hora Sugerido]])/Administrativos_AE[[#This Row],[Valor hora Sugerido]]),\"\")","v":""},null,null,{"$f":"+IFERROR(IF(Administrativos_AE[[#This Row],[Valor hora ]]=\"\",(Administrativos_AE[[#This Row],[Valor hora Sugerido]]*Administrativos_AE[[#This Row],[Número de personas]]*Administrativos_AE[[#This Row],[Número de horas]]),(Administrativos_AE[[#This Row],[Valor hora ]]*Administrativos_AE[[#This Row],[Número de horas]]*Administrativos_AE[[#This Row],[Número de personas]])),\"\")","v":""},null,{"$f":"+IFERROR(Administrativos_AE[[#This Row],[Costo parcial]]*Administrativos_AE[[#This Row],[% Participación]]/100,\"\")","v":""}]
[null,null,null,null,{"$f":"+IFERROR(VLOOKUP(Administrativos_AE[[#This Row],[Categoría]],Tabla207[],3,0),\"\")","v":""},{"$f":"+IFERROR(Administrativos_AE[[#This Row],[Valor hora Sugerido]]*(1+200%),\"\")","v":""},null,{"$f":"+IFERROR(IF(Administrativos_AE[[#This Row],[Valor hora ]]=\"\",\"\",(Administrativos_AE[[#This Row],[Valor hora ]]-Administrativos_AE[[#This Row],[Valor hora Sugerido]])/Administrativos_AE[[#This Row],[Valor hora Sugerido]]),\"\")","v":""},null,null,{"$f":"+IFERROR(IF(Administrativos_AE[[#This Row],[Valor hora ]]=\"\",(Administrativos_AE[[#This Row],[Valor hora Sugerido]]*Administrativos_AE[[#This Row],[Número de personas]]*Administrativos_AE[[#This Row],[Número de horas]]),(Administrativos_AE[[#This Row],[Valor hora ]]*Administrativos_AE[[#This Row],[Número de horas]]*Administrativos_AE[[#This Row],[Número de personas]])),\"\")","v":""},null,{"$f":"+IFERROR(Administrativos_AE[[#This Row],[Costo parcial]]*Administrativos_AE[[#This Row],[% Participación]]/100,\"\")","v":""}]
[null,null,null,null,{"$f":"+IFERROR(VLOOKUP(Administrativos_AE[[#This Row],[Categoría]],Tabla207[],3,0),\"\")","v":""},{"$f":"+IFERROR(Administrativos_AE[[#This Row],[Valor hora Sugerido]]*(1+200%),\"\")","v":""},null,{"$f":"+IFERROR(IF(Administrativos_AE[[#This Row],[Valor hora ]]=\"\",\"\",(Administrativos_AE[[#This Row],[Valor hora ]]-Administrativos_AE[[#This Row],[Valor hora Sugerido]])/Administrativos_AE[[#This Row],[Valor hora Sugerido]]),\"\")","v":""},null,null,{"$f":"+IFERROR(IF(Administrativos_AE[[#This Row],[Valor hora ]]=\"\",(Administrativos_AE[[#This Row],[Valor hora Sugerido]]*Administrativos_AE[[#This Row],[Número de personas]]*Administrativos_AE[[#This Row],[Número de horas]]),(Administrativos_AE[[#This Row],[Valor hora ]]*Administrativos_AE[[#This Row],[Número de horas]]*Administrativos_AE[[#This Row],[Número de personas]])),\"\")","v":""},null,{"$f":"+IFERROR(Administrativos_AE[[#This Row],[Costo parcial]]*Administrativos_AE[[#This Row],[% Participación]]/100,\"\")","v":""}]
[null,null,null,null,{"$f":"+IFERROR(VLOOKUP(Administrativos_AE[[#This Row],[Categoría]],Tabla207[],3,0),\"\")","v":""},{"$f":"+IFERROR(Administrativos_AE[[#This Row],[Valor hora Sugerido]]*(1+200%),\"\")","v":""},null,{"$f":"+IFERROR(IF(Administrativos_AE[[#This Row],[Valor hora ]]=\"\",\"\",(Administrativos_AE[[#This Row],[Valor hora ]]-Administrativos_AE[[#This Row],[Valor hora Sugerido]])/Administrativos_AE[[#This Row],[Valor hora Sugerido]]),\"\")","v":""},null,null,{"$f":"+IFERROR(IF(Administrativos_AE[[#This Row],[Valor hora ]]=\"\",(Administrativos_AE[[#This Row],[Valor hora Sugerido]]*Administrativos_AE[[#This Row],[Número de personas]]*Administrativos_AE[[#This Row],[Número de horas]]),(Administrativos_AE[[#This Row],[Valor hora ]]*Administrativos_AE[[#This Row],[Número de horas]]*Administrativos_AE[[#This Row],[Número de personas]])),\"\")","v":""},null,{"$f":"+IFERROR(Administrativos_AE[[#This Row],[Costo parcial]]*Administrativos_AE[[#This Row],[% Participación]]/100,\"\")","v":""}]
[null,null,null,null,{"$f":"+IFERROR(VLOOKUP(Administrativos_AE[[#This Row],[Categoría]],Tabla207[],3,0),\"\")","v":""},{"$f":"+IFERROR(Administrativos_AE[[#This Row],[Valor hora Sugerido]]*(1+200%),\"\")","v":""},null,{"$f":"+IFERROR(IF(Administrativos_AE[[#This Row],[Valor hora ]]=\"\",\"\",(Administrativos_AE[[#This Row],[Valor hora ]]-Administrativos_AE[[#This Row],[Valor hora Sugerido]])/Administrativos_AE[[#This Row],[Valor hora Sugerido]]),\"\")","v":""},null,null,{"$f":"+IFERROR(IF(Administrativos_AE[[#This Row],[Valor hora ]]=\"\",(Administrativos_AE[[#This Row],[Valor hora Sugerido]]*Administrativos_AE[[#This Row],[Número de personas]]*Administrativos_AE[[#This Row],[Número de horas]]),(Administrativos_AE[[#This Row],[Valor hora ]]*Administrativos_AE[[#This Row],[Número de horas]]*Administrativos_AE[[#This Row],[Número de personas]])),\"\")","v":""},null,{"$f":"+IFERROR(Administrativos_AE[[#This Row],[Costo parcial]]*Administrativos_AE[[#This Row],[% Participación]]/100,\"\")","v":""}]
[null,null,null,null,{"$f":"+IFERROR(VLOOKUP(Administrativos_AE[[#This Row],[Categoría]],Tabla207[],3,0),\"\")","v":""},{"$f":"+IFERROR(Administrativos_AE[[#This Row],[Valor hora Sugerido]]*(1+200%),\"\")","v":""},null,{"$f":"+IFERROR(IF(Administrativos_AE[[#This Row],[Valor hora ]]=\"\",\"\",(Administrativos_AE[[#This Row],[Valor hora ]]-Administrativos_AE[[#This Row],[Valor hora Sugerido]])/Administrativos_AE[[#This Row],[Valor hora Sugerido]]),\"\")","v":""},null,null,{"$f":"+IFERROR(IF(Administrativos_AE[[#This Row],[Valor hora ]]=\"\",(Administrativos_AE[[#This Row],[Valor hora Sugerido]]*Administrativos_AE[[#This Row],[Número de personas]]*Administrativos_AE[[#This Row],[Número de horas]]),(Administrativos_AE[[#This Row],[Valor hora ]]*Administrativos_AE[[#This Row],[Número de horas]]*Administrativos_AE[[#This Row],[Número de personas]])),\"\")","v":""},null,{"$f":"+IFERROR(Administrativos_AE[[#This Row],[Costo parcial]]*Administrativos_AE[[#This Row],[% Participación]]/100,\"\")","v":""}]
[null,null,null,null,{"$f":"+IFERROR(VLOOKUP(Administrativos_AE[[#This Row],[Categoría]],Tabla207[],3,0),\"\")","v":""},{"$f":"+IFERROR(Administrativos_AE[[#This Row],[Valor hora Sugerido]]*(1+200%),\"\")","v":""},null,{"$f":"+IFERROR(IF(Administrativos_AE[[#This Row],[Valor hora ]]=\"\",\"\",(Administrativos_AE[[#This Row],[Valor hora ]]-Administrativos_AE[[#This Row],[Valor hora Sugerido]])/Administrativos_AE[[#This Row],[Valor hora Sugerido]]),\"\")","v":""},null,null,{"$f":"+IFERROR(IF(Administrativos_AE[[#This Row],[Valor hora ]]=\"\",(Administrativos_AE[[#This Row],[Valor hora Sugerido]]*Administrativos_AE[[#This Row],[Número de personas]]*Administrativos_AE[[#This Row],[Número de horas]]),(Administrativos_AE[[#This Row],[Valor hora ]]*Administrativos_AE[[#This Row],[Número de horas]]*Administrativos_AE[[#This Row],[Número de personas]])),\"\")","v":""},null,{"$f":"+IFERROR(Administrativos_AE[[#This Row],[Costo parcial]]*Administrativos_AE[[#This Row],[% Participación]]/100,\"\")","v":""}]
[null,null,null,null,{"$f":"+IFERROR(VLOOKUP(Administrativos_AE[[#This Row],[Categoría]],Tabla207[],3,0),\"\")","v":""},{"$f":"+IFERROR(Administrativos_AE[[#This Row],[Valor hora Sugerido]]*(1+200%),\"\")","v":""},null,{"$f":"+IFERROR(IF(Administrativos_AE[[#This Row],[Valor hora ]]=\"\",\"\",(Administrativos_AE[[#This Row],[Valor hora ]]-Administrativos_AE[[#This Row],[Valor hora Sugerido]])/Administrativos_AE[[#This Row],[Valor hora Sugerido]]),\"\")","v":""},null,null,{"$f":"+IFERROR(IF(Administrativos_AE[[#This Row],[Valor hora ]]=\"\",(Administrativos_AE[[#This Row],[Valor hora Sugerido]]*Administrativos_AE[[#This Row],[Número de personas]]*Administrativos_AE[[#This Row],[Número de horas]]),(Administrativos_AE[[#This Row],[Valor hora ]]*Administrativos_AE[[#This Row],[Número de horas]]*Administrativos_AE[[#This Row],[Número de personas]])),\"\")","v":""},null,{"$f":"+IFERROR(Administrativos_AE[[#This Row],[Costo parcial]]*Administrativos_AE[[#This Row],[% Participación]]/100,\"\")","v":""}]
[null,null,null,null,{"$f":"+IFERROR(VLOOKUP(Administrativos_AE[[#This Row],[Categoría]],Tabla207[],3,0),\"\")","v":""},{"$f":"+IFERROR(Administrativos_AE[[#This Row],[Valor hora Sugerido]]*(1+200%),\"\")","v":""},null,{"$f":"+IFERROR(IF(Administrativos_AE[[#This Row],[Valor hora ]]=\"\",\"\",(Administrativos_AE[[#This Row],[Valor hora ]]-Administrativos_AE[[#This Row],[Valor hora Sugerido]])/Administrativos_AE[[#This Row],[Valor hora Sugerido]]),\"\")","v":""},null,null,{"$f":"+IFERROR(IF(Administrativos_AE[[#This Row],[Valor hora ]]=\"\",(Administrativos_AE[[#This Row],[Valor hora Sugerido]]*Administrativos_AE[[#This Row],[Número de personas]]*Administrativos_AE[[#This Row],[Número de horas]]),(Administrativos_AE[[#This Row],[Valor hora ]]*Administrativos_AE[[#This Row],[Número de horas]]*Administrativos_AE[[#This Row],[Número de personas]])),\"\")","v":""},null,{"$f":"+IFERROR(Administrativos_AE[[#This Row],[Costo parcial]]*Administrativos_AE[[#This Row],[% Participación]]/100,\"\")","v":""}]

{"sheet":"Docentes","index":11,"n_rows":50,"n_cols":17,"rows_kept":50,"cut":false,"hidden":false,"merged":[]}
["Financiador","Fase","Descripción","Puntos","Punto docente","Salario","Factor","% Administración","Salario con factor","Unidad de tiempo","Costo unidad de tiempo","Cantidad de tiempo","Número de personas","Dedicación","Costo parcial","% Participación","Costo"]
[null,null,null,null,{"$f":"++IF(Docentes[[#This Row],[Puntos]]=\"\",\"\",Tabla208[Columna1])","v":""},{"$f":"+IFERROR(Docentes[[#This Row],[Puntos]]*Docentes[[#This Row],[Punto docente]],\"\")","v":""},{"$f":"+IF(Docentes[[#This Row],[Puntos]]=\"\",\"\",Listas!$D$57)","v":""},null,{"$f":"+IFERROR(Docentes[[#This Row],[Salario]]*Docentes[[#This Row],[Factor]]*(1+Docentes[[#This Row],[% Administración]]),\"\")","v":""},null,{"$f":"IFERROR(Docentes[[#This Row],[Salario con factor]]/VLOOKUP(Docentes[[#This Row],[Unidad de tiempo]],Tabla210[],2,0),\"\")","v":""},null,null,null,{"$f":"+IFERROR((Docentes[[#This Row],[Costo unidad de tiempo]]*Docentes[[#This Row],[Cantidad de tiempo]]*Docentes[[#This Row],[Número de personas]]*VLOOKUP(Docentes[[#This Row],[Dedicación]],Tabla201[#All],2,0)),\"\")","v":""},null,{"$f":"+IFERROR(Docentes[[#This Row],[Costo parcial]]*Docentes[[#This Row],[% Participación]]/100,\"\")","v":""}]
[null,null,null,null,{"$f":"++IF(Docentes[[#This Row],[Puntos]]=\"\",\"\",Tabla208[Columna1])","v":""},{"$f":"+IFERROR(Docentes[[#This Row],[Puntos]]*Docentes[[#This Row],[Punto docente]],\"\")","v":""},{"$f":"+IF(Docentes[[#This Row],[Puntos]]=\"\",\"\",Listas!$D$57)","v":""},null,{"$f":"+IFERROR(Docentes[[#This Row],[Salario]]*Docentes[[#This Row],[Factor]]*(1+Docentes[[#This Row],[% Administración]]),\"\")","v":""},null,{"$f":"IFERROR(Docentes[[#This Row],[Salario con factor]]/VLOOKUP(Docentes[[#This Row],[Unidad de tiempo]],Tabla210[],2,0),\"\")","v":""},null,null,null,{"$f":"+IFERROR((Docentes[[#This Row],[Costo unidad de tiempo]]*Docentes[[#This Row],[Cantidad de tiempo]]*Docentes[[#This Row],[Número de personas]]*VLOOKUP(Docentes[[#This Row],[Dedicación]],Tabla201[#All],2,0)),\"\")","v":""},null,{"$f":"+IFERROR(Docentes[[#This Row],[Costo parcial]]*Docentes[[#This Row],[% Participación]]/100,\"\")","v":""}]
[null,null,null,null,{"$f":"++IF(Docentes[[#This Row],[Puntos]]=\"\",\"\",Tabla208[Columna1])","v":""},{"$f":"+IFERROR(Docentes[[#This Row],[Puntos]]*Docentes[[#This Row],[Punto docente]],\"\")","v":""},{"$f":"+IF(Docentes[[#This Row],[Puntos]]=\"\",\"\",Listas!$D$57)","v":""},null,{"$f":"+IFERROR(Docentes[[#This Row],[Salario]]*Docentes[[#This Row],[Factor]]*(1+Docentes[[#This Row],[% Administración]]),\"\")","v":""},null,{"$f":"IFERROR(Docentes[[#This Row],[Salario con factor]]/VLOOKUP(Docentes[[#This Row],[Unidad de tiempo]],Tabla210[],2,0),\"\")","v":""},null,null,null,{"$f":"+IFERROR((Docentes[[#This Row],[Costo unidad de tiempo]]*Docentes[[#This Row],[Cantidad de tiempo]]*Docentes[[#This Row],[Número de personas]]*VLOOKUP(Docentes[[#This Row],[Dedicación]],Tabla201[#All],2,0)),\"\")","v":""},null,{"$f":"+IFERROR(Docentes[[#This Row],[Costo parcial]]*Docentes[[#This Row],[% Participación]]/100,\"\")","v":""}]
[null,null,null,null,{"$f":"++IF(Docentes[[#This Row],[Puntos]]=\"\",\"\",Tabla208[Columna1])","v":""},{"$f":"+IFERROR(Docentes[[#This Row],[Puntos]]*Docentes[[#This Row],[Punto docente]],\"\")","v":""},{"$f":"+IF(Docentes[[#This Row],[Puntos]]=\"\",\"\",Listas!$D$57)","v":""},null,{"$f":"+IFERROR(Docentes[[#This Row],[Salario]]*Docentes[[#This Row],[Factor]]*(1+Docentes[[#This Row],[% Administración]]),\"\")","v":""},null,{"$f":"IFERROR(Docentes[[#This Row],[Salario con factor]]/VLOOKUP(Docentes[[#This Row],[Unidad de tiempo]],Tabla210[],2,0),\"\")","v":""},null,null,null,{"$f":"+IFERROR((Docentes[[#This Row],[Costo unidad de tiempo]]*Docentes[[#This Row],[Cantidad de tiempo]]*Docentes[[#This Row],[Número de personas]]*VLOOKUP(Docentes[[#This Row],[Dedicación]],Tabla201[#All],2,0)),\"\")","v":""},null,{"$f":"+IFERROR(Docentes[[#This Row],[Costo parcial]]*Docentes[[#This Row],[% Participación]]/100,\"\")","v":""}]
[null,null,null,null,{"$f":"++IF(Docentes[[#This Row],[Puntos]]=\"\",\"\",Tabla208[Columna1])","v":""},{"$f":"+IFERROR(Docentes[[#This Row],[Puntos]]*Docentes[[#This Row],[Punto docente]],\"\")","v":""},{"$f":"+IF(Docentes[[#This Row],[Puntos]]=\"\",\"\",Listas!$D$57)","v":""},null,{"$f":"+IFERROR(Docentes[[#This Row],[Salario]]*Docentes[[#This Row],[Factor]]*(1+Docentes[[#This Row],[% Administración]]),\"\")","v":""},null,{"$f":"IFERROR(Docentes[[#This Row],[Salario con factor]]/VLOOKUP(Docentes[[#This Row],[Unidad de tiempo]],Tabla210[],2,0),\"\")","v":""},null,null,null,{"$f":"+IFERROR((Docentes[[#This Row],[Costo unidad de tiempo]]*Docentes[[#This Row],[Cantidad de tiempo]]*Docentes[[#This Row],[Número de personas]]*VLOOKUP(Docentes[[#This Row],[Dedicación]],Tabla201[#All],2,0)),\"\")","v":""},null,{"$f":"+IFERROR(Docentes[[#This Row],[Costo parcial]]*Docentes[[#This Row],[% Participación]]/100,\"\")","v":""}]
[null,null,null,null,{"$f":"++IF(Docentes[[#This Row],[Puntos]]=\"\",\"\",Tabla208[Columna1])","v":""},{"$f":"+IFERROR(Docentes[[#This Row],[Puntos]]*Docentes[[#This Row],[Punto docente]],\"\")","v":""},{"$f":"+IF(Docentes[[#This Row],[Puntos]]=\"\",\"\",Listas!$D$57)","v":""},null,{"$f":"+IFERROR(Docentes[[#This Row],[Salario]]*Docentes[[#This Row],[Factor]]*(1+Docentes[[#This Row],[% Administración]]),\"\")","v":""},null,{"$f":"IFERROR(Docentes[[#This Row],[Salario con factor]]/VLOOKUP(Docentes[[#This Row],[Unidad de tiempo]],Tabla210[],2,0),\"\")","v":""},null,null,null,{"$f":"+IFERROR((Docentes[[#This Row],[Costo unidad de tiempo]]*Docentes[[#This Row],[Cantidad de tiempo]]*Docentes[[#This Row],[Número de personas]]*VLOOKUP(Docentes[[#This Row],[Dedicación]],Tabla201[#All],2,0)),\"\")","v":""},null,{"$f":"+IFERROR(Docentes[[#This Row],[Costo parcial]]*Docentes[[#This Row],[% Participación]]/100,\"\")","v":""}]
[null,null,null,null,{"$f":"++IF(Docentes[[#This Row],[Puntos]]=\"\",\"\",Tabla208[Columna1])","v":""},{"$f":"+IFERROR(Docentes[[#This Row],[Puntos]]*Docentes[[#This Row],[Punto docente]],\"\")","v":""},{"$f":"+IF(Docentes[[#This Row],[Puntos]]=\"\",\"\",Listas!$D$57)","v":""},null,{"$f":"+IFERROR(Docentes[[#This Row],[Salario]]*Docentes[[#This Row],[Factor]]*(1+Docentes[[#This Row],[% Administración]]),\"\")","v":""},null,{"$f":"IFERROR(Docentes[[#This Row],[Salario con factor]]/VLOOKUP(Docentes[[#This Row],[Unidad de tiempo]],Tabla210[],2,0),\"\")","v":""},null,null,null,{"$f":"+IFERROR((Docentes[[#This Row],[Costo unidad de tiempo]]*Docentes[[#This Row],[Cantidad de tiempo]]*Docentes[[#This Row],[Número de personas]]*VLOOKUP(Docentes[[#This Row],[Dedicación]],Tabla201[#All],2,0)),\"\")","v":""},null,{"$f":"+IFERROR(Docentes[[#This Row],[Costo parcial]]*Docentes[[#This Row],[% Participación]]/100,\"\")","v":""}]
[null,null,null,null,{"$f":"++IF(Docentes[[#This Row],[Puntos]]=\"\",\"\",Tabla208[Columna1])","v":""},{"$f":"+IFERROR(Docentes[[#This Row],[Puntos]]*Docentes[[#This Row],[Punto docente]],\"\")","v":""},{"$f":"+IF(Docentes[[#This Row],[Puntos]]=\"\",\"\",Listas!$D$57)","v":""},null,{"$f":"+IFERROR(Docentes[[#This Row],[Salario]]*Docentes[[#This Row],[Factor]]*(1+Docentes[[#This Row],[% Administración]]),\"\")","v":""},null,{"$f":"IFERROR(Docentes[[#This Row],[Salario con factor]]/VLOOKUP(Docentes[[#This Row],[Unidad de tiempo]],Tabla210[],2,0),\"\")","v":""},null,null,null,{"$f":"+IFERROR((Docentes[[#This Row],[Costo unidad de tiempo]]*Docentes[[#This Row],[Cantidad de tiempo]]*Docentes[[#This Row],[Número de personas]]*VLOOKUP(Docentes[[#This Row],[Dedicación]],Tabla201[#All],2,0)),\"\")","v":""},null,{"$f":"+IFERROR(Docentes[[#This Row],[Costo parcial]]*Docentes[[#This Row],[% Participación]]/100,\"\")","v":""}]
[null,null,null,null,{"$f":"++IF(Docentes[[#This Row],[Puntos]]=\"\",\"\",Tabla208[Columna1])","v":""},{"$f":"+IFERROR(Docentes[[#This Row],[Puntos]]*Docentes[[#This Row],[Punto docente]],\"\")","v":""},{"$f":"+IF(Docentes[[#This Row],[Puntos]]=\"\",\"\",Listas!$D$57)","v":""},null,{"$f":"+IFERROR(Docentes[[#This Row],[Salario]]*Docentes[[#This Row],[Factor]]*(1+Docentes[[#This Row],[% Administración]]),\"\")","v":""},null,{"$f":"IFERROR(Docentes[[#This Row],[Salario con factor]]/VLOOKUP(Docentes[[#This Row],[Unidad de tiempo]],Tabla210[],2,0),\"\")","v":""},null,null,null,{"$f":"+IFERROR((Docentes[[#This Row],[Costo unidad de tiempo]]*Docentes[[#This Row],[Cantidad de tiempo]]*Docentes[[#This Row],[Número de personas]]*VLOOKUP(Docentes[[#This Row],[Dedicación]],Tabla201[#All],2,0)),\"\")","v":""},null,{"$f":"+IFERROR(Docentes[[#This Row],[Costo parcial]]*Docentes[[#This Row],[% Participación]]/100,\"\")","v":""}]
[null,null,null,null,{"$f":"++IF(Docentes[[#This Row],[Puntos]]=\"\",\"\",Tabla208[Columna1])","v":""},{"$f":"+IFERROR(Docentes[[#This Row],[Puntos]]*Docentes[[#This Row],[Punto docente]],\"\")","v":""},{"$f":"+IF(Docentes[[#This Row],[Puntos]]=\"\",\"\",Listas!$D$57)","v":""},null,{"$f":"+IFERROR(Docentes[[#This Row],[Salario]]*Docentes[[#This Row],[Factor]]*(1+Docentes[[#This Row],[% Administración]]),\"\")","v":""},null,{"$f":"IFERROR(Docentes[[#This Row],[Salario con factor]]/VLOOKUP(Docentes[[#This Row],[Unidad de tiempo]],Tabla210[],2,0),\"\")","v":""},null,null,null,{"$f":"+IFERROR((Docentes[[#This Row],[Costo unidad de tiempo]]*Docentes[[#This Row],[Cantidad de tiempo]]*Docentes[[#This Row],[Número de personas]]*VLOOKUP(Docentes[[#This Row],[Dedicación]],Tabla201[#All],2,0)),\"\")","v":""},null,{"$f":"+IFERROR(Docentes[[#This Row],[Costo parcial]]*Docentes[[#This Row],[% Participación]]/100,\"\")","v":""}]
[null,null,null,null,{"$f":"++IF(Docentes[[#This Row],[Puntos]]=\"\",\"\",Tabla208[Columna1])","v":""},{"$f":"+IFERROR(Docentes[[#This Row],[Puntos]]*Docentes[[#This Row],[Punto docente]],\"\")","v":""},{"$f":"+IF(Docentes[[#This Row],[Puntos]]=\"\",\"\",Listas!$D$57)","v":""},null,{"$f":"+IFERROR(Docentes[[#This Row],[Salario]]*Docentes[[#This Row],[Factor]]*(1+Docentes[[#This Row],[% Administración]]),\"\")","v":""},null,{"$f":"IFERROR(Docentes[[#This Row],[Salario con factor]]/VLOOKUP(Docentes[[#This Row],[Unidad de tiempo]],Tabla210[],2,0),\"\")","v":""},null,null,null,{"$f":"+IFERROR((Docentes[[#This Row],[Costo unidad de tiempo]]*Docentes[[#This Row],[Cantidad de tiempo]]*Docentes[[#This Row],[Número de personas]]*VLOOKUP(Docentes[[#This Row],[Dedicación]],Tabla201[#All],2,0)),\"\")","v":""},null,{"$f":"+IFERROR(Docentes[[#This Row],[Costo parcial]]*Docentes[[#This Row],[% Participación]]/100,\"\")","v":""}]
[null,null,null,null,{"$f":"++IF(Docentes[[#This Row],[Puntos]]=\"\",\"\",Tabla208[Columna1])","v":""},{"$f":"+IFERROR(Docentes[[#This Row],[Puntos]]*Docentes[[#This Row],[Punto docente]],\"\")","v":""},{"$f":"+IF(Docentes[[#This Row],[Puntos]]=\"\",\"\",Listas!$D$57)","v":""},null,{"$f":"+IFERROR(Docentes[[#This Row],[Salario]]*Docentes[[#This Row],[Factor]]*(1+Docentes[[#This Row],[% Administración]]),\"\")","v":""},null,{"$f":"IFERROR(Docentes[[#This Row],[Salario con factor]]/VLOOKUP(Docentes[[#This Row],[Unidad de tiempo]],Tabla210[],2,0),\"\")","v":""},null,null,null,{"$f":"+IFERROR((Docentes[[#This Row],[Costo unidad de tiempo]]*Docentes[[#This Row],[Cantidad de tiempo]]*Docentes[[#This Row],[Número de personas]]*VLOOKUP(Docentes[[#This Row],[Dedicación]],Tabla201[#All],2,0)),\"\")","v":""},null,{"$f":"+IFERROR(Docentes[[#This Row],[Costo parcial]]*Docentes[[#This Row],[% Participación]]/100,\"\")","v":""}]
[null,null,null,null,{"$f":"++IF(Docentes[[#This Row],[Puntos]]=\"\",\"\",Tabla208[Columna1])","v":""},{"$f":"+IFERROR(Docentes[[#This Row],[Puntos]]*Docentes[[#This Row],[Punto docente]],\"\")","v":""},{"$f":"+IF(Docentes[[#This Row],[Puntos]]=\"\",\"\",Listas!$D$57)","v":""},null,{"$f":"+IFERROR(Docentes[[#This Row],[Salario]]*Docentes[[#This Row],[Factor]]*(1+Docentes[[#This Row],[% Administración]]),\"\")","v":""},null,{"$f":"IFERROR(Docentes[[#This Row],[Salario con factor]]/VLOOKUP(Docentes[[#This Row],[Unidad de tiempo]],Tabla210[],2,0),\"\")","v":""},null,null,null,{"$f":"+IFERROR((Docentes[[#This Row],[Costo unidad de tiempo]]*Docentes[[#This Row],[Cantidad de tiempo]]*Docentes[[#This Row],[Número de personas]]*VLOOKUP(Docentes[[#This Row],[Dedicación]],Tabla201[#All],2,0)),\"\")","v":""},null,{"$f":"+IFERROR(Docentes[[#This Row],[Costo parcial]]*Docentes[[#This Row],[% Participación]]/100,\"\")","v":""}]
[null,null,null,null,{"$f":"++IF(Docentes[[#This Row],[Puntos]]=\"\",\"\",Tabla208[Columna1])","v":""},{"$f":"+IFERROR(Docentes[[#This Row],[Puntos]]*Docentes[[#This Row],[Punto docente]],\"\")","v":""},{"$f":"+IF(Docentes[[#This Row],[Puntos]]=\"\",\"\",Listas!$D$57)","v":""},null,{"$f":"+IFERROR(Docentes[[#This Row],[Salario]]*Docentes[[#This Row],[Factor]]*(1+Docentes[[#This Row],[% Administración]]),\"\")","v":""},null,{"$f":"IFERROR(Docentes[[#This Row],[Salario con factor]]/VLOOKUP(Docentes[[#This Row],[Unidad de tiempo]],Tabla210[],2,0),\"\")","v":""},null,null,null,{"$f":"+IFERROR((Docentes[[#This Row],[Costo unidad de tiempo]]*Docentes[[#This Row],[Cantidad de tiempo]]*Docentes[[#This Row],[Número de personas]]*VLOOKUP(Docentes[[#This Row],[Dedicación]],Tabla201[#All],2,0)),\"\")","v":""},null,{"$f":"+IFERROR(Docentes[[#This Row],[Costo parcial]]*Docentes[[#This Row],[% Participación]]/100,\"\")","v":""}]
[null,null,null,null,{"$f":"++IF(Docentes[[#This Row],[Puntos]]=\"\",\"\",Tabla208[Columna1])","v":""},{"$f":"+IFERROR(Docentes[[#This Row],[Puntos]]*Docentes[[#This Row],[Punto docente]],\"\")","v":""},{"$f":"+IF(Docentes[[#This Row],[Puntos]]=\"\",\"\",Listas!$D$57)","v":""},null,{"$f":"+IFERROR(Docentes[[#This Row],[Salario]]*Docentes[[#This Row],[Factor]]*(1+Docentes[[#This Row],[% Administración]]),\"\")","v":""},null,{"$f":"IFERROR(Docentes[[#This Row],[Salario con factor]]/VLOOKUP(Docentes[[#This Row],[Unidad de tiempo]],Tabla210[],2,0),\"\")","v":""},null,null,null,{"$f":"+IFERROR((Docentes[[#This Row],[Costo unidad de tiempo]]*Docentes[[#This Row],[Cantidad de tiempo]]*Docentes[[#This Row],[Número de personas]]*VLOOKUP(Docentes[[#This Row],[Dedicación]],Tabla201[#All],2,0)),\"\")","v":""},null,{"$f":"+IFERROR(Docentes[[#This Row],[Costo parcial]]*Docentes[[#This Row],[% Participación]]/100,\"\")","v":""}]
[null,null,null,null,{"$f":"++IF(Docentes[[#This Row],[Puntos]]=\"\",\"\",Tabla208[Columna1])","v":""},{"$f":"+IFERROR(Docentes[[#This Row],[Puntos]]*Docentes[[#This Row],[Punto docente]],\"\")","v":""},{"$f":"+IF(Docentes[[#This Row],[Puntos]]=\"\",\"\",Listas!$D$57)","v":""},null,{"$f":"+IFERROR(Docentes[[#This Row],[Salario]]*Docentes[[#This Row],[Factor]]*(1+Docentes[[#This Row],[% Administración]]),\"\")","v":""},null,{"$f":"IFERROR(Docentes[[#This Row],[Salario con factor]]/VLOOKUP(Docentes[[#This Row],[Unidad de tiempo]],Tabla210[],2,0),\"\")","v":""},null,null,null,{"$f":"+IFERROR((Docentes[[#This Row],[Costo unidad de tiempo]]*Docentes[[#This Row],[Cantidad de tiempo]]*Docentes[[#This Row],[Número de personas]]*VLOOKUP(Docentes[[#This Row],[Dedicación]],Tabla201[#All],2,0)),\"\")","v":""},null,{"$f":"+IFERROR(Docentes[[#This Row],[Costo parcial]]*Docentes[[#This Row],[% Participación]]/100,\"\")","v":""}]
[null,null,null,null,{"$f":"++IF(Docentes[[#This Row],[Puntos]]=\"\",\"\",Tabla208[Columna1])","v":""},{"$f":"+IFERROR(Docentes[[#This Row],[Puntos]]*Docentes[[#This Row],[Punto docente]],\"\")","v":""},{"$f":"+IF(Docentes[[#This Row],[Puntos]]=\"\",\"\",Listas!$D$57)","v":""},null,{"$f":"+IFERROR(Docentes[[#This Row],[Salario]]*Docentes[[#This Row],[Factor]]*(1+Docentes[[#This Row],[% Administración]]),\"\")","v":""},null,{"$f":"IFERROR(Docentes[[#This Row],[Salario con factor]]/VLOOKUP(Docentes[[#This Row],[Unidad de tiempo]],Tabla210[],2,0),\"\")","v":""},null,null,null,{"$f":"+IFERROR((Docentes[[#This Row],[Costo unidad de tiempo]]*Docentes[[#This Row],[Cantidad de tiempo]]*Docentes[[#This Row],[Número de personas]]*VLOOKUP(Docentes[[#This Row],[Dedicación]],Tabla201[#All],2,0)),\"\")","v":""},null,{"$f":"+IFERROR(Docentes[[#This Row],[Costo parcial]]*Docentes[[#This Row],[% Participación]]/100,\"\")","v":""}]
[null,null,null,null,{"$f":"++IF(Docentes[[#This Row],[Puntos]]=\"\",\"\",Tabla208[Columna1])","v":""},{"$f":"+IFERROR(Docentes[[#This Row],[Puntos]]*Docentes[[#This Row],[Punto docente]],\"\")","v":""},{"$f":"+IF(Docentes[[#This Row],[Puntos]]=\"\",\"\",Listas!$D$57)","v":""},null,{"$f":"+IFERROR(Docentes[[#This Row],[Salario]]*Docentes[[#This Row],[Factor]]*(1+Docentes[[#This Row],[% Administración]]),\"\")","v":""},null,{"$f":"IFERROR(Docentes[[#This Row],[Salario con factor]]/VLOOKUP(Docentes[[#This Row],[Unidad de tiempo]],Tabla210[],2,0),\"\")","v":""},null,null,null,{"$f":"+IFERROR((Docentes[[#This Row],[Costo unidad de tiempo]]*Docentes[[#This Row],[Cantidad de tiempo]]*Docentes[[#This Row],[Número de personas]]*VLOOKUP(Docentes[[#This Row],[Dedicación]],Tabla201[#All],2,0)),\"\")","v":""},null,{"$f":"+IFERROR(Docentes[[#This Row],[Costo parcial]]*Docentes[[#This Row],[% Participación]]/100,\"\")","v":""}]
[null,null,null,null,{"$f":"++IF(Docentes[[#This Row],[Puntos]]=\"\",\"\",Tabla208[Columna1])","v":""},{"$f":"+IFERROR(Docentes[[#This Row],[Puntos]]*Docentes[[#This Row],[Punto docente]],\"\")","v":""},{"$f":"+IF(Docentes[[#This Row],[Puntos]]=\"\",\"\",Listas!$D$57)","v":""},null,{"$f":"+IFERROR(Docentes[[#This Row],[Salario]]*Docentes[[#This Row],[Factor]]*(1+Docentes[[#This Row],[% Administración]]),\"\")","v":""},null,{"$f":"IFERROR(Docentes[[#This Row],[Salario con factor]]/VLOOKUP(Docentes[[#This Row],[Unidad de tiempo]],Tabla210[],2,0),\"\")","v":""},null,null,null,{"$f":"+IFERROR((Docentes[[#This Row],[Costo unidad de tiempo]]*Docentes[[#This Row],[Cantidad de tiempo]]*Docentes[[#This Row],[Número de personas]]*VLOOKUP(Docentes[[#This Row],[Dedicación]],Tabla201[#All],2,0)),\"\")","v":""},null,{"$f":"+IFERROR(Docentes[[#This Row],[Costo parcial]]*Docentes[[#This Row],[% Participación]]/100,\"\")","v":""}]
[null,null,null,null,{"$f":"++IF(Docentes[[#This Row],[Puntos]]=\"\",\"\",Tabla208[Columna1])","v":""},{"$f":"+IFERROR(Docentes[[#This Row],[Puntos]]*Docentes[[#This Row],[Punto docente]],\"\")","v":""},{"$f":"+IF(Docentes[[#This Row],[Puntos]]=\"\",\"\",Listas!$D$57)","v":""},null,{"$f":"+IFERROR(Docentes[[#This Row],[Salario]]*Docentes[[#This Row],[Factor]]*(1+Docentes[[#This Row],[% Administración]]),\"\")","v":""},null,{"$f":"IFERROR(Docentes[[#This Row],[Salario con factor]]/VLOOKUP(Docentes[[#This Row],[Unidad de tiempo]],Tabla210[],2,0),\"\")","v":""},null,null,null,{"$f":"+IFERROR((Docentes[[#This Row],[Costo unidad de tiempo]]*Docentes[[#This Row],[Cantidad de tiempo]]*Docentes[[#This Row],[Número de personas]]*VLOOKUP(Docentes[[#This Row],[Dedicación]],Tabla201[#All],2,0)),\"\")","v":""},null,{"$f":"+IFERROR(Docentes[[#This Row],[Costo parcial]]*Docentes[[#This Row],[% Participación]]/100,\"\")","v":""}]
[null,null,null,null,{"$f":"++IF(Docentes[[#This Row],[Puntos]]=\"\",\"\",Tabla208[Columna1])","v":""},{"$f":"+IFERROR(Docentes[[#This Row],[Puntos]]*Docentes[[#This Row],[Punto docente]],\"\")","v":""},{"$f":"+IF(Docentes[[#This Row],[Puntos]]=\"\",\"\",Listas!$D$57)","v":""},null,{"$f":"+IFERROR(Docentes[[#This Row],[Salario]]*Docentes[[#This Row],[Factor]]*(1+Docentes[[#This Row],[% Administración]]),\"\")","v":""},null,{"$f":"IFERROR(Docentes[[#This Row],[Salario con factor]]/VLOOKUP(Docentes[[#This Row],[Unidad de tiempo]],Tabla210[],2,0),\"\")","v":""},null,null,null,{"$f":"+IFERROR((Docentes[[#This Row],[Costo unidad de tiempo]]*Docentes[[#This Row],[Cantidad de tiempo]]*Docentes[[#This Row],[Número de personas]]*VLOOKUP(Docentes[[#This Row],[Dedicación]],Tabla201[#All],2,0)),\"\")","v":""},null,{"$f":"+IFERROR(Docentes[[#This Row],[Costo parcial]]*Docentes[[#This Row],[% Participación]]/100,\"\")","v":""}]
[null,null,null,null,{"$f":"++IF(Docentes[[#This Row],[Puntos]]=\"\",\"\",Tabla208[Columna1])","v":""},{"$f":"+IFERROR(Docentes[[#This Row],[Puntos]]*Docentes[[#This Row],[Punto docente]],\"\")","v":""},{"$f":"+IF(Docentes[[#This Row],[Puntos]]=\"\",\"\",Listas!$D$57)","v":""},null,{"$f":"+IFERROR(Docentes[[#This Row],[Salario]]*Docentes[[#This Row],[Factor]]*(1+Docentes[[#This Row],[% Administración]]),\"\")","v":""},null,{"$f":"IFERROR(Docentes[[#This Row],[Salario con factor]]/VLOOKUP(Docentes[[#This Row],[Unidad de tiempo]],Tabla210[],2,0),\"\")","v":""},null,null,null,{"$f":"+IFERROR((Docentes[[#This Row],[Costo unidad de tiempo]]*Docentes[[#This Row],[Cantidad de tiempo]]*Docentes[[#This Row],[Número de personas]]*VLOOKUP(Docentes[[#This Row],[Dedicación]],Tabla201[#All],2,0)),\"\")","v":""},null,{"$f":"+IFERROR(Docentes[[#This Row],[Costo parcial]]*Docentes[[#This Row],[% Participación]]/100,\"\")","v":""}]
[null,null,null,null,{"$f":"++IF(Docentes[[#This Row],[Puntos]]=\"\",\"\",Tabla208[Columna1])","v":""},{"$f":"+IFERROR(Docentes[[#This Row],[Puntos]]*Docentes[[#This Row],[Punto docente]],\"\")","v":""},{"$f":"+IF(Docentes[[#This Row],[Puntos]]=\"\",\"\",Listas!$D$57)","v":""},null,{"$f":"+IFERROR(Docentes[[#This Row],[Salario]]*Docentes[[#This Row],[Factor]]*(1+Docentes[[#This Row],[% Administración]]),\"\")","v":""},null,{"$f":"IFERROR(Docentes[[#This Row],[Salario con factor]]/VLOOKUP(Docentes[[#This Row],[Unidad de tiempo]],Tabla210[],2,0),\"\")","v":""},null,null,null,{"$f":"+IFERROR((Docentes[[#This Row],[Costo unidad de tiempo]]*Docentes[[#This Row],[Cantidad de tiempo]]*Docentes[[#This Row],[Número de personas]]*VLOOKUP(Docentes[[#This Row],[Dedicación]],Tabla201[#All],2,0)),\"\")","v":""},null,{"$f":"+IFERROR(Docentes[[#This Row],[Costo parcial]]*Docentes[[#This Row],[% Participación]]/100,\"\")","v":""}]
[null,null,null,null,{"$f":"++IF(Docentes[[#This Row],[Puntos]]=\"\",\"\",Tabla208[Columna1])","v":""},{"$f":"+IFERROR(Docentes[[#This Row],[Puntos]]*Docentes[[#This Row],[Punto docente]],\"\")","v":""},{"$f":"+IF(Docentes[[#This Row],[Puntos]]=\"\",\"\",Listas!$D$57)","v":""},null,{"$f":"+IFERROR(Docentes[[#This Row],[Salario]]*Docentes[[#This Row],[Factor]]*(1+Docentes[[#This Row],[% Administración]]),\"\")","v":""},null,{"$f":"IFERROR(Docentes[[#This Row],[Salario con factor]]/VLOOKUP(Docentes[[#This Row],[Unidad de tiempo]],Tabla210[],2,0),\"\")","v":""},null,null,null,{"$f":"+IFERROR((Docentes[[#This Row],[Costo unidad de tiempo]]*Docentes[[#This Row],[Cantidad de tiempo]]*Docentes[[#This Row],[Número de personas]]*VLOOKUP(Docentes[[#This Row],[Dedicación]],Tabla201[#All],2,0)),\"\")","v":""},null,{"$f":"+IFERROR(Docentes[[#This Row],[Costo parcial]]*Docentes[[#This Row],[% Participación]]/100,\"\")","v":""}]
[null,null,null,null,{"$f":"++IF(Docentes[[#This Row],[Puntos]]=\"\",\"\",Tabla208[Columna1])","v":""},{"$f":"+IFERROR(Docentes[[#This Row],[Puntos]]*Docentes[[#This Row],[Punto docente]],\"\")","v":""},{"$f":"+IF(Docentes[[#This Row],[Puntos]]=\"\",\"\",Listas!$D$57)","v":""},null,{"$f":"+IFERROR(Docentes[[#This Row],[Salario]]*Docentes[[#This Row],[Factor]]*(1+Docentes[[#This Row],[% Administración]]),\"\")","v":""},null,{"$f":"IFERROR(Docentes[[#This Row],[Salario con factor]]/VLOOKUP(Docentes[[#This Row],[Unidad de tiempo]],Tabla210[],2,0),\"\")","v":""},null,null,null,{"$f":"+IFERROR((Docentes[[#This Row],[Costo unidad de tiempo]]*Docentes[[#This Row],[Cantidad de tiempo]]*Docentes[[#This Row],[Número de personas]]*VLOOKUP(Docentes[[#This Row],[Dedicación]],Tabla201[#All],2,0)),\"\")","v":""},null,{"$f":"+IFERROR(Docentes[[#This Row],[Costo parcial]]*Docentes[[#This Row],[% Participación]]/100,\"\")","v":""}]
[null,null,null,null,{"$f":"++IF(Docentes[[#This Row],[Puntos]]=\"\",\"\",Tabla208[Columna1])","v":""},{"$f":"+IFERROR(Docentes[[#This Row],[Puntos]]*Docentes[[#This Row],[Punto docente]],\"\")","v":""},{"$f":"+IF(Docentes[[#This Row],[Puntos]]=\"\",\"\",Listas!$D$57)","v":""},null,{"$f":"+IFERROR(Docentes[[#This Row],[Salario]]*Docentes[[#This Row],[Factor]]*(1+Docentes[[#This Row],[% Administración]]),\"\")","v":""},null,{"$f":"IFERROR(Docentes[[#This Row],[Salario con factor]]/VLOOKUP(Docentes[[#This Row],[Unidad de tiempo]],Tabla210[],2,0),\"\")","v":""},null,null,null,{"$f":"+IFERROR((Docentes[[#This Row],[Costo unidad de tiempo]]*Docentes[[#This Row],[Cantidad de tiempo]]*Docentes[[#This Row],[Número de personas]]*VLOOKUP(Docentes[[#This Row],[Dedicación]],Tabla201[#All],2,0)),\"\")","v":""},null,{"$f":"+IFERROR(Docentes[[#This Row],[Costo parcial]]*Docentes[[#This Row],[% Participación]]/100,\"\")","v":""}]
[null,null,null,null,{"$f":"++IF(Docentes[[#This Row],[Puntos]]=\"\",\"\",Tabla208[Columna1])","v":""},{"$f":"+IFERROR(Docentes[[#This Row],[Puntos]]*Docentes[[#This Row],[Punto docente]],\"\")","v":""},{"$f":"+IF(Docentes[[#This Row],[Puntos]]=\"\",\"\",Listas!$D$57)","v":""},null,{"$f":"+IFERROR(Docentes[[#This Row],[Salario]]*Docentes[[#This Row],[Factor]]*(1+Docentes[[#This Row],[% Administración]]),\"\")","v":""},null,{"$f":"IFERROR(Docentes[[#This Row],[Salario con factor]]/VLOOKUP(Docentes[[#This Row],[Unidad de tiempo]],Tabla210[],2,0),\"\")","v":""},null,null,null,{"$f":"+IFERROR((Docentes[[#This Row],[Costo unidad de tiempo]]*Docentes[[#This Row],[Cantidad de tiempo]]*Docentes[[#This Row],[Número de personas]]*VLOOKUP(Docentes[[#This Row],[Dedicación]],Tabla201[#All],2,0)),\"\")","v":""},null,{"$f":"+IFERROR(Docentes[[#This Row],[Costo parcial]]*Docentes[[#This Row],[% Participación]]/100,\"\")","v":""}]
[null,null,null,null,{"$f":"++IF(Docentes[[#This Row],[Puntos]]=\"\",\"\",Tabla208[Columna1])","v":""},{"$f":"+IFERROR(Docentes[[#This Row],[Puntos]]*Docentes[[#This Row],[Punto docente]],\"\")","v":""},{"$f":"+IF(Docentes[[#This Row],[Puntos]]=\"\",\"\",Listas!$D$57)","v":""},null,{"$f":"+IFERROR(Docentes[[#This Row],[Salario]]*Docentes[[#This Row],[Factor]]*(1+Docentes[[#This Row],[% Administración]]),\"\")","v":""},null,{"$f":"IFERROR(Docentes[[#This Row],[Salario con factor]]/VLOOKUP(Docentes[[#This Row],[Unidad de tiempo]],Tabla210[],2,0),\"\")","v":""},null,null,null,{"$f":"+IFERROR((Docentes[[#This Row],[Costo unidad de tiempo]]*Docentes[[#This Row],[Cantidad de tiempo]]*Docentes[[#This Row],[Número de personas]]*VLOOKUP(Docentes[[#This Row],[Dedicación]],Tabla201[#All],2,0)),\"\")","v":""},null,{"$f":"+IFERROR(Docentes[[#This Row],[Costo parcial]]*Docentes[[#This Row],[% Participación]]/100,\"\")","v":""}]
[null,null,null,null,{"$f":"++IF(Docentes[[#This Row],[Puntos]]=\"\",\"\",Tabla208[Columna1])","v":""},{"$f":"+IFERROR(Docentes[[#This Row],[Puntos]]*Docentes[[#This Row],[Punto docente]],\"\")","v":""},{"$f":"+IF(Docentes[[#This Row],[Puntos]]=\"\",\"\",Listas!$D$57)","v":""},null,{"$f":"+IFERROR(Docentes[[#This Row],[Salario]]*Docentes[[#This Row],[Factor]]*(1+Docentes[[#This Row],[% Administración]]),\"\")","v":""},null,{"$f":"IFERROR(Docentes[[#This Row],[Salario con factor]]/VLOOKUP(Docentes[[#This Row],[Unidad de tiempo]],Tabla210[],2,0),\"\")","v":""},null,null,null,{"$f":"+IFERROR((Docentes[[#This Row],[Costo unidad de tiempo]]*Docentes[[#This Row],[Cantidad de tiempo]]*Docentes[[#This Row],[Número de personas]]*VLOOKUP(Docentes[[#This Row],[Dedicación]],Tabla201[#All],2,0)),\"\")","v":""},null,{"$f":"+IFERROR(Docentes[[#This Row],[Costo parcial]]*Docentes[[#This Row],[% Participación]]/100,\"\")","v":""}]
[null,null,null,null,{"$f":"++IF(Docentes[[#This Row],[Puntos]]=\"\",\"\",Tabla208[Columna1])","v":""},{"$f":"+IFERROR(Docentes[[#This Row],[Puntos]]*Docentes[[#This Row],[Punto docente]],\"\")","v":""},{"$f":"+IF(Docentes[[#This Row],[Puntos]]=\"\",\"\",Listas!$D$57)","v":""},null,{"$f":"+IFERROR(Docentes[[#This Row],[Salario]]*Docentes[[#This Row],[Factor]]*(1+Docentes[[#This Row],[% Administración]]),\"\")","v":""},null,{"$f":"IFERROR(Docentes[[#This Row],[Salario con factor]]/VLOOKUP(Docentes[[#This Row],[Unidad de tiempo]],Tabla210[],2,0),\"\")","v":""},null,null,null,{"$f":"+IFERROR((Docentes[[#This Row],[Costo unidad de tiempo]]*Docentes[[#This Row],[Cantidad de tiempo]]*Docentes[[#This Row],[Número de personas]]*VLOOKUP(Docentes[[#This Row],[Dedicación]],Tabla201[#All],2,0)),\"\")","v":""},null,{"$f":"+IFERROR(Docentes[[#This Row],[Costo parcial]]*Docentes[[#This Row],[% Participación]]/100,\"\")","v":""}]
[null,null,null,null,{"$f":"++IF(Docentes[[#This Row],[Puntos]]=\"\",\"\",Tabla208[Columna1])","v":""},{"$f":"+IFERROR(Docentes[[#This Row],[Puntos]]*Docentes[[#This Row],[Punto docente]],\"\")","v":""},{"$f":"+IF(Docentes[[#This Row],[Puntos]]=\"\",\"\",Listas!$D$57)","v":""},null,{"$f":"+IFERROR(Docentes[[#This Row],[Salario]]*Docentes[[#This Row],[Factor]]*(1+Docentes[[#This Row],[% Administración]]),\"\")","v":""},null,{"$f":"IFERROR(Docentes[[#This Row],[Salario con factor]]/VLOOKUP(Docentes[[#This Row],[Unidad de tiempo]],Tabla210[],2,0),\"\")","v":""},null,null,null,{"$f":"+IFERROR((Docentes[[#This Row],[Costo unidad de tiempo]]*Docentes[[#This Row],[Cantidad de tiempo]]*Docentes[[#This Row],[Número de personas]]*VLOOKUP(Docentes[[#This Row],[Dedicación]],Tabla201[#All],2,0)),\"\")","v":""},null,{"$f":"+IFERROR(Docentes[[#This Row],[Costo parcial]]*Docentes[[#This Row],[% Participación]]/100,\"\")","v":""}]
[null,null,null,null,{"$f":"++IF(Docentes[[#This Row],[Puntos]]=\"\",\"\",Tabla208[Columna1])","v":""},{"$f":"+IFERROR(Docentes[[#This Row],[Puntos]]*Docentes[[#This Row],[Punto docente]],\"\")","v":""},{"$f":"+IF(Docentes[[#This Row],[Puntos]]=\"\",\"\",Listas!$D$57)","v":""},null,{"$f":"+IFERROR(Docentes[[#This Row],[Salario]]*Docentes[[#This Row],[Factor]]*(1+Docentes[[#This Row],[% Administración]]),\"\")","v":""},null,{"$f":"IFERROR(Docentes[[#This Row],[Salario con factor]]/VLOOKUP(Docentes[[#This Row],[Unidad de tiempo]],Tabla210[],2,0),\"\")","v":""},null,null,null,{"$f":"+IFERROR((Docentes[[#This Row],[Costo unidad de tiempo]]*Docentes[[#This Row],[Cantidad de tiempo]]*Docentes[[#This Row],[Número de personas]]*VLOOKUP(Docentes[[#This Row],[Dedicación]],Tabla201[#All],2,0)),\"\")","v":""},null,{"$f":"+IFERROR(Docentes[[#This Row],[Costo parcial]]*Docentes[[#This Row],[% Participación]]/100,\"\")","v":""}]
[null,null,null,null,{"$f":"++IF(Docentes[[#This Row],[Puntos]]=\"\",\"\",Tabla208[Columna1])","v":""},{"$f":"+IFERROR(Docentes[[#This Row],[Puntos]]*Docentes[[#This Row],[Punto docente]],\"\")","v":""},{"$f":"+IF(Docentes[[#This Row],[Puntos]]=\"\",\"\",Listas!$D$57)","v":""},null,{"$f":"+IFERROR(Docentes[[#This Row],[Salario]]*Docentes[[#This Row],[Factor]]*(1+Docentes[[#This Row],[% Administración]]),\"\")","v":""},null,{"$f":"IFERROR(Docentes[[#This Row],[Salario con factor]]/VLOOKUP(Docentes[[#This Row],[Unidad de tiempo]],Tabla210[],2,0),\"\")","v":""},null,null,null,{"$f":"+IFERROR((Docentes[[#This Row],[Costo unidad de tiempo]]*Docentes[[#This Row],[Cantidad de tiempo]]*Docentes[[#This Row],[Número de personas]]*VLOOKUP(Docentes[[#This Row],[Dedicación]],Tabla201[#All],2,0)),\"\")","v":""},null,{"$f":"+IFERROR(Docentes[[#This Row],[Costo parcial]]*Docentes[[#This Row],[% Participación]]/100,\"\")","v":""}]
[null,null,null,null,{"$f":"++IF(Docentes[[#This Row],[Puntos]]=\"\",\"\",Tabla208[Columna1])","v":""},{"$f":"+IFERROR(Docentes[[#This Row],[Puntos]]*Docentes[[#This Row],[Punto docente]],\"\")","v":""},{"$f":"+IF(Docentes[[#This Row],[Puntos]]=\"\",\"\",Listas!$D$57)","v":""},null,{"$f":"+IFERROR(Docentes[[#This Row],[Salario]]*Docentes[[#This Row],[Factor]]*(1+Docentes[[#This Row],[% Administración]]),\"\")","v":""},null,{"$f":"IFERROR(Docentes[[#This Row],[Salario con factor]]/VLOOKUP(Docentes[[#This Row],[Unidad de tiempo]],Tabla210[],2,0),\"\")","v":""},null,null,null,{"$f":"+IFERROR((Docentes[[#This Row],[Costo unidad de tiempo]]*Docentes[[#This Row],[Cantidad de tiempo]]*Docentes[[#This Row],[Número de personas]]*VLOOKUP(Docentes[[#This Row],[Dedicación]],Tabla201[#All],2,0)),\"\")","v":""},null,{"$f":"+IFERROR(Docentes[[#This Row],[Costo parcial]]*Docentes[[#This Row],[% Participación]]/100,\"\")","v":""}]
[null,null,null,null,{"$f":"++IF(Docentes[[#This Row],[Puntos]]=\"\",\"\",Tabla208[Columna1])","v":""},{"$f":"+IFERROR(Docentes[[#This Row],[Puntos]]*Docentes[[#This Row],[Punto docente]],\"\")","v":""},{"$f":"+IF(Docentes[[#This Row],[Puntos]]=\"\",\"\",Listas!$D$57)","v":""},null,{"$f":"+IFERROR(Docentes[[#This Row],[Salario]]*Docentes[[#This Row],[Factor]]*(1+Docentes[[#This Row],[% Administración]]),\"\")","v":""},null,{"$f":"IFERROR(Docentes[[#This Row],[Salario con factor]]/VLOOKUP(Docentes[[#This Row],[Unidad de tiempo]],Tabla210[],2,0),\"\")","v":""},null,null,null,{"$f":"+IFERROR((Docentes[[#This Row],[Costo unidad de tiempo]]*Docentes[[#This Row],[Cantidad de tiempo]]*Docentes[[#This Row],[Número de personas]]*VLOOKUP(Docentes[[#This Row],[Dedicación]],Tabla201[#All],2,0)),\"\")","v":""},null,{"$f":"+IFERROR(Docentes[[#This Row],[Costo parcial]]*Docentes[[#This Row],[% Participación]]/100,\"\")","v":""}]
[null,null,null,null,{"$f":"++IF(Docentes[[#This Row],[Puntos]]=\"\",\"\",Tabla208[Columna1])","v":""},{"$f":"+IFERROR(Docentes[[#This Row],[Puntos]]*Docentes[[#This Row],[Punto docente]],\"\")","v":""},{"$f":"+IF(Docentes[[#This Row],[Puntos]]=\"\",\"\",Listas!$D$57)","v":""},null,{"$f":"+IFERROR(Docentes[[#This Row],[Salario]]*Docentes[[#This Row],[Factor]]*(1+Docentes[[#This Row],[% Administración]]),\"\")","v":""},null,{"$f":"IFERROR(Docentes[[#This Row],[Salario con factor]]/VLOOKUP(Docentes[[#This Row],[Unidad de tiempo]],Tabla210[],2,0),\"\")","v":""},null,null,null,{"$f":"+IFERROR((Docentes[[#This Row],[Costo unidad de tiempo]]*Docentes[[#This Row],[Cantidad de tiempo]]*Docentes[[#This Row],[Número de personas]]*VLOOKUP(Docentes[[#This Row],[Dedicación]],Tabla201[#All],2,0)),\"\")","v":""},null,{"$f":"+IFERROR(Docentes[[#This Row],[Costo parcial]]*Docentes[[#This Row],[% Participación]]/100,\"\")","v":""}]
[null,null,null,null,{"$f":"++IF(Docentes[[#This Row],[Puntos]]=\"\",\"\",Tabla208[Columna1])","v":""},{"$f":"+IFERROR(Docentes[[#This Row],[Puntos]]*Docentes[[#This Row],[Punto docente]],\"\")","v":""},{"$f":"+IF(Docentes[[#This Row],[Puntos]]=\"\",\"\",Listas!$D$57)","v":""},null,{"$f":"+IFERROR(Docentes[[#This Row],[Salario]]*Docentes[[#This Row],[Factor]]*(1+Docentes[[#This Row],[% Administración]]),\"\")","v":""},null,{"$f":"IFERROR(Docentes[[#This Row],[Salario con factor]]/VLOOKUP(Docentes[[#This Row],[Unidad de tiempo]],Tabla210[],2,0),\"\")","v":""},null,null,null,{"$f":"+IFERROR((Docentes[[#This Row],[Costo unidad de tiempo]]*Docentes[[#This Row],[Cantidad de tiempo]]*Docentes[[#This Row],[Número de personas]]*VLOOKUP(Docentes[[#This Row],[Dedicación]],Tabla201[#All],2,0)),\"\")","v":""},null,{"$f":"+IFERROR(Docentes[[#This Row],[Costo parcial]]*Docentes[[#This Row],[% Participación]]/100,\"\")","v":""}]
[null,null,null,null,{"$f":"++IF(Docentes[[#This Row],[Puntos]]=\"\",\"\",Tabla208[Columna1])","v":""},{"$f":"+IFERROR(Docentes[[#This Row],[Puntos]]*Docentes[[#This Row],[Punto docente]],\"\")","v":""},{"$f":"+IF(Docentes[[#This Row],[Puntos]]=\"\",\"\",Listas!$D$57)","v":""},null,{"$f":"+IFERROR(Docentes[[#This Row],[Salario]]*Docentes[[#This Row],[Factor]]*(1+Docentes[[#This Row],[% Administración]]),\"\")","v":""},null,{"$f":"IFERROR(Docentes[[#This Row],[Salario con factor]]/VLOOKUP(Docentes[[#This Row],[Unidad de tiempo]],Tabla210[],2,0),\"\")","v":""},null,null,null,{"$f":"+IFERROR((Docentes[[#This Row],[Costo unidad de tiempo]]*Docentes[[#This Row],[Cantidad de tiempo]]*Docentes[[#This Row],[Número de personas]]*VLOOKUP(Docentes[[#This Row],[Dedicación]],Tabla201[#All],2,0)),\"\")","v":""},null,{"$f":"+IFERROR(Docentes[[#This Row],[Costo parcial]]*Docentes[[#This Row],[% Participación]]/100,\"\")","v":""}]
[null,null,null,null,{"$f":"++IF(Docentes[[#This Row],[Puntos]]=\"\",\"\",Tabla208[Columna1])","v":""},{"$f":"+IFERROR(Docentes[[#This Row],[Puntos]]*Docentes[[#This Row],[Punto docente]],\"\")","v":""},{"$f":"+IF(Docentes[[#This Row],[Puntos]]=\"\",\"\",Listas!$D$57)","v":""},null,{"$f":"+IFERROR(Docentes[[#This Row],[Salario]]*Docentes[[#This Row],[Factor]]*(1+Docentes[[#This Row],[% Administración]]),\"\")","v":""},null,{"$f":"IFERROR(Docentes[[#This Row],[Salario con factor]]/VLOOKUP(Docentes[[#This Row],[Unidad de tiempo]],Tabla210[],2,0),\"\")","v":""},null,null,null,{"$f":"+IFERROR((Docentes[[#This Row],[Costo unidad de tiempo]]*Docentes[[#This Row],[Cantidad de tiempo]]*Docentes[[#This Row],[Número de personas]]*VLOOKUP(Docentes[[#This Row],[Dedicación]],Tabla201[#All],2,0)),\"\")","v":""},null,{"$f":"+IFERROR(Docentes[[#This Row],[Costo parcial]]*Docentes[[#This Row],[% Participación]]/100,\"\")","v":""}]
[null,null,null,null,{"$f":"++IF(Docentes[[#This Row],[Puntos]]=\"\",\"\",Tabla208[Columna1])","v":""},{"$f":"+IFERROR(Docentes[[#This Row],[Puntos]]*Docentes[[#This Row],[Punto docente]],\"\")","v":""},{"$f":"+IF(Docentes[[#This Row],[Puntos]]=\"\",\"\",Listas!$D$57)","v":""},null,{"$f":"+IFERROR(Docentes[[#This Row],[Salario]]*Docentes[[#This Row],[Factor]]*(1+Docentes[[#This Row],[% Administración]]),\"\")","v":""},null,{"$f":"IFERROR(Docentes[[#This Row],[Salario con factor]]/VLOOKUP(Docentes[[#This Row],[Unidad de tiempo]],Tabla210[],2,0),\"\")","v":""},null,null,null,{"$f":"+IFERROR((Docentes[[#This Row],[Costo unidad de tiempo]]*Docentes[[#This Row],[Cantidad de tiempo]]*Docentes[[#This Row],[Número de personas]]*VLOOKUP(Docentes[[#This Row],[Dedicación]],Tabla201[#All],2,0)),\"\")","v":""},null,{"$f":"+IFERROR(Docentes[[#This Row],[Costo parcial]]*Docentes[[#This Row],[% Participación]]/100,\"\")","v":""}]
[null,null,null,null,{"$f":"++IF(Docentes[[#This Row],[Puntos]]=\"\",\"\",Tabla208[Columna1])","v":""},{"$f":"+IFERROR(Docentes[[#This Row],[Puntos]]*Docentes[[#This Row],[Punto docente]],\"\")","v":""},{"$f":"+IF(Docentes[[#This Row],[Puntos]]=\"\",\"\",Listas!$D$57)","v":""},null,{"$f":"+IFERROR(Docentes[[#This Row],[Salario]]*Docentes[[#This Row],[Factor]]*(1+Docentes[[#This Row],[% Administración]]),\"\")","v":""},null,{"$f":"IFERROR(Docentes[[#This Row],[Salario con factor]]/VLOOKUP(Docentes[[#This Row],[Unidad de tiempo]],Tabla210[],2,0),\"\")","v":""},null,null,null,{"$f":"+IFERROR((Docentes[[#This Row],[Costo unidad de tiempo]]*Docentes[[#This Row],[Cantidad de tiempo]]*Docentes[[#This Row],[Número de personas]]*VLOOKUP(Docentes[[#This Row],[Dedicación]],Tabla201[#All],2,0)),\"\")","v":""},null,{"$f":"+IFERROR(Docentes[[#This Row],[Costo parcial]]*Docentes[[#This Row],[% Participación]]/100,\"\")","v":""}]
[null,null,null,null,{"$f":"++IF(Docentes[[#This Row],[Puntos]]=\"\",\"\",Tabla208[Columna1])","v":""},{"$f":"+IFERROR(Docentes[[#This Row],[Puntos]]*Docentes[[#This Row],[Punto docente]],\"\")","v":""},{"$f":"+IF(Docentes[[#This Row],[Puntos]]=\"\",\"\",Listas!$D$57)","v":""},null,{"$f":"+IFERROR(Docentes[[#This Row],[Salario]]*Docentes[[#This Row],[Factor]]*(1+Docentes[[#This Row],[% Administración]]),\"\")","v":""},null,{"$f":"IFERROR(Docentes[[#This Row],[Salario con factor]]/VLOOKUP(Docentes[[#This Row],[Unidad de tiempo]],Tabla210[],2,0),\"\")","v":""},null,null,null,{"$f":"+IFERROR((Docentes[[#This Row],[Costo unidad de tiempo]]*Docentes[[#This Row],[Cantidad de tiempo]]*Docentes[[#This Row],[Número de personas]]*VLOOKUP(Docentes[[#This Row],[Dedicación]],Tabla201[#All],2,0)),\"\")","v":""},null,{"$f":"+IFERROR(Docentes[[#This Row],[Costo parcial]]*Docentes[[#This Row],[% Participación]]/100,\"\")","v":""}]
[null,null,null,null,{"$f":"++IF(Docentes[[#This Row],[Puntos]]=\"\",\"\",Tabla208[Columna1])","v":""},{"$f":"+IFERROR(Docentes[[#This Row],[Puntos]]*Docentes[[#This Row],[Punto docente]],\"\")","v":""},{"$f":"+IF(Docentes[[#This Row],[Puntos]]=\"\",\"\",Listas!$D$57)","v":""},null,{"$f":"+IFERROR(Docentes[[#This Row],[Salario]]*Docentes[[#This Row],[Factor]]*(1+Docentes[[#This Row],[% Administración]]),\"\")","v":""},null,{"$f":"IFERROR(Docentes[[#This Row],[Salario con factor]]/VLOOKUP(Docentes[[#This Row],[Unidad de tiempo]],Tabla210[],2,0),\"\")","v":""},null,null,null,{"$f":"+IFERROR((Docentes[[#This Row],[Costo unidad de tiempo]]*Docentes[[#This Row],[Cantidad de tiempo]]*Docentes[[#This Row],[Número de personas]]*VLOOKUP(Docentes[[#This Row],[Dedicación]],Tabla201[#All],2,0)),\"\")","v":""},null,{"$f":"+IFERROR(Docentes[[#This Row],[Costo parcial]]*Docentes[[#This Row],[% Participación]]/100,\"\")","v":""}]
[null,null,null,null,{"$f":"++IF(Docentes[[#This Row],[Puntos]]=\"\",\"\",Tabla208[Columna1])","v":""},{"$f":"+IFERROR(Docentes[[#This Row],[Puntos]]*Docentes[[#This Row],[Punto docente]],\"\")","v":""},{"$f":"+IF(Docentes[[#This Row],[Puntos]]=\"\",\"\",Listas!$D$57)","v":""},null,{"$f":"+IFERROR(Docentes[[#This Row],[Salario]]*Docentes[[#This Row],[Factor]]*(1+Docentes[[#This Row],[% Administración]]),\"\")","v":""},null,{"$f":"IFERROR(Docentes[[#This Row],[Salario con factor]]/VLOOKUP(Docentes[[#This Row],[Unidad de tiempo]],Tabla210[],2,0),\"\")","v":""},null,null,null,{"$f":"+IFERROR((Docentes[[#This Row],[Costo unidad de tiempo]]*Docentes[[#This Row],[Cantidad de tiempo]]*Docentes[[#This Row],[Número de personas]]*VLOOKUP(Docentes[[#This Row],[Dedicación]],Tabla201[#All],2,0)),\"\")","v":""},null,{"$f":"+IFERROR(Docentes[[#This Row],[Costo parcial]]*Docentes[[#This Row],[% Participación]]/100,\"\")","v":""}]
[null,null,null,null,{"$f":"++IF(Docentes[[#This Row],[Puntos]]=\"\",\"\",Tabla208[Columna1])","v":""},{"$f":"+IFERROR(Docentes[[#This Row],[Puntos]]*Docentes[[#This Row],[Punto docente]],\"\")","v":""},{"$f":"+IF(Docentes[[#This Row],[Puntos]]=\"\",\"\",Listas!$D$57)","v":""},null,{"$f":"+IFERROR(Docentes[[#This Row],[Salario]]*Docentes[[#This Row],[Factor]]*(1+Docentes[[#This Row],[% Administración]]),\"\")","v":""},null,{"$f":"IFERROR(Docentes[[#This Row],[Salario con factor]]/VLOOKUP(Docentes[[#This Row],[Unidad de tiempo]],Tabla210[],2,0),\"\")","v":""},null,null,null,{"$f":"+IFERROR((Docentes[[#This Row],[Costo unidad de tiempo]]*Docentes[[#This Row],[Cantidad de tiempo]]*Docentes[[#This Row],[Número de personas]]*VLOOKUP(Docentes[[#This Row],[Dedicación]],Tabla201[#All],2,0)),\"\")","v":""},null,{"$f":"+IFERROR(Docentes[[#This Row],[Costo parcial]]*Docentes[[#This Row],[% Participación]]/100,\"\")","v":""}]
[null,null,null,null,{"$f":"++IF(Docentes[[#This Row],[Puntos]]=\"\",\"\",Tabla208[Columna1])","v":""},{"$f":"+IFERROR(Docentes[[#This Row],[Puntos]]*Docentes[[#This Row],[Punto docente]],\"\")","v":""},{"$f":"+IF(Docentes[[#This Row],[Puntos]]=\"\",\"\",Listas!$D$57)","v":""},null,{"$f":"+IFERROR(Docentes[[#This Row],[Salario]]*Docentes[[#This Row],[Factor]]*(1+Docentes[[#This Row],[% Administración]]),\"\")","v":""},null,{"$f":"IFERROR(Docentes[[#This Row],[Salario con factor]]/VLOOKUP(Docentes[[#This Row],[Unidad de tiempo]],Tabla210[],2,0),\"\")","v":""},null,null,null,{"$f":"+IFERROR((Docentes[[#This Row],[Costo unidad de tiempo]]*Docentes[[#This Row],[Cantidad de tiempo]]*Docentes[[#This Row],[Número de personas]]*VLOOKUP(Docentes[[#This Row],[Dedicación]],Tabla201[#All],2,0)),\"\")","v":""},null,{"$f":"+IFERROR(Docentes[[#This Row],[Costo parcial]]*Docentes[[#This Row],[% Participación]]/100,\"\")","v":""}]
[null,null,null,null,{"$f":"++IF(Docentes[[#This Row],[Puntos]]=\"\",\"\",Tabla208[Columna1])","v":""},{"$f":"+IFERROR(Docentes[[#This Row],[Puntos]]*Docentes[[#This Row],[Punto docente]],\"\")","v":""},{"$f":"+IF(Docentes[[#This Row],[Puntos]]=\"\",\"\",Listas!$D$57)","v":""},null,{"$f":"+IFERROR(Docentes[[#This Row],[Salario]]*Docentes[[#This Row],[Factor]]*(1+Docentes[[#This Row],[% Administración]]),\"\")","v":""},null,{"$f":"IFERROR(Docentes[[#This Row],[Salario con factor]]/VLOOKUP(Docentes[[#This Row],[Unidad de tiempo]],Tabla210[],2,0),\"\")","v":""},null,null,null,{"$f":"+IFERROR((Docentes[[#This Row],[Costo unidad de tiempo]]*Docentes[[#This Row],[Cantidad de tiempo]]*Docentes[[#This Row],[Número de personas]]*VLOOKUP(Docentes[[#This Row],[Dedicación]],Tabla201[#All],2,0)),\"\")","v":""},null,{"$f":"+IFERROR(Docentes[[#This Row],[Costo parcial]]*Docentes[[#This Row],[% Participación]]/100,\"\")","v":""}]
[null,null,null,null,{"$f":"++IF(Docentes[[#This Row],[Puntos]]=\"\",\"\",Tabla208[Columna1])","v":""},{"$f":"+IFERROR(Docentes[[#This Row],[Puntos]]*Docentes[[#This Row],[Punto docente]],\"\")","v":""},{"$f":"+IF(Docentes[[#This Row],[Puntos]]=\"\",\"\",Listas!$D$57)","v":""},null,{"$f":"+IFERROR(Docentes[[#This Row],[Salario]]*Docentes[[#This Row],[Factor]]*(1+Docentes[[#This Row],[% Administración]]),\"\")","v":""},null,{"$f":"IFERROR(Docentes[[#This Row],[Salario con factor]]/VLOOKUP(Docentes[[#This Row],[Unidad de tiempo]],Tabla210[],2,0),\"\")","v":""},null,null,null,{"$f":"+IFERROR((Docentes[[#This Row],[Costo unidad de tiempo]]*Docentes[[#This Row],[Cantidad de tiempo]]*Docentes[[#This Row],[Número de personas]]*VLOOKUP(Docentes[[#This Row],[Dedicación]],Tabla201[#All],2,0)),\"\")","v":""},null,{"$f":"+IFERROR(Docentes[[#This Row],[Costo parcial]]*Docentes[[#This Row],[% Participación]]/100,\"\")","v":""}]
[null,null,null,null,{"$f":"++IF(Docentes[[#This Row],[Puntos]]=\"\",\"\",Tabla208[Columna1])","v":""},{"$f":"+IFERROR(Docentes[[#This Row],[Puntos]]*Docentes[[#This Row],[Punto docente]],\"\")","v":""},{"$f":"+IF(Docentes[[#This Row],[Puntos]]=\"\",\"\",Listas!$D$57)","v":""},null,{"$f":"+IFERROR(Docentes[[#This Row],[Salario]]*Docentes[[#This Row],[Factor]]*(1+Docentes[[#This Row],[% Administración]]),\"\")","v":""},null,{"$f":"IFERROR(Docentes[[#This Row],[Salario con factor]]/VLOOKUP(Docentes[[#This Row],[Unidad de tiempo]],Tabla210[],2,0),\"\")","v":""},null,null,null,{"$f":"+IFERROR((Docentes[[#This Row],[Costo unidad de tiempo]]*Docentes[[#This Row],[Cantidad de tiempo]]*Docentes[[#This Row],[Número de personas]]*VLOOKUP(Docentes[[#This Row],[Dedicación]],Tabla201[#All],2,0)),\"\")","v":""},null,{"$f":"+IFERROR(Docentes[[#This Row],[Costo parcial]]*Docentes[[#This Row],[% Participación]]/100,\"\")","v":""}]

{"sheet":"Docentes AE","index":12,"n_rows":50,"n_cols":14,"rows_kept":50,"cut":false,"hidden":false,"merged":[]}
["Financiador","Fase","Descripción","Puntos","Punto docente","Valor hora Sugerido","Valor hora máximo","Valor hora ","% Sobre remuneración","Número de horas","Número de personas","Costo parcial","% Participación","Costo"]
[null,null,null,null,{"$f":"++IF(Docentes_AE[[#This Row],[Puntos]]=\"\",\"\",Tabla208[Columna1])","v":""},{"$f":"+IFERROR(Docentes_AE[[#This Row],[Puntos]]*Docentes_AE[[#This Row],[Punto docente]]/100,\"\")","v":""},{"$f":"+IFERROR(Docentes_AE[[#This Row],[Valor hora Sugerido]]*(1+200%),\"\")","v":""},null,{"$f":"+IFERROR(IF(Docentes_AE[[#This Row],[Valor hora ]]=\"\",\"\",(Docentes_AE[[#This Row],[Valor hora ]]-Docentes_AE[[#This Row],[Valor hora Sugerido]])/Docentes_AE[[#This Row],[Valor hora Sugerido]]),\"\")","v":""},null,null,{"$f":"+IFERROR(IF(Docentes_AE[[#This Row],[Valor hora ]]=\"\",Docentes_AE[[#This Row],[Valor hora Sugerido]]*Docentes_AE[[#This Row],[Número de horas]]*Docentes_AE[[#This Row],[Número de personas]],(Docentes_AE[[#This Row],[Valor hora ]]*Docentes_AE[[#This Row],[Número de horas]]*Docentes_AE[[#This Row],[Número de personas]])),\"\")","v":""},null,{"$f":"+IFERROR(Docentes_AE[[#This Row],[Costo parcial]]*Docentes_AE[[#This Row],[% Participación]]/100,\"\")","v":""}]
[null,null,null,null,{"$f":"++IF(Docentes_AE[[#This Row],[Puntos]]=\"\",\"\",Tabla208[Columna1])","v":""},{"$f":"+IFERROR(Docentes_AE[[#This Row],[Puntos]]*Docentes_AE[[#This Row],[Punto docente]]/100,\"\")","v":""},{"$f":"+IFERROR(Docentes_AE[[#This Row],[Valor hora Sugerido]]*(1+200%),\"\")","v":""},null,{"$f":"+IFERROR(IF(Docentes_AE[[#This Row],[Valor hora ]]=\"\",\"\",(Docentes_AE[[#This Row],[Valor hora ]]-Docentes_AE[[#This Row],[Valor hora Sugerido]])/Docentes_AE[[#This Row],[Valor hora Sugerido]]),\"\")","v":""},null,null,{"$f":"+IFERROR(IF(Docentes_AE[[#This Row],[Valor hora ]]=\"\",Docentes_AE[[#This Row],[Valor hora Sugerido]]*Docentes_AE[[#This Row],[Número de horas]]*Docentes_AE[[#This Row],[Número de personas]],(Docentes_AE[[#This Row],[Valor hora ]]*Docentes_AE[[#This Row],[Número de horas]]*Docentes_AE[[#This Row],[Número de personas]])),\"\")","v":""},null,{"$f":"+IFERROR(Docentes_AE[[#This Row],[Costo parcial]]*Docentes_AE[[#This Row],[% Participación]]/100,\"\")","v":""}]
[null,null,null,null,{"$f":"++IF(Docentes_AE[[#This Row],[Puntos]]=\"\",\"\",Tabla208[Columna1])","v":""},{"$f":"+IFERROR(Docentes_AE[[#This Row],[Puntos]]*Docentes_AE[[#This Row],[Punto docente]]/100,\"\")","v":""},{"$f":"+IFERROR(Docentes_AE[[#This Row],[Valor hora Sugerido]]*(1+200%),\"\")","v":""},null,{"$f":"+IFERROR(IF(Docentes_AE[[#This Row],[Valor hora ]]=\"\",\"\",(Docentes_AE[[#This Row],[Valor hora ]]-Docentes_AE[[#This Row],[Valor hora Sugerido]])/Docentes_AE[[#This Row],[Valor hora Sugerido]]),\"\")","v":""},null,null,{"$f":"+IFERROR(IF(Docentes_AE[[#This Row],[Valor hora ]]=\"\",Docentes_AE[[#This Row],[Valor hora Sugerido]]*Docentes_AE[[#This Row],[Número de horas]]*Docentes_AE[[#This Row],[Número de personas]],(Docentes_AE[[#This Row],[Valor hora ]]*Docentes_AE[[#This Row],[Número de horas]]*Docentes_AE[[#This Row],[Número de personas]])),\"\")","v":""},null,{"$f":"+IFERROR(Docentes_AE[[#This Row],[Costo parcial]]*Docentes_AE[[#This Row],[% Participación]]/100,\"\")","v":""}]
[null,null,null,null,{"$f":"++IF(Docentes_AE[[#This Row],[Puntos]]=\"\",\"\",Tabla208[Columna1])","v":""},{"$f":"+IFERROR(Docentes_AE[[#This Row],[Puntos]]*Docentes_AE[[#This Row],[Punto docente]]/100,\"\")","v":""},{"$f":"+IFERROR(Docentes_AE[[#This Row],[Valor hora Sugerido]]*(1+200%),\"\")","v":""},null,{"$f":"+IFERROR(IF(Docentes_AE[[#This Row],[Valor hora ]]=\"\",\"\",(Docentes_AE[[#This Row],[Valor hora ]]-Docentes_AE[[#This Row],[Valor hora Sugerido]])/Docentes_AE[[#This Row],[Valor hora Sugerido]]),\"\")","v":""},null,null,{"$f":"+IFERROR(IF(Docentes_AE[[#This Row],[Valor hora ]]=\"\",Docentes_AE[[#This Row],[Valor hora Sugerido]]*Docentes_AE[[#This Row],[Número de horas]]*Docentes_AE[[#This Row],[Número de personas]],(Docentes_AE[[#This Row],[Valor hora ]]*Docentes_AE[[#This Row],[Número de horas]]*Docentes_AE[[#This Row],[Número de personas]])),\"\")","v":""},null,{"$f":"+IFERROR(Docentes_AE[[#This Row],[Costo parcial]]*Docentes_AE[[#This Row],[% Participación]]/100,\"\")","v":""}]
[null,null,null,null,{"$f":"++IF(Docentes_AE[[#This Row],[Puntos]]=\"\",\"\",Tabla208[Columna1])","v":""},{"$f":"+IFERROR(Docentes_AE[[#This Row],[Puntos]]*Docentes_AE[[#This Row],[Punto docente]]/100,\"\")","v":""},{"$f":"+IFERROR(Docentes_AE[[#This Row],[Valor hora Sugerido]]*(1+200%),\"\")","v":""},null,{"$f":"+IFERROR(IF(Docentes_AE[[#This Row],[Valor hora ]]=\"\",\"\",(Docentes_AE[[#This Row],[Valor hora ]]-Docentes_AE[[#This Row],[Valor hora Sugerido]])/Docentes_AE[[#This Row],[Valor hora Sugerido]]),\"\")","v":""},null,null,{"$f":"+IFERROR(IF(Docentes_AE[[#This Row],[Valor hora ]]=\"\",Docentes_AE[[#This Row],[Valor hora Sugerido]]*Docentes_AE[[#This Row],[Número de horas]]*Docentes_AE[[#This Row],[Número de personas]],(Docentes_AE[[#This Row],[Valor hora ]]*Docentes_AE[[#This Row],[Número de horas]]*Docentes_AE[[#This Row],[Número de personas]])),\"\")","v":""},null,{"$f":"+IFERROR(Docentes_AE[[#This Row],[Costo parcial]]*Docentes_AE[[#This Row],[% Participación]]/100,\"\")","v":""}]
[null,null,null,null,{"$f":"++IF(Docentes_AE[[#This Row],[Puntos]]=\"\",\"\",Tabla208[Columna1])","v":""},{"$f":"+IFERROR(Docentes_AE[[#This Row],[Puntos]]*Docentes_AE[[#This Row],[Punto docente]]/100,\"\")","v":""},{"$f":"+IFERROR(Docentes_AE[[#This Row],[Valor hora Sugerido]]*(1+200%),\"\")","v":""},null,{"$f":"+IFERROR(IF(Docentes_AE[[#This Row],[Valor hora ]]=\"\",\"\",(Docentes_AE[[#This Row],[Valor hora ]]-Docentes_AE[[#This Row],[Valor hora Sugerido]])/Docentes_AE[[#This Row],[Valor hora Sugerido]]),\"\")","v":""},null,null,{"$f":"+IFERROR(IF(Docentes_AE[[#This Row],[Valor hora ]]=\"\",Docentes_AE[[#This Row],[Valor hora Sugerido]]*Docentes_AE[[#This Row],[Número de horas]]*Docentes_AE[[#This Row],[Número de personas]],(Docentes_AE[[#This Row],[Valor hora ]]*Docentes_AE[[#This Row],[Número de horas]]*Docentes_AE[[#This Row],[Número de personas]])),\"\")","v":""},null,{"$f":"+IFERROR(Docentes_AE[[#This Row],[Costo parcial]]*Docentes_AE[[#This Row],[% Participación]]/100,\"\")","v":""}]
[null,null,null,null,{"$f":"++IF(Docentes_AE[[#This Row],[Puntos]]=\"\",\"\",Tabla208[Columna1])","v":""},{"$f":"+IFERROR(Docentes_AE[[#This Row],[Puntos]]*Docentes_AE[[#This Row],[Punto docente]]/100,\"\")","v":""},{"$f":"+IFERROR(Docentes_AE[[#This Row],[Valor hora Sugerido]]*(1+200%),\"\")","v":""},null,{"$f":"+IFERROR(IF(Docentes_AE[[#This Row],[Valor hora ]]=\"\",\"\",(Docentes_AE[[#This Row],[Valor hora ]]-Docentes_AE[[#This Row],[Valor hora Sugerido]])/Docentes_AE[[#This Row],[Valor hora Sugerido]]),\"\")","v":""},null,null,{"$f":"+IFERROR(IF(Docentes_AE[[#This Row],[Valor hora ]]=\"\",Docentes_AE[[#This Row],[Valor hora Sugerido]]*Docentes_AE[[#This Row],[Número de horas]]*Docentes_AE[[#This Row],[Número de personas]],(Docentes_AE[[#This Row],[Valor hora ]]*Docentes_AE[[#This Row],[Número de horas]]*Docentes_AE[[#This Row],[Número de personas]])),\"\")","v":""},null,{"$f":"+IFERROR(Docentes_AE[[#This Row],[Costo parcial]]*Docentes_AE[[#This Row],[% Participación]]/100,\"\")","v":""}]
[null,null,null,null,{"$f":"++IF(Docentes_AE[[#This Row],[Puntos]]=\"\",\"\",Tabla208[Columna1])","v":""},{"$f":"+IFERROR(Docentes_AE[[#This Row],[Puntos]]*Docentes_AE[[#This Row],[Punto docente]]/100,\"\")","v":""},{"$f":"+IFERROR(Docentes_AE[[#This Row],[Valor hora Sugerido]]*(1+200%),\"\")","v":""},null,{"$f":"+IFERROR(IF(Docentes_AE[[#This Row],[Valor hora ]]=\"\",\"\",(Docentes_AE[[#This Row],[Valor hora ]]-Docentes_AE[[#This Row],[Valor hora Sugerido]])/Docentes_AE[[#This Row],[Valor hora Sugerido]]),\"\")","v":""},null,null,{"$f":"+IFERROR(IF(Docentes_AE[[#This Row],[Valor hora ]]=\"\",Docentes_AE[[#This Row],[Valor hora Sugerido]]*Docentes_AE[[#This Row],[Número de horas]]*Docentes_AE[[#This Row],[Número de personas]],(Docentes_AE[[#This Row],[Valor hora ]]*Docentes_AE[[#This Row],[Número de horas]]*Docentes_AE[[#This Row],[Número de personas]])),\"\")","v":""},null,{"$f":"+IFERROR(Docentes_AE[[#This Row],[Costo parcial]]*Docentes_AE[[#This Row],[% Participación]]/100,\"\")","v":""}]
[null,null,null,null,{"$f":"++IF(Docentes_AE[[#This Row],[Puntos]]=\"\",\"\",Tabla208[Columna1])","v":""},{"$f":"+IFERROR(Docentes_AE[[#This Row],[Puntos]]*Docentes_AE[[#This Row],[Punto docente]]/100,\"\")","v":""},{"$f":"+IFERROR(Docentes_AE[[#This Row],[Valor hora Sugerido]]*(1+200%),\"\")","v":""},null,{"$f":"+IFERROR(IF(Docentes_AE[[#This Row],[Valor hora ]]=\"\",\"\",(Docentes_AE[[#This Row],[Valor hora ]]-Docentes_AE[[#This Row],[Valor hora Sugerido]])/Docentes_AE[[#This Row],[Valor hora Sugerido]]),\"\")","v":""},null,null,{"$f":"+IFERROR(IF(Docentes_AE[[#This Row],[Valor hora ]]=\"\",Docentes_AE[[#This Row],[Valor hora Sugerido]]*Docentes_AE[[#This Row],[Número de horas]]*Docentes_AE[[#This Row],[Número de personas]],(Docentes_AE[[#This Row],[Valor hora ]]*Docentes_AE[[#This Row],[Número de horas]]*Docentes_AE[[#This Row],[Número de personas]])),\"\")","v":""},null,{"$f":"+IFERROR(Docentes_AE[[#This Row],[Costo parcial]]*Docentes_AE[[#This Row],[% Participación]]/100,\"\")","v":""}]
[null,null,null,null,{"$f":"++IF(Docentes_AE[[#This Row],[Puntos]]=\"\",\"\",Tabla208[Columna1])","v":""},{"$f":"+IFERROR(Docentes_AE[[#This Row],[Puntos]]*Docentes_AE[[#This Row],[Punto docente]]/100,\"\")","v":""},{"$f":"+IFERROR(Docentes_AE[[#This Row],[Valor hora Sugerido]]*(1+200%),\"\")","v":""},null,{"$f":"+IFERROR(IF(Docentes_AE[[#This Row],[Valor hora ]]=\"\",\"\",(Docentes_AE[[#This Row],[Valor hora ]]-Docentes_AE[[#This Row],[Valor hora Sugerido]])/Docentes_AE[[#This Row],[Valor hora Sugerido]]),\"\")","v":""},null,null,{"$f":"+IFERROR(IF(Docentes_AE[[#This Row],[Valor hora ]]=\"\",Docentes_AE[[#This Row],[Valor hora Sugerido]]*Docentes_AE[[#This Row],[Número de horas]]*Docentes_AE[[#This Row],[Número de personas]],(Docentes_AE[[#This Row],[Valor hora ]]*Docentes_AE[[#This Row],[Número de horas]]*Docentes_AE[[#This Row],[Número de personas]])),\"\")","v":""},null,{"$f":"+IFERROR(Docentes_AE[[#This Row],[Costo parcial]]*Docentes_AE[[#This Row],[% Participación]]/100,\"\")","v":""}]
[null,null,null,null,{"$f":"++IF(Docentes_AE[[#This Row],[Puntos]]=\"\",\"\",Tabla208[Columna1])","v":""},{"$f":"+IFERROR(Docentes_AE[[#This Row],[Puntos]]*Docentes_AE[[#This Row],[Punto docente]]/100,\"\")","v":""},{"$f":"+IFERROR(Docentes_AE[[#This Row],[Valor hora Sugerido]]*(1+200%),\"\")","v":""},null,{"$f":"+IFERROR(IF(Docentes_AE[[#This Row],[Valor hora ]]=\"\",\"\",(Docentes_AE[[#This Row],[Valor hora ]]-Docentes_AE[[#This Row],[Valor hora Sugerido]])/Docentes_AE[[#This Row],[Valor hora Sugerido]]),\"\")","v":""},null,null,{"$f":"+IFERROR(IF(Docentes_AE[[#This Row],[Valor hora ]]=\"\",Docentes_AE[[#This Row],[Valor hora Sugerido]]*Docentes_AE[[#This Row],[Número de horas]]*Docentes_AE[[#This Row],[Número de personas]],(Docentes_AE[[#This Row],[Valor hora ]]*Docentes_AE[[#This Row],[Número de horas]]*Docentes_AE[[#This Row],[Número de personas]])),\"\")","v":""},null,{"$f":"+IFERROR(Docentes_AE[[#This Row],[Costo parcial]]*Docentes_AE[[#This Row],[% Participación]]/100,\"\")","v":""}]
[null,null,null,null,{"$f":"++IF(Docentes_AE[[#This Row],[Puntos]]=\"\",\"\",Tabla208[Columna1])","v":""},{"$f":"+IFERROR(Docentes_AE[[#This Row],[Puntos]]*Docentes_AE[[#This Row],[Punto docente]]/100,\"\")","v":""},{"$f":"+IFERROR(Docentes_AE[[#This Row],[Valor hora Sugerido]]*(1+200%),\"\")","v":""},null,{"$f":"+IFERROR(IF(Docentes_AE[[#This Row],[Valor hora ]]=\"\",\"\",(Docentes_AE[[#This Row],[Valor hora ]]-Docentes_AE[[#This Row],[Valor hora Sugerido]])/Docentes_AE[[#This Row],[Valor hora Sugerido]]),\"\")","v":""},null,null,{"$f":"+IFERROR(IF(Docentes_AE[[#This Row],[Valor hora ]]=\"\",Docentes_AE[[#This Row],[Valor hora Sugerido]]*Docentes_AE[[#This Row],[Número de horas]]*Docentes_AE[[#This Row],[Número de personas]],(Docentes_AE[[#This Row],[Valor hora ]]*Docentes_AE[[#This Row],[Número de horas]]*Docentes_AE[[#This Row],[Número de personas]])),\"\")","v":""},null,{"$f":"+IFERROR(Docentes_AE[[#This Row],[Costo parcial]]*Docentes_AE[[#This Row],[% Participación]]/100,\"\")","v":""}]
[null,null,null,null,{"$f":"++IF(Docentes_AE[[#This Row],[Puntos]]=\"\",\"\",Tabla208[Columna1])","v":""},{"$f":"+IFERROR(Docentes_AE[[#This Row],[Puntos]]*Docentes_AE[[#This Row],[Punto docente]]/100,\"\")","v":""},{"$f":"+IFERROR(Docentes_AE[[#This Row],[Valor hora Sugerido]]*(1+200%),\"\")","v":""},null,{"$f":"+IFERROR(IF(Docentes_AE[[#This Row],[Valor hora ]]=\"\",\"\",(Docentes_AE[[#This Row],[Valor hora ]]-Docentes_AE[[#This Row],[Valor hora Sugerido]])/Docentes_AE[[#This Row],[Valor hora Sugerido]]),\"\")","v":""},null,null,{"$f":"+IFERROR(IF(Docentes_AE[[#This Row],[Valor hora ]]=\"\",Docentes_AE[[#This Row],[Valor hora Sugerido]]*Docentes_AE[[#This Row],[Número de horas]]*Docentes_AE[[#This Row],[Número de personas]],(Docentes_AE[[#This Row],[Valor hora ]]*Docentes_AE[[#This Row],[Número de horas]]*Docentes_AE[[#This Row],[Número de personas]])),\"\")","v":""},null,{"$f":"+IFERROR(Docentes_AE[[#This Row],[Costo parcial]]*Docentes_AE[[#This Row],[% Participación]]/100,\"\")","v":""}]
[null,null,null,null,{"$f":"++IF(Docentes_AE[[#This Row],[Puntos]]=\"\",\"\",Tabla208[Columna1])","v":""},{"$f":"+IFERROR(Docentes_AE[[#This Row],[Puntos]]*Docentes_AE[[#This Row],[Punto docente]]/100,\"\")","v":""},{"$f":"+IFERROR(Docentes_AE[[#This Row],[Valor hora Sugerido]]*(1+200%),\"\")","v":""},null,{"$f":"+IFERROR(IF(Docentes_AE[[#This Row],[Valor hora ]]=\"\",\"\",(Docentes_AE[[#This Row],[Valor hora ]]-Docentes_AE[[#This Row],[Valor hora Sugerido]])/Docentes_AE[[#This Row],[Valor hora Sugerido]]),\"\")","v":""},null,null,{"$f":"+IFERROR(IF(Docentes_AE[[#This Row],[Valor hora ]]=\"\",Docentes_AE[[#This Row],[Valor hora Sugerido]]*Docentes_AE[[#This Row],[Número de horas]]*Docentes_AE[[#This Row],[Número de personas]],(Docentes_AE[[#This Row],[Valor hora ]]*Docentes_AE[[#This Row],[Número de horas]]*Docentes_AE[[#This Row],[Número de personas]])),\"\")","v":""},null,{"$f":"+IFERROR(Docentes_AE[[#This Row],[Costo parcial]]*Docentes_AE[[#This Row],[% Participación]]/100,\"\")","v":""}]
[null,null,null,null,{"$f":"++IF(Docentes_AE[[#This Row],[Puntos]]=\"\",\"\",Tabla208[Columna1])","v":""},{"$f":"+IFERROR(Docentes_AE[[#This Row],[Puntos]]*Docentes_AE[[#This Row],[Punto docente]]/100,\"\")","v":""},{"$f":"+IFERROR(Docentes_AE[[#This Row],[Valor hora Sugerido]]*(1+200%),\"\")","v":""},null,{"$f":"+IFERROR(IF(Docentes_AE[[#This Row],[Valor hora ]]=\"\",\"\",(Docentes_AE[[#This Row],[Valor hora ]]-Docentes_AE[[#This Row],[Valor hora Sugerido]])/Docentes_AE[[#This Row],[Valor hora Sugerido]]),\"\")","v":""},null,null,{"$f":"+IFERROR(IF(Docentes_AE[[#This Row],[Valor hora ]]=\"\",Docentes_AE[[#This Row],[Valor hora Sugerido]]*Docentes_AE[[#This Row],[Número de horas]]*Docentes_AE[[#This Row],[Número de personas]],(Docentes_AE[[#This Row],[Valor hora ]]*Docentes_AE[[#This Row],[Número de horas]]*Docentes_AE[[#This Row],[Número de personas]])),\"\")","v":""},null,{"$f":"+IFERROR(Docentes_AE[[#This Row],[Costo parcial]]*Docentes_AE[[#This Row],[% Participación]]/100,\"\")","v":""}]
[null,null,null,null,{"$f":"++IF(Docentes_AE[[#This Row],[Puntos]]=\"\",\"\",Tabla208[Columna1])","v":""},{"$f":"+IFERROR(Docentes_AE[[#This Row],[Puntos]]*Docentes_AE[[#This Row],[Punto docente]]/100,\"\")","v":""},{"$f":"+IFERROR(Docentes_AE[[#This Row],[Valor hora Sugerido]]*(1+200%),\"\")","v":""},null,{"$f":"+IFERROR(IF(Docentes_AE[[#This Row],[Valor hora ]]=\"\",\"\",(Docentes_AE[[#This Row],[Valor hora ]]-Docentes_AE[[#This Row],[Valor hora Sugerido]])/Docentes_AE[[#This Row],[Valor hora Sugerido]]),\"\")","v":""},null,null,{"$f":"+IFERROR(IF(Docentes_AE[[#This Row],[Valor hora ]]=\"\",Docentes_AE[[#This Row],[Valor hora Sugerido]]*Docentes_AE[[#This Row],[Número de horas]]*Docentes_AE[[#This Row],[Número de personas]],(Docentes_AE[[#This Row],[Valor hora ]]*Docentes_AE[[#This Row],[Número de horas]]*Docentes_AE[[#This Row],[Número de personas]])),\"\")","v":""},null,{"$f":"+IFERROR(Docentes_AE[[#This Row],[Costo parcial]]*Docentes_AE[[#This Row],[% Participación]]/100,\"\")","v":""}]
[null,null,null,null,{"$f":"++IF(Docentes_AE[[#This Row],[Puntos]]=\"\",\"\",Tabla208[Columna1])","v":""},{"$f":"+IFERROR(Docentes_AE[[#This Row],[Puntos]]*Docentes_AE[[#This Row],[Punto docente]]/100,\"\")","v":""},{"$f":"+IFERROR(Docentes_AE[[#This Row],[Valor hora Sugerido]]*(1+200%),\"\")","v":""},null,{"$f":"+IFERROR(IF(Docentes_AE[[#This Row],[Valor hora ]]=\"\",\"\",(Docentes_AE[[#This Row],[Valor hora ]]-Docentes_AE[[#This Row],[Valor hora Sugerido]])/Docentes_AE[[#This Row],[Valor hora Sugerido]]),\"\")","v":""},null,null,{"$f":"+IFERROR(IF(Docentes_AE[[#This Row],[Valor hora ]]=\"\",Docentes_AE[[#This Row],[Valor hora Sugerido]]*Docentes_AE[[#This Row],[Número de horas]]*Docentes_AE[[#This Row],[Número de personas]],(Docentes_AE[[#This Row],[Valor hora ]]*Docentes_AE[[#This Row],[Número de horas]]*Docentes_AE[[#This Row],[Número de personas]])),\"\")","v":""},null,{"$f":"+IFERROR(Docentes_AE[[#This Row],[Costo parcial]]*Docentes_AE[[#This Row],[% Participación]]/100,\"\")","v":""}]
[null,null,null,null,{"$f":"++IF(Docentes_AE[[#This Row],[Puntos]]=\"\",\"\",Tabla208[Columna1])","v":""},{"$f":"+IFERROR(Docentes_AE[[#This Row],[Puntos]]*Docentes_AE[[#This Row],[Punto docente]]/100,\"\")","v":""},{"$f":"+IFERROR(Docentes_AE[[#This Row],[Valor hora Sugerido]]*(1+200%),\"\")","v":""},null,{"$f":"+IFERROR(IF(Docentes_AE[[#This Row],[Valor hora ]]=\"\",\"\",(Docentes_AE[[#This Row],[Valor hora ]]-Docentes_AE[[#This Row],[Valor hora Sugerido]])/Docentes_AE[[#This Row],[Valor hora Sugerido]]),\"\")","v":""},null,null,{"$f":"+IFERROR(IF(Docentes_AE[[#This Row],[Valor hora ]]=\"\",Docentes_AE[[#This Row],[Valor hora Sugerido]]*Docentes_AE[[#This Row],[Número de horas]]*Docentes_AE[[#This Row],[Número de personas]],(Docentes_AE[[#This Row],[Valor hora ]]*Docentes_AE[[#This Row],[Número de horas]]*Docentes_AE[[#This Row],[Número de personas]])),\"\")","v":""},null,{"$f":"+IFERROR(Docentes_AE[[#This Row],[Costo parcial]]*Docentes_AE[[#This Row],[% Participación]]/100,\"\")","v":""}]
[null,null,null,null,{"$f":"++IF(Docentes_AE[[#This Row],[Puntos]]=\"\",\"\",Tabla208[Columna1])","v":""},{"$f":"+IFERROR(Docentes_AE[[#This Row],[Puntos]]*Docentes_AE[[#This Row],[Punto docente]]/100,\"\")","v":""},{"$f":"+IFERROR(Docentes_AE[[#This Row],[Valor hora Sugerido]]*(1+200%),\"\")","v":""},null,{"$f":"+IFERROR(IF(Docentes_AE[[#This Row],[Valor hora ]]=\"\",\"\",(Docentes_AE[[#This Row],[Valor hora ]]-Docentes_AE[[#This Row],[Valor hora Sugerido]])/Docentes_AE[[#This Row],[Valor hora Sugerido]]),\"\")","v":""},null,null,{"$f":"+IFERROR(IF(Docentes_AE[[#This Row],[Valor hora ]]=\"\",Docentes_AE[[#This Row],[Valor hora Sugerido]]*Docentes_AE[[#This Row],[Número de horas]]*Docentes_AE[[#This Row],[Número de personas]],(Docentes_AE[[#This Row],[Valor hora ]]*Docentes_AE[[#This Row],[Número de horas]]*Docentes_AE[[#This Row],[Número de personas]])),\"\")","v":""},null,{"$f":"+IFERROR(Docentes_AE[[#This Row],[Costo parcial]]*Docentes_AE[[#This Row],[% Participación]]/100,\"\")","v":""}]
[null,null,null,null,{"$f":"++IF(Docentes_AE[[#This Row],[Puntos]]=\"\",\"\",Tabla208[Columna1])","v":""},{"$f":"+IFERROR(Docentes_AE[[#This Row],[Puntos]]*Docentes_AE[[#This Row],[Punto docente]]/100,\"\")","v":""},{"$f":"+IFERROR(Docentes_AE[[#This Row],[Valor hora Sugerido]]*(1+200%),\"\")","v":""},null,{"$f":"+IFERROR(IF(Docentes_AE[[#This Row],[Valor hora ]]=\"\",\"\",(Docentes_AE[[#This Row],[Valor hora ]]-Docentes_AE[[#This Row],[Valor hora Sugerido]])/Docentes_AE[[#This Row],[Valor hora Sugerido]]),\"\")","v":""},null,null,{"$f":"+IFERROR(IF(Docentes_AE[[#This Row],[Valor hora ]]=\"\",Docentes_AE[[#This Row],[Valor hora Sugerido]]*Docentes_AE[[#This Row],[Número de horas]]*Docentes_AE[[#This Row],[Número de personas]],(Docentes_AE[[#This Row],[Valor hora ]]*Docentes_AE[[#This Row],[Número de horas]]*Docentes_AE[[#This Row],[Número de personas]])),\"\")","v":""},null,{"$f":"+IFERROR(Docentes_AE[[#This Row],[Costo parcial]]*Docentes_AE[[#This Row],[% Participación]]/100,\"\")","v":""}]
[null,null,null,null,{"$f":"++IF(Docentes_AE[[#This Row],[Puntos]]=\"\",\"\",Tabla208[Columna1])","v":""},{"$f":"+IFERROR(Docentes_AE[[#This Row],[Puntos]]*Docentes_AE[[#This Row],[Punto docente]]/100,\"\")","v":""},{"$f":"+IFERROR(Docentes_AE[[#This Row],[Valor hora Sugerido]]*(1+200%),\"\")","v":""},null,{"$f":"+IFERROR(IF(Docentes_AE[[#This Row],[Valor hora ]]=\"\",\"\",(Docentes_AE[[#This Row],[Valor hora ]]-Docentes_AE[[#This Row],[Valor hora Sugerido]])/Docentes_AE[[#This Row],[Valor hora Sugerido]]),\"\")","v":""},null,null,{"$f":"+IFERROR(IF(Docentes_AE[[#This Row],[Valor hora ]]=\"\",Docentes_AE[[#This Row],[Valor hora Sugerido]]*Docentes_AE[[#This Row],[Número de horas]]*Docentes_AE[[#This Row],[Número de personas]],(Docentes_AE[[#This Row],[Valor hora ]]*Docentes_AE[[#This Row],[Número de horas]]*Docentes_AE[[#This Row],[Número de personas]])),\"\")","v":""},null,{"$f":"+IFERROR(Docentes_AE[[#This Row],[Costo parcial]]*Docentes_AE[[#This Row],[% Participación]]/100,\"\")","v":""}]
[null,null,null,null,{"$f":"++IF(Docentes_AE[[#This Row],[Puntos]]=\"\",\"\",Tabla208[Columna1])","v":""},{"$f":"+IFERROR(Docentes_AE[[#This Row],[Puntos]]*Docentes_AE[[#This Row],[Punto docente]]/100,\"\")","v":""},{"$f":"+IFERROR(Docentes_AE[[#This Row],[Valor hora Sugerido]]*(1+200%),\"\")","v":""},null,{"$f":"+IFERROR(IF(Docentes_AE[[#This Row],[Valor hora ]]=\"\",\"\",(Docentes_AE[[#This Row],[Valor hora ]]-Docentes_AE[[#This Row],[Valor hora Sugerido]])/Docentes_AE[[#This Row],[Valor hora Sugerido]]),\"\")","v":""},null,null,{"$f":"+IFERROR(IF(Docentes_AE[[#This Row],[Valor hora ]]=\"\",Docentes_AE[[#This Row],[Valor hora Sugerido]]*Docentes_AE[[#This Row],[Número de horas]]*Docentes_AE[[#This Row],[Número de personas]],(Docentes_AE[[#This Row],[Valor hora ]]*Docentes_AE[[#This Row],[Número de horas]]*Docentes_AE[[#This Row],[Número de personas]])),\"\")","v":""},null,{"$f":"+IFERROR(Docentes_AE[[#This Row],[Costo parcial]]*Docentes_AE[[#This Row],[% Participación]]/100,\"\")","v":""}]
[null,null,null,null,{"$f":"++IF(Docentes_AE[[#This Row],[Puntos]]=\"\",\"\",Tabla208[Columna1])","v":""},{"$f":"+IFERROR(Docentes_AE[[#This Row],[Puntos]]*Docentes_AE[[#This Row],[Punto docente]]/100,\"\")","v":""},{"$f":"+IFERROR(Docentes_AE[[#This Row],[Valor hora Sugerido]]*(1+200%),\"\")","v":""},null,{"$f":"+IFERROR(IF(Docentes_AE[[#This Row],[Valor hora ]]=\"\",\"\",(Docentes_AE[[#This Row],[Valor hora ]]-Docentes_AE[[#This Row],[Valor hora Sugerido]])/Docentes_AE[[#This Row],[Valor hora Sugerido]]),\"\")","v":""},null,null,{"$f":"+IFERROR(IF(Docentes_AE[[#This Row],[Valor hora ]]=\"\",Docentes_AE[[#This Row],[Valor hora Sugerido]]*Docentes_AE[[#This Row],[Número de horas]]*Docentes_AE[[#This Row],[Número de personas]],(Docentes_AE[[#This Row],[Valor hora ]]*Docentes_AE[[#This Row],[Número de horas]]*Docentes_AE[[#This Row],[Número de personas]])),\"\")","v":""},null,{"$f":"+IFERROR(Docentes_AE[[#This Row],[Costo parcial]]*Docentes_AE[[#This Row],[% Participación]]/100,\"\")","v":""}]
[null,null,null,null,{"$f":"++IF(Docentes_AE[[#This Row],[Puntos]]=\"\",\"\",Tabla208[Columna1])","v":""},{"$f":"+IFERROR(Docentes_AE[[#This Row],[Puntos]]*Docentes_AE[[#This Row],[Punto docente]]/100,\"\")","v":""},{"$f":"+IFERROR(Docentes_AE[[#This Row],[Valor hora Sugerido]]*(1+200%),\"\")","v":""},null,{"$f":"+IFERROR(IF(Docentes_AE[[#This Row],[Valor hora ]]=\"\",\"\",(Docentes_AE[[#This Row],[Valor hora ]]-Docentes_AE[[#This Row],[Valor hora Sugerido]])/Docentes_AE[[#This Row],[Valor hora Sugerido]]),\"\")","v":""},null,null,{"$f":"+IFERROR(IF(Docentes_AE[[#This Row],[Valor hora ]]=\"\",Docentes_AE[[#This Row],[Valor hora Sugerido]]*Docentes_AE[[#This Row],[Número de horas]]*Docentes_AE[[#This Row],[Número de personas]],(Docentes_AE[[#This Row],[Valor hora ]]*Docentes_AE[[#This Row],[Número de horas]]*Docentes_AE[[#This Row],[Número de personas]])),\"\")","v":""},null,{"$f":"+IFERROR(Docentes_AE[[#This Row],[Costo parcial]]*Docentes_AE[[#This Row],[% Participación]]/100,\"\")","v":""}]
[null,null,null,null,{"$f":"++IF(Docentes_AE[[#This Row],[Puntos]]=\"\",\"\",Tabla208[Columna1])","v":""},{"$f":"+IFERROR(Docentes_AE[[#This Row],[Puntos]]*Docentes_AE[[#This Row],[Punto docente]]/100,\"\")","v":""},{"$f":"+IFERROR(Docentes_AE[[#This Row],[Valor hora Sugerido]]*(1+200%),\"\")","v":""},null,{"$f":"+IFERROR(IF(Docentes_AE[[#This Row],[Valor hora ]]=\"\",\"\",(Docentes_AE[[#This Row],[Valor hora ]]-Docentes_AE[[#This Row],[Valor hora Sugerido]])/Docentes_AE[[#This Row],[Valor hora Sugerido]]),\"\")","v":""},null,null,{"$f":"+IFERROR(IF(Docentes_AE[[#This Row],[Valor hora ]]=\"\",Docentes_AE[[#This Row],[Valor hora Sugerido]]*Docentes_AE[[#This Row],[Número de horas]]*Docentes_AE[[#This Row],[Número de personas]],(Docentes_AE[[#This Row],[Valor hora ]]*Docentes_AE[[#This Row],[Número de horas]]*Docentes_AE[[#This Row],[Número de personas]])),\"\")","v":""},null,{"$f":"+IFERROR(Docentes_AE[[#This Row],[Costo parcial]]*Docentes_AE[[#This Row],[% Participación]]/100,\"\")","v":""}]
[null,null,null,null,{"$f":"++IF(Docentes_AE[[#This Row],[Puntos]]=\"\",\"\",Tabla208[Columna1])","v":""},{"$f":"+IFERROR(Docentes_AE[[#This Row],[Puntos]]*Docentes_AE[[#This Row],[Punto docente]]/100,\"\")","v":""},{"$f":"+IFERROR(Docentes_AE[[#This Row],[Valor hora Sugerido]]*(1+200%),\"\")","v":""},null,{"$f":"+IFERROR(IF(Docentes_AE[[#This Row],[Valor hora ]]=\"\",\"\",(Docentes_AE[[#This Row],[Valor hora ]]-Docentes_AE[[#This Row],[Valor hora Sugerido]])/Docentes_AE[[#This Row],[Valor hora Sugerido]]),\"\")","v":""},null,null,{"$f":"+IFERROR(IF(Docentes_AE[[#This Row],[Valor hora ]]=\"\",Docentes_AE[[#This Row],[Valor hora Sugerido]]*Docentes_AE[[#This Row],[Número de horas]]*Docentes_AE[[#This Row],[Número de personas]],(Docentes_AE[[#This Row],[Valor hora ]]*Docentes_AE[[#This Row],[Número de horas]]*Docentes_AE[[#This Row],[Número de personas]])),\"\")","v":""},null,{"$f":"+IFERROR(Docentes_AE[[#This Row],[Costo parcial]]*Docentes_AE[[#This Row],[% Participación]]/100,\"\")","v":""}]
[null,null,null,null,{"$f":"++IF(Docentes_AE[[#This Row],[Puntos]]=\"\",\"\",Tabla208[Columna1])","v":""},{"$f":"+IFERROR(Docentes_AE[[#This Row],[Puntos]]*Docentes_AE[[#This Row],[Punto docente]]/100,\"\")","v":""},{"$f":"+IFERROR(Docentes_AE[[#This Row],[Valor hora Sugerido]]*(1+200%),\"\")","v":""},null,{"$f":"+IFERROR(IF(Docentes_AE[[#This Row],[Valor hora ]]=\"\",\"\",(Docentes_AE[[#This Row],[Valor hora ]]-Docentes_AE[[#This Row],[Valor hora Sugerido]])/Docentes_AE[[#This Row],[Valor hora Sugerido]]),\"\")","v":""},null,null,{"$f":"+IFERROR(IF(Docentes_AE[[#This Row],[Valor hora ]]=\"\",Docentes_AE[[#This Row],[Valor hora Sugerido]]*Docentes_AE[[#This Row],[Número de horas]]*Docentes_AE[[#This Row],[Número de personas]],(Docentes_AE[[#This Row],[Valor hora ]]*Docentes_AE[[#This Row],[Número de horas]]*Docentes_AE[[#This Row],[Número de personas]])),\"\")","v":""},null,{"$f":"+IFERROR(Docentes_AE[[#This Row],[Costo parcial]]*Docentes_AE[[#This Row],[% Participación]]/100,\"\")","v":""}]
[null,null,null,null,{"$f":"++IF(Docentes_AE[[#This Row],[Puntos]]=\"\",\"\",Tabla208[Columna1])","v":""},{"$f":"+IFERROR(Docentes_AE[[#This Row],[Puntos]]*Docentes_AE[[#This Row],[Punto docente]]/100,\"\")","v":""},{"$f":"+IFERROR(Docentes_AE[[#This Row],[Valor hora Sugerido]]*(1+200%),\"\")","v":""},null,{"$f":"+IFERROR(IF(Docentes_AE[[#This Row],[Valor hora ]]=\"\",\"\",(Docentes_AE[[#This Row],[Valor hora ]]-Docentes_AE[[#This Row],[Valor hora Sugerido]])/Docentes_AE[[#This Row],[Valor hora Sugerido]]),\"\")","v":""},null,null,{"$f":"+IFERROR(IF(Docentes_AE[[#This Row],[Valor hora ]]=\"\",Docentes_AE[[#This Row],[Valor hora Sugerido]]*Docentes_AE[[#This Row],[Número de horas]]*Docentes_AE[[#This Row],[Número de personas]],(Docentes_AE[[#This Row],[Valor hora ]]*Docentes_AE[[#This Row],[Número de horas]]*Docentes_AE[[#This Row],[Número de personas]])),\"\")","v":""},null,{"$f":"+IFERROR(Docentes_AE[[#This Row],[Costo parcial]]*Docentes_AE[[#This Row],[% Participación]]/100,\"\")","v":""}]
[null,null,null,null,{"$f":"++IF(Docentes_AE[[#This Row],[Puntos]]=\"\",\"\",Tabla208[Columna1])","v":""},{"$f":"+IFERROR(Docentes_AE[[#This Row],[Puntos]]*Docentes_AE[[#This Row],[Punto docente]]/100,\"\")","v":""},{"$f":"+IFERROR(Docentes_AE[[#This Row],[Valor hora Sugerido]]*(1+200%),\"\")","v":""},null,{"$f":"+IFERROR(IF(Docentes_AE[[#This Row],[Valor hora ]]=\"\",\"\",(Docentes_AE[[#This Row],[Valor hora ]]-Docentes_AE[[#This Row],[Valor hora Sugerido]])/Docentes_AE[[#This Row],[Valor hora Sugerido]]),\"\")","v":""},null,null,{"$f":"+IFERROR(IF(Docentes_AE[[#This Row],[Valor hora ]]=\"\",Docentes_AE[[#This Row],[Valor hora Sugerido]]*Docentes_AE[[#This Row],[Número de horas]]*Docentes_AE[[#This Row],[Número de personas]],(Docentes_AE[[#This Row],[Valor hora ]]*Docentes_AE[[#This Row],[Número de horas]]*Docentes_AE[[#This Row],[Número de personas]])),\"\")","v":""},null,{"$f":"+IFERROR(Docentes_AE[[#This Row],[Costo parcial]]*Docentes_AE[[#This Row],[% Participación]]/100,\"\")","v":""}]
[null,null,null,null,{"$f":"++IF(Docentes_AE[[#This Row],[Puntos]]=\"\",\"\",Tabla208[Columna1])","v":""},{"$f":"+IFERROR(Docentes_AE[[#This Row],[Puntos]]*Docentes_AE[[#This Row],[Punto docente]]/100,\"\")","v":""},{"$f":"+IFERROR(Docentes_AE[[#This Row],[Valor hora Sugerido]]*(1+200%),\"\")","v":""},null,{"$f":"+IFERROR(IF(Docentes_AE[[#This Row],[Valor hora ]]=\"\",\"\",(Docentes_AE[[#This Row],[Valor hora ]]-Docentes_AE[[#This Row],[Valor hora Sugerido]])/Docentes_AE[[#This Row],[Valor hora Sugerido]]),\"\")","v":""},null,null,{"$f":"+IFERROR(IF(Docentes_AE[[#This Row],[Valor hora ]]=\"\",Docentes_AE[[#This Row],[Valor hora Sugerido]]*Docentes_AE[[#This Row],[Número de horas]]*Docentes_AE[[#This Row],[Número de personas]],(Docentes_AE[[#This Row],[Valor hora ]]*Docentes_AE[[#This Row],[Número de horas]]*Docentes_AE[[#This Row],[Número de personas]])),\"\")","v":""},null,{"$f":"+IFERROR(Docentes_AE[[#This Row],[Costo parcial]]*Docentes_AE[[#This Row],[% Participación]]/100,\"\")","v":""}]
[null,null,null,null,{"$f":"++IF(Docentes_AE[[#This Row],[Puntos]]=\"\",\"\",Tabla208[Columna1])","v":""},{"$f":"+IFERROR(Docentes_AE[[#This Row],[Puntos]]*Docentes_AE[[#This Row],[Punto docente]]/100,\"\")","v":""},{"$f":"+IFERROR(Docentes_AE[[#This Row],[Valor hora Sugerido]]*(1+200%),\"\")","v":""},null,{"$f":"+IFERROR(IF(Docentes_AE[[#This Row],[Valor hora ]]=\"\",\"\",(Docentes_AE[[#This Row],[Valor hora ]]-Docentes_AE[[#This Row],[Valor hora Sugerido]])/Docentes_AE[[#This Row],[Valor hora Sugerido]]),\"\")","v":""},null,null,{"$f":"+IFERROR(IF(Docentes_AE[[#This Row],[Valor hora ]]=\"\",Docentes_AE[[#This Row],[Valor hora Sugerido]]*Docentes_AE[[#This Row],[Número de horas]]*Docentes_AE[[#This Row],[Número de personas]],(Docentes_AE[[#This Row],[Valor hora ]]*Docentes_AE[[#This Row],[Número de horas]]*Docentes_AE[[#This Row],[Número de personas]])),\"\")","v":""},null,{"$f":"+IFERROR(Docentes_AE[[#This Row],[Costo parcial]]*Docentes_AE[[#This Row],[% Participación]]/100,\"\")","v":""}]
[null,null,null,null,{"$f":"++IF(Docentes_AE[[#This Row],[Puntos]]=\"\",\"\",Tabla208[Columna1])","v":""},{"$f":"+IFERROR(Docentes_AE[[#This Row],[Puntos]]*Docentes_AE[[#This Row],[Punto docente]]/100,\"\")","v":""},{"$f":"+IFERROR(Docentes_AE[[#This Row],[Valor hora Sugerido]]*(1+200%),\"\")","v":""},null,{"$f":"+IFERROR(IF(Docentes_AE[[#This Row],[Valor hora ]]=\"\",\"\",(Docentes_AE[[#This Row],[Valor hora ]]-Docentes_AE[[#This Row],[Valor hora Sugerido]])/Docentes_AE[[#This Row],[Valor hora Sugerido]]),\"\")","v":""},null,null,{"$f":"+IFERROR(IF(Docentes_AE[[#This Row],[Valor hora ]]=\"\",Docentes_AE[[#This Row],[Valor hora Sugerido]]*Docentes_AE[[#This Row],[Número de horas]]*Docentes_AE[[#This Row],[Número de personas]],(Docentes_AE[[#This Row],[Valor hora ]]*Docentes_AE[[#This Row],[Número de horas]]*Docentes_AE[[#This Row],[Número de personas]])),\"\")","v":""},null,{"$f":"+IFERROR(Docentes_AE[[#This Row],[Costo parcial]]*Docentes_AE[[#This Row],[% Participación]]/100,\"\")","v":""}]
[null,null,null,null,{"$f":"++IF(Docentes_AE[[#This Row],[Puntos]]=\"\",\"\",Tabla208[Columna1])","v":""},{"$f":"+IFERROR(Docentes_AE[[#This Row],[Puntos]]*Docentes_AE[[#This Row],[Punto docente]]/100,\"\")","v":""},{"$f":"+IFERROR(Docentes_AE[[#This Row],[Valor hora Sugerido]]*(1+200%),\"\")","v":""},null,{"$f":"+IFERROR(IF(Docentes_AE[[#This Row],[Valor hora ]]=\"\",\"\",(Docentes_AE[[#This Row],[Valor hora ]]-Docentes_AE[[#This Row],[Valor hora Sugerido]])/Docentes_AE[[#This Row],[Valor hora Sugerido]]),\"\")","v":""},null,null,{"$f":"+IFERROR(IF(Docentes_AE[[#This Row],[Valor hora ]]=\"\",Docentes_AE[[#This Row],[Valor hora Sugerido]]*Docentes_AE[[#This Row],[Número de horas]]*Docentes_AE[[#This Row],[Número de personas]],(Docentes_AE[[#This Row],[Valor hora ]]*Docentes_AE[[#This Row],[Número de horas]]*Docentes_AE[[#This Row],[Número de personas]])),\"\")","v":""},null,{"$f":"+IFERROR(Docentes_AE[[#This Row],[Costo parcial]]*Docentes_AE[[#This Row],[% Participación]]/100,\"\")","v":""}]
[null,null,null,null,{"$f":"++IF(Docentes_AE[[#This Row],[Puntos]]=\"\",\"\",Tabla208[Columna1])","v":""},{"$f":"+IFERROR(Docentes_AE[[#This Row],[Puntos]]*Docentes_AE[[#This Row],[Punto docente]]/100,\"\")","v":""},{"$f":"+IFERROR(Docentes_AE[[#This Row],[Valor hora Sugerido]]*(1+200%),\"\")","v":""},null,{"$f":"+IFERROR(IF(Docentes_AE[[#This Row],[Valor hora ]]=\"\",\"\",(Docentes_AE[[#This Row],[Valor hora ]]-Docentes_AE[[#This Row],[Valor hora Sugerido]])/Docentes_AE[[#This Row],[Valor hora Sugerido]]),\"\")","v":""},null,null,{"$f":"+IFERROR(IF(Docentes_AE[[#This Row],[Valor hora ]]=\"\",Docentes_AE[[#This Row],[Valor hora Sugerido]]*Docentes_AE[[#This Row],[Número de horas]]*Docentes_AE[[#This Row],[Número de personas]],(Docentes_AE[[#This Row],[Valor hora ]]*Docentes_AE[[#This Row],[Número de horas]]*Docentes_AE[[#This Row],[Número de personas]])),\"\")","v":""},null,{"$f":"+IFERROR(Docentes_AE[[#This Row],[Costo parcial]]*Docentes_AE[[#This Row],[% Participación]]/100,\"\")","v":""}]
[null,null,null,null,{"$f":"++IF(Docentes_AE[[#This Row],[Puntos]]=\"\",\"\",Tabla208[Columna1])","v":""},{"$f":"+IFERROR(Docentes_AE[[#This Row],[Puntos]]*Docentes_AE[[#This Row],[Punto docente]]/100,\"\")","v":""},{"$f":"+IFERROR(Docentes_AE[[#This Row],[Valor hora Sugerido]]*(1+200%),\"\")","v":""},null,{"$f":"+IFERROR(IF(Docentes_AE[[#This Row],[Valor hora ]]=\"\",\"\",(Docentes_AE[[#This Row],[Valor hora ]]-Docentes_AE[[#This Row],[Valor hora Sugerido]])/Docentes_AE[[#This Row],[Valor hora Sugerido]]),\"\")","v":""},null,null,{"$f":"+IFERROR(IF(Docentes_AE[[#This Row],[Valor hora ]]=\"\",Docentes_AE[[#This Row],[Valor hora Sugerido]]*Docentes_AE[[#This Row],[Número de horas]]*Docentes_AE[[#This Row],[Número de personas]],(Docentes_AE[[#This Row],[Valor hora ]]*Docentes_AE[[#This Row],[Número de horas]]*Docentes_AE[[#This Row],[Número de personas]])),\"\")","v":""},null,{"$f":"+IFERROR(Docentes_AE[[#This Row],[Costo parcial]]*Docentes_AE[[#This Row],[% Participación]]/100,\"\")","v":""}]
[null,null,null,null,{"$f":"++IF(Docentes_AE[[#This Row],[Puntos]]=\"\",\"\",Tabla208[Columna1])","v":""},{"$f":"+IFERROR(Docentes_AE[[#This Row],[Puntos]]*Docentes_AE[[#This Row],[Punto docente]]/100,\"\")","v":""},{"$f":"+IFERROR(Docentes_AE[[#This Row],[Valor hora Sugerido]]*(1+200%),\"\")","v":""},null,{"$f":"+IFERROR(IF(Docentes_AE[[#This Row],[Valor hora ]]=\"\",\"\",(Docentes_AE[[#This Row],[Valor hora ]]-Docentes_AE[[#This Row],[Valor hora Sugerido]])/Docentes_AE[[#This Row],[Valor hora Sugerido]]),\"\")","v":""},null,null,{"$f":"+IFERROR(IF(Docentes_AE[[#This Row],[Valor hora ]]=\"\",Docentes_AE[[#This Row],[Valor hora Sugerido]]*Docentes_AE[[#This Row],[Número de horas]]*Docentes_AE[[#This Row],[Número de personas]],(Docentes_AE[[#This Row],[Valor hora ]]*Docentes_AE[[#This Row],[Número de horas]]*Docentes_AE[[#This Row],[Número de personas]])),\"\")","v":""},null,{"$f":"+IFERROR(Docentes_AE[[#This Row],[Costo parcial]]*Docentes_AE[[#This Row],[% Participación]]/100,\"\")","v":""}]
[null,null,null,null,{"$f":"++IF(Docentes_AE[[#This Row],[Puntos]]=\"\",\"\",Tabla208[Columna1])","v":""},{"$f":"+IFERROR(Docentes_AE[[#This Row],[Puntos]]*Docentes_AE[[#This Row],[Punto docente]]/100,\"\")","v":""},{"$f":"+IFERROR(Docentes_AE[[#This Row],[Valor hora Sugerido]]*(1+200%),\"\")","v":""},null,{"$f":"+IFERROR(IF(Docentes_AE[[#This Row],[Valor hora ]]=\"\",\"\",(Docentes_AE[[#This Row],[Valor hora ]]-Docentes_AE[[#This Row],[Valor hora Sugerido]])/Docentes_AE[[#This Row],[Valor hora Sugerido]]),\"\")","v":""},null,null,{"$f":"+IFERROR(IF(Docentes_AE[[#This Row],[Valor hora ]]=\"\",Docentes_AE[[#This Row],[Valor hora Sugerido]]*Docentes_AE[[#This Row],[Número de horas]]*Docentes_AE[[#This Row],[Número de personas]],(Docentes_AE[[#This Row],[Valor hora ]]*Docentes_AE[[#This Row],[Número de horas]]*Docentes_AE[[#This Row],[Número de personas]])),\"\")","v":""},null,{"$f":"+IFERROR(Docentes_AE[[#This Row],[Costo parcial]]*Docentes_AE[[#This Row],[% Participación]]/100,\"\")","v":""}]
[null,null,null,null,{"$f":"++IF(Docentes_AE[[#This Row],[Puntos]]=\"\",\"\",Tabla208[Columna1])","v":""},{"$f":"+IFERROR(Docentes_AE[[#This Row],[Puntos]]*Docentes_AE[[#This Row],[Punto docente]]/100,\"\")","v":""},{"$f":"+IFERROR(Docentes_AE[[#This Row],[Valor hora Sugerido]]*(1+200%),\"\")","v":""},null,{"$f":"+IFERROR(IF(Docentes_AE[[#This Row],[Valor hora ]]=\"\",\"\",(Docentes_AE[[#This Row],[Valor hora ]]-Docentes_AE[[#This Row],[Valor hora Sugerido]])/Docentes_AE[[#This Row],[Valor hora Sugerido]]),\"\")","v":""},null,null,{"$f":"+IFERROR(IF(Docentes_AE[[#This Row],[Valor hora ]]=\"\",Docentes_AE[[#This Row],[Valor hora Sugerido]]*Docentes_AE[[#This Row],[Número de horas]]*Docentes_AE[[#This Row],[Número de personas]],(Docentes_AE[[#This Row],[Valor hora ]]*Docentes_AE[[#This Row],[Número de horas]]*Docentes_AE[[#This Row],[Número de personas]])),\"\")","v":""},null,{"$f":"+IFERROR(Docentes_AE[[#This Row],[Costo parcial]]*Docentes_AE[[#This Row],[% Participación]]/100,\"\")","v":""}]
[null,null,null,null,{"$f":"++IF(Docentes_AE[[#This Row],[Puntos]]=\"\",\"\",Tabla208[Columna1])","v":""},{"$f":"+IFERROR(Docentes_AE[[#This Row],[Puntos]]*Docentes_AE[[#This Row],[Punto docente]]/100,\"\")","v":""},{"$f":"+IFERROR(Docentes_AE[[#This Row],[Valor hora Sugerido]]*(1+200%),\"\")","v":""},null,{"$f":"+IFERROR(IF(Docentes_AE[[#This Row],[Valor hora ]]=\"\",\"\",(Docentes_AE[[#This Row],[Valor hora ]]-Docentes_AE[[#This Row],[Valor hora Sugerido]])/Docentes_AE[[#This Row],[Valor hora Sugerido]]),\"\")","v":""},null,null,{"$f":"+IFERROR(IF(Docentes_AE[[#This Row],[Valor hora ]]=\"\",Docentes_AE[[#This Row],[Valor hora Sugerido]]*Docentes_AE[[#This Row],[Número de horas]]*Docentes_AE[[#This Row],[Número de personas]],(Docentes_AE[[#This Row],[Valor hora ]]*Docentes_AE[[#This Row],[Número de horas]]*Docentes_AE[[#This Row],[Número de personas]])),\"\")","v":""},null,{"$f":"+IFERROR(Docentes_AE[[#This Row],[Costo parcial]]*Docentes_AE[[#This Row],[% Participación]]/100,\"\")","v":""}]
[null,null,null,null,{"$f":"++IF(Docentes_AE[[#This Row],[Puntos]]=\"\",\"\",Tabla208[Columna1])","v":""},{"$f":"+IFERROR(Docentes_AE[[#This Row],[Puntos]]*Docentes_AE[[#This Row],[Punto docente]]/100,\"\")","v":""},{"$f":"+IFERROR(Docentes_AE[[#This Row],[Valor hora Sugerido]]*(1+200%),\"\")","v":""},null,{"$f":"+IFERROR(IF(Docentes_AE[[#This Row],[Valor hora ]]=\"\",\"\",(Docentes_AE[[#This Row],[Valor hora ]]-Docentes_AE[[#This Row],[Valor hora Sugerido]])/Docentes_AE[[#This Row],[Valor hora Sugerido]]),\"\")","v":""},null,null,{"$f":"+IFERROR(IF(Docentes_AE[[#This Row],[Valor hora ]]=\"\",Docentes_AE[[#This Row],[Valor hora Sugerido]]*Docentes_AE[[#This Row],[Número de horas]]*Docentes_AE[[#This Row],[Número de personas]],(Docentes_AE[[#This Row],[Valor hora ]]*Docentes_AE[[#This Row],[Número de horas]]*Docentes_AE[[#This Row],[Número de personas]])),\"\")","v":""},null,{"$f":"+IFERROR(Docentes_AE[[#This Row],[Costo parcial]]*Docentes_AE[[#This Row],[% Participación]]/100,\"\")","v":""}]
[null,null,null,null,{"$f":"++IF(Docentes_AE[[#This Row],[Puntos]]=\"\",\"\",Tabla208[Columna1])","v":""},{"$f":"+IFERROR(Docentes_AE[[#This Row],[Puntos]]*Docentes_AE[[#This Row],[Punto docente]]/100,\"\")","v":""},{"$f":"+IFERROR(Docentes_AE[[#This Row],[Valor hora Sugerido]]*(1+200%),\"\")","v":""},null,{"$f":"+IFERROR(IF(Docentes_AE[[#This Row],[Valor hora ]]=\"\",\"\",(Docentes_AE[[#This Row],[Valor hora ]]-Docentes_AE[[#This Row],[Valor hora Sugerido]])/Docentes_AE[[#This Row],[Valor hora Sugerido]]),\"\")","v":""},null,null,{"$f":"+IFERROR(IF(Docentes_AE[[#This Row],[Valor hora ]]=\"\",Docentes_AE[[#This Row],[Valor hora Sugerido]]*Docentes_AE[[#This Row],[Número de horas]]*Docentes_AE[[#This Row],[Número de personas]],(Docentes_AE[[#This Row],[Valor hora ]]*Docentes_AE[[#This Row],[Número de horas]]*Docentes_AE[[#This Row],[Número de personas]])),\"\")","v":""},null,{"$f":"+IFERROR(Docentes_AE[[#This Row],[Costo parcial]]*Docentes_AE[[#This Row],[% Participación]]/100,\"\")","v":""}]
[null,null,null,null,{"$f":"++IF(Docentes_AE[[#This Row],[Puntos]]=\"\",\"\",Tabla208[Columna1])","v":""},{"$f":"+IFERROR(Docentes_AE[[#This Row],[Puntos]]*Docentes_AE[[#This Row],[Punto docente]]/100,\"\")","v":""},{"$f":"+IFERROR(Docentes_AE[[#This Row],[Valor hora Sugerido]]*(1+200%),\"\")","v":""},null,{"$f":"+IFERROR(IF(Docentes_AE[[#This Row],[Valor hora ]]=\"\",\"\",(Docentes_AE[[#This Row],[Valor hora ]]-Docentes_AE[[#This Row],[Valor hora Sugerido]])/Docentes_AE[[#This Row],[Valor hora Sugerido]]),\"\")","v":""},null,null,{"$f":"+IFERROR(IF(Docentes_AE[[#This Row],[Valor hora ]]=\"\",Docentes_AE[[#This Row],[Valor hora Sugerido]]*Docentes_AE[[#This Row],[Número de horas]]*Docentes_AE[[#This Row],[Número de personas]],(Docentes_AE[[#This Row],[Valor hora ]]*Docentes_AE[[#This Row],[Número de horas]]*Docentes_AE[[#This Row],[Número de personas]])),\"\")","v":""},null,{"$f":"+IFERROR(Docentes_AE[[#This Row],[Costo parcial]]*Docentes_AE[[#This Row],[% Participación]]/100,\"\")","v":""}]
[null,null,null,null,{"$f":"++IF(Docentes_AE[[#This Row],[Puntos]]=\"\",\"\",Tabla208[Columna1])","v":""},{"$f":"+IFERROR(Docentes_AE[[#This Row],[Puntos]]*Docentes_AE[[#This Row],[Punto docente]]/100,\"\")","v":""},{"$f":"+IFERROR(Docentes_AE[[#This Row],[Valor hora Sugerido]]*(1+200%),\"\")","v":""},null,{"$f":"+IFERROR(IF(Docentes_AE[[#This Row],[Valor hora ]]=\"\",\"\",(Docentes_AE[[#This Row],[Valor hora ]]-Docentes_AE[[#This Row],[Valor hora Sugerido]])/Docentes_AE[[#This Row],[Valor hora Sugerido]]),\"\")","v":""},null,null,{"$f":"+IFERROR(IF(Docentes_AE[[#This Row],[Valor hora ]]=\"\",Docentes_AE[[#This Row],[Valor hora Sugerido]]*Docentes_AE[[#This Row],[Número de horas]]*Docentes_AE[[#This Row],[Número de personas]],(Docentes_AE[[#This Row],[Valor hora ]]*Docentes_AE[[#This Row],[Número de horas]]*Docentes_AE[[#This Row],[Número de personas]])),\"\")","v":""},null,{"$f":"+IFERROR(Docentes_AE[[#This Row],[Costo parcial]]*Docentes_AE[[#This Row],[% Participación]]/100,\"\")","v":""}]
[null,null,null,null,{"$f":"++IF(Docentes_AE[[#This Row],[Puntos]]=\"\",\"\",Tabla208[Columna1])","v":""},{"$f":"+IFERROR(Docentes_AE[[#This Row],[Puntos]]*Docentes_AE[[#This Row],[Punto docente]]/100,\"\")","v":""},{"$f":"+IFERROR(Docentes_AE[[#This Row],[Valor hora Sugerido]]*(1+200%),\"\")","v":""},null,{"$f":"+IFERROR(IF(Docentes_AE[[#This Row],[Valor hora ]]=\"\",\"\",(Docentes_AE[[#This Row],[Valor hora ]]-Docentes_AE[[#This Row],[Valor hora Sugerido]])/Docentes_AE[[#This Row],[Valor hora Sugerido]]),\"\")","v":""},null,null,{"$f":"+IFERROR(IF(Docentes_AE[[#This Row],[Valor hora ]]=\"\",Docentes_AE[[#This Row],[Valor hora Sugerido]]*Docentes_AE[[#This Row],[Número de horas]]*Docentes_AE[[#This Row],[Número de personas]],(Docentes_AE[[#This Row],[Valor hora ]]*Docentes_AE[[#This Row],[Número de horas]]*Docentes_AE[[#This Row],[Número de personas]])),\"\")","v":""},null,{"$f":"+IFERROR(Docentes_AE[[#This Row],[Costo parcial]]*Docentes_AE[[#This Row],[% Participación]]/100,\"\")","v":""}]
[null,null,null,null,{"$f":"++IF(Docentes_AE[[#This Row],[Puntos]]=\"\",\"\",Tabla208[Columna1])","v":""},{"$f":"+IFERROR(Docentes_AE[[#This Row],[Puntos]]*Docentes_AE[[#This Row],[Punto docente]]/100,\"\")","v":""},{"$f":"+IFERROR(Docentes_AE[[#This Row],[Valor hora Sugerido]]*(1+200%),\"\")","v":""},null,{"$f":"+IFERROR(IF(Docentes_AE[[#This Row],[Valor hora ]]=\"\",\"\",(Docentes_AE[[#This Row],[Valor hora ]]-Docentes_AE[[#This Row],[Valor hora Sugerido]])/Docentes_AE[[#This Row],[Valor hora Sugerido]]),\"\")","v":""},null,null,{"$f":"+IFERROR(IF(Docentes_AE[[#This Row],[Valor hora ]]=\"\",Docentes_AE[[#This Row],[Valor hora Sugerido]]*Docentes_AE[[#This Row],[Número de horas]]*Docentes_AE[[#This Row],[Número de personas]],(Docentes_AE[[#This Row],[Valor hora ]]*Docentes_AE[[#This Row],[Número de horas]]*Docentes_AE[[#This Row],[Número de personas]])),\"\")","v":""},null,{"$f":"+IFERROR(Docentes_AE[[#This Row],[Costo parcial]]*Docentes_AE[[#This Row],[% Participación]]/100,\"\")","v":""}]
[null,null,null,null,{"$f":"++IF(Docentes_AE[[#This Row],[Puntos]]=\"\",\"\",Tabla208[Columna1])","v":""},{"$f":"+IFERROR(Docentes_AE[[#This Row],[Puntos]]*Docentes_AE[[#This Row],[Punto docente]]/100,\"\")","v":""},{"$f":"+IFERROR(Docentes_AE[[#This Row],[Valor hora Sugerido]]*(1+200%),\"\")","v":""},null,{"$f":"+IFERROR(IF(Docentes_AE[[#This Row],[Valor hora ]]=\"\",\"\",(Docentes_AE[[#This Row],[Valor hora ]]-Docentes_AE[[#This Row],[Valor hora Sugerido]])/Docentes_AE[[#This Row],[Valor hora Sugerido]]),\"\")","v":""},null,null,{"$f":"+IFERROR(IF(Docentes_AE[[#This Row],[Valor hora ]]=\"\",Docentes_AE[[#This Row],[Valor hora Sugerido]]*Docentes_AE[[#This Row],[Número de horas]]*Docentes_AE[[#This Row],[Número de personas]],(Docentes_AE[[#This Row],[Valor hora ]]*Docentes_AE[[#This Row],[Número de horas]]*Docentes_AE[[#This Row],[Número de personas]])),\"\")","v":""},null,{"$f":"+IFERROR(Docentes_AE[[#This Row],[Costo parcial]]*Docentes_AE[[#This Row],[% Participación]]/100,\"\")","v":""}]
[null,null,null,null,{"$f":"++IF(Docentes_AE[[#This Row],[Puntos]]=\"\",\"\",Tabla208[Columna1])","v":""},{"$f":"+IFERROR(Docentes_AE[[#This Row],[Puntos]]*Docentes_AE[[#This Row],[Punto docente]]/100,\"\")","v":""},{"$f":"+IFERROR(Docentes_AE[[#This Row],[Valor hora Sugerido]]*(1+200%),\"\")","v":""},null,{"$f":"+IFERROR(IF(Docentes_AE[[#This Row],[Valor hora ]]=\"\",\"\",(Docentes_AE[[#This Row],[Valor hora ]]-Docentes_AE[[#This Row],[Valor hora Sugerido]])/Docentes_AE[[#This Row],[Valor hora Sugerido]]),\"\")","v":""},null,null,{"$f":"+IFERROR(IF(Docentes_AE[[#This Row],[Valor hora ]]=\"\",Docentes_AE[[#This Row],[Valor hora Sugerido]]*Docentes_AE[[#This Row],[Número de horas]]*Docentes_AE[[#This Row],[Número de personas]],(Docentes_AE[[#This Row],[Valor hora ]]*Docentes_AE[[#This Row],[Número de horas]]*Docentes_AE[[#This Row],[Número de personas]])),\"\")","v":""},null,{"$f":"+IFERROR(Docentes_AE[[#This Row],[Costo parcial]]*Docentes_AE[[#This Row],[% Participación]]/100,\"\")","v":""}]
[null,null,null,null,{"$f":"++IF(Docentes_AE[[#This Row],[Puntos]]=\"\",\"\",Tabla208[Columna1])","v":""},{"$f":"+IFERROR(Docentes_AE[[#This Row],[Puntos]]*Docentes_AE[[#This Row],[Punto docente]]/100,\"\")","v":""},{"$f":"+IFERROR(Docentes_AE[[#This Row],[Valor hora Sugerido]]*(1+200%),\"\")","v":""},null,{"$f":"+IFERROR(IF(Docentes_AE[[#This Row],[Valor hora ]]=\"\",\"\",(Docentes_AE[[#This Row],[Valor hora ]]-Docentes_AE[[#This Row],[Valor hora Sugerido]])/Docentes_AE[[#This Row],[Valor hora Sugerido]]),\"\")","v":""},null,null,{"$f":"+IFERROR(IF(Docentes_AE[[#This Row],[Valor hora ]]=\"\",Docentes_AE[[#This Row],[Valor hora Sugerido]]*Docentes_AE[[#This Row],[Número de horas]]*Docentes_AE[[#This Row],[Número de personas]],(Docentes_AE[[#This Row],[Valor hora ]]*Docentes_AE[[#This Row],[Número de horas]]*Docentes_AE[[#This Row],[Número de personas]])),\"\")","v":""},null,{"$f":"+IFERROR(Docentes_AE[[#This Row],[Costo parcial]]*Docentes_AE[[#This Row],[% Participación]]/100,\"\")","v":""}]
[null,null,null,null,{"$f":"++IF(Docentes_AE[[#This Row],[Puntos]]=\"\",\"\",Tabla208[Columna1])","v":""},{"$f":"+IFERROR(Docentes_AE[[#This Row],[Puntos]]*Docentes_AE[[#This Row],[Punto docente]]/100,\"\")","v":""},{"$f":"+IFERROR(Docentes_AE[[#This Row],[Valor hora Sugerido]]*(1+200%),\"\")","v":""},null,{"$f":"+IFERROR(IF(Docentes_AE[[#This Row],[Valor hora ]]=\"\",\"\",(Docentes_AE[[#This Row],[Valor hora ]]-Docentes_AE[[#This Row],[Valor hora Sugerido]])/Docentes_AE[[#This Row],[Valor hora Sugerido]]),\"\")","v":""},null,null,{"$f":"+IFERROR(IF(Docentes_AE[[#This Row],[Valor hora ]]=\"\",Docentes_AE[[#This Row],[Valor hora Sugerido]]*Docentes_AE[[#This Row],[Número de horas]]*Docentes_AE[[#This Row],[Número de personas]],(Docentes_AE[[#This Row],[Valor hora ]]*Docentes_AE[[#This Row],[Número de horas]]*Docentes_AE[[#This Row],[Número de personas]])),\"\")","v":""},null,{"$f":"+IFERROR(Docentes_AE[[#This Row],[Costo parcial]]*Docentes_AE[[#This Row],[% Participación]]/100,\"\")","v":""}]

{"sheet":"Cátedra","index":13,"n_rows":50,"n_cols":15,"rows_kept":50,"cut":false,"hidden":false,"merged":[]}
["Financiador","Fase","Categoría","Descripción","Valor hora Sugerido","Valor hora máximo","Valor hora ","% Sobre remuneración","Factor cátedra","Hora con factor","Número de horas","Número de personas","Costo parcial","% Participación","Costo"]
[null,null,null,null,{"$f":"+IFERROR(VLOOKUP(Cátedra[[#This Row],[Categoría]],Tabla207[],2,0),\"\")","v":""},{"$f":"+IFERROR(Cátedra[[#This Row],[Valor hora Sugerido]]*(1+200%),\"\")","v":""},null,{"$f":"+IFERROR(IF(Cátedra[[#This Row],[Valor hora ]]=\"\",\"\",(Cátedra[[#This Row],[Valor hora ]]-Cátedra[[#This Row],[Valor hora Sugerido]])/Cátedra[[#This Row],[Valor hora Sugerido]]),\"\")","v":""},{"$f":"+IF(Cátedra[[#This Row],[Categoría]]=\"\",\"\",Listas!$D$58)","v":""},{"$f":"+IFERROR(IF(Cátedra[[#This Row],[Valor hora ]]=\"\",Cátedra[[#This Row],[Valor hora Sugerido]]*Cátedra[[#This Row],[Factor cátedra]],Cátedra[[#This Row],[Valor hora ]]*Cátedra[[#This Row],[Factor cátedra]]),\"\")","v":""},null,null,{"$f":"+IFERROR((Cátedra[[#This Row],[Hora con factor]]*Cátedra[[#This Row],[Número de horas]]*Cátedra[[#This Row],[Número de personas]]),\"\")","v":""},null,{"$f":"+IFERROR(Cátedra[[#This Row],[Costo parcial]]*Cátedra[[#This Row],[% Participación]]/100,\"\")","v":""}]
[null,null,null,null,{"$f":"+IFERROR(VLOOKUP(Cátedra[[#This Row],[Categoría]],Tabla207[],2,0),\"\")","v":""},{"$f":"+IFERROR(Cátedra[[#This Row],[Valor hora Sugerido]]*(1+200%),\"\")","v":""},null,{"$f":"+IFERROR(IF(Cátedra[[#This Row],[Valor hora ]]=\"\",\"\",(Cátedra[[#This Row],[Valor hora ]]-Cátedra[[#This Row],[Valor hora Sugerido]])/Cátedra[[#This Row],[Valor hora Sugerido]]),\"\")","v":""},{"$f":"+IF(Cátedra[[#This Row],[Categoría]]=\"\",\"\",Listas!$D$58)","v":""},{"$f":"+IFERROR(IF(Cátedra[[#This Row],[Valor hora ]]=\"\",Cátedra[[#This Row],[Valor hora Sugerido]]*Cátedra[[#This Row],[Factor cátedra]],Cátedra[[#This Row],[Valor hora ]]*Cátedra[[#This Row],[Factor cátedra]]),\"\")","v":""},null,null,{"$f":"+IFERROR((Cátedra[[#This Row],[Hora con factor]]*Cátedra[[#This Row],[Número de horas]]*Cátedra[[#This Row],[Número de personas]]),\"\")","v":""},null,{"$f":"+IFERROR(Cátedra[[#This Row],[Costo parcial]]*Cátedra[[#This Row],[% Participación]]/100,\"\")","v":""}]
[null,null,null,null,{"$f":"+IFERROR(VLOOKUP(Cátedra[[#This Row],[Categoría]],Tabla207[],2,0),\"\")","v":""},{"$f":"+IFERROR(Cátedra[[#This Row],[Valor hora Sugerido]]*(1+200%),\"\")","v":""},null,{"$f":"+IFERROR(IF(Cátedra[[#This Row],[Valor hora ]]=\"\",\"\",(Cátedra[[#This Row],[Valor hora ]]-Cátedra[[#This Row],[Valor hora Sugerido]])/Cátedra[[#This Row],[Valor hora Sugerido]]),\"\")","v":""},{"$f":"+IF(Cátedra[[#This Row],[Categoría]]=\"\",\"\",Listas!$D$58)","v":""},{"$f":"+IFERROR(IF(Cátedra[[#This Row],[Valor hora ]]=\"\",Cátedra[[#This Row],[Valor hora Sugerido]]*Cátedra[[#This Row],[Factor cátedra]],Cátedra[[#This Row],[Valor hora ]]*Cátedra[[#This Row],[Factor cátedra]]),\"\")","v":""},null,null,{"$f":"+IFERROR((Cátedra[[#This Row],[Hora con factor]]*Cátedra[[#This Row],[Número de horas]]*Cátedra[[#This Row],[Número de personas]]),\"\")","v":""},null,{"$f":"+IFERROR(Cátedra[[#This Row],[Costo parcial]]*Cátedra[[#This Row],[% Participación]]/100,\"\")","v":""}]
[null,null,null,null,{"$f":"+IFERROR(VLOOKUP(Cátedra[[#This Row],[Categoría]],Tabla207[],2,0),\"\")","v":""},{"$f":"+IFERROR(Cátedra[[#This Row],[Valor hora Sugerido]]*(1+200%),\"\")","v":""},null,{"$f":"+IFERROR(IF(Cátedra[[#This Row],[Valor hora ]]=\"\",\"\",(Cátedra[[#This Row],[Valor hora ]]-Cátedra[[#This Row],[Valor hora Sugerido]])/Cátedra[[#This Row],[Valor hora Sugerido]]),\"\")","v":""},{"$f":"+IF(Cátedra[[#This Row],[Categoría]]=\"\",\"\",Listas!$D$58)","v":""},{"$f":"+IFERROR(IF(Cátedra[[#This Row],[Valor hora ]]=\"\",Cátedra[[#This Row],[Valor hora Sugerido]]*Cátedra[[#This Row],[Factor cátedra]],Cátedra[[#This Row],[Valor hora ]]*Cátedra[[#This Row],[Factor cátedra]]),\"\")","v":""},null,null,{"$f":"+IFERROR((Cátedra[[#This Row],[Hora con factor]]*Cátedra[[#This Row],[Número de horas]]*Cátedra[[#This Row],[Número de personas]]),\"\")","v":""},null,{"$f":"+IFERROR(Cátedra[[#This Row],[Costo parcial]]*Cátedra[[#This Row],[% Participación]]/100,\"\")","v":""}]
[null,null,null,null,{"$f":"+IFERROR(VLOOKUP(Cátedra[[#This Row],[Categoría]],Tabla207[],2,0),\"\")","v":""},{"$f":"+IFERROR(Cátedra[[#This Row],[Valor hora Sugerido]]*(1+200%),\"\")","v":""},null,{"$f":"+IFERROR(IF(Cátedra[[#This Row],[Valor hora ]]=\"\",\"\",(Cátedra[[#This Row],[Valor hora ]]-Cátedra[[#This Row],[Valor hora Sugerido]])/Cátedra[[#This Row],[Valor hora Sugerido]]),\"\")","v":""},{"$f":"+IF(Cátedra[[#This Row],[Categoría]]=\"\",\"\",Listas!$D$58)","v":""},{"$f":"+IFERROR(IF(Cátedra[[#This Row],[Valor hora ]]=\"\",Cátedra[[#This Row],[Valor hora Sugerido]]*Cátedra[[#This Row],[Factor cátedra]],Cátedra[[#This Row],[Valor hora ]]*Cátedra[[#This Row],[Factor cátedra]]),\"\")","v":""},null,null,{"$f":"+IFERROR((Cátedra[[#This Row],[Hora con factor]]*Cátedra[[#This Row],[Número de horas]]*Cátedra[[#This Row],[Número de personas]]),\"\")","v":""},null,{"$f":"+IFERROR(Cátedra[[#This Row],[Costo parcial]]*Cátedra[[#This Row],[% Participación]]/100,\"\")","v":""}]
[null,null,null,null,{"$f":"+IFERROR(VLOOKUP(Cátedra[[#This Row],[Categoría]],Tabla207[],2,0),\"\")","v":""},{"$f":"+IFERROR(Cátedra[[#This Row],[Valor hora Sugerido]]*(1+200%),\"\")","v":""},null,{"$f":"+IFERROR(IF(Cátedra[[#This Row],[Valor hora ]]=\"\",\"\",(Cátedra[[#This Row],[Valor hora ]]-Cátedra[[#This Row],[Valor hora Sugerido]])/Cátedra[[#This Row],[Valor hora Sugerido]]),\"\")","v":""},{"$f":"+IF(Cátedra[[#This Row],[Categoría]]=\"\",\"\",Listas!$D$58)","v":""},{"$f":"+IFERROR(IF(Cátedra[[#This Row],[Valor hora ]]=\"\",Cátedra[[#This Row],[Valor hora Sugerido]]*Cátedra[[#This Row],[Factor cátedra]],Cátedra[[#This Row],[Valor hora ]]*Cátedra[[#This Row],[Factor cátedra]]),\"\")","v":""},null,null,{"$f":"+IFERROR((Cátedra[[#This Row],[Hora con factor]]*Cátedra[[#This Row],[Número de horas]]*Cátedra[[#This Row],[Número de personas]]),\"\")","v":""},null,{"$f":"+IFERROR(Cátedra[[#This Row],[Costo parcial]]*Cátedra[[#This Row],[% Participación]]/100,\"\")","v":""}]
[null,null,null,null,{"$f":"+IFERROR(VLOOKUP(Cátedra[[#This Row],[Categoría]],Tabla207[],2,0),\"\")","v":""},{"$f":"+IFERROR(Cátedra[[#This Row],[Valor hora Sugerido]]*(1+200%),\"\")","v":""},null,{"$f":"+IFERROR(IF(Cátedra[[#This Row],[Valor hora ]]=\"\",\"\",(Cátedra[[#This Row],[Valor hora ]]-Cátedra[[#This Row],[Valor hora Sugerido]])/Cátedra[[#This Row],[Valor hora Sugerido]]),\"\")","v":""},{"$f":"+IF(Cátedra[[#This Row],[Categoría]]=\"\",\"\",Listas!$D$58)","v":""},{"$f":"+IFERROR(IF(Cátedra[[#This Row],[Valor hora ]]=\"\",Cátedra[[#This Row],[Valor hora Sugerido]]*Cátedra[[#This Row],[Factor cátedra]],Cátedra[[#This Row],[Valor hora ]]*Cátedra[[#This Row],[Factor cátedra]]),\"\")","v":""},null,null,{"$f":"+IFERROR((Cátedra[[#This Row],[Hora con factor]]*Cátedra[[#This Row],[Número de horas]]*Cátedra[[#This Row],[Número de personas]]),\"\")","v":""},null,{"$f":"+IFERROR(Cátedra[[#This Row],[Costo parcial]]*Cátedra[[#This Row],[% Participación]]/100,\"\")","v":""}]
[null,null,null,null,{"$f":"+IFERROR(VLOOKUP(Cátedra[[#This Row],[Categoría]],Tabla207[],2,0),\"\")","v":""},{"$f":"+IFERROR(Cátedra[[#This Row],[Valor hora Sugerido]]*(1+200%),\"\")","v":""},null,{"$f":"+IFERROR(IF(Cátedra[[#This Row],[Valor hora ]]=\"\",\"\",(Cátedra[[#This Row],[Valor hora ]]-Cátedra[[#This Row],[Valor hora Sugerido]])/Cátedra[[#This Row],[Valor hora Sugerido]]),\"\")","v":""},{"$f":"+IF(Cátedra[[#This Row],[Categoría]]=\"\",\"\",Listas!$D$58)","v":""},{"$f":"+IFERROR(IF(Cátedra[[#This Row],[Valor hora ]]=\"\",Cátedra[[#This Row],[Valor hora Sugerido]]*Cátedra[[#This Row],[Factor cátedra]],Cátedra[[#This Row],[Valor hora ]]*Cátedra[[#This Row],[Factor cátedra]]),\"\")","v":""},null,null,{"$f":"+IFERROR((Cátedra[[#This Row],[Hora con factor]]*Cátedra[[#This Row],[Número de horas]]*Cátedra[[#This Row],[Número de personas]]),\"\")","v":""},null,{"$f":"+IFERROR(Cátedra[[#This Row],[Costo parcial]]*Cátedra[[#This Row],[% Participación]]/100,\"\")","v":""}]
[null,null,null,null,{"$f":"+IFERROR(VLOOKUP(Cátedra[[#This Row],[Categoría]],Tabla207[],2,0),\"\")","v":""},{"$f":"+IFERROR(Cátedra[[#This Row],[Valor hora Sugerido]]*(1+200%),\"\")","v":""},null,{"$f":"+IFERROR(IF(Cátedra[[#This Row],[Valor hora ]]=\"\",\"\",(Cátedra[[#This Row],[Valor hora ]]-Cátedra[[#This Row],[Valor hora Sugerido]])/Cátedra[[#This Row],[Valor hora Sugerido]]),\"\")","v":""},{"$f":"+IF(Cátedra[[#This Row],[Categoría]]=\"\",\"\",Listas!$D$58)","v":""},{"$f":"+IFERROR(IF(Cátedra[[#This Row],[Valor hora ]]=\"\",Cátedra[[#This Row],[Valor hora Sugerido]]*Cátedra[[#This Row],[Factor cátedra]],Cátedra[[#This Row],[Valor hora ]]*Cátedra[[#This Row],[Factor cátedra]]),\"\")","v":""},null,null,{"$f":"+IFERROR((Cátedra[[#This Row],[Hora con factor]]*Cátedra[[#This Row],[Número de horas]]*Cátedra[[#This Row],[Número de personas]]),\"\")","v":""},null,{"$f":"+IFERROR(Cátedra[[#This Row],[Costo parcial]]*Cátedra[[#This Row],[% Participación]]/100,\"\")","v":""}]
[null,null,null,null,{"$f":"+IFERROR(VLOOKUP(Cátedra[[#This Row],[Categoría]],Tabla207[],2,0),\"\")","v":""},{"$f":"+IFERROR(Cátedra[[#This Row],[Valor hora Sugerido]]*(1+200%),\"\")","v":""},null,{"$f":"+IFERROR(IF(Cátedra[[#This Row],[Valor hora ]]=\"\",\"\",(Cátedra[[#This Row],[Valor hora ]]-Cátedra[[#This Row],[Valor hora Sugerido]])/Cátedra[[#This Row],[Valor hora Sugerido]]),\"\")","v":""},{"$f":"+IF(Cátedra[[#This Row],[Categoría]]=\"\",\"\",Listas!$D$58)","v":""},{"$f":"+IFERROR(IF(Cátedra[[#This Row],[Valor hora ]]=\"\",Cátedra[[#This Row],[Valor hora Sugerido]]*Cátedra[[#This Row],[Factor cátedra]],Cátedra[[#This Row],[Valor hora ]]*Cátedra[[#This Row],[Factor cátedra]]),\"\")","v":""},null,null,{"$f":"+IFERROR((Cátedra[[#This Row],[Hora con factor]]*Cátedra[[#This Row],[Número de horas]]*Cátedra[[#This Row],[Número de personas]]),\"\")","v":""},null,{"$f":"+IFERROR(Cátedra[[#This Row],[Costo parcial]]*Cátedra[[#This Row],[% Participación]]/100,\"\")","v":""}]
[null,null,null,null,{"$f":"+IFERROR(VLOOKUP(Cátedra[[#This Row],[Categoría]],Tabla207[],2,0),\"\")","v":""},{"$f":"+IFERROR(Cátedra[[#This Row],[Valor hora Sugerido]]*(1+200%),\"\")","v":""},null,{"$f":"+IFERROR(IF(Cátedra[[#This Row],[Valor hora ]]=\"\",\"\",(Cátedra[[#This Row],[Valor hora ]]-Cátedra[[#This Row],[Valor hora Sugerido]])/Cátedra[[#This Row],[Valor hora Sugerido]]),\"\")","v":""},{"$f":"+IF(Cátedra[[#This Row],[Categoría]]=\"\",\"\",Listas!$D$58)","v":""},{"$f":"+IFERROR(IF(Cátedra[[#This Row],[Valor hora ]]=\"\",Cátedra[[#This Row],[Valor hora Sugerido]]*Cátedra[[#This Row],[Factor cátedra]],Cátedra[[#This Row],[Valor hora ]]*Cátedra[[#This Row],[Factor cátedra]]),\"\")","v":""},null,null,{"$f":"+IFERROR((Cátedra[[#This Row],[Hora con factor]]*Cátedra[[#This Row],[Número de horas]]*Cátedra[[#This Row],[Número de personas]]),\"\")","v":""},null,{"$f":"+IFERROR(Cátedra[[#This Row],[Costo parcial]]*Cátedra[[#This Row],[% Participación]]/100,\"\")","v":""}]
[null,null,null,null,{"$f":"+IFERROR(VLOOKUP(Cátedra[[#This Row],[Categoría]],Tabla207[],2,0),\"\")","v":""},{"$f":"+IFERROR(Cátedra[[#This Row],[Valor hora Sugerido]]*(1+200%),\"\")","v":""},null,{"$f":"+IFERROR(IF(Cátedra[[#This Row],[Valor hora ]]=\"\",\"\",(Cátedra[[#This Row],[Valor hora ]]-Cátedra[[#This Row],[Valor hora Sugerido]])/Cátedra[[#This Row],[Valor hora Sugerido]]),\"\")","v":""},{"$f":"+IF(Cátedra[[#This Row],[Categoría]]=\"\",\"\",Listas!$D$58)","v":""},{"$f":"+IFERROR(IF(Cátedra[[#This Row],[Valor hora ]]=\"\",Cátedra[[#This Row],[Valor hora Sugerido]]*Cátedra[[#This Row],[Factor cátedra]],Cátedra[[#This Row],[Valor hora ]]*Cátedra[[#This Row],[Factor cátedra]]),\"\")","v":""},null,null,{"$f":"+IFERROR((Cátedra[[#This Row],[Hora con factor]]*Cátedra[[#This Row],[Número de horas]]*Cátedra[[#This Row],[Número de personas]]),\"\")","v":""},null,{"$f":"+IFERROR(Cátedra[[#This Row],[Costo parcial]]*Cátedra[[#This Row],[% Participación]]/100,\"\")","v":""}]
[null,null,null,null,{"$f":"+IFERROR(VLOOKUP(Cátedra[[#This Row],[Categoría]],Tabla207[],2,0),\"\")","v":""},{"$f":"+IFERROR(Cátedra[[#This Row],[Valor hora Sugerido]]*(1+200%),\"\")","v":""},null,{"$f":"+IFERROR(IF(Cátedra[[#This Row],[Valor hora ]]=\"\",\"\",(Cátedra[[#This Row],[Valor hora ]]-Cátedra[[#This Row],[Valor hora Sugerido]])/Cátedra[[#This Row],[Valor hora Sugerido]]),\"\")","v":""},{"$f":"+IF(Cátedra[[#This Row],[Categoría]]=\"\",\"\",Listas!$D$58)","v":""},{"$f":"+IFERROR(IF(Cátedra[[#This Row],[Valor hora ]]=\"\",Cátedra[[#This Row],[Valor hora Sugerido]]*Cátedra[[#This Row],[Factor cátedra]],Cátedra[[#This Row],[Valor hora ]]*Cátedra[[#This Row],[Factor cátedra]]),\"\")","v":""},null,null,{"$f":"+IFERROR((Cátedra[[#This Row],[Hora con factor]]*Cátedra[[#This Row],[Número de horas]]*Cátedra[[#This Row],[Número de personas]]),\"\")","v":""},null,{"$f":"+IFERROR(Cátedra[[#This Row],[Costo parcial]]*Cátedra[[#This Row],[% Participación]]/100,\"\")","v":""}]
[null,null,null,null,{"$f":"+IFERROR(VLOOKUP(Cátedra[[#This Row],[Categoría]],Tabla207[],2,0),\"\")","v":""},{"$f":"+IFERROR(Cátedra[[#This Row],[Valor hora Sugerido]]*(1+200%),\"\")","v":""},null,{"$f":"+IFERROR(IF(Cátedra[[#This Row],[Valor hora ]]=\"\",\"\",(Cátedra[[#This Row],[Valor hora ]]-Cátedra[[#This Row],[Valor hora Sugerido]])/Cátedra[[#This Row],[Valor hora Sugerido]]),\"\")","v":""},{"$f":"+IF(Cátedra[[#This Row],[Categoría]]=\"\",\"\",Listas!$D$58)","v":""},{"$f":"+IFERROR(IF(Cátedra[[#This Row],[Valor hora ]]=\"\",Cátedra[[#This Row],[Valor hora Sugerido]]*Cátedra[[#This Row],[Factor cátedra]],Cátedra[[#This Row],[Valor hora ]]*Cátedra[[#This Row],[Factor cátedra]]),\"\")","v":""},null,null,{"$f":"+IFERROR((Cátedra[[#This Row],[Hora con factor]]*Cátedra[[#This Row],[Número de horas]]*Cátedra[[#This Row],[Número de personas]]),\"\")","v":""},null,{"$f":"+IFERROR(Cátedra[[#This Row],[Costo parcial]]*Cátedra[[#This Row],[% Participación]]/100,\"\")","v":""}]
[null,null,null,null,{"$f":"+IFERROR(VLOOKUP(Cátedra[[#This Row],[Categoría]],Tabla207[],2,0),\"\")","v":""},{"$f":"+IFERROR(Cátedra[[#This Row],[Valor hora Sugerido]]*(1+200%),\"\")","v":""},null,{"$f":"+IFERROR(IF(Cátedra[[#This Row],[Valor hora ]]=\"\",\"\",(Cátedra[[#This Row],[Valor hora ]]-Cátedra[[#This Row],[Valor hora Sugerido]])/Cátedra[[#This Row],[Valor hora Sugerido]]),\"\")","v":""},{"$f":"+IF(Cátedra[[#This Row],[Categoría]]=\"\",\"\",Listas!$D$58)","v":""},{"$f":"+IFERROR(IF(Cátedra[[#This Row],[Valor hora ]]=\"\",Cátedra[[#This Row],[Valor hora Sugerido]]*Cátedra[[#This Row],[Factor cátedra]],Cátedra[[#This Row],[Valor hora ]]*Cátedra[[#This Row],[Factor cátedra]]),\"\")","v":""},null,null,{"$f":"+IFERROR((Cátedra[[#This Row],[Hora con factor]]*Cátedra[[#This Row],[Número de horas]]*Cátedra[[#This Row],[Número de personas]]),\"\")","v":""},null,{"$f":"+IFERROR(Cátedra[[#This Row],[Costo parcial]]*Cátedra[[#This Row],[% Participación]]/100,\"\")","v":""}]
[null,null,null,null,{"$f":"+IFERROR(VLOOKUP(Cátedra[[#This Row],[Categoría]],Tabla207[],2,0),\"\")","v":""},{"$f":"+IFERROR(Cátedra[[#This Row],[Valor hora Sugerido]]*(1+200%),\"\")","v":""},null,{"$f":"+IFERROR(IF(Cátedra[[#This Row],[Valor hora ]]=\"\",\"\",(Cátedra[[#This Row],[Valor hora ]]-Cátedra[[#This Row],[Valor hora Sugerido]])/Cátedra[[#This Row],[Valor hora Sugerido]]),\"\")","v":""},{"$f":"+IF(Cátedra[[#This Row],[Categoría]]=\"\",\"\",Listas!$D$58)","v":""},{"$f":"+IFERROR(IF(Cátedra[[#This Row],[Valor hora ]]=\"\",Cátedra[[#This Row],[Valor hora Sugerido]]*Cátedra[[#This Row],[Factor cátedra]],Cátedra[[#This Row],[Valor hora ]]*Cátedra[[#This Row],[Factor cátedra]]),\"\")","v":""},null,null,{"$f":"+IFERROR((Cátedra[[#This Row],[Hora con factor]]*Cátedra[[#This Row],[Número de horas]]*Cátedra[[#This Row],[Número de personas]]),\"\")","v":""},null,{"$f":"+IFERROR(Cátedra[[#This Row],[Costo parcial]]*Cátedra[[#This Row],[% Participación]]/100,\"\")","v":""}]
[null,null,null,null,{"$f":"+IFERROR(VLOOKUP(Cátedra[[#This Row],[Categoría]],Tabla207[],2,0),\"\")","v":""},{"$f":"+IFERROR(Cátedra[[#This Row],[Valor hora Sugerido]]*(1+200%),\"\")","v":""},null,{"$f":"+IFERROR(IF(Cátedra[[#This Row],[Valor hora ]]=\"\",\"\",(Cátedra[[#This Row],[Valor hora ]]-Cátedra[[#This Row],[Valor hora Sugerido]])/Cátedra[[#This Row],[Valor hora Sugerido]]),\"\")","v":""},{"$f":"+IF(Cátedra[[#This Row],[Categoría]]=\"\",\"\",Listas!$D$58)","v":""},{"$f":"+IFERROR(IF(Cátedra[[#This Row],[Valor hora ]]=\"\",Cátedra[[#This Row],[Valor hora Sugerido]]*Cátedra[[#This Row],[Factor cátedra]],Cátedra[[#This Row],[Valor hora ]]*Cátedra[[#This Row],[Factor cátedra]]),\"\")","v":""},null,null,{"$f":"+IFERROR((Cátedra[[#This Row],[Hora con factor]]*Cátedra[[#This Row],[Número de horas]]*Cátedra[[#This Row],[Número de personas]]),\"\")","v":""},null,{"$f":"+IFERROR(Cátedra[[#This Row],[Costo parcial]]*Cátedra[[#This Row],[% Participación]]/100,\"\")","v":""}]
[null,null,null,null,{"$f":"+IFERROR(VLOOKUP(Cátedra[[#This Row],[Categoría]],Tabla207[],2,0),\"\")","v":""},{"$f":"+IFERROR(Cátedra[[#This Row],[Valor hora Sugerido]]*(1+200%),\"\")","v":""},null,{"$f":"+IFERROR(IF(Cátedra[[#This Row],[Valor hora ]]=\"\",\"\",(Cátedra[[#This Row],[Valor hora ]]-Cátedra[[#This Row],[Valor hora Sugerido]])/Cátedra[[#This Row],[Valor hora Sugerido]]),\"\")","v":""},{"$f":"+IF(Cátedra[[#This Row],[Categoría]]=\"\",\"\",Listas!$D$58)","v":""},{"$f":"+IFERROR(IF(Cátedra[[#This Row],[Valor hora ]]=\"\",Cátedra[[#This Row],[Valor hora Sugerido]]*Cátedra[[#This Row],[Factor cátedra]],Cátedra[[#This Row],[Valor hora ]]*Cátedra[[#This Row],[Factor cátedra]]),\"\")","v":""},null,null,{"$f":"+IFERROR((Cátedra[[#This Row],[Hora con factor]]*Cátedra[[#This Row],[Número de horas]]*Cátedra[[#This Row],[Número de personas]]),\"\")","v":""},null,{"$f":"+IFERROR(Cátedra[[#This Row],[Costo parcial]]*Cátedra[[#This Row],[% Participación]]/100,\"\")","v":""}]
[null,null,null,null,{"$f":"+IFERROR(VLOOKUP(Cátedra[[#This Row],[Categoría]],Tabla207[],2,0),\"\")","v":""},{"$f":"+IFERROR(Cátedra[[#This Row],[Valor hora Sugerido]]*(1+200%),\"\")","v":""},null,{"$f":"+IFERROR(IF(Cátedra[[#This Row],[Valor hora ]]=\"\",\"\",(Cátedra[[#This Row],[Valor hora ]]-Cátedra[[#This Row],[Valor hora Sugerido]])/Cátedra[[#This Row],[Valor hora Sugerido]]),\"\")","v":""},{"$f":"+IF(Cátedra[[#This Row],[Categoría]]=\"\",\"\",Listas!$D$58)","v":""},{"$f":"+IFERROR(IF(Cátedra[[#This Row],[Valor hora ]]=\"\",Cátedra[[#This Row],[Valor hora Sugerido]]*Cátedra[[#This Row],[Factor cátedra]],Cátedra[[#This Row],[Valor hora ]]*Cátedra[[#This Row],[Factor cátedra]]),\"\")","v":""},null,null,{"$f":"+IFERROR((Cátedra[[#This Row],[Hora con factor]]*Cátedra[[#This Row],[Número de horas]]*Cátedra[[#This Row],[Número de personas]]),\"\")","v":""},null,{"$f":"+IFERROR(Cátedra[[#This Row],[Costo parcial]]*Cátedra[[#This Row],[% Participación]]/100,\"\")","v":""}]
[null,null,null,null,{"$f":"+IFERROR(VLOOKUP(Cátedra[[#This Row],[Categoría]],Tabla207[],2,0),\"\")","v":""},{"$f":"+IFERROR(Cátedra[[#This Row],[Valor hora Sugerido]]*(1+200%),\"\")","v":""},null,{"$f":"+IFERROR(IF(Cátedra[[#This Row],[Valor hora ]]=\"\",\"\",(Cátedra[[#This Row],[Valor hora ]]-Cátedra[[#This Row],[Valor hora Sugerido]])/Cátedra[[#This Row],[Valor hora Sugerido]]),\"\")","v":""},{"$f":"+IF(Cátedra[[#This Row],[Categoría]]=\"\",\"\",Listas!$D$58)","v":""},{"$f":"+IFERROR(IF(Cátedra[[#This Row],[Valor hora ]]=\"\",Cátedra[[#This Row],[Valor hora Sugerido]]*Cátedra[[#This Row],[Factor cátedra]],Cátedra[[#This Row],[Valor hora ]]*Cátedra[[#This Row],[Factor cátedra]]),\"\")","v":""},null,null,{"$f":"+IFERROR((Cátedra[[#This Row],[Hora con factor]]*Cátedra[[#This Row],[Número de horas]]*Cátedra[[#This Row],[Número de personas]]),\"\")","v":""},null,{"$f":"+IFERROR(Cátedra[[#This Row],[Costo parcial]]*Cátedra[[#This Row],[% Participación]]/100,\"\")","v":""}]
[null,null,null,null,{"$f":"+IFERROR(VLOOKUP(Cátedra[[#This Row],[Categoría]],Tabla207[],2,0),\"\")","v":""},{"$f":"+IFERROR(Cátedra[[#This Row],[Valor hora Sugerido]]*(1+200%),\"\")","v":""},null,{"$f":"+IFERROR(IF(Cátedra[[#This Row],[Valor hora ]]=\"\",\"\",(Cátedra[[#This Row],[Valor hora ]]-Cátedra[[#This Row],[Valor hora Sugerido]])/Cátedra[[#This Row],[Valor hora Sugerido]]),\"\")","v":""},{"$f":"+IF(Cátedra[[#This Row],[Categoría]]=\"\",\"\",Listas!$D$58)","v":""},{"$f":"+IFERROR(IF(Cátedra[[#This Row],[Valor hora ]]=\"\",Cátedra[[#This Row],[Valor hora Sugerido]]*Cátedra[[#This Row],[Factor cátedra]],Cátedra[[#This Row],[Valor hora ]]*Cátedra[[#This Row],[Factor cátedra]]),\"\")","v":""},null,null,{"$f":"+IFERROR((Cátedra[[#This Row],[Hora con factor]]*Cátedra[[#This Row],[Número de horas]]*Cátedra[[#This Row],[Número de personas]]),\"\")","v":""},null,{"$f":"+IFERROR(Cátedra[[#This Row],[Costo parcial]]*Cátedra[[#This Row],[% Participación]]/100,\"\")","v":""}]
[null,null,null,null,{"$f":"+IFERROR(VLOOKUP(Cátedra[[#This Row],[Categoría]],Tabla207[],2,0),\"\")","v":""},{"$f":"+IFERROR(Cátedra[[#This Row],[Valor hora Sugerido]]*(1+200%),\"\")","v":""},null,{"$f":"+IFERROR(IF(Cátedra[[#This Row],[Valor hora ]]=\"\",\"\",(Cátedra[[#This Row],[Valor hora ]]-Cátedra[[#This Row],[Valor hora Sugerido]])/Cátedra[[#This Row],[Valor hora Sugerido]]),\"\")","v":""},{"$f":"+IF(Cátedra[[#This Row],[Categoría]]=\"\",\"\",Listas!$D$58)","v":""},{"$f":"+IFERROR(IF(Cátedra[[#This Row],[Valor hora ]]=\"\",Cátedra[[#This Row],[Valor hora Sugerido]]*Cátedra[[#This Row],[Factor cátedra]],Cátedra[[#This Row],[Valor hora ]]*Cátedra[[#This Row],[Factor cátedra]]),\"\")","v":""},null,null,{"$f":"+IFERROR((Cátedra[[#This Row],[Hora con factor]]*Cátedra[[#This Row],[Número de horas]]*Cátedra[[#This Row],[Número de personas]]),\"\")","v":""},null,{"$f":"+IFERROR(Cátedra[[#This Row],[Costo parcial]]*Cátedra[[#This Row],[% Participación]]/100,\"\")","v":""}]
[null,null,null,null,{"$f":"+IFERROR(VLOOKUP(Cátedra[[#This Row],[Categoría]],Tabla207[],2,0),\"\")","v":""},{"$f":"+IFERROR(Cátedra[[#This Row],[Valor hora Sugerido]]*(1+200%),\"\")","v":""},null,{"$f":"+IFERROR(IF(Cátedra[[#This Row],[Valor hora ]]=\"\",\"\",(Cátedra[[#This Row],[Valor hora ]]-Cátedra[[#This Row],[Valor hora Sugerido]])/Cátedra[[#This Row],[Valor hora Sugerido]]),\"\")","v":""},{"$f":"+IF(Cátedra[[#This Row],[Categoría]]=\"\",\"\",Listas!$D$58)","v":""},{"$f":"+IFERROR(IF(Cátedra[[#This Row],[Valor hora ]]=\"\",Cátedra[[#This Row],[Valor hora Sugerido]]*Cátedra[[#This Row],[Factor cátedra]],Cátedra[[#This Row],[Valor hora ]]*Cátedra[[#This Row],[Factor cátedra]]),\"\")","v":""},null,null,{"$f":"+IFERROR((Cátedra[[#This Row],[Hora con factor]]*Cátedra[[#This Row],[Número de horas]]*Cátedra[[#This Row],[Número de personas]]),\"\")","v":""},null,{"$f":"+IFERROR(Cátedra[[#This Row],[Costo parcial]]*Cátedra[[#This Row],[% Participación]]/100,\"\")","v":""}]
[null,null,null,null,{"$f":"+IFERROR(VLOOKUP(Cátedra[[#This Row],[Categoría]],Tabla207[],2,0),\"\")","v":""},{"$f":"+IFERROR(Cátedra[[#This Row],[Valor hora Sugerido]]*(1+200%),\"\")","v":""},null,{"$f":"+IFERROR(IF(Cátedra[[#This Row],[Valor hora ]]=\"\",\"\",(Cátedra[[#This Row],[Valor hora ]]-Cátedra[[#This Row],[Valor hora Sugerido]])/Cátedra[[#This Row],[Valor hora Sugerido]]),\"\")","v":""},{"$f":"+IF(Cátedra[[#This Row],[Categoría]]=\"\",\"\",Listas!$D$58)","v":""},{"$f":"+IFERROR(IF(Cátedra[[#This Row],[Valor hora ]]=\"\",Cátedra[[#This Row],[Valor hora Sugerido]]*Cátedra[[#This Row],[Factor cátedra]],Cátedra[[#This Row],[Valor hora ]]*Cátedra[[#This Row],[Factor cátedra]]),\"\")","v":""},null,null,{"$f":"+IFERROR((Cátedra[[#This Row],[Hora con factor]]*Cátedra[[#This Row],[Número de horas]]*Cátedra[[#This Row],[Número de personas]]),\"\")","v":""},null,{"$f":"+IFERROR(Cátedra[[#This Row],[Costo parcial]]*Cátedra[[#This Row],[% Participación]]/100,\"\")","v":""}]
[null,null,null,null,{"$f":"+IFERROR(VLOOKUP(Cátedra[[#This Row],[Categoría]],Tabla207[],2,0),\"\")","v":""},{"$f":"+IFERROR(Cátedra[[#This Row],[Valor hora Sugerido]]*(1+200%),\"\")","v":""},null,{"$f":"+IFERROR(IF(Cátedra[[#This Row],[Valor hora ]]=\"\",\"\",(Cátedra[[#This Row],[Valor hora ]]-Cátedra[[#This Row],[Valor hora Sugerido]])/Cátedra[[#This Row],[Valor hora Sugerido]]),\"\")","v":""},{"$f":"+IF(Cátedra[[#This Row],[Categoría]]=\"\",\"\",Listas!$D$58)","v":""},{"$f":"+IFERROR(IF(Cátedra[[#This Row],[Valor hora ]]=\"\",Cátedra[[#This Row],[Valor hora Sugerido]]*Cátedra[[#This Row],[Factor cátedra]],Cátedra[[#This Row],[Valor hora ]]*Cátedra[[#This Row],[Factor cátedra]]),\"\")","v":""},null,null,{"$f":"+IFERROR((Cátedra[[#This Row],[Hora con factor]]*Cátedra[[#This Row],[Número de horas]]*Cátedra[[#This Row],[Número de personas]]),\"\")","v":""},null,{"$f":"+IFERROR(Cátedra[[#This Row],[Costo parcial]]*Cátedra[[#This Row],[% Participación]]/100,\"\")","v":""}]
[null,null,null,null,{"$f":"+IFERROR(VLOOKUP(Cátedra[[#This Row],[Categoría]],Tabla207[],2,0),\"\")","v":""},{"$f":"+IFERROR(Cátedra[[#This Row],[Valor hora Sugerido]]*(1+200%),\"\")","v":""},null,{"$f":"+IFERROR(IF(Cátedra[[#This Row],[Valor hora ]]=\"\",\"\",(Cátedra[[#This Row],[Valor hora ]]-Cátedra[[#This Row],[Valor hora Sugerido]])/Cátedra[[#This Row],[Valor hora Sugerido]]),\"\")","v":""},{"$f":"+IF(Cátedra[[#This Row],[Categoría]]=\"\",\"\",Listas!$D$58)","v":""},{"$f":"+IFERROR(IF(Cátedra[[#This Row],[Valor hora ]]=\"\",Cátedra[[#This Row],[Valor hora Sugerido]]*Cátedra[[#This Row],[Factor cátedra]],Cátedra[[#This Row],[Valor hora ]]*Cátedra[[#This Row],[Factor cátedra]]),\"\")","v":""},null,null,{"$f":"+IFERROR((Cátedra[[#This Row],[Hora con factor]]*Cátedra[[#This Row],[Número de horas]]*Cátedra[[#This Row],[Número de personas]]),\"\")","v":""},null,{"$f":"+IFERROR(Cátedra[[#This Row],[Costo parcial]]*Cátedra[[#This Row],[% Participación]]/100,\"\")","v":""}]
[null,null,null,null,{"$f":"+IFERROR(VLOOKUP(Cátedra[[#This Row],[Categoría]],Tabla207[],2,0),\"\")","v":""},{"$f":"+IFERROR(Cátedra[[#This Row],[Valor hora Sugerido]]*(1+200%),\"\")","v":""},null,{"$f":"+IFERROR(IF(Cátedra[[#This Row],[Valor hora ]]=\"\",\"\",(Cátedra[[#This Row],[Valor hora ]]-Cátedra[[#This Row],[Valor hora Sugerido]])/Cátedra[[#This Row],[Valor hora Sugerido]]),\"\")","v":""},{"$f":"+IF(Cátedra[[#This Row],[Categoría]]=\"\",\"\",Listas!$D$58)","v":""},{"$f":"+IFERROR(IF(Cátedra[[#This Row],[Valor hora ]]=\"\",Cátedra[[#This Row],[Valor hora Sugerido]]*Cátedra[[#This Row],[Factor cátedra]],Cátedra[[#This Row],[Valor hora ]]*Cátedra[[#This Row],[Factor cátedra]]),\"\")","v":""},null,null,{"$f":"+IFERROR((Cátedra[[#This Row],[Hora con factor]]*Cátedra[[#This Row],[Número de horas]]*Cátedra[[#This Row],[Número de personas]]),\"\")","v":""},null,{"$f":"+IFERROR(Cátedra[[#This Row],[Costo parcial]]*Cátedra[[#This Row],[% Participación]]/100,\"\")","v":""}]
[null,null,null,null,{"$f":"+IFERROR(VLOOKUP(Cátedra[[#This Row],[Categoría]],Tabla207[],2,0),\"\")","v":""},{"$f":"+IFERROR(Cátedra[[#This Row],[Valor hora Sugerido]]*(1+200%),\"\")","v":""},null,{"$f":"+IFERROR(IF(Cátedra[[#This Row],[Valor hora ]]=\"\",\"\",(Cátedra[[#This Row],[Valor hora ]]-Cátedra[[#This Row],[Valor hora Sugerido]])/Cátedra[[#This Row],[Valor hora Sugerido]]),\"\")","v":""},{"$f":"+IF(Cátedra[[#This Row],[Categoría]]=\"\",\"\",Listas!$D$58)","v":""},{"$f":"+IFERROR(IF(Cátedra[[#This Row],[Valor hora ]]=\"\",Cátedra[[#This Row],[Valor hora Sugerido]]*Cátedra[[#This Row],[Factor cátedra]],Cátedra[[#This Row],[Valor hora ]]*Cátedra[[#This Row],[Factor cátedra]]),\"\")","v":""},null,null,{"$f":"+IFERROR((Cátedra[[#This Row],[Hora con factor]]*Cátedra[[#This Row],[Número de horas]]*Cátedra[[#This Row],[Número de personas]]),\"\")","v":""},null,{"$f":"+IFERROR(Cátedra[[#This Row],[Costo parcial]]*Cátedra[[#This Row],[% Participación]]/100,\"\")","v":""}]
[null,null,null,null,{"$f":"+IFERROR(VLOOKUP(Cátedra[[#This Row],[Categoría]],Tabla207[],2,0),\"\")","v":""},{"$f":"+IFERROR(Cátedra[[#This Row],[Valor hora Sugerido]]*(1+200%),\"\")","v":""},null,{"$f":"+IFERROR(IF(Cátedra[[#This Row],[Valor hora ]]=\"\",\"\",(Cátedra[[#This Row],[Valor hora ]]-Cátedra[[#This Row],[Valor hora Sugerido]])/Cátedra[[#This Row],[Valor hora Sugerido]]),\"\")","v":""},{"$f":"+IF(Cátedra[[#This Row],[Categoría]]=\"\",\"\",Listas!$D$58)","v":""},{"$f":"+IFERROR(IF(Cátedra[[#This Row],[Valor hora ]]=\"\",Cátedra[[#This Row],[Valor hora Sugerido]]*Cátedra[[#This Row],[Factor cátedra]],Cátedra[[#This Row],[Valor hora ]]*Cátedra[[#This Row],[Factor cátedra]]),\"\")","v":""},null,null,{"$f":"+IFERROR((Cátedra[[#This Row],[Hora con factor]]*Cátedra[[#This Row],[Número de horas]]*Cátedra[[#This Row],[Número de personas]]),\"\")","v":""},null,{"$f":"+IFERROR(Cátedra[[#This Row],[Costo parcial]]*Cátedra[[#This Row],[% Participación]]/100,\"\")","v":""}]
[null,null,null,null,{"$f":"+IFERROR(VLOOKUP(Cátedra[[#This Row],[Categoría]],Tabla207[],2,0),\"\")","v":""},{"$f":"+IFERROR(Cátedra[[#This Row],[Valor hora Sugerido]]*(1+200%),\"\")","v":""},null,{"$f":"+IFERROR(IF(Cátedra[[#This Row],[Valor hora ]]=\"\",\"\",(Cátedra[[#This Row],[Valor hora ]]-Cátedra[[#This Row],[Valor hora Sugerido]])/Cátedra[[#This Row],[Valor hora Sugerido]]),\"\")","v":""},{"$f":"+IF(Cátedra[[#This Row],[Categoría]]=\"\",\"\",Listas!$D$58)","v":""},{"$f":"+IFERROR(IF(Cátedra[[#This Row],[Valor hora ]]=\"\",Cátedra[[#This Row],[Valor hora Sugerido]]*Cátedra[[#This Row],[Factor cátedra]],Cátedra[[#This Row],[Valor hora ]]*Cátedra[[#This Row],[Factor cátedra]]),\"\")","v":""},null,null,{"$f":"+IFERROR((Cátedra[[#This Row],[Hora con factor]]*Cátedra[[#This Row],[Número de horas]]*Cátedra[[#This Row],[Número de personas]]),\"\")","v":""},null,{"$f":"+IFERROR(Cátedra[[#This Row],[Costo parcial]]*Cátedra[[#This Row],[% Participación]]/100,\"\")","v":""}]
[null,null,null,null,{"$f":"+IFERROR(VLOOKUP(Cátedra[[#This Row],[Categoría]],Tabla207[],2,0),\"\")","v":""},{"$f":"+IFERROR(Cátedra[[#This Row],[Valor hora Sugerido]]*(1+200%),\"\")","v":""},null,{"$f":"+IFERROR(IF(Cátedra[[#This Row],[Valor hora ]]=\"\",\"\",(Cátedra[[#This Row],[Valor hora ]]-Cátedra[[#This Row],[Valor hora Sugerido]])/Cátedra[[#This Row],[Valor hora Sugerido]]),\"\")","v":""},{"$f":"+IF(Cátedra[[#This Row],[Categoría]]=\"\",\"\",Listas!$D$58)","v":""},{"$f":"+IFERROR(IF(Cátedra[[#This Row],[Valor hora ]]=\"\",Cátedra[[#This Row],[Valor hora Sugerido]]*Cátedra[[#This Row],[Factor cátedra]],Cátedra[[#This Row],[Valor hora ]]*Cátedra[[#This Row],[Factor cátedra]]),\"\")","v":""},null,null,{"$f":"+IFERROR((Cátedra[[#This Row],[Hora con factor]]*Cátedra[[#This Row],[Número de horas]]*Cátedra[[#This Row],[Número de personas]]),\"\")","v":""},null,{"$f":"+IFERROR(Cátedra[[#This Row],[Costo parcial]]*Cátedra[[#This Row],[% Participación]]/100,\"\")","v":""}]
[null,null,null,null,{"$f":"+IFERROR(VLOOKUP(Cátedra[[#This Row],[Categoría]],Tabla207[],2,0),\"\")","v":""},{"$f":"+IFERROR(Cátedra[[#This Row],[Valor hora Sugerido]]*(1+200%),\"\")","v":""},null,{"$f":"+IFERROR(IF(Cátedra[[#This Row],[Valor hora ]]=\"\",\"\",(Cátedra[[#This Row],[Valor hora ]]-Cátedra[[#This Row],[Valor hora Sugerido]])/Cátedra[[#This Row],[Valor hora Sugerido]]),\"\")","v":""},{"$f":"+IF(Cátedra[[#This Row],[Categoría]]=\"\",\"\",Listas!$D$58)","v":""},{"$f":"+IFERROR(IF(Cátedra[[#This Row],[Valor hora ]]=\"\",Cátedra[[#This Row],[Valor hora Sugerido]]*Cátedra[[#This Row],[Factor cátedra]],Cátedra[[#This Row],[Valor hora ]]*Cátedra[[#This Row],[Factor cátedra]]),\"\")","v":""},null,null,{"$f":"+IFERROR((Cátedra[[#This Row],[Hora con factor]]*Cátedra[[#This Row],[Número de horas]]*Cátedra[[#This Row],[Número de personas]]),\"\")","v":""},null,{"$f":"+IFERROR(Cátedra[[#This Row],[Costo parcial]]*Cátedra[[#This Row],[% Participación]]/100,\"\")","v":""}]
[null,null,null,null,{"$f":"+IFERROR(VLOOKUP(Cátedra[[#This Row],[Categoría]],Tabla207[],2,0),\"\")","v":""},{"$f":"+IFERROR(Cátedra[[#This Row],[Valor hora Sugerido]]*(1+200%),\"\")","v":""},null,{"$f":"+IFERROR(IF(Cátedra[[#This Row],[Valor hora ]]=\"\",\"\",(Cátedra[[#This Row],[Valor hora ]]-Cátedra[[#This Row],[Valor hora Sugerido]])/Cátedra[[#This Row],[Valor hora Sugerido]]),\"\")","v":""},{"$f":"+IF(Cátedra[[#This Row],[Categoría]]=\"\",\"\",Listas!$D$58)","v":""},{"$f":"+IFERROR(IF(Cátedra[[#This Row],[Valor hora ]]=\"\",Cátedra[[#This Row],[Valor hora Sugerido]]*Cátedra[[#This Row],[Factor cátedra]],Cátedra[[#This Row],[Valor hora ]]*Cátedra[[#This Row],[Factor cátedra]]),\"\")","v":""},null,null,{"$f":"+IFERROR((Cátedra[[#This Row],[Hora con factor]]*Cátedra[[#This Row],[Número de horas]]*Cátedra[[#This Row],[Número de personas]]),\"\")","v":""},null,{"$f":"+IFERROR(Cátedra[[#This Row],[Costo parcial]]*Cátedra[[#This Row],[% Participación]]/100,\"\")","v":""}]
[null,null,null,null,{"$f":"+IFERROR(VLOOKUP(Cátedra[[#This Row],[Categoría]],Tabla207[],2,0),\"\")","v":""},{"$f":"+IFERROR(Cátedra[[#This Row],[Valor hora Sugerido]]*(1+200%),\"\")","v":""},null,{"$f":"+IFERROR(IF(Cátedra[[#This Row],[Valor hora ]]=\"\",\"\",(Cátedra[[#This Row],[Valor hora ]]-Cátedra[[#This Row],[Valor hora Sugerido]])/Cátedra[[#This Row],[Valor hora Sugerido]]),\"\")","v":""},{"$f":"+IF(Cátedra[[#This Row],[Categoría]]=\"\",\"\",Listas!$D$58)","v":""},{"$f":"+IFERROR(IF(Cátedra[[#This Row],[Valor hora ]]=\"\",Cátedra[[#This Row],[Valor hora Sugerido]]*Cátedra[[#This Row],[Factor cátedra]],Cátedra[[#This Row],[Valor hora ]]*Cátedra[[#This Row],[Factor cátedra]]),\"\")","v":""},null,null,{"$f":"+IFERROR((Cátedra[[#This Row],[Hora con factor]]*Cátedra[[#This Row],[Número de horas]]*Cátedra[[#This Row],[Número de personas]]),\"\")","v":""},null,{"$f":"+IFERROR(Cátedra[[#This Row],[Costo parcial]]*Cátedra[[#This Row],[% Participación]]/100,\"\")","v":""}]
[null,null,null,null,{"$f":"+IFERROR(VLOOKUP(Cátedra[[#This Row],[Categoría]],Tabla207[],2,0),\"\")","v":""},{"$f":"+IFERROR(Cátedra[[#This Row],[Valor hora Sugerido]]*(1+200%),\"\")","v":""},null,{"$f":"+IFERROR(IF(Cátedra[[#This Row],[Valor hora ]]=\"\",\"\",(Cátedra[[#This Row],[Valor hora ]]-Cátedra[[#This Row],[Valor hora Sugerido]])/Cátedra[[#This Row],[Valor hora Sugerido]]),\"\")","v":""},{"$f":"+IF(Cátedra[[#This Row],[Categoría]]=\"\",\"\",Listas!$D$58)","v":""},{"$f":"+IFERROR(IF(Cátedra[[#This Row],[Valor hora ]]=\"\",Cátedra[[#This Row],[Valor hora Sugerido]]*Cátedra[[#This Row],[Factor cátedra]],Cátedra[[#This Row],[Valor hora ]]*Cátedra[[#This Row],[Factor cátedra]]),\"\")","v":""},null,null,{"$f":"+IFERROR((Cátedra[[#This Row],[Hora con factor]]*Cátedra[[#This Row],[Número de horas]]*Cátedra[[#This Row],[Número de personas]]),\"\")","v":""},null,{"$f":"+IFERROR(Cátedra[[#This Row],[Costo parcial]]*Cátedra[[#This Row],[% Participación]]/100,\"\")","v":""}]
[null,null,null,null,{"$f":"+IFERROR(VLOOKUP(Cátedra[[#This Row],[Categoría]],Tabla207[],2,0),\"\")","v":""},{"$f":"+IFERROR(Cátedra[[#This Row],[Valor hora Sugerido]]*(1+200%),\"\")","v":""},null,{"$f":"+IFERROR(IF(Cátedra[[#This Row],[Valor hora ]]=\"\",\"\",(Cátedra[[#This Row],[Valor hora ]]-Cátedra[[#This Row],[Valor hora Sugerido]])/Cátedra[[#This Row],[Valor hora Sugerido]]),\"\")","v":""},{"$f":"+IF(Cátedra[[#This Row],[Categoría]]=\"\",\"\",Listas!$D$58)","v":""},{"$f":"+IFERROR(IF(Cátedra[[#This Row],[Valor hora ]]=\"\",Cátedra[[#This Row],[Valor hora Sugerido]]*Cátedra[[#This Row],[Factor cátedra]],Cátedra[[#This Row],[Valor hora ]]*Cátedra[[#This Row],[Factor cátedra]]),\"\")","v":""},null,null,{"$f":"+IFERROR((Cátedra[[#This Row],[Hora con factor]]*Cátedra[[#This Row],[Número de horas]]*Cátedra[[#This Row],[Número de personas]]),\"\")","v":""},null,{"$f":"+IFERROR(Cátedra[[#This Row],[Costo parcial]]*Cátedra[[#This Row],[% Participación]]/100,\"\")","v":""}]
[null,null,null,null,{"$f":"+IFERROR(VLOOKUP(Cátedra[[#This Row],[Categoría]],Tabla207[],2,0),\"\")","v":""},{"$f":"+IFERROR(Cátedra[[#This Row],[Valor hora Sugerido]]*(1+200%),\"\")","v":""},null,{"$f":"+IFERROR(IF(Cátedra[[#This Row],[Valor hora ]]=\"\",\"\",(Cátedra[[#This Row],[Valor hora ]]-Cátedra[[#This Row],[Valor hora Sugerido]])/Cátedra[[#This Row],[Valor hora Sugerido]]),\"\")","v":""},{"$f":"+IF(Cátedra[[#This Row],[Categoría]]=\"\",\"\",Listas!$D$58)","v":""},{"$f":"+IFERROR(IF(Cátedra[[#This Row],[Valor hora ]]=\"\",Cátedra[[#This Row],[Valor hora Sugerido]]*Cátedra[[#This Row],[Factor cátedra]],Cátedra[[#This Row],[Valor hora ]]*Cátedra[[#This Row],[Factor cátedra]]),\"\")","v":""},null,null,{"$f":"+IFERROR((Cátedra[[#This Row],[Hora con factor]]*Cátedra[[#This Row],[Número de horas]]*Cátedra[[#This Row],[Número de personas]]),\"\")","v":""},null,{"$f":"+IFERROR(Cátedra[[#This Row],[Costo parcial]]*Cátedra[[#This Row],[% Participación]]/100,\"\")","v":""}]
[null,null,null,null,{"$f":"+IFERROR(VLOOKUP(Cátedra[[#This Row],[Categoría]],Tabla207[],2,0),\"\")","v":""},{"$f":"+IFERROR(Cátedra[[#This Row],[Valor hora Sugerido]]*(1+200%),\"\")","v":""},null,{"$f":"+IFERROR(IF(Cátedra[[#This Row],[Valor hora ]]=\"\",\"\",(Cátedra[[#This Row],[Valor hora ]]-Cátedra[[#This Row],[Valor hora Sugerido]])/Cátedra[[#This Row],[Valor hora Sugerido]]),\"\")","v":""},{"$f":"+IF(Cátedra[[#This Row],[Categoría]]=\"\",\"\",Listas!$D$58)","v":""},{"$f":"+IFERROR(IF(Cátedra[[#This Row],[Valor hora ]]=\"\",Cátedra[[#This Row],[Valor hora Sugerido]]*Cátedra[[#This Row],[Factor cátedra]],Cátedra[[#This Row],[Valor hora ]]*Cátedra[[#This Row],[Factor cátedra]]),\"\")","v":""},null,null,{"$f":"+IFERROR((Cátedra[[#This Row],[Hora con factor]]*Cátedra[[#This Row],[Número de horas]]*Cátedra[[#This Row],[Número de personas]]),\"\")","v":""},null,{"$f":"+IFERROR(Cátedra[[#This Row],[Costo parcial]]*Cátedra[[#This Row],[% Participación]]/100,\"\")","v":""}]
[null,null,null,null,{"$f":"+IFERROR(VLOOKUP(Cátedra[[#This Row],[Categoría]],Tabla207[],2,0),\"\")","v":""},{"$f":"+IFERROR(Cátedra[[#This Row],[Valor hora Sugerido]]*(1+200%),\"\")","v":""},null,{"$f":"+IFERROR(IF(Cátedra[[#This Row],[Valor hora ]]=\"\",\"\",(Cátedra[[#This Row],[Valor hora ]]-Cátedra[[#This Row],[Valor hora Sugerido]])/Cátedra[[#This Row],[Valor hora Sugerido]]),\"\")","v":""},{"$f":"+IF(Cátedra[[#This Row],[Categoría]]=\"\",\"\",Listas!$D$58)","v":""},{"$f":"+IFERROR(IF(Cátedra[[#This Row],[Valor hora ]]=\"\",Cátedra[[#This Row],[Valor hora Sugerido]]*Cátedra[[#This Row],[Factor cátedra]],Cátedra[[#This Row],[Valor hora ]]*Cátedra[[#This Row],[Factor cátedra]]),\"\")","v":""},null,null,{"$f":"+IFERROR((Cátedra[[#This Row],[Hora con factor]]*Cátedra[[#This Row],[Número de horas]]*Cátedra[[#This Row],[Número de personas]]),\"\")","v":""},null,{"$f":"+IFERROR(Cátedra[[#This Row],[Costo parcial]]*Cátedra[[#This Row],[% Participación]]/100,\"\")","v":""}]
[null,null,null,null,{"$f":"+IFERROR(VLOOKUP(Cátedra[[#This Row],[Categoría]],Tabla207[],2,0),\"\")","v":""},{"$f":"+IFERROR(Cátedra[[#This Row],[Valor hora Sugerido]]*(1+200%),\"\")","v":""},null,{"$f":"+IFERROR(IF(Cátedra[[#This Row],[Valor hora ]]=\"\",\"\",(Cátedra[[#This Row],[Valor hora ]]-Cátedra[[#This Row],[Valor hora Sugerido]])/Cátedra[[#This Row],[Valor hora Sugerido]]),\"\")","v":""},{"$f":"+IF(Cátedra[[#This Row],[Categoría]]=\"\",\"\",Listas!$D$58)","v":""},{"$f":"+IFERROR(IF(Cátedra[[#This Row],[Valor hora ]]=\"\",Cátedra[[#This Row],[Valor hora Sugerido]]*Cátedra[[#This Row],[Factor cátedra]],Cátedra[[#This Row],[Valor hora ]]*Cátedra[[#This Row],[Factor cátedra]]),\"\")","v":""},null,null,{"$f":"+IFERROR((Cátedra[[#This Row],[Hora con factor]]*Cátedra[[#This Row],[Número de horas]]*Cátedra[[#This Row],[Número de personas]]),\"\")","v":""},null,{"$f":"+IFERROR(Cátedra[[#This Row],[Costo parcial]]*Cátedra[[#This Row],[% Participación]]/100,\"\")","v":""}]
[null,null,null,null,{"$f":"+IFERROR(VLOOKUP(Cátedra[[#This Row],[Categoría]],Tabla207[],2,0),\"\")","v":""},{"$f":"+IFERROR(Cátedra[[#This Row],[Valor hora Sugerido]]*(1+200%),\"\")","v":""},null,{"$f":"+IFERROR(IF(Cátedra[[#This Row],[Valor hora ]]=\"\",\"\",(Cátedra[[#This Row],[Valor hora ]]-Cátedra[[#This Row],[Valor hora Sugerido]])/Cátedra[[#This Row],[Valor hora Sugerido]]),\"\")","v":""},{"$f":"+IF(Cátedra[[#This Row],[Categoría]]=\"\",\"\",Listas!$D$58)","v":""},{"$f":"+IFERROR(IF(Cátedra[[#This Row],[Valor hora ]]=\"\",Cátedra[[#This Row],[Valor hora Sugerido]]*Cátedra[[#This Row],[Factor cátedra]],Cátedra[[#This Row],[Valor hora ]]*Cátedra[[#This Row],[Factor cátedra]]),\"\")","v":""},null,null,{"$f":"+IFERROR((Cátedra[[#This Row],[Hora con factor]]*Cátedra[[#This Row],[Número de horas]]*Cátedra[[#This Row],[Número de personas]]),\"\")","v":""},null,{"$f":"+IFERROR(Cátedra[[#This Row],[Costo parcial]]*Cátedra[[#This Row],[% Participación]]/100,\"\")","v":""}]
[null,null,null,null,{"$f":"+IFERROR(VLOOKUP(Cátedra[[#This Row],[Categoría]],Tabla207[],2,0),\"\")","v":""},{"$f":"+IFERROR(Cátedra[[#This Row],[Valor hora Sugerido]]*(1+200%),\"\")","v":""},null,{"$f":"+IFERROR(IF(Cátedra[[#This Row],[Valor hora ]]=\"\",\"\",(Cátedra[[#This Row],[Valor hora ]]-Cátedra[[#This Row],[Valor hora Sugerido]])/Cátedra[[#This Row],[Valor hora Sugerido]]),\"\")","v":""},{"$f":"+IF(Cátedra[[#This Row],[Categoría]]=\"\",\"\",Listas!$D$58)","v":""},{"$f":"+IFERROR(IF(Cátedra[[#This Row],[Valor hora ]]=\"\",Cátedra[[#This Row],[Valor hora Sugerido]]*Cátedra[[#This Row],[Factor cátedra]],Cátedra[[#This Row],[Valor hora ]]*Cátedra[[#This Row],[Factor cátedra]]),\"\")","v":""},null,null,{"$f":"+IFERROR((Cátedra[[#This Row],[Hora con factor]]*Cátedra[[#This Row],[Número de horas]]*Cátedra[[#This Row],[Número de personas]]),\"\")","v":""},null,{"$f":"+IFERROR(Cátedra[[#This Row],[Costo parcial]]*Cátedra[[#This Row],[% Participación]]/100,\"\")","v":""}]
[null,null,null,null,{"$f":"+IFERROR(VLOOKUP(Cátedra[[#This Row],[Categoría]],Tabla207[],2,0),\"\")","v":""},{"$f":"+IFERROR(Cátedra[[#This Row],[Valor hora Sugerido]]*(1+200%),\"\")","v":""},null,{"$f":"+IFERROR(IF(Cátedra[[#This Row],[Valor hora ]]=\"\",\"\",(Cátedra[[#This Row],[Valor hora ]]-Cátedra[[#This Row],[Valor hora Sugerido]])/Cátedra[[#This Row],[Valor hora Sugerido]]),\"\")","v":""},{"$f":"+IF(Cátedra[[#This Row],[Categoría]]=\"\",\"\",Listas!$D$58)","v":""},{"$f":"+IFERROR(IF(Cátedra[[#This Row],[Valor hora ]]=\"\",Cátedra[[#This Row],[Valor hora Sugerido]]*Cátedra[[#This Row],[Factor cátedra]],Cátedra[[#This Row],[Valor hora ]]*Cátedra[[#This Row],[Factor cátedra]]),\"\")","v":""},null,null,{"$f":"+IFERROR((Cátedra[[#This Row],[Hora con factor]]*Cátedra[[#This Row],[Número de horas]]*Cátedra[[#This Row],[Número de personas]]),\"\")","v":""},null,{"$f":"+IFERROR(Cátedra[[#This Row],[Costo parcial]]*Cátedra[[#This Row],[% Participación]]/100,\"\")","v":""}]
[null,null,null,null,{"$f":"+IFERROR(VLOOKUP(Cátedra[[#This Row],[Categoría]],Tabla207[],2,0),\"\")","v":""},{"$f":"+IFERROR(Cátedra[[#This Row],[Valor hora Sugerido]]*(1+200%),\"\")","v":""},null,{"$f":"+IFERROR(IF(Cátedra[[#This Row],[Valor hora ]]=\"\",\"\",(Cátedra[[#This Row],[Valor hora ]]-Cátedra[[#This Row],[Valor hora Sugerido]])/Cátedra[[#This Row],[Valor hora Sugerido]]),\"\")","v":""},{"$f":"+IF(Cátedra[[#This Row],[Categoría]]=\"\",\"\",Listas!$D$58)","v":""},{"$f":"+IFERROR(IF(Cátedra[[#This Row],[Valor hora ]]=\"\",Cátedra[[#This Row],[Valor hora Sugerido]]*Cátedra[[#This Row],[Factor cátedra]],Cátedra[[#This Row],[Valor hora ]]*Cátedra[[#This Row],[Factor cátedra]]),\"\")","v":""},null,null,{"$f":"+IFERROR((Cátedra[[#This Row],[Hora con factor]]*Cátedra[[#This Row],[Número de horas]]*Cátedra[[#This Row],[Número de personas]]),\"\")","v":""},null,{"$f":"+IFERROR(Cátedra[[#This Row],[Costo parcial]]*Cátedra[[#This Row],[% Participación]]/100,\"\")","v":""}]
[null,null,null,null,{"$f":"+IFERROR(VLOOKUP(Cátedra[[#This Row],[Categoría]],Tabla207[],2,0),\"\")","v":""},{"$f":"+IFERROR(Cátedra[[#This Row],[Valor hora Sugerido]]*(1+200%),\"\")","v":""},null,{"$f":"+IFERROR(IF(Cátedra[[#This Row],[Valor hora ]]=\"\",\"\",(Cátedra[[#This Row],[Valor hora ]]-Cátedra[[#This Row],[Valor hora Sugerido]])/Cátedra[[#This Row],[Valor hora Sugerido]]),\"\")","v":""},{"$f":"+IF(Cátedra[[#This Row],[Categoría]]=\"\",\"\",Listas!$D$58)","v":""},{"$f":"+IFERROR(IF(Cátedra[[#This Row],[Valor hora ]]=\"\",Cátedra[[#This Row],[Valor hora Sugerido]]*Cátedra[[#This Row],[Factor cátedra]],Cátedra[[#This Row],[Valor hora ]]*Cátedra[[#This Row],[Factor cátedra]]),\"\")","v":""},null,null,{"$f":"+IFERROR((Cátedra[[#This Row],[Hora con factor]]*Cátedra[[#This Row],[Número de horas]]*Cátedra[[#This Row],[Número de personas]]),\"\")","v":""},null,{"$f":"+IFERROR(Cátedra[[#This Row],[Costo parcial]]*Cátedra[[#This Row],[% Participación]]/100,\"\")","v":""}]
[null,null,null,null,{"$f":"+IFERROR(VLOOKUP(Cátedra[[#This Row],[Categoría]],Tabla207[],2,0),\"\")","v":""},{"$f":"+IFERROR(Cátedra[[#This Row],[Valor hora Sugerido]]*(1+200%),\"\")","v":""},null,{"$f":"+IFERROR(IF(Cátedra[[#This Row],[Valor hora ]]=\"\",\"\",(Cátedra[[#This Row],[Valor hora ]]-Cátedra[[#This Row],[Valor hora Sugerido]])/Cátedra[[#This Row],[Valor hora Sugerido]]),\"\")","v":""},{"$f":"+IF(Cátedra[[#This Row],[Categoría]]=\"\",\"\",Listas!$D$58)","v":""},{"$f":"+IFERROR(IF(Cátedra[[#This Row],[Valor hora ]]=\"\",Cátedra[[#This Row],[Valor hora Sugerido]]*Cátedra[[#This Row],[Factor cátedra]],Cátedra[[#This Row],[Valor hora ]]*Cátedra[[#This Row],[Factor cátedra]]),\"\")","v":""},null,null,{"$f":"+IFERROR((Cátedra[[#This Row],[Hora con factor]]*Cátedra[[#This Row],[Número de horas]]*Cátedra[[#This Row],[Número de personas]]),\"\")","v":""},null,{"$f":"+IFERROR(Cátedra[[#This Row],[Costo parcial]]*Cátedra[[#This Row],[% Participación]]/100,\"\")","v":""}]
[null,null,null,null,{"$f":"+IFERROR(VLOOKUP(Cátedra[[#This Row],[Categoría]],Tabla207[],2,0),\"\")","v":""},{"$f":"+IFERROR(Cátedra[[#This Row],[Valor hora Sugerido]]*(1+200%),\"\")","v":""},null,{"$f":"+IFERROR(IF(Cátedra[[#This Row],[Valor hora ]]=\"\",\"\",(Cátedra[[#This Row],[Valor hora ]]-Cátedra[[#This Row],[Valor hora Sugerido]])/Cátedra[[#This Row],[Valor hora Sugerido]]),\"\")","v":""},{"$f":"+IF(Cátedra[[#This Row],[Categoría]]=\"\",\"\",Listas!$D$58)","v":""},{"$f":"+IFERROR(IF(Cátedra[[#This Row],[Valor hora ]]=\"\",Cátedra[[#This Row],[Valor hora Sugerido]]*Cátedra[[#This Row],[Factor cátedra]],Cátedra[[#This Row],[Valor hora ]]*Cátedra[[#This Row],[Factor cátedra]]),\"\")","v":""},null,null,{"$f":"+IFERROR((Cátedra[[#This Row],[Hora con factor]]*Cátedra[[#This Row],[Número de horas]]*Cátedra[[#This Row],[Número de personas]]),\"\")","v":""},null,{"$f":"+IFERROR(Cátedra[[#This Row],[Costo parcial]]*Cátedra[[#This Row],[% Participación]]/100,\"\")","v":""}]
[null,null,null,null,{"$f":"+IFERROR(VLOOKUP(Cátedra[[#This Row],[Categoría]],Tabla207[],2,0),\"\")","v":""},{"$f":"+IFERROR(Cátedra[[#This Row],[Valor hora Sugerido]]*(1+200%),\"\")","v":""},null,{"$f":"+IFERROR(IF(Cátedra[[#This Row],[Valor hora ]]=\"\",\"\",(Cátedra[[#This Row],[Valor hora ]]-Cátedra[[#This Row],[Valor hora Sugerido]])/Cátedra[[#This Row],[Valor hora Sugerido]]),\"\")","v":""},{"$f":"+IF(Cátedra[[#This Row],[Categoría]]=\"\",\"\",Listas!$D$58)","v":""},{"$f":"+IFERROR(IF(Cátedra[[#This Row],[Valor hora ]]=\"\",Cátedra[[#This Row],[Valor hora Sugerido]]*Cátedra[[#This Row],[Factor cátedra]],Cátedra[[#This Row],[Valor hora ]]*Cátedra[[#This Row],[Factor cátedra]]),\"\")","v":""},null,null,{"$f":"+IFERROR((Cátedra[[#This Row],[Hora con factor]]*Cátedra[[#This Row],[Número de horas]]*Cátedra[[#This Row],[Número de personas]]),\"\")","v":""},null,{"$f":"+IFERROR(Cátedra[[#This Row],[Costo parcial]]*Cátedra[[#This Row],[% Participación]]/100,\"\")","v":""}]
[null,null,null,null,{"$f":"+IFERROR(VLOOKUP(Cátedra[[#This Row],[Categoría]],Tabla207[],2,0),\"\")","v":""},{"$f":"+IFERROR(Cátedra[[#This Row],[Valor hora Sugerido]]*(1+200%),\"\")","v":""},null,{"$f":"+IFERROR(IF(Cátedra[[#This Row],[Valor hora ]]=\"\",\"\",(Cátedra[[#This Row],[Valor hora ]]-Cátedra[[#This Row],[Valor hora Sugerido]])/Cátedra[[#This Row],[Valor hora Sugerido]]),\"\")","v":""},{"$f":"+IF(Cátedra[[#This Row],[Categoría]]=\"\",\"\",Listas!$D$58)","v":""},{"$f":"+IFERROR(IF(Cátedra[[#This Row],[Valor hora ]]=\"\",Cátedra[[#This Row],[Valor hora Sugerido]]*Cátedra[[#This Row],[Factor cátedra]],Cátedra[[#This Row],[Valor hora ]]*Cátedra[[#This Row],[Factor cátedra]]),\"\")","v":""},null,null,{"$f":"+IFERROR((Cátedra[[#This Row],[Hora con factor]]*Cátedra[[#This Row],[Número de horas]]*Cátedra[[#This Row],[Número de personas]]),\"\")","v":""},null,{"$f":"+IFERROR(Cátedra[[#This Row],[Costo parcial]]*Cátedra[[#This Row],[% Participación]]/100,\"\")","v":""}]

{"sheet":"Prestación de servicios","index":14,"n_rows":50,"n_cols":12,"rows_kept":50,"cut":false,"hidden":false,"merged":[]}
["Financiador","Fase","Actividad u oficio","Descripción","Valor mes","% Administración","Número de meses","Número de personas","Dedicación","Costo parcial","% Participación","Costo"]
[null,null,null,null,null,null,null,null,null,{"$f":"+IFERROR(((Prestación_de_servicios[[#This Row],[Valor mes]]*(1+Prestación_de_servicios[[#This Row],[% Administración]])*Prestación_de_servicios[[#This Row],[Número de meses]]*Prestación_de_servicios[[#This Row],[Número de personas]]*(Prestación_de_servicios[[#This Row],[Dedicación]]/100))),\"\")","v":0},null,{"$f":"+IFERROR(Prestación_de_servicios[[#This Row],[Costo parcial]]*Prestación_de_servicios[[#This Row],[% Participación]]/100,\"\")","v":0}]
[null,null,null,null,null,null,null,null,null,{"$f":"+IFERROR(((Prestación_de_servicios[[#This Row],[Valor mes]]*(1+Prestación_de_servicios[[#This Row],[% Administración]])*Prestación_de_servicios[[#This Row],[Número de meses]]*Prestación_de_servicios[[#This Row],[Número de personas]]*(Prestación_de_servicios[[#This Row],[Dedicación]]/100))),\"\")","v":0},null,{"$f":"+IFERROR(Prestación_de_servicios[[#This Row],[Costo parcial]]*Prestación_de_servicios[[#This Row],[% Participación]]/100,\"\")","v":0}]
[null,null,null,null,null,null,null,null,null,{"$f":"+IFERROR(((Prestación_de_servicios[[#This Row],[Valor mes]]*(1+Prestación_de_servicios[[#This Row],[% Administración]])*Prestación_de_servicios[[#This Row],[Número de meses]]*Prestación_de_servicios[[#This Row],[Número de personas]]*(Prestación_de_servicios[[#This Row],[Dedicación]]/100))),\"\")","v":0},null,{"$f":"+IFERROR(Prestación_de_servicios[[#This Row],[Costo parcial]]*Prestación_de_servicios[[#This Row],[% Participación]]/100,\"\")","v":0}]
[null,null,null,null,null,null,null,null,null,{"$f":"+IFERROR(((Prestación_de_servicios[[#This Row],[Valor mes]]*(1+Prestación_de_servicios[[#This Row],[% Administración]])*Prestación_de_servicios[[#This Row],[Número de meses]]*Prestación_de_servicios[[#This Row],[Número de personas]]*(Prestación_de_servicios[[#This Row],[Dedicación]]/100))),\"\")","v":0},null,{"$f":"+IFERROR(Prestación_de_servicios[[#This Row],[Costo parcial]]*Prestación_de_servicios[[#This Row],[% Participación]]/100,\"\")","v":0}]
[null,null,null,null,null,null,null,null,null,{"$f":"+IFERROR(((Prestación_de_servicios[[#This Row],[Valor mes]]*(1+Prestación_de_servicios[[#This Row],[% Administración]])*Prestación_de_servicios[[#This Row],[Número de meses]]*Prestación_de_servicios[[#This Row],[Número de personas]]*(Prestación_de_servicios[[#This Row],[Dedicación]]/100))),\"\")","v":0},null,{"$f":"+IFERROR(Prestación_de_servicios[[#This Row],[Costo parcial]]*Prestación_de_servicios[[#This Row],[% Participación]]/100,\"\")","v":0}]
[null,null,null,null,null,null,null,null,null,{"$f":"+IFERROR(((Prestación_de_servicios[[#This Row],[Valor mes]]*(1+Prestación_de_servicios[[#This Row],[% Administración]])*Prestación_de_servicios[[#This Row],[Número de meses]]*Prestación_de_servicios[[#This Row],[Número de personas]]*(Prestación_de_servicios[[#This Row],[Dedicación]]/100))),\"\")","v":0},null,{"$f":"+IFERROR(Prestación_de_servicios[[#This Row],[Costo parcial]]*Prestación_de_servicios[[#This Row],[% Participación]]/100,\"\")","v":0}]
[null,null,null,null,null,null,null,null,null,{"$f":"+IFERROR(((Prestación_de_servicios[[#This Row],[Valor mes]]*(1+Prestación_de_servicios[[#This Row],[% Administración]])*Prestación_de_servicios[[#This Row],[Número de meses]]*Prestación_de_servicios[[#This Row],[Número de personas]]*(Prestación_de_servicios[[#This Row],[Dedicación]]/100))),\"\")","v":0},null,{"$f":"+IFERROR(Prestación_de_servicios[[#This Row],[Costo parcial]]*Prestación_de_servicios[[#This Row],[% Participación]]/100,\"\")","v":0}]
[null,null,null,null,null,null,null,null,null,{"$f":"+IFERROR(((Prestación_de_servicios[[#This Row],[Valor mes]]*(1+Prestación_de_servicios[[#This Row],[% Administración]])*Prestación_de_servicios[[#This Row],[Número de meses]]*Prestación_de_servicios[[#This Row],[Número de personas]]*(Prestación_de_servicios[[#This Row],[Dedicación]]/100))),\"\")","v":0},null,{"$f":"+IFERROR(Prestación_de_servicios[[#This Row],[Costo parcial]]*Prestación_de_servicios[[#This Row],[% Participación]]/100,\"\")","v":0}]
[null,null,null,null,null,null,null,null,null,{"$f":"+IFERROR(((Prestación_de_servicios[[#This Row],[Valor mes]]*(1+Prestación_de_servicios[[#This Row],[% Administración]])*Prestación_de_servicios[[#This Row],[Número de meses]]*Prestación_de_servicios[[#This Row],[Número de personas]]*(Prestación_de_servicios[[#This Row],[Dedicación]]/100))),\"\")","v":0},null,{"$f":"+IFERROR(Prestación_de_servicios[[#This Row],[Costo parcial]]*Prestación_de_servicios[[#This Row],[% Participación]]/100,\"\")","v":0}]
[null,null,null,null,null,null,null,null,null,{"$f":"+IFERROR(((Prestación_de_servicios[[#This Row],[Valor mes]]*(1+Prestación_de_servicios[[#This Row],[% Administración]])*Prestación_de_servicios[[#This Row],[Número de meses]]*Prestación_de_servicios[[#This Row],[Número de personas]]*(Prestación_de_servicios[[#This Row],[Dedicación]]/100))),\"\")","v":0},null,{"$f":"+IFERROR(Prestación_de_servicios[[#This Row],[Costo parcial]]*Prestación_de_servicios[[#This Row],[% Participación]]/100,\"\")","v":0}]
[null,null,null,null,null,null,null,null,null,{"$f":"+IFERROR(((Prestación_de_servicios[[#This Row],[Valor mes]]*(1+Prestación_de_servicios[[#This Row],[% Administración]])*Prestación_de_servicios[[#This Row],[Número de meses]]*Prestación_de_servicios[[#This Row],[Número de personas]]*(Prestación_de_servicios[[#This Row],[Dedicación]]/100))),\"\")","v":0},null,{"$f":"+IFERROR(Prestación_de_servicios[[#This Row],[Costo parcial]]*Prestación_de_servicios[[#This Row],[% Participación]]/100,\"\")","v":0}]
[null,null,null,null,null,null,null,null,null,{"$f":"+IFERROR(((Prestación_de_servicios[[#This Row],[Valor mes]]*(1+Prestación_de_servicios[[#This Row],[% Administración]])*Prestación_de_servicios[[#This Row],[Número de meses]]*Prestación_de_servicios[[#This Row],[Número de personas]]*(Prestación_de_servicios[[#This Row],[Dedicación]]/100))),\"\")","v":0},null,{"$f":"+IFERROR(Prestación_de_servicios[[#This Row],[Costo parcial]]*Prestación_de_servicios[[#This Row],[% Participación]]/100,\"\")","v":0}]
[null,null,null,null,null,null,null,null,null,{"$f":"+IFERROR(((Prestación_de_servicios[[#This Row],[Valor mes]]*(1+Prestación_de_servicios[[#This Row],[% Administración]])*Prestación_de_servicios[[#This Row],[Número de meses]]*Prestación_de_servicios[[#This Row],[Número de personas]]*(Prestación_de_servicios[[#This Row],[Dedicación]]/100))),\"\")","v":0},null,{"$f":"+IFERROR(Prestación_de_servicios[[#This Row],[Costo parcial]]*Prestación_de_servicios[[#This Row],[% Participación]]/100,\"\")","v":0}]
[null,null,null,null,null,null,null,null,null,{"$f":"+IFERROR(((Prestación_de_servicios[[#This Row],[Valor mes]]*(1+Prestación_de_servicios[[#This Row],[% Administración]])*Prestación_de_servicios[[#This Row],[Número de meses]]*Prestación_de_servicios[[#This Row],[Número de personas]]*(Prestación_de_servicios[[#This Row],[Dedicación]]/100))),\"\")","v":0},null,{"$f":"+IFERROR(Prestación_de_servicios[[#This Row],[Costo parcial]]*Prestación_de_servicios[[#This Row],[% Participación]]/100,\"\")","v":0}]
[null,null,null,null,null,null,null,null,null,{"$f":"+IFERROR(((Prestación_de_servicios[[#This Row],[Valor mes]]*(1+Prestación_de_servicios[[#This Row],[% Administración]])*Prestación_de_servicios[[#This Row],[Número de meses]]*Prestación_de_servicios[[#This Row],[Número de personas]]*(Prestación_de_servicios[[#This Row],[Dedicación]]/100))),\"\")","v":0},null,{"$f":"+IFERROR(Prestación_de_servicios[[#This Row],[Costo parcial]]*Prestación_de_servicios[[#This Row],[% Participación]]/100,\"\")","v":0}]
[null,null,null,null,null,null,null,null,null,{"$f":"+IFERROR(((Prestación_de_servicios[[#This Row],[Valor mes]]*(1+Prestación_de_servicios[[#This Row],[% Administración]])*Prestación_de_servicios[[#This Row],[Número de meses]]*Prestación_de_servicios[[#This Row],[Número de personas]]*(Prestación_de_servicios[[#This Row],[Dedicación]]/100))),\"\")","v":0},null,{"$f":"+IFERROR(Prestación_de_servicios[[#This Row],[Costo parcial]]*Prestación_de_servicios[[#This Row],[% Participación]]/100,\"\")","v":0}]
[null,null,null,null,null,null,null,null,null,{"$f":"+IFERROR(((Prestación_de_servicios[[#This Row],[Valor mes]]*(1+Prestación_de_servicios[[#This Row],[% Administración]])*Prestación_de_servicios[[#This Row],[Número de meses]]*Prestación_de_servicios[[#This Row],[Número de personas]]*(Prestación_de_servicios[[#This Row],[Dedicación]]/100))),\"\")","v":0},null,{"$f":"+IFERROR(Prestación_de_servicios[[#This Row],[Costo parcial]]*Prestación_de_servicios[[#This Row],[% Participación]]/100,\"\")","v":0}]
[null,null,null,null,null,null,null,null,null,{"$f":"+IFERROR(((Prestación_de_servicios[[#This Row],[Valor mes]]*(1+Prestación_de_servicios[[#This Row],[% Administración]])*Prestación_de_servicios[[#This Row],[Número de meses]]*Prestación_de_servicios[[#This Row],[Número de personas]]*(Prestación_de_servicios[[#This Row],[Dedicación]]/100))),\"\")","v":0},null,{"$f":"+IFERROR(Prestación_de_servicios[[#This Row],[Costo parcial]]*Prestación_de_servicios[[#This Row],[% Participación]]/100,\"\")","v":0}]
[null,null,null,null,null,null,null,null,null,{"$f":"+IFERROR(((Prestación_de_servicios[[#This Row],[Valor mes]]*(1+Prestación_de_servicios[[#This Row],[% Administración]])*Prestación_de_servicios[[#This Row],[Número de meses]]*Prestación_de_servicios[[#This Row],[Número de personas]]*(Prestación_de_servicios[[#This Row],[Dedicación]]/100))),\"\")","v":0},null,{"$f":"+IFERROR(Prestación_de_servicios[[#This Row],[Costo parcial]]*Prestación_de_servicios[[#This Row],[% Participación]]/100,\"\")","v":0}]
[null,null,null,null,null,null,null,null,null,{"$f":"+IFERROR(((Prestación_de_servicios[[#This Row],[Valor mes]]*(1+Prestación_de_servicios[[#This Row],[% Administración]])*Prestación_de_servicios[[#This Row],[Número de meses]]*Prestación_de_servicios[[#This Row],[Número de personas]]*(Prestación_de_servicios[[#This Row],[Dedicación]]/100))),\"\")","v":0},null,{"$f":"+IFERROR(Prestación_de_servicios[[#This Row],[Costo parcial]]*Prestación_de_servicios[[#This Row],[% Participación]]/100,\"\")","v":0}]
[null,null,null,null,null,null,null,null,null,{"$f":"+IFERROR(((Prestación_de_servicios[[#This Row],[Valor mes]]*(1+Prestación_de_servicios[[#This Row],[% Administración]])*Prestación_de_servicios[[#This Row],[Número de meses]]*Prestación_de_servicios[[#This Row],[Número de personas]]*(Prestación_de_servicios[[#This Row],[Dedicación]]/100))),\"\")","v":0},null,{"$f":"+IFERROR(Prestación_de_servicios[[#This Row],[Costo parcial]]*Prestación_de_servicios[[#This Row],[% Participación]]/100,\"\")","v":0}]
[null,null,null,null,null,null,null,null,null,{"$f":"+IFERROR(((Prestación_de_servicios[[#This Row],[Valor mes]]*(1+Prestación_de_servicios[[#This Row],[% Administración]])*Prestación_de_servicios[[#This Row],[Número de meses]]*Prestación_de_servicios[[#This Row],[Número de personas]]*(Prestación_de_servicios[[#This Row],[Dedicación]]/100))),\"\")","v":0},null,{"$f":"+IFERROR(Prestación_de_servicios[[#This Row],[Costo parcial]]*Prestación_de_servicios[[#This Row],[% Participación]]/100,\"\")","v":0}]
[null,null,null,null,null,null,null,null,null,{"$f":"+IFERROR(((Prestación_de_servicios[[#This Row],[Valor mes]]*(1+Prestación_de_servicios[[#This Row],[% Administración]])*Prestación_de_servicios[[#This Row],[Número de meses]]*Prestación_de_servicios[[#This Row],[Número de personas]]*(Prestación_de_servicios[[#This Row],[Dedicación]]/100))),\"\")","v":0},null,{"$f":"+IFERROR(Prestación_de_servicios[[#This Row],[Costo parcial]]*Prestación_de_servicios[[#This Row],[% Participación]]/100,\"\")","v":0}]
[null,null,null,null,null,null,null,null,null,{"$f":"+IFERROR(((Prestación_de_servicios[[#This Row],[Valor mes]]*(1+Prestación_de_servicios[[#This Row],[% Administración]])*Prestación_de_servicios[[#This Row],[Número de meses]]*Prestación_de_servicios[[#This Row],[Número de personas]]*(Prestación_de_servicios[[#This Row],[Dedicación]]/100))),\"\")","v":0},null,{"$f":"+IFERROR(Prestación_de_servicios[[#This Row],[Costo parcial]]*Prestación_de_servicios[[#This Row],[% Participación]]/100,\"\")","v":0}]
[null,null,null,null,null,null,null,null,null,{"$f":"+IFERROR(((Prestación_de_servicios[[#This Row],[Valor mes]]*(1+Prestación_de_servicios[[#This Row],[% Administración]])*Prestación_de_servicios[[#This Row],[Número de meses]]*Prestación_de_servicios[[#This Row],[Número de personas]]*(Prestación_de_servicios[[#This Row],[Dedicación]]/100))),\"\")","v":0},null,{"$f":"+IFERROR(Prestación_de_servicios[[#This Row],[Costo parcial]]*Prestación_de_servicios[[#This Row],[% Participación]]/100,\"\")","v":0}]
[null,null,null,null,null,null,null,null,null,{"$f":"+IFERROR(((Prestación_de_servicios[[#This Row],[Valor mes]]*(1+Prestación_de_servicios[[#This Row],[% Administración]])*Prestación_de_servicios[[#This Row],[Número de meses]]*Prestación_de_servicios[[#This Row],[Número de personas]]*(Prestación_de_servicios[[#This Row],[Dedicación]]/100))),\"\")","v":0},null,{"$f":"+IFERROR(Prestación_de_servicios[[#This Row],[Costo parcial]]*Prestación_de_servicios[[#This Row],[% Participación]]/100,\"\")","v":0}]
[null,null,null,null,null,null,null,null,null,{"$f":"+IFERROR(((Prestación_de_servicios[[#This Row],[Valor mes]]*(1+Prestación_de_servicios[[#This Row],[% Administración]])*Prestación_de_servicios[[#This Row],[Número de meses]]*Prestación_de_servicios[[#This Row],[Número de personas]]*(Prestación_de_servicios[[#This Row],[Dedicación]]/100))),\"\")","v":0},null,{"$f":"+IFERROR(Prestación_de_servicios[[#This Row],[Costo parcial]]*Prestación_de_servicios[[#This Row],[% Participación]]/100,\"\")","v":0}]
[null,null,null,null,null,null,null,null,null,{"$f":"+IFERROR(((Prestación_de_servicios[[#This Row],[Valor mes]]*(1+Prestación_de_servicios[[#This Row],[% Administración]])*Prestación_de_servicios[[#This Row],[Número de meses]]*Prestación_de_servicios[[#This Row],[Número de personas]]*(Prestación_de_servicios[[#This Row],[Dedicación]]/100))),\"\")","v":0},null,{"$f":"+IFERROR(Prestación_de_servicios[[#This Row],[Costo parcial]]*Prestación_de_servicios[[#This Row],[% Participación]]/100,\"\")","v":0}]
[null,null,null,null,null,null,null,null,null,{"$f":"+IFERROR(((Prestación_de_servicios[[#This Row],[Valor mes]]*(1+Prestación_de_servicios[[#This Row],[% Administración]])*Prestación_de_servicios[[#This Row],[Número de meses]]*Prestación_de_servicios[[#This Row],[Número de personas]]*(Prestación_de_servicios[[#This Row],[Dedicación]]/100))),\"\")","v":0},null,{"$f":"+IFERROR(Prestación_de_servicios[[#This Row],[Costo parcial]]*Prestación_de_servicios[[#This Row],[% Participación]]/100,\"\")","v":0}]
[null,null,null,null,null,null,null,null,null,{"$f":"+IFERROR(((Prestación_de_servicios[[#This Row],[Valor mes]]*(1+Prestación_de_servicios[[#This Row],[% Administración]])*Prestación_de_servicios[[#This Row],[Número de meses]]*Prestación_de_servicios[[#This Row],[Número de personas]]*(Prestación_de_servicios[[#This Row],[Dedicación]]/100))),\"\")","v":0},null,{"$f":"+IFERROR(Prestación_de_servicios[[#This Row],[Costo parcial]]*Prestación_de_servicios[[#This Row],[% Participación]]/100,\"\")","v":0}]
[null,null,null,null,null,null,null,null,null,{"$f":"+IFERROR(((Prestación_de_servicios[[#This Row],[Valor mes]]*(1+Prestación_de_servicios[[#This Row],[% Administración]])*Prestación_de_servicios[[#This Row],[Número de meses]]*Prestación_de_servicios[[#This Row],[Número de personas]]*(Prestación_de_servicios[[#This Row],[Dedicación]]/100))),\"\")","v":0},null,{"$f":"+IFERROR(Prestación_de_servicios[[#This Row],[Costo parcial]]*Prestación_de_servicios[[#This Row],[% Participación]]/100,\"\")","v":0}]
[null,null,null,null,null,null,null,null,null,{"$f":"+IFERROR(((Prestación_de_servicios[[#This Row],[Valor mes]]*(1+Prestación_de_servicios[[#This Row],[% Administración]])*Prestación_de_servicios[[#This Row],[Número de meses]]*Prestación_de_servicios[[#This Row],[Número de personas]]*(Prestación_de_servicios[[#This Row],[Dedicación]]/100))),\"\")","v":0},null,{"$f":"+IFERROR(Prestación_de_servicios[[#This Row],[Costo parcial]]*Prestación_de_servicios[[#This Row],[% Participación]]/100,\"\")","v":0}]
[null,null,null,null,null,null,null,null,null,{"$f":"+IFERROR(((Prestación_de_servicios[[#This Row],[Valor mes]]*(1+Prestación_de_servicios[[#This Row],[% Administración]])*Prestación_de_servicios[[#This Row],[Número de meses]]*Prestación_de_servicios[[#This Row],[Número de personas]]*(Prestación_de_servicios[[#This Row],[Dedicación]]/100))),\"\")","v":0},null,{"$f":"+IFERROR(Prestación_de_servicios[[#This Row],[Costo parcial]]*Prestación_de_servicios[[#This Row],[% Participación]]/100,\"\")","v":0}]
[null,null,null,null,null,null,null,null,null,{"$f":"+IFERROR(((Prestación_de_servicios[[#This Row],[Valor mes]]*(1+Prestación_de_servicios[[#This Row],[% Administración]])*Prestación_de_servicios[[#This Row],[Número de meses]]*Prestación_de_servicios[[#This Row],[Número de personas]]*(Prestación_de_servicios[[#This Row],[Dedicación]]/100))),\"\")","v":0},null,{"$f":"+IFERROR(Prestación_de_servicios[[#This Row],[Costo parcial]]*Prestación_de_servicios[[#This Row],[% Participación]]/100,\"\")","v":0}]
[null,null,null,null,null,null,null,null,null,{"$f":"+IFERROR(((Prestación_de_servicios[[#This Row],[Valor mes]]*(1+Prestación_de_servicios[[#This Row],[% Administración]])*Prestación_de_servicios[[#This Row],[Número de meses]]*Prestación_de_servicios[[#This Row],[Número de personas]]*(Prestación_de_servicios[[#This Row],[Dedicación]]/100))),\"\")","v":0},null,{"$f":"+IFERROR(Prestación_de_servicios[[#This Row],[Costo parcial]]*Prestación_de_servicios[[#This Row],[% Participación]]/100,\"\")","v":0}]
[null,null,null,null,null,null,null,null,null,{"$f":"+IFERROR(((Prestación_de_servicios[[#This Row],[Valor mes]]*(1+Prestación_de_servicios[[#This Row],[% Administración]])*Prestación_de_servicios[[#This Row],[Número de meses]]*Prestación_de_servicios[[#This Row],[Número de personas]]*(Prestación_de_servicios[[#This Row],[Dedicación]]/100))),\"\")","v":0},null,{"$f":"+IFERROR(Prestación_de_servicios[[#This Row],[Costo parcial]]*Prestación_de_servicios[[#This Row],[% Participación]]/100,\"\")","v":0}]
[null,null,null,null,null,null,null,null,null,{"$f":"+IFERROR(((Prestación_de_servicios[[#This Row],[Valor mes]]*(1+Prestación_de_servicios[[#This Row],[% Administración]])*Prestación_de_servicios[[#This Row],[Número de meses]]*Prestación_de_servicios[[#This Row],[Número de personas]]*(Prestación_de_servicios[[#This Row],[Dedicación]]/100))),\"\")","v":0},null,{"$f":"+IFERROR(Prestación_de_servicios[[#This Row],[Costo parcial]]*Prestación_de_servicios[[#This Row],[% Participación]]/100,\"\")","v":0}]
[null,null,null,null,null,null,null,null,null,{"$f":"+IFERROR(((Prestación_de_servicios[[#This Row],[Valor mes]]*(1+Prestación_de_servicios[[#This Row],[% Administración]])*Prestación_de_servicios[[#This Row],[Número de meses]]*Prestación_de_servicios[[#This Row],[Número de personas]]*(Prestación_de_servicios[[#This Row],[Dedicación]]/100))),\"\")","v":0},null,{"$f":"+IFERROR(Prestación_de_servicios[[#This Row],[Costo parcial]]*Prestación_de_servicios[[#This Row],[% Participación]]/100,\"\")","v":0}]
[null,null,null,null,null,null,null,null,null,{"$f":"+IFERROR(((Prestación_de_servicios[[#This Row],[Valor mes]]*(1+Prestación_de_servicios[[#This Row],[% Administración]])*Prestación_de_servicios[[#This Row],[Número de meses]]*Prestación_de_servicios[[#This Row],[Número de personas]]*(Prestación_de_servicios[[#This Row],[Dedicación]]/100))),\"\")","v":0},null,{"$f":"+IFERROR(Prestación_de_servicios[[#This Row],[Costo parcial]]*Prestación_de_servicios[[#This Row],[% Participación]]/100,\"\")","v":0}]
[null,null,null,null,null,null,null,null,null,{"$f":"+IFERROR(((Prestación_de_servicios[[#This Row],[Valor mes]]*(1+Prestación_de_servicios[[#This Row],[% Administración]])*Prestación_de_servicios[[#This Row],[Número de meses]]*Prestación_de_servicios[[#This Row],[Número de personas]]*(Prestación_de_servicios[[#This Row],[Dedicación]]/100))),\"\")","v":0},null,{"$f":"+IFERROR(Prestación_de_servicios[[#This Row],[Costo parcial]]*Prestación_de_servicios[[#This Row],[% Participación]]/100,\"\")","v":0}]
[null,null,null,null,null,null,null,null,null,{"$f":"+IFERROR(((Prestación_de_servicios[[#This Row],[Valor mes]]*(1+Prestación_de_servicios[[#This Row],[% Administración]])*Prestación_de_servicios[[#This Row],[Número de meses]]*Prestación_de_servicios[[#This Row],[Número de personas]]*(Prestación_de_servicios[[#This Row],[Dedicación]]/100))),\"\")","v":0},null,{"$f":"+IFERROR(Prestación_de_servicios[[#This Row],[Costo parcial]]*Prestación_de_servicios[[#This Row],[% Participación]]/100,\"\")","v":0}]
[null,null,null,null,null,null,null,null,null,{"$f":"+IFERROR(((Prestación_de_servicios[[#This Row],[Valor mes]]*(1+Prestación_de_servicios[[#This Row],[% Administración]])*Prestación_de_servicios[[#This Row],[Número de meses]]*Prestación_de_servicios[[#This Row],[Número de personas]]*(Prestación_de_servicios[[#This Row],[Dedicación]]/100))),\"\")","v":0},null,{"$f":"+IFERROR(Prestación_de_servicios[[#This Row],[Costo parcial]]*Prestación_de_servicios[[#This Row],[% Participación]]/100,\"\")","v":0}]
[null,null,null,null,null,null,null,null,null,{"$f":"+IFERROR(((Prestación_de_servicios[[#This Row],[Valor mes]]*(1+Prestación_de_servicios[[#This Row],[% Administración]])*Prestación_de_servicios[[#This Row],[Número de meses]]*Prestación_de_servicios[[#This Row],[Número de personas]]*(Prestación_de_servicios[[#This Row],[Dedicación]]/100))),\"\")","v":0},null,{"$f":"+IFERROR(Prestación_de_servicios[[#This Row],[Costo parcial]]*Prestación_de_servicios[[#This Row],[% Participación]]/100,\"\")","v":0}]
[null,null,null,null,null,null,null,null,null,{"$f":"+IFERROR(((Prestación_de_servicios[[#This Row],[Valor mes]]*(1+Prestación_de_servicios[[#This Row],[% Administración]])*Prestación_de_servicios[[#This Row],[Número de meses]]*Prestación_de_servicios[[#This Row],[Número de personas]]*(Prestación_de_servicios[[#This Row],[Dedicación]]/100))),\"\")","v":0},null,{"$f":"+IFERROR(Prestación_de_servicios[[#This Row],[Costo parcial]]*Prestación_de_servicios[[#This Row],[% Participación]]/100,\"\")","v":0}]
[null,null,null,null,null,null,null,null,null,{"$f":"+IFERROR(((Prestación_de_servicios[[#This Row],[Valor mes]]*(1+Prestación_de_servicios[[#This Row],[% Administración]])*Prestación_de_servicios[[#This Row],[Número de meses]]*Prestación_de_servicios[[#This Row],[Número de personas]]*(Prestación_de_servicios[[#This Row],[Dedicación]]/100))),\"\")","v":0},null,{"$f":"+IFERROR(Prestación_de_servicios[[#This Row],[Costo parcial]]*Prestación_de_servicios[[#This Row],[% Participación]]/100,\"\")","v":0}]
[null,null,null,null,null,null,null,null,null,{"$f":"+IFERROR(((Prestación_de_servicios[[#This Row],[Valor mes]]*(1+Prestación_de_servicios[[#This Row],[% Administración]])*Prestación_de_servicios[[#This Row],[Número de meses]]*Prestación_de_servicios[[#This Row],[Número de personas]]*(Prestación_de_servicios[[#This Row],[Dedicación]]/100))),\"\")","v":0},null,{"$f":"+IFERROR(Prestación_de_servicios[[#This Row],[Costo parcial]]*Prestación_de_servicios[[#This Row],[% Participación]]/100,\"\")","v":0}]
[null,null,null,null,null,null,null,null,null,{"$f":"+IFERROR(((Prestación_de_servicios[[#This Row],[Valor mes]]*(1+Prestación_de_servicios[[#This Row],[% Administración]])*Prestación_de_servicios[[#This Row],[Número de meses]]*Prestación_de_servicios[[#This Row],[Número de personas]]*(Prestación_de_servicios[[#This Row],[Dedicación]]/100))),\"\")","v":0},null,{"$f":"+IFERROR(Prestación_de_servicios[[#This Row],[Costo parcial]]*Prestación_de_servicios[[#This Row],[% Participación]]/100,\"\")","v":0}]
[null,null,null,null,null,null,null,null,null,{"$f":"+IFERROR(((Prestación_de_servicios[[#This Row],[Valor mes]]*(1+Prestación_de_servicios[[#This Row],[% Administración]])*Prestación_de_servicios[[#This Row],[Número de meses]]*Prestación_de_servicios[[#This Row],[Número de personas]]*(Prestación_de_servicios[[#This Row],[Dedicación]]/100))),\"\")","v":0},null,{"$f":"+IFERROR(Prestación_de_servicios[[#This Row],[Costo parcial]]*Prestación_de_servicios[[#This Row],[% Participación]]/100,\"\")","v":0}]
[null,null,null,null,null,null,null,null,null,{"$f":"+IFERROR(((Prestación_de_servicios[[#This Row],[Valor mes]]*(1+Prestación_de_servicios[[#This Row],[% Administración]])*Prestación_de_servicios[[#This Row],[Número de meses]]*Prestación_de_servicios[[#This Row],[Número de personas]]*(Prestación_de_servicios[[#This Row],[Dedicación]]/100))),\"\")","v":0},null,{"$f":"+IFERROR(Prestación_de_servicios[[#This Row],[Costo parcial]]*Prestación_de_servicios[[#This Row],[% Participación]]/100,\"\")","v":0}]

{"sheet":"Monitores","index":15,"n_rows":50,"n_cols":11,"rows_kept":50,"cut":false,"hidden":false,"merged":[]}
["Financiador","Fase","Categoría","Descripción","Valor hora","% Administración","Número de horas","Número de personas","Costo parcial","% Participación","Costo"]
[null,null,null,null,{"$f":"+IFERROR(VLOOKUP(Monitores[[#This Row],[Categoría]],Tabla209[#All],2,0),\"\")","v":""},null,null,null,{"$f":"+IFERROR((Monitores[[#This Row],[Valor hora]]*(1+Monitores[[#This Row],[% Administración]]/100)*Monitores[[#This Row],[Número de horas]]*Monitores[[#This Row],[Número de personas]]),\"\")","v":""},null,{"$f":"+IFERROR(Monitores[[#This Row],[Costo parcial]]*Monitores[[#This Row],[% Participación]]/100,\"\")","v":""}]
[null,null,null,null,{"$f":"+IFERROR(VLOOKUP(Monitores[[#This Row],[Categoría]],Tabla209[#All],2,0),\"\")","v":""},null,null,null,{"$f":"+IFERROR((Monitores[[#This Row],[Valor hora]]*(1+Monitores[[#This Row],[% Administración]]/100)*Monitores[[#This Row],[Número de horas]]*Monitores[[#This Row],[Número de personas]]),\"\")","v":""},null,{"$f":"+IFERROR(Monitores[[#This Row],[Costo parcial]]*Monitores[[#This Row],[% Participación]]/100,\"\")","v":""}]
[null,null,null,null,{"$f":"+IFERROR(VLOOKUP(Monitores[[#This Row],[Categoría]],Tabla209[#All],2,0),\"\")","v":""},null,null,null,{"$f":"+IFERROR((Monitores[[#This Row],[Valor hora]]*(1+Monitores[[#This Row],[% Administración]]/100)*Monitores[[#This Row],[Número de horas]]*Monitores[[#This Row],[Número de personas]]),\"\")","v":""},null,{"$f":"+IFERROR(Monitores[[#This Row],[Costo parcial]]*Monitores[[#This Row],[% Participación]]/100,\"\")","v":""}]
[null,null,null,null,{"$f":"+IFERROR(VLOOKUP(Monitores[[#This Row],[Categoría]],Tabla209[#All],2,0),\"\")","v":""},null,null,null,{"$f":"+IFERROR((Monitores[[#This Row],[Valor hora]]*(1+Monitores[[#This Row],[% Administración]]/100)*Monitores[[#This Row],[Número de horas]]*Monitores[[#This Row],[Número de personas]]),\"\")","v":""},null,{"$f":"+IFERROR(Monitores[[#This Row],[Costo parcial]]*Monitores[[#This Row],[% Participación]]/100,\"\")","v":""}]
[null,null,null,null,{"$f":"+IFERROR(VLOOKUP(Monitores[[#This Row],[Categoría]],Tabla209[#All],2,0),\"\")","v":""},null,null,null,{"$f":"+IFERROR((Monitores[[#This Row],[Valor hora]]*(1+Monitores[[#This Row],[% Administración]]/100)*Monitores[[#This Row],[Número de horas]]*Monitores[[#This Row],[Número de personas]]),\"\")","v":""},null,{"$f":"+IFERROR(Monitores[[#This Row],[Costo parcial]]*Monitores[[#This Row],[% Participación]]/100,\"\")","v":""}]
[null,null,null,null,{"$f":"+IFERROR(VLOOKUP(Monitores[[#This Row],[Categoría]],Tabla209[#All],2,0),\"\")","v":""},null,null,null,{"$f":"+IFERROR((Monitores[[#This Row],[Valor hora]]*(1+Monitores[[#This Row],[% Administración]]/100)*Monitores[[#This Row],[Número de horas]]*Monitores[[#This Row],[Número de personas]]),\"\")","v":""},null,{"$f":"+IFERROR(Monitores[[#This Row],[Costo parcial]]*Monitores[[#This Row],[% Participación]]/100,\"\")","v":""}]
[null,null,null,null,{"$f":"+IFERROR(VLOOKUP(Monitores[[#This Row],[Categoría]],Tabla209[#All],2,0),\"\")","v":""},null,null,null,{"$f":"+IFERROR((Monitores[[#This Row],[Valor hora]]*(1+Monitores[[#This Row],[% Administración]]/100)*Monitores[[#This Row],[Número de horas]]*Monitores[[#This Row],[Número de personas]]),\"\")","v":""},null,{"$f":"+IFERROR(Monitores[[#This Row],[Costo parcial]]*Monitores[[#This Row],[% Participación]]/100,\"\")","v":""}]
[null,null,null,null,{"$f":"+IFERROR(VLOOKUP(Monitores[[#This Row],[Categoría]],Tabla209[#All],2,0),\"\")","v":""},null,null,null,{"$f":"+IFERROR((Monitores[[#This Row],[Valor hora]]*(1+Monitores[[#This Row],[% Administración]]/100)*Monitores[[#This Row],[Número de horas]]*Monitores[[#This Row],[Número de personas]]),\"\")","v":""},null,{"$f":"+IFERROR(Monitores[[#This Row],[Costo parcial]]*Monitores[[#This Row],[% Participación]]/100,\"\")","v":""}]
[null,null,null,null,{"$f":"+IFERROR(VLOOKUP(Monitores[[#This Row],[Categoría]],Tabla209[#All],2,0),\"\")","v":""},null,null,null,{"$f":"+IFERROR((Monitores[[#This Row],[Valor hora]]*(1+Monitores[[#This Row],[% Administración]]/100)*Monitores[[#This Row],[Número de horas]]*Monitores[[#This Row],[Número de personas]]),\"\")","v":""},null,{"$f":"+IFERROR(Monitores[[#This Row],[Costo parcial]]*Monitores[[#This Row],[% Participación]]/100,\"\")","v":""}]
[null,null,null,null,{"$f":"+IFERROR(VLOOKUP(Monitores[[#This Row],[Categoría]],Tabla209[#All],2,0),\"\")","v":""},null,null,null,{"$f":"+IFERROR((Monitores[[#This Row],[Valor hora]]*(1+Monitores[[#This Row],[% Administración]]/100)*Monitores[[#This Row],[Número de horas]]*Monitores[[#This Row],[Número de personas]]),\"\")","v":""},null,{"$f":"+IFERROR(Monitores[[#This Row],[Costo parcial]]*Monitores[[#This Row],[% Participación]]/100,\"\")","v":""}]
[null,null,null,null,{"$f":"+IFERROR(VLOOKUP(Monitores[[#This Row],[Categoría]],Tabla209[#All],2,0),\"\")","v":""},null,null,null,{"$f":"+IFERROR((Monitores[[#This Row],[Valor hora]]*(1+Monitores[[#This Row],[% Administración]]/100)*Monitores[[#This Row],[Número de horas]]*Monitores[[#This Row],[Número de personas]]),\"\")","v":""},null,{"$f":"+IFERROR(Monitores[[#This Row],[Costo parcial]]*Monitores[[#This Row],[% Participación]]/100,\"\")","v":""}]
[null,null,null,null,{"$f":"+IFERROR(VLOOKUP(Monitores[[#This Row],[Categoría]],Tabla209[#All],2,0),\"\")","v":""},null,null,null,{"$f":"+IFERROR((Monitores[[#This Row],[Valor hora]]*(1+Monitores[[#This Row],[% Administración]]/100)*Monitores[[#This Row],[Número de horas]]*Monitores[[#This Row],[Número de personas]]),\"\")","v":""},null,{"$f":"+IFERROR(Monitores[[#This Row],[Costo parcial]]*Monitores[[#This Row],[% Participación]]/100,\"\")","v":""}]
[null,null,null,null,{"$f":"+IFERROR(VLOOKUP(Monitores[[#This Row],[Categoría]],Tabla209[#All],2,0),\"\")","v":""},null,null,null,{"$f":"+IFERROR((Monitores[[#This Row],[Valor hora]]*(1+Monitores[[#This Row],[% Administración]]/100)*Monitores[[#This Row],[Número de horas]]*Monitores[[#This Row],[Número de personas]]),\"\")","v":""},null,{"$f":"+IFERROR(Monitores[[#This Row],[Costo parcial]]*Monitores[[#This Row],[% Participación]]/100,\"\")","v":""}]
[null,null,null,null,{"$f":"+IFERROR(VLOOKUP(Monitores[[#This Row],[Categoría]],Tabla209[#All],2,0),\"\")","v":""},null,null,null,{"$f":"+IFERROR((Monitores[[#This Row],[Valor hora]]*(1+Monitores[[#This Row],[% Administración]]/100)*Monitores[[#This Row],[Número de horas]]*Monitores[[#This Row],[Número de personas]]),\"\")","v":""},null,{"$f":"+IFERROR(Monitores[[#This Row],[Costo parcial]]*Monitores[[#This Row],[% Participación]]/100,\"\")","v":""}]
[null,null,null,null,{"$f":"+IFERROR(VLOOKUP(Monitores[[#This Row],[Categoría]],Tabla209[#All],2,0),\"\")","v":""},null,null,null,{"$f":"+IFERROR((Monitores[[#This Row],[Valor hora]]*(1+Monitores[[#This Row],[% Administración]]/100)*Monitores[[#This Row],[Número de horas]]*Monitores[[#This Row],[Número de personas]]),\"\")","v":""},null,{"$f":"+IFERROR(Monitores[[#This Row],[Costo parcial]]*Monitores[[#This Row],[% Participación]]/100,\"\")","v":""}]
[null,null,null,null,{"$f":"+IFERROR(VLOOKUP(Monitores[[#This Row],[Categoría]],Tabla209[#All],2,0),\"\")","v":""},null,null,null,{"$f":"+IFERROR((Monitores[[#This Row],[Valor hora]]*(1+Monitores[[#This Row],[% Administración]]/100)*Monitores[[#This Row],[Número de horas]]*Monitores[[#This Row],[Número de personas]]),\"\")","v":""},null,{"$f":"+IFERROR(Monitores[[#This Row],[Costo parcial]]*Monitores[[#This Row],[% Participación]]/100,\"\")","v":""}]
[null,null,null,null,{"$f":"+IFERROR(VLOOKUP(Monitores[[#This Row],[Categoría]],Tabla209[#All],2,0),\"\")","v":""},null,null,null,{"$f":"+IFERROR((Monitores[[#This Row],[Valor hora]]*(1+Monitores[[#This Row],[% Administración]]/100)*Monitores[[#This Row],[Número de horas]]*Monitores[[#This Row],[Número de personas]]),\"\")","v":""},null,{"$f":"+IFERROR(Monitores[[#This Row],[Costo parcial]]*Monitores[[#This Row],[% Participación]]/100,\"\")","v":""}]
[null,null,null,null,{"$f":"+IFERROR(VLOOKUP(Monitores[[#This Row],[Categoría]],Tabla209[#All],2,0),\"\")","v":""},null,null,null,{"$f":"+IFERROR((Monitores[[#This Row],[Valor hora]]*(1+Monitores[[#This Row],[% Administración]]/100)*Monitores[[#This Row],[Número de horas]]*Monitores[[#This Row],[Número de personas]]),\"\")","v":""},null,{"$f":"+IFERROR(Monitores[[#This Row],[Costo parcial]]*Monitores[[#This Row],[% Participación]]/100,\"\")","v":""}]
[null,null,null,null,{"$f":"+IFERROR(VLOOKUP(Monitores[[#This Row],[Categoría]],Tabla209[#All],2,0),\"\")","v":""},null,null,null,{"$f":"+IFERROR((Monitores[[#This Row],[Valor hora]]*(1+Monitores[[#This Row],[% Administración]]/100)*Monitores[[#This Row],[Número de horas]]*Monitores[[#This Row],[Número de personas]]),\"\")","v":""},null,{"$f":"+IFERROR(Monitores[[#This Row],[Costo parcial]]*Monitores[[#This Row],[% Participación]]/100,\"\")","v":""}]
[null,null,null,null,{"$f":"+IFERROR(VLOOKUP(Monitores[[#This Row],[Categoría]],Tabla209[#All],2,0),\"\")","v":""},null,null,null,{"$f":"+IFERROR((Monitores[[#This Row],[Valor hora]]*(1+Monitores[[#This Row],[% Administración]]/100)*Monitores[[#This Row],[Número de horas]]*Monitores[[#This Row],[Número de personas]]),\"\")","v":""},null,{"$f":"+IFERROR(Monitores[[#This Row],[Costo parcial]]*Monitores[[#This Row],[% Participación]]/100,\"\")","v":""}]
[null,null,null,null,{"$f":"+IFERROR(VLOOKUP(Monitores[[#This Row],[Categoría]],Tabla209[#All],2,0),\"\")","v":""},null,null,null,{"$f":"+IFERROR((Monitores[[#This Row],[Valor hora]]*(1+Monitores[[#This Row],[% Administración]]/100)*Monitores[[#This Row],[Número de horas]]*Monitores[[#This Row],[Número de personas]]),\"\")","v":""},null,{"$f":"+IFERROR(Monitores[[#This Row],[Costo parcial]]*Monitores[[#This Row],[% Participación]]/100,\"\")","v":""}]
[null,null,null,null,{"$f":"+IFERROR(VLOOKUP(Monitores[[#This Row],[Categoría]],Tabla209[#All],2,0),\"\")","v":""},null,null,null,{"$f":"+IFERROR((Monitores[[#This Row],[Valor hora]]*(1+Monitores[[#This Row],[% Administración]]/100)*Monitores[[#This Row],[Número de horas]]*Monitores[[#This Row],[Número de personas]]),\"\")","v":""},null,{"$f":"+IFERROR(Monitores[[#This Row],[Costo parcial]]*Monitores[[#This Row],[% Participación]]/100,\"\")","v":""}]
[null,null,null,null,{"$f":"+IFERROR(VLOOKUP(Monitores[[#This Row],[Categoría]],Tabla209[#All],2,0),\"\")","v":""},null,null,null,{"$f":"+IFERROR((Monitores[[#This Row],[Valor hora]]*(1+Monitores[[#This Row],[% Administración]]/100)*Monitores[[#This Row],[Número de horas]]*Monitores[[#This Row],[Número de personas]]),\"\")","v":""},null,{"$f":"+IFERROR(Monitores[[#This Row],[Costo parcial]]*Monitores[[#This Row],[% Participación]]/100,\"\")","v":""}]
[null,null,null,null,{"$f":"+IFERROR(VLOOKUP(Monitores[[#This Row],[Categoría]],Tabla209[#All],2,0),\"\")","v":""},null,null,null,{"$f":"+IFERROR((Monitores[[#This Row],[Valor hora]]*(1+Monitores[[#This Row],[% Administración]]/100)*Monitores[[#This Row],[Número de horas]]*Monitores[[#This Row],[Número de personas]]),\"\")","v":""},null,{"$f":"+IFERROR(Monitores[[#This Row],[Costo parcial]]*Monitores[[#This Row],[% Participación]]/100,\"\")","v":""}]
[null,null,null,null,{"$f":"+IFERROR(VLOOKUP(Monitores[[#This Row],[Categoría]],Tabla209[#All],2,0),\"\")","v":""},null,null,null,{"$f":"+IFERROR((Monitores[[#This Row],[Valor hora]]*(1+Monitores[[#This Row],[% Administración]]/100)*Monitores[[#This Row],[Número de horas]]*Monitores[[#This Row],[Número de personas]]),\"\")","v":""},null,{"$f":"+IFERROR(Monitores[[#This Row],[Costo parcial]]*Monitores[[#This Row],[% Participación]]/100,\"\")","v":""}]
[null,null,null,null,{"$f":"+IFERROR(VLOOKUP(Monitores[[#This Row],[Categoría]],Tabla209[#All],2,0),\"\")","v":""},null,null,null,{"$f":"+IFERROR((Monitores[[#This Row],[Valor hora]]*(1+Monitores[[#This Row],[% Administración]]/100)*Monitores[[#This Row],[Número de horas]]*Monitores[[#This Row],[Número de personas]]),\"\")","v":""},null,{"$f":"+IFERROR(Monitores[[#This Row],[Costo parcial]]*Monitores[[#This Row],[% Participación]]/100,\"\")","v":""}]
[null,null,null,null,{"$f":"+IFERROR(VLOOKUP(Monitores[[#This Row],[Categoría]],Tabla209[#All],2,0),\"\")","v":""},null,null,null,{"$f":"+IFERROR((Monitores[[#This Row],[Valor hora]]*(1+Monitores[[#This Row],[% Administración]]/100)*Monitores[[#This Row],[Número de horas]]*Monitores[[#This Row],[Número de personas]]),\"\")","v":""},null,{"$f":"+IFERROR(Monitores[[#This Row],[Costo parcial]]*Monitores[[#This Row],[% Participación]]/100,\"\")","v":""}]
[null,null,null,null,{"$f":"+IFERROR(VLOOKUP(Monitores[[#This Row],[Categoría]],Tabla209[#All],2,0),\"\")","v":""},null,null,null,{"$f":"+IFERROR((Monitores[[#This Row],[Valor hora]]*(1+Monitores[[#This Row],[% Administración]]/100)*Monitores[[#This Row],[Número de horas]]*Monitores[[#This Row],[Número de personas]]),\"\")","v":""},null,{"$f":"+IFERROR(Monitores[[#This Row],[Costo parcial]]*Monitores[[#This Row],[% Participación]]/100,\"\")","v":""}]
[null,null,null,null,{"$f":"+IFERROR(VLOOKUP(Monitores[[#This Row],[Categoría]],Tabla209[#All],2,0),\"\")","v":""},null,null,null,{"$f":"+IFERROR((Monitores[[#This Row],[Valor hora]]*(1+Monitores[[#This Row],[% Administración]]/100)*Monitores[[#This Row],[Número de horas]]*Monitores[[#This Row],[Número de personas]]),\"\")","v":""},null,{"$f":"+IFERROR(Monitores[[#This Row],[Costo parcial]]*Monitores[[#This Row],[% Participación]]/100,\"\")","v":""}]
[null,null,null,null,{"$f":"+IFERROR(VLOOKUP(Monitores[[#This Row],[Categoría]],Tabla209[#All],2,0),\"\")","v":""},null,null,null,{"$f":"+IFERROR((Monitores[[#This Row],[Valor hora]]*(1+Monitores[[#This Row],[% Administración]]/100)*Monitores[[#This Row],[Número de horas]]*Monitores[[#This Row],[Número de personas]]),\"\")","v":""},null,{"$f":"+IFERROR(Monitores[[#This Row],[Costo parcial]]*Monitores[[#This Row],[% Participación]]/100,\"\")","v":""}]
[null,null,null,null,{"$f":"+IFERROR(VLOOKUP(Monitores[[#This Row],[Categoría]],Tabla209[#All],2,0),\"\")","v":""},null,null,null,{"$f":"+IFERROR((Monitores[[#This Row],[Valor hora]]*(1+Monitores[[#This Row],[% Administración]]/100)*Monitores[[#This Row],[Número de horas]]*Monitores[[#This Row],[Número de personas]]),\"\")","v":""},null,{"$f":"+IFERROR(Monitores[[#This Row],[Costo parcial]]*Monitores[[#This Row],[% Participación]]/100,\"\")","v":""}]
[null,null,null,null,{"$f":"+IFERROR(VLOOKUP(Monitores[[#This Row],[Categoría]],Tabla209[#All],2,0),\"\")","v":""},null,null,null,{"$f":"+IFERROR((Monitores[[#This Row],[Valor hora]]*(1+Monitores[[#This Row],[% Administración]]/100)*Monitores[[#This Row],[Número de horas]]*Monitores[[#This Row],[Número de personas]]),\"\")","v":""},null,{"$f":"+IFERROR(Monitores[[#This Row],[Costo parcial]]*Monitores[[#This Row],[% Participación]]/100,\"\")","v":""}]
[null,null,null,null,{"$f":"+IFERROR(VLOOKUP(Monitores[[#This Row],[Categoría]],Tabla209[#All],2,0),\"\")","v":""},null,null,null,{"$f":"+IFERROR((Monitores[[#This Row],[Valor hora]]*(1+Monitores[[#This Row],[% Administración]]/100)*Monitores[[#This Row],[Número de horas]]*Monitores[[#This Row],[Número de personas]]),\"\")","v":""},null,{"$f":"+IFERROR(Monitores[[#This Row],[Costo parcial]]*Monitores[[#This Row],[% Participación]]/100,\"\")","v":""}]
[null,null,null,null,{"$f":"+IFERROR(VLOOKUP(Monitores[[#This Row],[Categoría]],Tabla209[#All],2,0),\"\")","v":""},null,null,null,{"$f":"+IFERROR((Monitores[[#This Row],[Valor hora]]*(1+Monitores[[#This Row],[% Administración]]/100)*Monitores[[#This Row],[Número de horas]]*Monitores[[#This Row],[Número de personas]]),\"\")","v":""},null,{"$f":"+IFERROR(Monitores[[#This Row],[Costo parcial]]*Monitores[[#This Row],[% Participación]]/100,\"\")","v":""}]
[null,null,null,null,{"$f":"+IFERROR(VLOOKUP(Monitores[[#This Row],[Categoría]],Tabla209[#All],2,0),\"\")","v":""},null,null,null,{"$f":"+IFERROR((Monitores[[#This Row],[Valor hora]]*(1+Monitores[[#This Row],[% Administración]]/100)*Monitores[[#This Row],[Número de horas]]*Monitores[[#This Row],[Número de personas]]),\"\")","v":""},null,{"$f":"+IFERROR(Monitores[[#This Row],[Costo parcial]]*Monitores[[#This Row],[% Participación]]/100,\"\")","v":""}]
[null,null,null,null,{"$f":"+IFERROR(VLOOKUP(Monitores[[#This Row],[Categoría]],Tabla209[#All],2,0),\"\")","v":""},null,null,null,{"$f":"+IFERROR((Monitores[[#This Row],[Valor hora]]*(1+Monitores[[#This Row],[% Administración]]/100)*Monitores[[#This Row],[Número de horas]]*Monitores[[#This Row],[Número de personas]]),\"\")","v":""},null,{"$f":"+IFERROR(Monitores[[#This Row],[Costo parcial]]*Monitores[[#This Row],[% Participación]]/100,\"\")","v":""}]
[null,null,null,null,{"$f":"+IFERROR(VLOOKUP(Monitores[[#This Row],[Categoría]],Tabla209[#All],2,0),\"\")","v":""},null,null,null,{"$f":"+IFERROR((Monitores[[#This Row],[Valor hora]]*(1+Monitores[[#This Row],[% Administración]]/100)*Monitores[[#This Row],[Número de horas]]*Monitores[[#This Row],[Número de personas]]),\"\")","v":""},null,{"$f":"+IFERROR(Monitores[[#This Row],[Costo parcial]]*Monitores[[#This Row],[% Participación]]/100,\"\")","v":""}]
[null,null,null,null,{"$f":"+IFERROR(VLOOKUP(Monitores[[#This Row],[Categoría]],Tabla209[#All],2,0),\"\")","v":""},null,null,null,{"$f":"+IFERROR((Monitores[[#This Row],[Valor hora]]*(1+Monitores[[#This Row],[% Administración]]/100)*Monitores[[#This Row],[Número de horas]]*Monitores[[#This Row],[Número de personas]]),\"\")","v":""},null,{"$f":"+IFERROR(Monitores[[#This Row],[Costo parcial]]*Monitores[[#This Row],[% Participación]]/100,\"\")","v":""}]
[null,null,null,null,{"$f":"+IFERROR(VLOOKUP(Monitores[[#This Row],[Categoría]],Tabla209[#All],2,0),\"\")","v":""},null,null,null,{"$f":"+IFERROR((Monitores[[#This Row],[Valor hora]]*(1+Monitores[[#This Row],[% Administración]]/100)*Monitores[[#This Row],[Número de horas]]*Monitores[[#This Row],[Número de personas]]),\"\")","v":""},null,{"$f":"+IFERROR(Monitores[[#This Row],[Costo parcial]]*Monitores[[#This Row],[% Participación]]/100,\"\")","v":""}]
[null,null,null,null,{"$f":"+IFERROR(VLOOKUP(Monitores[[#This Row],[Categoría]],Tabla209[#All],2,0),\"\")","v":""},null,null,null,{"$f":"+IFERROR((Monitores[[#This Row],[Valor hora]]*(1+Monitores[[#This Row],[% Administración]]/100)*Monitores[[#This Row],[Número de horas]]*Monitores[[#This Row],[Número de personas]]),\"\")","v":""},null,{"$f":"+IFERROR(Monitores[[#This Row],[Costo parcial]]*Monitores[[#This Row],[% Participación]]/100,\"\")","v":""}]
[null,null,null,null,{"$f":"+IFERROR(VLOOKUP(Monitores[[#This Row],[Categoría]],Tabla209[#All],2,0),\"\")","v":""},null,null,null,{"$f":"+IFERROR((Monitores[[#This Row],[Valor hora]]*(1+Monitores[[#This Row],[% Administración]]/100)*Monitores[[#This Row],[Número de horas]]*Monitores[[#This Row],[Número de personas]]),\"\")","v":""},null,{"$f":"+IFERROR(Monitores[[#This Row],[Costo parcial]]*Monitores[[#This Row],[% Participación]]/100,\"\")","v":""}]
[null,null,null,null,{"$f":"+IFERROR(VLOOKUP(Monitores[[#This Row],[Categoría]],Tabla209[#All],2,0),\"\")","v":""},null,null,null,{"$f":"+IFERROR((Monitores[[#This Row],[Valor hora]]*(1+Monitores[[#This Row],[% Administración]]/100)*Monitores[[#This Row],[Número de horas]]*Monitores[[#This Row],[Número de personas]]),\"\")","v":""},null,{"$f":"+IFERROR(Monitores[[#This Row],[Costo parcial]]*Monitores[[#This Row],[% Participación]]/100,\"\")","v":""}]
[null,null,null,null,{"$f":"+IFERROR(VLOOKUP(Monitores[[#This Row],[Categoría]],Tabla209[#All],2,0),\"\")","v":""},null,null,null,{"$f":"+IFERROR((Monitores[[#This Row],[Valor hora]]*(1+Monitores[[#This Row],[% Administración]]/100)*Monitores[[#This Row],[Número de horas]]*Monitores[[#This Row],[Número de personas]]),\"\")","v":""},null,{"$f":"+IFERROR(Monitores[[#This Row],[Costo parcial]]*Monitores[[#This Row],[% Participación]]/100,\"\")","v":""}]
[null,null,null,null,{"$f":"+IFERROR(VLOOKUP(Monitores[[#This Row],[Categoría]],Tabla209[#All],2,0),\"\")","v":""},null,null,null,{"$f":"+IFERROR((Monitores[[#This Row],[Valor hora]]*(1+Monitores[[#This Row],[% Administración]]/100)*Monitores[[#This Row],[Número de horas]]*Monitores[[#This Row],[Número de personas]]),\"\")","v":""},null,{"$f":"+IFERROR(Monitores[[#This Row],[Costo parcial]]*Monitores[[#This Row],[% Participación]]/100,\"\")","v":""}]
[null,null,null,null,{"$f":"+IFERROR(VLOOKUP(Monitores[[#This Row],[Categoría]],Tabla209[#All],2,0),\"\")","v":""},null,null,null,{"$f":"+IFERROR((Monitores[[#This Row],[Valor hora]]*(1+Monitores[[#This Row],[% Administración]]/100)*Monitores[[#This Row],[Número de horas]]*Monitores[[#This Row],[Número de personas]]),\"\")","v":""},null,{"$f":"+IFERROR(Monitores[[#This Row],[Costo parcial]]*Monitores[[#This Row],[% Participación]]/100,\"\")","v":""}]
[null,null,null,null,{"$f":"+IFERROR(VLOOKUP(Monitores[[#This Row],[Categoría]],Tabla209[#All],2,0),\"\")","v":""},null,null,null,{"$f":"+IFERROR((Monitores[[#This Row],[Valor hora]]*(1+Monitores[[#This Row],[% Administración]]/100)*Monitores[[#This Row],[Número de horas]]*Monitores[[#This Row],[Número de personas]]),\"\")","v":""},null,{"$f":"+IFERROR(Monitores[[#This Row],[Costo parcial]]*Monitores[[#This Row],[% Participación]]/100,\"\")","v":""}]
[null,null,null,null,{"$f":"+IFERROR(VLOOKUP(Monitores[[#This Row],[Categoría]],Tabla209[#All],2,0),\"\")","v":""},null,null,null,{"$f":"+IFERROR((Monitores[[#This Row],[Valor hora]]*(1+Monitores[[#This Row],[% Administración]]/100)*Monitores[[#This Row],[Número de horas]]*Monitores[[#This Row],[Número de personas]]),\"\")","v":""},null,{"$f":"+IFERROR(Monitores[[#This Row],[Costo parcial]]*Monitores[[#This Row],[% Participación]]/100,\"\")","v":""}]
[null,null,null,null,{"$f":"+IFERROR(VLOOKUP(Monitores[[#This Row],[Categoría]],Tabla209[#All],2,0),\"\")","v":""},null,null,null,{"$f":"+IFERROR((Monitores[[#This Row],[Valor hora]]*(1+Monitores[[#This Row],[% Administración]]/100)*Monitores[[#This Row],[Número de horas]]*Monitores[[#This Row],[Número de personas]]),\"\")","v":""},null,{"$f":"+IFERROR(Monitores[[#This Row],[Costo parcial]]*Monitores[[#This Row],[% Participación]]/100,\"\")","v":""}]
[null,null,null,null,{"$f":"+IFERROR(VLOOKUP(Monitores[[#This Row],[Categoría]],Tabla209[#All],2,0),\"\")","v":""},null,null,null,{"$f":"+IFERROR((Monitores[[#This Row],[Valor hora]]*(1+Monitores[[#This Row],[% Administración]]/100)*Monitores[[#This Row],[Número de horas]]*Monitores[[#This Row],[Número de personas]]),\"\")","v":""},null,{"$f":"+IFERROR(Monitores[[#This Row],[Costo parcial]]*Monitores[[#This Row],[% Participación]]/100,\"\")","v":""}]

{"sheet":"C.I.S. - Fundación UdeA","index":16,"n_rows":50,"n_cols":17,"rows_kept":50,"cut":false,"hidden":false,"merged":[]}
["Financiador","Fase","Cargo ","Descripción","Salario Sugerido","Salario","Factor","% Administración","Salario con factor","Unidad de tiempo","Costo unidad de tiempo","Cantidad de tiempo","Número de personas","Dedicación","Costo parcial","% Participación","Costo"]
["Universidad de Antioquia (Contrapartida)","etapa 1","Técnico 1 Técnica profesional 6 meses de experiencia","comunicador del proyecto",{"$f":"+IFERROR(VLOOKUP(CIS[[#This Row],[Cargo ]],Tabla206[],2,0),\"\")","v":2660593.8259999999},5000000,{"$f":"+IF(CIS[[#This Row],[Cargo ]]=\"\",\"\",Listas!$D$59)","v":1.5352000000000001},null,{"$f":"IFERROR(IF(CIS[[#This Row],[Salario]]=\"\",((CIS[[#This Row],[Salario Sugerido]]*CIS[[#This Row],[Factor]]*(1+CIS[[#This Row],[% Administración]]))),(CIS[[#This Row],[Salario]]*CIS[[#This Row],[Factor]]*(1+CIS[[#This Row],[% Administración]]))),\"\")","v":7676000.0000000009},null,{"$f":"IFERROR(CIS[[#This Row],[Salario con factor]]/VLOOKUP(CIS[[#This Row],[Unidad de tiempo]],Tabla210[],2,0),\"\")","v":""},null,null,null,{"$f":"+IFERROR((CIS[[#This Row],[Costo unidad de tiempo]]*CIS[[#This Row],[Cantidad de tiempo]]*CIS[[#This Row],[Número de personas]]*VLOOKUP(CIS[[#This Row],[Dedicación]],Tabla201[#All],2,0)),\"\")","v":""},null,{"$f":"+IFERROR(CIS[[#This Row],[Costo parcial]]*CIS[[#This Row],[% Participación]]/100,\"\")","v":""}]
[null,null,null,null,{"$f":"+IFERROR(VLOOKUP(CIS[[#This Row],[Cargo ]],Tabla206[],2,0),\"\")","v":""},null,{"$f":"+IF(CIS[[#This Row],[Cargo ]]=\"\",\"\",Listas!$D$59)","v":""},null,{"$f":"IFERROR(IF(CIS[[#This Row],[Salario]]=\"\",((CIS[[#This Row],[Salario Sugerido]]*CIS[[#This Row],[Factor]]*(1+CIS[[#This Row],[% Administración]]))),(CIS[[#This Row],[Salario]]*CIS[[#This Row],[Factor]]*(1+CIS[[#This Row],[% Administración]]))),\"\")","v":""},null,{"$f":"IFERROR(CIS[[#This Row],[Salario con factor]]/VLOOKUP(CIS[[#This Row],[Unidad de tiempo]],Tabla210[],2,0),\"\")","v":""},null,null,null,{"$f":"+IFERROR((CIS[[#This Row],[Costo unidad de tiempo]]*CIS[[#This Row],[Cantidad de tiempo]]*CIS[[#This Row],[Número de personas]]*VLOOKUP(CIS[[#This Row],[Dedicación]],Tabla201[#All],2,0)),\"\")","v":""},null,{"$f":"+IFERROR(CIS[[#This Row],[Costo parcial]]*CIS[[#This Row],[% Participación]]/100,\"\")","v":""}]
[null,null,null,null,{"$f":"+IFERROR(VLOOKUP(CIS[[#This Row],[Cargo ]],Tabla206[],2,0),\"\")","v":""},null,{"$f":"+IF(CIS[[#This Row],[Cargo ]]=\"\",\"\",Listas!$D$59)","v":""},null,{"$f":"IFERROR(IF(CIS[[#This Row],[Salario]]=\"\",((CIS[[#This Row],[Salario Sugerido]]*CIS[[#This Row],[Factor]]*(1+CIS[[#This Row],[% Administración]]))),(CIS[[#This Row],[Salario]]*CIS[[#This Row],[Factor]]*(1+CIS[[#This Row],[% Administración]]))),\"\")","v":""},null,{"$f":"IFERROR(CIS[[#This Row],[Salario con factor]]/VLOOKUP(CIS[[#This Row],[Unidad de tiempo]],Tabla210[],2,0),\"\")","v":""},null,null,null,{"$f":"+IFERROR((CIS[[#This Row],[Costo unidad de tiempo]]*CIS[[#This Row],[Cantidad de tiempo]]*CIS[[#This Row],[Número de personas]]*VLOOKUP(CIS[[#This Row],[Dedicación]],Tabla201[#All],2,0)),\"\")","v":""},null,{"$f":"+IFERROR(CIS[[#This Row],[Costo parcial]]*CIS[[#This Row],[% Participación]]/100,\"\")","v":""}]
[null,null,null,null,{"$f":"+IFERROR(VLOOKUP(CIS[[#This Row],[Cargo ]],Tabla206[],2,0),\"\")","v":""},null,{"$f":"+IF(CIS[[#This Row],[Cargo ]]=\"\",\"\",Listas!$D$59)","v":""},null,{"$f":"IFERROR(IF(CIS[[#This Row],[Salario]]=\"\",((CIS[[#This Row],[Salario Sugerido]]*CIS[[#This Row],[Factor]]*(1+CIS[[#This Row],[% Administración]]))),(CIS[[#This Row],[Salario]]*CIS[[#This Row],[Factor]]*(1+CIS[[#This Row],[% Administración]]))),\"\")","v":""},null,{"$f":"IFERROR(CIS[[#This Row],[Salario con factor]]/VLOOKUP(CIS[[#This Row],[Unidad de tiempo]],Tabla210[],2,0),\"\")","v":""},null,null,null,{"$f":"+IFERROR((CIS[[#This Row],[Costo unidad de tiempo]]*CIS[[#This Row],[Cantidad de tiempo]]*CIS[[#This Row],[Número de personas]]*VLOOKUP(CIS[[#This Row],[Dedicación]],Tabla201[#All],2,0)),\"\")","v":""},null,{"$f":"+IFERROR(CIS[[#This Row],[Costo parcial]]*CIS[[#This Row],[% Participación]]/100,\"\")","v":""}]
[null,null,null,null,{"$f":"+IFERROR(VLOOKUP(CIS[[#This Row],[Cargo ]],Tabla206[],2,0),\"\")","v":""},null,{"$f":"+IF(CIS[[#This Row],[Cargo ]]=\"\",\"\",Listas!$D$59)","v":""},null,{"$f":"IFERROR(IF(CIS[[#This Row],[Salario]]=\"\",((CIS[[#This Row],[Salario Sugerido]]*CIS[[#This Row],[Factor]]*(1+CIS[[#This Row],[% Administración]]))),(CIS[[#This Row],[Salario]]*CIS[[#This Row],[Factor]]*(1+CIS[[#This Row],[% Administración]]))),\"\")","v":""},null,{"$f":"IFERROR(CIS[[#This Row],[Salario con factor]]/VLOOKUP(CIS[[#This Row],[Unidad de tiempo]],Tabla210[],2,0),\"\")","v":""},null,null,null,{"$f":"+IFERROR((CIS[[#This Row],[Costo unidad de tiempo]]*CIS[[#This Row],[Cantidad de tiempo]]*CIS[[#This Row],[Número de personas]]*VLOOKUP(CIS[[#This Row],[Dedicación]],Tabla201[#All],2,0)),\"\")","v":""},null,{"$f":"+IFERROR(CIS[[#This Row],[Costo parcial]]*CIS[[#This Row],[% Participación]]/100,\"\")","v":""}]
[null,null,null,null,{"$f":"+IFERROR(VLOOKUP(CIS[[#This Row],[Cargo ]],Tabla206[],2,0),\"\")","v":""},null,{"$f":"+IF(CIS[[#This Row],[Cargo ]]=\"\",\"\",Listas!$D$59)","v":""},null,{"$f":"IFERROR(IF(CIS[[#This Row],[Salario]]=\"\",((CIS[[#This Row],[Salario Sugerido]]*CIS[[#This Row],[Factor]]*(1+CIS[[#This Row],[% Administración]]))),(CIS[[#This Row],[Salario]]*CIS[[#This Row],[Factor]]*(1+CIS[[#This Row],[% Administración]]))),\"\")","v":""},null,{"$f":"IFERROR(CIS[[#This Row],[Salario con factor]]/VLOOKUP(CIS[[#This Row],[Unidad de tiempo]],Tabla210[],2,0),\"\")","v":""},null,null,null,{"$f":"+IFERROR((CIS[[#This Row],[Costo unidad de tiempo]]*CIS[[#This Row],[Cantidad de tiempo]]*CIS[[#This Row],[Número de personas]]*VLOOKUP(CIS[[#This Row],[Dedicación]],Tabla201[#All],2,0)),\"\")","v":""},null,{"$f":"+IFERROR(CIS[[#This Row],[Costo parcial]]*CIS[[#This Row],[% Participación]]/100,\"\")","v":""}]
[null,null,null,null,{"$f":"+IFERROR(VLOOKUP(CIS[[#This Row],[Cargo ]],Tabla206[],2,0),\"\")","v":""},null,{"$f":"+IF(CIS[[#This Row],[Cargo ]]=\"\",\"\",Listas!$D$59)","v":""},null,{"$f":"IFERROR(IF(CIS[[#This Row],[Salario]]=\"\",((CIS[[#This Row],[Salario Sugerido]]*CIS[[#This Row],[Factor]]*(1+CIS[[#This Row],[% Administración]]))),(CIS[[#This Row],[Salario]]*CIS[[#This Row],[Factor]]*(1+CIS[[#This Row],[% Administración]]))),\"\")","v":""},null,{"$f":"IFERROR(CIS[[#This Row],[Salario con factor]]/VLOOKUP(CIS[[#This Row],[Unidad de tiempo]],Tabla210[],2,0),\"\")","v":""},null,null,null,{"$f":"+IFERROR((CIS[[#This Row],[Costo unidad de tiempo]]*CIS[[#This Row],[Cantidad de tiempo]]*CIS[[#This Row],[Número de personas]]*VLOOKUP(CIS[[#This Row],[Dedicación]],Tabla201[#All],2,0)),\"\")","v":""},null,{"$f":"+IFERROR(CIS[[#This Row],[Costo parcial]]*CIS[[#This Row],[% Participación]]/100,\"\")","v":""}]
[null,null,null,null,{"$f":"+IFERROR(VLOOKUP(CIS[[#This Row],[Cargo ]],Tabla206[],2,0),\"\")","v":""},null,{"$f":"+IF(CIS[[#This Row],[Cargo ]]=\"\",\"\",Listas!$D$59)","v":""},null,{"$f":"IFERROR(IF(CIS[[#This Row],[Salario]]=\"\",((CIS[[#This Row],[Salario Sugerido]]*CIS[[#This Row],[Factor]]*(1+CIS[[#This Row],[% Administración]]))),(CIS[[#This Row],[Salario]]*CIS[[#This Row],[Factor]]*(1+CIS[[#This Row],[% Administración]]))),\"\")","v":""},null,{"$f":"IFERROR(CIS[[#This Row],[Salario con factor]]/VLOOKUP(CIS[[#This Row],[Unidad de tiempo]],Tabla210[],2,0),\"\")","v":""},null,null,null,{"$f":"+IFERROR((CIS[[#This Row],[Costo unidad de tiempo]]*CIS[[#This Row],[Cantidad de tiempo]]*CIS[[#This Row],[Número de personas]]*VLOOKUP(CIS[[#This Row],[Dedicación]],Tabla201[#All],2,0)),\"\")","v":""},null,{"$f":"+IFERROR(CIS[[#This Row],[Costo parcial]]*CIS[[#This Row],[% Participación]]/100,\"\")","v":""}]
[null,null,null,null,{"$f":"+IFERROR(VLOOKUP(CIS[[#This Row],[Cargo ]],Tabla206[],2,0),\"\")","v":""},null,{"$f":"+IF(CIS[[#This Row],[Cargo ]]=\"\",\"\",Listas!$D$59)","v":""},null,{"$f":"IFERROR(IF(CIS[[#This Row],[Salario]]=\"\",((CIS[[#This Row],[Salario Sugerido]]*CIS[[#This Row],[Factor]]*(1+CIS[[#This Row],[% Administración]]))),(CIS[[#This Row],[Salario]]*CIS[[#This Row],[Factor]]*(1+CIS[[#This Row],[% Administración]]))),\"\")","v":""},null,{"$f":"IFERROR(CIS[[#This Row],[Salario con factor]]/VLOOKUP(CIS[[#This Row],[Unidad de tiempo]],Tabla210[],2,0),\"\")","v":""},null,null,null,{"$f":"+IFERROR((CIS[[#This Row],[Costo unidad de tiempo]]*CIS[[#This Row],[Cantidad de tiempo]]*CIS[[#This Row],[Número de personas]]*VLOOKUP(CIS[[#This Row],[Dedicación]],Tabla201[#All],2,0)),\"\")","v":""},null,{"$f":"+IFERROR(CIS[[#This Row],[Costo parcial]]*CIS[[#This Row],[% Participación]]/100,\"\")","v":""}]
[null,null,null,null,{"$f":"+IFERROR(VLOOKUP(CIS[[#This Row],[Cargo ]],Tabla206[],2,0),\"\")","v":""},null,{"$f":"+IF(CIS[[#This Row],[Cargo ]]=\"\",\"\",Listas!$D$59)","v":""},null,{"$f":"IFERROR(IF(CIS[[#This Row],[Salario]]=\"\",((CIS[[#This Row],[Salario Sugerido]]*CIS[[#This Row],[Factor]]*(1+CIS[[#This Row],[% Administración]]))),(CIS[[#This Row],[Salario]]*CIS[[#This Row],[Factor]]*(1+CIS[[#This Row],[% Administración]]))),\"\")","v":""},null,{"$f":"IFERROR(CIS[[#This Row],[Salario con factor]]/VLOOKUP(CIS[[#This Row],[Unidad de tiempo]],Tabla210[],2,0),\"\")","v":""},null,null,null,{"$f":"+IFERROR((CIS[[#This Row],[Costo unidad de tiempo]]*CIS[[#This Row],[Cantidad de tiempo]]*CIS[[#This Row],[Número de personas]]*VLOOKUP(CIS[[#This Row],[Dedicación]],Tabla201[#All],2,0)),\"\")","v":""},null,{"$f":"+IFERROR(CIS[[#This Row],[Costo parcial]]*CIS[[#This Row],[% Participación]]/100,\"\")","v":""}]
[null,null,null,null,{"$f":"+IFERROR(VLOOKUP(CIS[[#This Row],[Cargo ]],Tabla206[],2,0),\"\")","v":""},null,{"$f":"+IF(CIS[[#This Row],[Cargo ]]=\"\",\"\",Listas!$D$59)","v":""},null,{"$f":"IFERROR(IF(CIS[[#This Row],[Salario]]=\"\",((CIS[[#This Row],[Salario Sugerido]]*CIS[[#This Row],[Factor]]*(1+CIS[[#This Row],[% Administración]]))),(CIS[[#This Row],[Salario]]*CIS[[#This Row],[Factor]]*(1+CIS[[#This Row],[% Administración]]))),\"\")","v":""},null,{"$f":"IFERROR(CIS[[#This Row],[Salario con factor]]/VLOOKUP(CIS[[#This Row],[Unidad de tiempo]],Tabla210[],2,0),\"\")","v":""},null,null,null,{"$f":"+IFERROR((CIS[[#This Row],[Costo unidad de tiempo]]*CIS[[#This Row],[Cantidad de tiempo]]*CIS[[#This Row],[Número de personas]]*VLOOKUP(CIS[[#This Row],[Dedicación]],Tabla201[#All],2,0)),\"\")","v":""},null,{"$f":"+IFERROR(CIS[[#This Row],[Costo parcial]]*CIS[[#This Row],[% Participación]]/100,\"\")","v":""}]
[null,null,null,null,{"$f":"+IFERROR(VLOOKUP(CIS[[#This Row],[Cargo ]],Tabla206[],2,0),\"\")","v":""},null,{"$f":"+IF(CIS[[#This Row],[Cargo ]]=\"\",\"\",Listas!$D$59)","v":""},null,{"$f":"IFERROR(IF(CIS[[#This Row],[Salario]]=\"\",((CIS[[#This Row],[Salario Sugerido]]*CIS[[#This Row],[Factor]]*(1+CIS[[#This Row],[% Administración]]))),(CIS[[#This Row],[Salario]]*CIS[[#This Row],[Factor]]*(1+CIS[[#This Row],[% Administración]]))),\"\")","v":""},null,{"$f":"IFERROR(CIS[[#This Row],[Salario con factor]]/VLOOKUP(CIS[[#This Row],[Unidad de tiempo]],Tabla210[],2,0),\"\")","v":""},null,null,null,{"$f":"+IFERROR((CIS[[#This Row],[Costo unidad de tiempo]]*CIS[[#This Row],[Cantidad de tiempo]]*CIS[[#This Row],[Número de personas]]*VLOOKUP(CIS[[#This Row],[Dedicación]],Tabla201[#All],2,0)),\"\")","v":""},null,{"$f":"+IFERROR(CIS[[#This Row],[Costo parcial]]*CIS[[#This Row],[% Participación]]/100,\"\")","v":""}]
[null,null,null,null,{"$f":"+IFERROR(VLOOKUP(CIS[[#This Row],[Cargo ]],Tabla206[],2,0),\"\")","v":""},null,{"$f":"+IF(CIS[[#This Row],[Cargo ]]=\"\",\"\",Listas!$D$59)","v":""},null,{"$f":"IFERROR(IF(CIS[[#This Row],[Salario]]=\"\",((CIS[[#This Row],[Salario Sugerido]]*CIS[[#This Row],[Factor]]*(1+CIS[[#This Row],[% Administración]]))),(CIS[[#This Row],[Salario]]*CIS[[#This Row],[Factor]]*(1+CIS[[#This Row],[% Administración]]))),\"\")","v":""},null,{"$f":"IFERROR(CIS[[#This Row],[Salario con factor]]/VLOOKUP(CIS[[#This Row],[Unidad de tiempo]],Tabla210[],2,0),\"\")","v":""},null,null,null,{"$f":"+IFERROR((CIS[[#This Row],[Costo unidad de tiempo]]*CIS[[#This Row],[Cantidad de tiempo]]*CIS[[#This Row],[Número de personas]]*VLOOKUP(CIS[[#This Row],[Dedicación]],Tabla201[#All],2,0)),\"\")","v":""},null,{"$f":"+IFERROR(CIS[[#This Row],[Costo parcial]]*CIS[[#This Row],[% Participación]]/100,\"\")","v":""}]
[null,null,null,null,{"$f":"+IFERROR(VLOOKUP(CIS[[#This Row],[Cargo ]],Tabla206[],2,0),\"\")","v":""},null,{"$f":"+IF(CIS[[#This Row],[Cargo ]]=\"\",\"\",Listas!$D$59)","v":""},null,{"$f":"IFERROR(IF(CIS[[#This Row],[Salario]]=\"\",((CIS[[#This Row],[Salario Sugerido]]*CIS[[#This Row],[Factor]]*(1+CIS[[#This Row],[% Administración]]))),(CIS[[#This Row],[Salario]]*CIS[[#This Row],[Factor]]*(1+CIS[[#This Row],[% Administración]]))),\"\")","v":""},null,{"$f":"IFERROR(CIS[[#This Row],[Salario con factor]]/VLOOKUP(CIS[[#This Row],[Unidad de tiempo]],Tabla210[],2,0),\"\")","v":""},null,null,null,{"$f":"+IFERROR((CIS[[#This Row],[Costo unidad de tiempo]]*CIS[[#This Row],[Cantidad de tiempo]]*CIS[[#This Row],[Número de personas]]*VLOOKUP(CIS[[#This Row],[Dedicación]],Tabla201[#All],2,0)),\"\")","v":""},null,{"$f":"+IFERROR(CIS[[#This Row],[Costo parcial]]*CIS[[#This Row],[% Participación]]/100,\"\")","v":""}]
[null,null,null,null,{"$f":"+IFERROR(VLOOKUP(CIS[[#This Row],[Cargo ]],Tabla206[],2,0),\"\")","v":""},null,{"$f":"+IF(CIS[[#This Row],[Cargo ]]=\"\",\"\",Listas!$D$59)","v":""},null,{"$f":"IFERROR(IF(CIS[[#This Row],[Salario]]=\"\",((CIS[[#This Row],[Salario Sugerido]]*CIS[[#This Row],[Factor]]*(1+CIS[[#This Row],[% Administración]]))),(CIS[[#This Row],[Salario]]*CIS[[#This Row],[Factor]]*(1+CIS[[#This Row],[% Administración]]))),\"\")","v":""},null,{"$f":"IFERROR(CIS[[#This Row],[Salario con factor]]/VLOOKUP(CIS[[#This Row],[Unidad de tiempo]],Tabla210[],2,0),\"\")","v":""},null,null,null,{"$f":"+IFERROR((CIS[[#This Row],[Costo unidad de tiempo]]*CIS[[#This Row],[Cantidad de tiempo]]*CIS[[#This Row],[Número de personas]]*VLOOKUP(CIS[[#This Row],[Dedicación]],Tabla201[#All],2,0)),\"\")","v":""},null,{"$f":"+IFERROR(CIS[[#This Row],[Costo parcial]]*CIS[[#This Row],[% Participación]]/100,\"\")","v":""}]
[null,null,null,null,{"$f":"+IFERROR(VLOOKUP(CIS[[#This Row],[Cargo ]],Tabla206[],2,0),\"\")","v":""},null,{"$f":"+IF(CIS[[#This Row],[Cargo ]]=\"\",\"\",Listas!$D$59)","v":""},null,{"$f":"IFERROR(IF(CIS[[#This Row],[Salario]]=\"\",((CIS[[#This Row],[Salario Sugerido]]*CIS[[#This Row],[Factor]]*(1+CIS[[#This Row],[% Administración]]))),(CIS[[#This Row],[Salario]]*CIS[[#This Row],[Factor]]*(1+CIS[[#This Row],[% Administración]]))),\"\")","v":""},null,{"$f":"IFERROR(CIS[[#This Row],[Salario con factor]]/VLOOKUP(CIS[[#This Row],[Unidad de tiempo]],Tabla210[],2,0),\"\")","v":""},null,null,null,{"$f":"+IFERROR((CIS[[#This Row],[Costo unidad de tiempo]]*CIS[[#This Row],[Cantidad de tiempo]]*CIS[[#This Row],[Número de personas]]*VLOOKUP(CIS[[#This Row],[Dedicación]],Tabla201[#All],2,0)),\"\")","v":""},null,{"$f":"+IFERROR(CIS[[#This Row],[Costo parcial]]*CIS[[#This Row],[% Participación]]/100,\"\")","v":""}]
[null,null,null,null,{"$f":"+IFERROR(VLOOKUP(CIS[[#This Row],[Cargo ]],Tabla206[],2,0),\"\")","v":""},null,{"$f":"+IF(CIS[[#This Row],[Cargo ]]=\"\",\"\",Listas!$D$59)","v":""},null,{"$f":"IFERROR(IF(CIS[[#This Row],[Salario]]=\"\",((CIS[[#This Row],[Salario Sugerido]]*CIS[[#This Row],[Factor]]*(1+CIS[[#This Row],[% Administración]]))),(CIS[[#This Row],[Salario]]*CIS[[#This Row],[Factor]]*(1+CIS[[#This Row],[% Administración]]))),\"\")","v":""},null,{"$f":"IFERROR(CIS[[#This Row],[Salario con factor]]/VLOOKUP(CIS[[#This Row],[Unidad de tiempo]],Tabla210[],2,0),\"\")","v":""},null,null,null,{"$f":"+IFERROR((CIS[[#This Row],[Costo unidad de tiempo]]*CIS[[#This Row],[Cantidad de tiempo]]*CIS[[#This Row],[Número de personas]]*VLOOKUP(CIS[[#This Row],[Dedicación]],Tabla201[#All],2,0)),\"\")","v":""},null,{"$f":"+IFERROR(CIS[[#This Row],[Costo parcial]]*CIS[[#This Row],[% Participación]]/100,\"\")","v":""}]
[null,null,null,null,{"$f":"+IFERROR(VLOOKUP(CIS[[#This Row],[Cargo ]],Tabla206[],2,0),\"\")","v":""},null,{"$f":"+IF(CIS[[#This Row],[Cargo ]]=\"\",\"\",Listas!$D$59)","v":""},null,{"$f":"IFERROR(IF(CIS[[#This Row],[Salario]]=\"\",((CIS[[#This Row],[Salario Sugerido]]*CIS[[#This Row],[Factor]]*(1+CIS[[#This Row],[% Administración]]))),(CIS[[#This Row],[Salario]]*CIS[[#This Row],[Factor]]*(1+CIS[[#This Row],[% Administración]]))),\"\")","v":""},null,{"$f":"IFERROR(CIS[[#This Row],[Salario con factor]]/VLOOKUP(CIS[[#This Row],[Unidad de tiempo]],Tabla210[],2,0),\"\")","v":""},null,null,null,{"$f":"+IFERROR((CIS[[#This Row],[Costo unidad de tiempo]]*CIS[[#This Row],[Cantidad de tiempo]]*CIS[[#This Row],[Número de personas]]*VLOOKUP(CIS[[#This Row],[Dedicación]],Tabla201[#All],2,0)),\"\")","v":""},null,{"$f":"+IFERROR(CIS[[#This Row],[Costo parcial]]*CIS[[#This Row],[% Participación]]/100,\"\")","v":""}]
[null,null,null,null,{"$f":"+IFERROR(VLOOKUP(CIS[[#This Row],[Cargo ]],Tabla206[],2,0),\"\")","v":""},null,{"$f":"+IF(CIS[[#This Row],[Cargo ]]=\"\",\"\",Listas!$D$59)","v":""},null,{"$f":"IFERROR(IF(CIS[[#This Row],[Salario]]=\"\",((CIS[[#This Row],[Salario Sugerido]]*CIS[[#This Row],[Factor]]*(1+CIS[[#This Row],[% Administración]]))),(CIS[[#This Row],[Salario]]*CIS[[#This Row],[Factor]]*(1+CIS[[#This Row],[% Administración]]))),\"\")","v":""},null,{"$f":"IFERROR(CIS[[#This Row],[Salario con factor]]/VLOOKUP(CIS[[#This Row],[Unidad de tiempo]],Tabla210[],2,0),\"\")","v":""},null,null,null,{"$f":"+IFERROR((CIS[[#This Row],[Costo unidad de tiempo]]*CIS[[#This Row],[Cantidad de tiempo]]*CIS[[#This Row],[Número de personas]]*VLOOKUP(CIS[[#This Row],[Dedicación]],Tabla201[#All],2,0)),\"\")","v":""},null,{"$f":"+IFERROR(CIS[[#This Row],[Costo parcial]]*CIS[[#This Row],[% Participación]]/100,\"\")","v":""}]
[null,null,null,null,{"$f":"+IFERROR(VLOOKUP(CIS[[#This Row],[Cargo ]],Tabla206[],2,0),\"\")","v":""},null,{"$f":"+IF(CIS[[#This Row],[Cargo ]]=\"\",\"\",Listas!$D$59)","v":""},null,{"$f":"IFERROR(IF(CIS[[#This Row],[Salario]]=\"\",((CIS[[#This Row],[Salario Sugerido]]*CIS[[#This Row],[Factor]]*(1+CIS[[#This Row],[% Administración]]))),(CIS[[#This Row],[Salario]]*CIS[[#This Row],[Factor]]*(1+CIS[[#This Row],[% Administración]]))),\"\")","v":""},null,{"$f":"IFERROR(CIS[[#This Row],[Salario con factor]]/VLOOKUP(CIS[[#This Row],[Unidad de tiempo]],Tabla210[],2,0),\"\")","v":""},null,null,null,{"$f":"+IFERROR((CIS[[#This Row],[Costo unidad de tiempo]]*CIS[[#This Row],[Cantidad de tiempo]]*CIS[[#This Row],[Número de personas]]*VLOOKUP(CIS[[#This Row],[Dedicación]],Tabla201[#All],2,0)),\"\")","v":""},null,{"$f":"+IFERROR(CIS[[#This Row],[Costo parcial]]*CIS[[#This Row],[% Participación]]/100,\"\")","v":""}]
[null,null,null,null,{"$f":"+IFERROR(VLOOKUP(CIS[[#This Row],[Cargo ]],Tabla206[],2,0),\"\")","v":""},null,{"$f":"+IF(CIS[[#This Row],[Cargo ]]=\"\",\"\",Listas!$D$59)","v":""},null,{"$f":"IFERROR(IF(CIS[[#This Row],[Salario]]=\"\",((CIS[[#This Row],[Salario Sugerido]]*CIS[[#This Row],[Factor]]*(1+CIS[[#This Row],[% Administración]]))),(CIS[[#This Row],[Salario]]*CIS[[#This Row],[Factor]]*(1+CIS[[#This Row],[% Administración]]))),\"\")","v":""},null,{"$f":"IFERROR(CIS[[#This Row],[Salario con factor]]/VLOOKUP(CIS[[#This Row],[Unidad de tiempo]],Tabla210[],2,0),\"\")","v":""},null,null,null,{"$f":"+IFERROR((CIS[[#This Row],[Costo unidad de tiempo]]*CIS[[#This Row],[Cantidad de tiempo]]*CIS[[#This Row],[Número de personas]]*VLOOKUP(CIS[[#This Row],[Dedicación]],Tabla201[#All],2,0)),\"\")","v":""},null,{"$f":"+IFERROR(CIS[[#This Row],[Costo parcial]]*CIS[[#This Row],[% Participación]]/100,\"\")","v":""}]
[null,null,null,null,{"$f":"+IFERROR(VLOOKUP(CIS[[#This Row],[Cargo ]],Tabla206[],2,0),\"\")","v":""},null,{"$f":"+IF(CIS[[#This Row],[Cargo ]]=\"\",\"\",Listas!$D$59)","v":""},null,{"$f":"IFERROR(IF(CIS[[#This Row],[Salario]]=\"\",((CIS[[#This Row],[Salario Sugerido]]*CIS[[#This Row],[Factor]]*(1+CIS[[#This Row],[% Administración]]))),(CIS[[#This Row],[Salario]]*CIS[[#This Row],[Factor]]*(1+CIS[[#This Row],[% Administración]]))),\"\")","v":""},null,{"$f":"IFERROR(CIS[[#This Row],[Salario con factor]]/VLOOKUP(CIS[[#This Row],[Unidad de tiempo]],Tabla210[],2,0),\"\")","v":""},null,null,null,{"$f":"+IFERROR((CIS[[#This Row],[Costo unidad de tiempo]]*CIS[[#This Row],[Cantidad de tiempo]]*CIS[[#This Row],[Número de personas]]*VLOOKUP(CIS[[#This Row],[Dedicación]],Tabla201[#All],2,0)),\"\")","v":""},null,{"$f":"+IFERROR(CIS[[#This Row],[Costo parcial]]*CIS[[#This Row],[% Participación]]/100,\"\")","v":""}]
[null,null,null,null,{"$f":"+IFERROR(VLOOKUP(CIS[[#This Row],[Cargo ]],Tabla206[],2,0),\"\")","v":""},null,{"$f":"+IF(CIS[[#This Row],[Cargo ]]=\"\",\"\",Listas!$D$59)","v":""},null,{"$f":"IFERROR(IF(CIS[[#This Row],[Salario]]=\"\",((CIS[[#This Row],[Salario Sugerido]]*CIS[[#This Row],[Factor]]*(1+CIS[[#This Row],[% Administración]]))),(CIS[[#This Row],[Salario]]*CIS[[#This Row],[Factor]]*(1+CIS[[#This Row],[% Administración]]))),\"\")","v":""},null,{"$f":"IFERROR(CIS[[#This Row],[Salario con factor]]/VLOOKUP(CIS[[#This Row],[Unidad de tiempo]],Tabla210[],2,0),\"\")","v":""},null,null,null,{"$f":"+IFERROR((CIS[[#This Row],[Costo unidad de tiempo]]*CIS[[#This Row],[Cantidad de tiempo]]*CIS[[#This Row],[Número de personas]]*VLOOKUP(CIS[[#This Row],[Dedicación]],Tabla201[#All],2,0)),\"\")","v":""},null,{"$f":"+IFERROR(CIS[[#This Row],[Costo parcial]]*CIS[[#This Row],[% Participación]]/100,\"\")","v":""}]
[null,null,null,null,{"$f":"+IFERROR(VLOOKUP(CIS[[#This Row],[Cargo ]],Tabla206[],2,0),\"\")","v":""},null,{"$f":"+IF(CIS[[#This Row],[Cargo ]]=\"\",\"\",Listas!$D$59)","v":""},null,{"$f":"IFERROR(IF(CIS[[#This Row],[Salario]]=\"\",((CIS[[#This Row],[Salario Sugerido]]*CIS[[#This Row],[Factor]]*(1+CIS[[#This Row],[% Administración]]))),(CIS[[#This Row],[Salario]]*CIS[[#This Row],[Factor]]*(1+CIS[[#This Row],[% Administración]]))),\"\")","v":""},null,{"$f":"IFERROR(CIS[[#This Row],[Salario con factor]]/VLOOKUP(CIS[[#This Row],[Unidad de tiempo]],Tabla210[],2,0),\"\")","v":""},null,null,null,{"$f":"+IFERROR((CIS[[#This Row],[Costo unidad de tiempo]]*CIS[[#This Row],[Cantidad de tiempo]]*CIS[[#This Row],[Número de personas]]*VLOOKUP(CIS[[#This Row],[Dedicación]],Tabla201[#All],2,0)),\"\")","v":""},null,{"$f":"+IFERROR(CIS[[#This Row],[Costo parcial]]*CIS[[#This Row],[% Participación]]/100,\"\")","v":""}]
[null,null,null,null,{"$f":"+IFERROR(VLOOKUP(CIS[[#This Row],[Cargo ]],Tabla206[],2,0),\"\")","v":""},null,{"$f":"+IF(CIS[[#This Row],[Cargo ]]=\"\",\"\",Listas!$D$59)","v":""},null,{"$f":"IFERROR(IF(CIS[[#This Row],[Salario]]=\"\",((CIS[[#This Row],[Salario Sugerido]]*CIS[[#This Row],[Factor]]*(1+CIS[[#This Row],[% Administración]]))),(CIS[[#This Row],[Salario]]*CIS[[#This Row],[Factor]]*(1+CIS[[#This Row],[% Administración]]))),\"\")","v":""},null,{"$f":"IFERROR(CIS[[#This Row],[Salario con factor]]/VLOOKUP(CIS[[#This Row],[Unidad de tiempo]],Tabla210[],2,0),\"\")","v":""},null,null,null,{"$f":"+IFERROR((CIS[[#This Row],[Costo unidad de tiempo]]*CIS[[#This Row],[Cantidad de tiempo]]*CIS[[#This Row],[Número de personas]]*VLOOKUP(CIS[[#This Row],[Dedicación]],Tabla201[#All],2,0)),\"\")","v":""},null,{"$f":"+IFERROR(CIS[[#This Row],[Costo parcial]]*CIS[[#This Row],[% Participación]]/100,\"\")","v":""}]
[null,null,null,null,{"$f":"+IFERROR(VLOOKUP(CIS[[#This Row],[Cargo ]],Tabla206[],2,0),\"\")","v":""},null,{"$f":"+IF(CIS[[#This Row],[Cargo ]]=\"\",\"\",Listas!$D$59)","v":""},null,{"$f":"IFERROR(IF(CIS[[#This Row],[Salario]]=\"\",((CIS[[#This Row],[Salario Sugerido]]*CIS[[#This Row],[Factor]]*(1+CIS[[#This Row],[% Administración]]))),(CIS[[#This Row],[Salario]]*CIS[[#This Row],[Factor]]*(1+CIS[[#This Row],[% Administración]]))),\"\")","v":""},null,{"$f":"IFERROR(CIS[[#This Row],[Salario con factor]]/VLOOKUP(CIS[[#This Row],[Unidad de tiempo]],Tabla210[],2,0),\"\")","v":""},null,null,null,{"$f":"+IFERROR((CIS[[#This Row],[Costo unidad de tiempo]]*CIS[[#This Row],[Cantidad de tiempo]]*CIS[[#This Row],[Número de personas]]*VLOOKUP(CIS[[#This Row],[Dedicación]],Tabla201[#All],2,0)),\"\")","v":""},null,{"$f":"+IFERROR(CIS[[#This Row],[Costo parcial]]*CIS[[#This Row],[% Participación]]/100,\"\")","v":""}]
[null,null,null,null,{"$f":"+IFERROR(VLOOKUP(CIS[[#This Row],[Cargo ]],Tabla206[],2,0),\"\")","v":""},null,{"$f":"+IF(CIS[[#This Row],[Cargo ]]=\"\",\"\",Listas!$D$59)","v":""},null,{"$f":"IFERROR(IF(CIS[[#This Row],[Salario]]=\"\",((CIS[[#This Row],[Salario Sugerido]]*CIS[[#This Row],[Factor]]*(1+CIS[[#This Row],[% Administración]]))),(CIS[[#This Row],[Salario]]*CIS[[#This Row],[Factor]]*(1+CIS[[#This Row],[% Administración]]))),\"\")","v":""},null,{"$f":"IFERROR(CIS[[#This Row],[Salario con factor]]/VLOOKUP(CIS[[#This Row],[Unidad de tiempo]],Tabla210[],2,0),\"\")","v":""},null,null,null,{"$f":"+IFERROR((CIS[[#This Row],[Costo unidad de tiempo]]*CIS[[#This Row],[Cantidad de tiempo]]*CIS[[#This Row],[Número de personas]]*VLOOKUP(CIS[[#This Row],[Dedicación]],Tabla201[#All],2,0)),\"\")","v":""},null,{"$f":"+IFERROR(CIS[[#This Row],[Costo parcial]]*CIS[[#This Row],[% Participación]]/100,\"\")","v":""}]
[null,null,null,null,{"$f":"+IFERROR(VLOOKUP(CIS[[#This Row],[Cargo ]],Tabla206[],2,0),\"\")","v":""},null,{"$f":"+IF(CIS[[#This Row],[Cargo ]]=\"\",\"\",Listas!$D$59)","v":""},null,{"$f":"IFERROR(IF(CIS[[#This Row],[Salario]]=\"\",((CIS[[#This Row],[Salario Sugerido]]*CIS[[#This Row],[Factor]]*(1+CIS[[#This Row],[% Administración]]))),(CIS[[#This Row],[Salario]]*CIS[[#This Row],[Factor]]*(1+CIS[[#This Row],[% Administración]]))),\"\")","v":""},null,{"$f":"IFERROR(CIS[[#This Row],[Salario con factor]]/VLOOKUP(CIS[[#This Row],[Unidad de tiempo]],Tabla210[],2,0),\"\")","v":""},null,null,null,{"$f":"+IFERROR((CIS[[#This Row],[Costo unidad de tiempo]]*CIS[[#This Row],[Cantidad de tiempo]]*CIS[[#This Row],[Número de personas]]*VLOOKUP(CIS[[#This Row],[Dedicación]],Tabla201[#All],2,0)),\"\")","v":""},null,{"$f":"+IFERROR(CIS[[#This Row],[Costo parcial]]*CIS[[#This Row],[% Participación]]/100,\"\")","v":""}]
[null,null,null,null,{"$f":"+IFERROR(VLOOKUP(CIS[[#This Row],[Cargo ]],Tabla206[],2,0),\"\")","v":""},null,{"$f":"+IF(CIS[[#This Row],[Cargo ]]=\"\",\"\",Listas!$D$59)","v":""},null,{"$f":"IFERROR(IF(CIS[[#This Row],[Salario]]=\"\",((CIS[[#This Row],[Salario Sugerido]]*CIS[[#This Row],[Factor]]*(1+CIS[[#This Row],[% Administración]]))),(CIS[[#This Row],[Salario]]*CIS[[#This Row],[Factor]]*(1+CIS[[#This Row],[% Administración]]))),\"\")","v":""},null,{"$f":"IFERROR(CIS[[#This Row],[Salario con factor]]/VLOOKUP(CIS[[#This Row],[Unidad de tiempo]],Tabla210[],2,0),\"\")","v":""},null,null,null,{"$f":"+IFERROR((CIS[[#This Row],[Costo unidad de tiempo]]*CIS[[#This Row],[Cantidad de tiempo]]*CIS[[#This Row],[Número de personas]]*VLOOKUP(CIS[[#This Row],[Dedicación]],Tabla201[#All],2,0)),\"\")","v":""},null,{"$f":"+IFERROR(CIS[[#This Row],[Costo parcial]]*CIS[[#This Row],[% Participación]]/100,\"\")","v":""}]
[null,null,null,null,{"$f":"+IFERROR(VLOOKUP(CIS[[#This Row],[Cargo ]],Tabla206[],2,0),\"\")","v":""},null,{"$f":"+IF(CIS[[#This Row],[Cargo ]]=\"\",\"\",Listas!$D$59)","v":""},null,{"$f":"IFERROR(IF(CIS[[#This Row],[Salario]]=\"\",((CIS[[#This Row],[Salario Sugerido]]*CIS[[#This Row],[Factor]]*(1+CIS[[#This Row],[% Administración]]))),(CIS[[#This Row],[Salario]]*CIS[[#This Row],[Factor]]*(1+CIS[[#This Row],[% Administración]]))),\"\")","v":""},null,{"$f":"IFERROR(CIS[[#This Row],[Salario con factor]]/VLOOKUP(CIS[[#This Row],[Unidad de tiempo]],Tabla210[],2,0),\"\")","v":""},null,null,null,{"$f":"+IFERROR((CIS[[#This Row],[Costo unidad de tiempo]]*CIS[[#This Row],[Cantidad de tiempo]]*CIS[[#This Row],[Número de personas]]*VLOOKUP(CIS[[#This Row],[Dedicación]],Tabla201[#All],2,0)),\"\")","v":""},null,{"$f":"+IFERROR(CIS[[#This Row],[Costo parcial]]*CIS[[#This Row],[% Participación]]/100,\"\")","v":""}]
[null,null,null,null,{"$f":"+IFERROR(VLOOKUP(CIS[[#This Row],[Cargo ]],Tabla206[],2,0),\"\")","v":""},null,{"$f":"+IF(CIS[[#This Row],[Cargo ]]=\"\",\"\",Listas!$D$59)","v":""},null,{"$f":"IFERROR(IF(CIS[[#This Row],[Salario]]=\"\",((CIS[[#This Row],[Salario Sugerido]]*CIS[[#This Row],[Factor]]*(1+CIS[[#This Row],[% Administración]]))),(CIS[[#This Row],[Salario]]*CIS[[#This Row],[Factor]]*(1+CIS[[#This Row],[% Administración]]))),\"\")","v":""},null,{"$f":"IFERROR(CIS[[#This Row],[Salario con factor]]/VLOOKUP(CIS[[#This Row],[Unidad de tiempo]],Tabla210[],2,0),\"\")","v":""},null,null,null,{"$f":"+IFERROR((CIS[[#This Row],[Costo unidad de tiempo]]*CIS[[#This Row],[Cantidad de tiempo]]*CIS[[#This Row],[Número de personas]]*VLOOKUP(CIS[[#This Row],[Dedicación]],Tabla201[#All],2,0)),\"\")","v":""},null,{"$f":"+IFERROR(CIS[[#This Row],[Costo parcial]]*CIS[[#This Row],[% Participación]]/100,\"\")","v":""}]
[null,null,null,null,{"$f":"+IFERROR(VLOOKUP(CIS[[#This Row],[Cargo ]],Tabla206[],2,0),\"\")","v":""},null,{"$f":"+IF(CIS[[#This Row],[Cargo ]]=\"\",\"\",Listas!$D$59)","v":""},null,{"$f":"IFERROR(IF(CIS[[#This Row],[Salario]]=\"\",((CIS[[#This Row],[Salario Sugerido]]*CIS[[#This Row],[Factor]]*(1+CIS[[#This Row],[% Administración]]))),(CIS[[#This Row],[Salario]]*CIS[[#This Row],[Factor]]*(1+CIS[[#This Row],[% Administración]]))),\"\")","v":""},null,{"$f":"IFERROR(CIS[[#This Row],[Salario con factor]]/VLOOKUP(CIS[[#This Row],[Unidad de tiempo]],Tabla210[],2,0),\"\")","v":""},null,null,null,{"$f":"+IFERROR((CIS[[#This Row],[Costo unidad de tiempo]]*CIS[[#This Row],[Cantidad de tiempo]]*CIS[[#This Row],[Número de personas]]*VLOOKUP(CIS[[#This Row],[Dedicación]],Tabla201[#All],2,0)),\"\")","v":""},null,{"$f":"+IFERROR(CIS[[#This Row],[Costo parcial]]*CIS[[#This Row],[% Participación]]/100,\"\")","v":""}]
[null,null,null,null,{"$f":"+IFERROR(VLOOKUP(CIS[[#This Row],[Cargo ]],Tabla206[],2,0),\"\")","v":""},null,{"$f":"+IF(CIS[[#This Row],[Cargo ]]=\"\",\"\",Listas!$D$59)","v":""},null,{"$f":"IFERROR(IF(CIS[[#This Row],[Salario]]=\"\",((CIS[[#This Row],[Salario Sugerido]]*CIS[[#This Row],[Factor]]*(1+CIS[[#This Row],[% Administración]]))),(CIS[[#This Row],[Salario]]*CIS[[#This Row],[Factor]]*(1+CIS[[#This Row],[% Administración]]))),\"\")","v":""},null,{"$f":"IFERROR(CIS[[#This Row],[Salario con factor]]/VLOOKUP(CIS[[#This Row],[Unidad de tiempo]],Tabla210[],2,0),\"\")","v":""},null,null,null,{"$f":"+IFERROR((CIS[[#This Row],[Costo unidad de tiempo]]*CIS[[#This Row],[Cantidad de tiempo]]*CIS[[#This Row],[Número de personas]]*VLOOKUP(CIS[[#This Row],[Dedicación]],Tabla201[#All],2,0)),\"\")","v":""},null,{"$f":"+IFERROR(CIS[[#This Row],[Costo parcial]]*CIS[[#This Row],[% Participación]]/100,\"\")","v":""}]
[null,null,null,null,{"$f":"+IFERROR(VLOOKUP(CIS[[#This Row],[Cargo ]],Tabla206[],2,0),\"\")","v":""},null,{"$f":"+IF(CIS[[#This Row],[Cargo ]]=\"\",\"\",Listas!$D$59)","v":""},null,{"$f":"IFERROR(IF(CIS[[#This Row],[Salario]]=\"\",((CIS[[#This Row],[Salario Sugerido]]*CIS[[#This Row],[Factor]]*(1+CIS[[#This Row],[% Administración]]))),(CIS[[#This Row],[Salario]]*CIS[[#This Row],[Factor]]*(1+CIS[[#This Row],[% Administración]]))),\"\")","v":""},null,{"$f":"IFERROR(CIS[[#This Row],[Salario con factor]]/VLOOKUP(CIS[[#This Row],[Unidad de tiempo]],Tabla210[],2,0),\"\")","v":""},null,null,null,{"$f":"+IFERROR((CIS[[#This Row],[Costo unidad de tiempo]]*CIS[[#This Row],[Cantidad de tiempo]]*CIS[[#This Row],[Número de personas]]*VLOOKUP(CIS[[#This Row],[Dedicación]],Tabla201[#All],2,0)),\"\")","v":""},null,{"$f":"+IFERROR(CIS[[#This Row],[Costo parcial]]*CIS[[#This Row],[% Participación]]/100,\"\")","v":""}]
[null,null,null,null,{"$f":"+IFERROR(VLOOKUP(CIS[[#This Row],[Cargo ]],Tabla206[],2,0),\"\")","v":""},null,{"$f":"+IF(CIS[[#This Row],[Cargo ]]=\"\",\"\",Listas!$D$59)","v":""},null,{"$f":"IFERROR(IF(CIS[[#This Row],[Salario]]=\"\",((CIS[[#This Row],[Salario Sugerido]]*CIS[[#This Row],[Factor]]*(1+CIS[[#This Row],[% Administración]]))),(CIS[[#This Row],[Salario]]*CIS[[#This Row],[Factor]]*(1+CIS[[#This Row],[% Administración]]))),\"\")","v":""},null,{"$f":"IFERROR(CIS[[#This Row],[Salario con factor]]/VLOOKUP(CIS[[#This Row],[Unidad de tiempo]],Tabla210[],2,0),\"\")","v":""},null,null,null,{"$f":"+IFERROR((CIS[[#This Row],[Costo unidad de tiempo]]*CIS[[#This Row],[Cantidad de tiempo]]*CIS[[#This Row],[Número de personas]]*VLOOKUP(CIS[[#This Row],[Dedicación]],Tabla201[#All],2,0)),\"\")","v":""},null,{"$f":"+IFERROR(CIS[[#This Row],[Costo parcial]]*CIS[[#This Row],[% Participación]]/100,\"\")","v":""}]
[null,null,null,null,{"$f":"+IFERROR(VLOOKUP(CIS[[#This Row],[Cargo ]],Tabla206[],2,0),\"\")","v":""},null,{"$f":"+IF(CIS[[#This Row],[Cargo ]]=\"\",\"\",Listas!$D$59)","v":""},null,{"$f":"IFERROR(IF(CIS[[#This Row],[Salario]]=\"\",((CIS[[#This Row],[Salario Sugerido]]*CIS[[#This Row],[Factor]]*(1+CIS[[#This Row],[% Administración]]))),(CIS[[#This Row],[Salario]]*CIS[[#This Row],[Factor]]*(1+CIS[[#This Row],[% Administración]]))),\"\")","v":""},null,{"$f":"IFERROR(CIS[[#This Row],[Salario con factor]]/VLOOKUP(CIS[[#This Row],[Unidad de tiempo]],Tabla210[],2,0),\"\")","v":""},null,null,null,{"$f":"+IFERROR((CIS[[#This Row],[Costo unidad de tiempo]]*CIS[[#This Row],[Cantidad de tiempo]]*CIS[[#This Row],[Número de personas]]*VLOOKUP(CIS[[#This Row],[Dedicación]],Tabla201[#All],2,0)),\"\")","v":""},null,{"$f":"+IFERROR(CIS[[#This Row],[Costo parcial]]*CIS[[#This Row],[% Participación]]/100,\"\")","v":""}]
[null,null,null,null,{"$f":"+IFERROR(VLOOKUP(CIS[[#This Row],[Cargo ]],Tabla206[],2,0),\"\")","v":""},null,{"$f":"+IF(CIS[[#This Row],[Cargo ]]=\"\",\"\",Listas!$D$59)","v":""},null,{"$f":"IFERROR(IF(CIS[[#This Row],[Salario]]=\"\",((CIS[[#This Row],[Salario Sugerido]]*CIS[[#This Row],[Factor]]*(1+CIS[[#This Row],[% Administración]]))),(CIS[[#This Row],[Salario]]*CIS[[#This Row],[Factor]]*(1+CIS[[#This Row],[% Administración]]))),\"\")","v":""},null,{"$f":"IFERROR(CIS[[#This Row],[Salario con factor]]/VLOOKUP(CIS[[#This Row],[Unidad de tiempo]],Tabla210[],2,0),\"\")","v":""},null,null,null,{"$f":"+IFERROR((CIS[[#This Row],[Costo unidad de tiempo]]*CIS[[#This Row],[Cantidad de tiempo]]*CIS[[#This Row],[Número de personas]]*VLOOKUP(CIS[[#This Row],[Dedicación]],Tabla201[#All],2,0)),\"\")","v":""},null,{"$f":"+IFERROR(CIS[[#This Row],[Costo parcial]]*CIS[[#This Row],[% Participación]]/100,\"\")","v":""}]
[null,null,null,null,{"$f":"+IFERROR(VLOOKUP(CIS[[#This Row],[Cargo ]],Tabla206[],2,0),\"\")","v":""},null,{"$f":"+IF(CIS[[#This Row],[Cargo ]]=\"\",\"\",Listas!$D$59)","v":""},null,{"$f":"IFERROR(IF(CIS[[#This Row],[Salario]]=\"\",((CIS[[#This Row],[Salario Sugerido]]*CIS[[#This Row],[Factor]]*(1+CIS[[#This Row],[% Administración]]))),(CIS[[#This Row],[Salario]]*CIS[[#This Row],[Factor]]*(1+CIS[[#This Row],[% Administración]]))),\"\")","v":""},null,{"$f":"IFERROR(CIS[[#This Row],[Salario con factor]]/VLOOKUP(CIS[[#This Row],[Unidad de tiempo]],Tabla210[],2,0),\"\")","v":""},null,null,null,{"$f":"+IFERROR((CIS[[#This Row],[Costo unidad de tiempo]]*CIS[[#This Row],[Cantidad de tiempo]]*CIS[[#This Row],[Número de personas]]*VLOOKUP(CIS[[#This Row],[Dedicación]],Tabla201[#All],2,0)),\"\")","v":""},null,{"$f":"+IFERROR(CIS[[#This Row],[Costo parcial]]*CIS[[#This Row],[% Participación]]/100,\"\")","v":""}]
[null,null,null,null,{"$f":"+IFERROR(VLOOKUP(CIS[[#This Row],[Cargo ]],Tabla206[],2,0),\"\")","v":""},null,{"$f":"+IF(CIS[[#This Row],[Cargo ]]=\"\",\"\",Listas!$D$59)","v":""},null,{"$f":"IFERROR(IF(CIS[[#This Row],[Salario]]=\"\",((CIS[[#This Row],[Salario Sugerido]]*CIS[[#This Row],[Factor]]*(1+CIS[[#This Row],[% Administración]]))),(CIS[[#This Row],[Salario]]*CIS[[#This Row],[Factor]]*(1+CIS[[#This Row],[% Administración]]))),\"\")","v":""},null,{"$f":"IFERROR(CIS[[#This Row],[Salario con factor]]/VLOOKUP(CIS[[#This Row],[Unidad de tiempo]],Tabla210[],2,0),\"\")","v":""},null,null,null,{"$f":"+IFERROR((CIS[[#This Row],[Costo unidad de tiempo]]*CIS[[#This Row],[Cantidad de tiempo]]*CIS[[#This Row],[Número de personas]]*VLOOKUP(CIS[[#This Row],[Dedicación]],Tabla201[#All],2,0)),\"\")","v":""},null,{"$f":"+IFERROR(CIS[[#This Row],[Costo parcial]]*CIS[[#This Row],[% Participación]]/100,\"\")","v":""}]
[null,null,null,null,{"$f":"+IFERROR(VLOOKUP(CIS[[#This Row],[Cargo ]],Tabla206[],2,0),\"\")","v":""},null,{"$f":"+IF(CIS[[#This Row],[Cargo ]]=\"\",\"\",Listas!$D$59)","v":""},null,{"$f":"IFERROR(IF(CIS[[#This Row],[Salario]]=\"\",((CIS[[#This Row],[Salario Sugerido]]*CIS[[#This Row],[Factor]]*(1+CIS[[#This Row],[% Administración]]))),(CIS[[#This Row],[Salario]]*CIS[[#This Row],[Factor]]*(1+CIS[[#This Row],[% Administración]]))),\"\")","v":""},null,{"$f":"IFERROR(CIS[[#This Row],[Salario con factor]]/VLOOKUP(CIS[[#This Row],[Unidad de tiempo]],Tabla210[],2,0),\"\")","v":""},null,null,null,{"$f":"+IFERROR((CIS[[#This Row],[Costo unidad de tiempo]]*CIS[[#This Row],[Cantidad de tiempo]]*CIS[[#This Row],[Número de personas]]*VLOOKUP(CIS[[#This Row],[Dedicación]],Tabla201[#All],2,0)),\"\")","v":""},null,{"$f":"+IFERROR(CIS[[#This Row],[Costo parcial]]*CIS[[#This Row],[% Participación]]/100,\"\")","v":""}]
[null,null,null,null,{"$f":"+IFERROR(VLOOKUP(CIS[[#This Row],[Cargo ]],Tabla206[],2,0),\"\")","v":""},null,{"$f":"+IF(CIS[[#This Row],[Cargo ]]=\"\",\"\",Listas!$D$59)","v":""},null,{"$f":"IFERROR(IF(CIS[[#This Row],[Salario]]=\"\",((CIS[[#This Row],[Salario Sugerido]]*CIS[[#This Row],[Factor]]*(1+CIS[[#This Row],[% Administración]]))),(CIS[[#This Row],[Salario]]*CIS[[#This Row],[Factor]]*(1+CIS[[#This Row],[% Administración]]))),\"\")","v":""},null,{"$f":"IFERROR(CIS[[#This Row],[Salario con factor]]/VLOOKUP(CIS[[#This Row],[Unidad de tiempo]],Tabla210[],2,0),\"\")","v":""},null,null,null,{"$f":"+IFERROR((CIS[[#This Row],[Costo unidad de tiempo]]*CIS[[#This Row],[Cantidad de tiempo]]*CIS[[#This Row],[Número de personas]]*VLOOKUP(CIS[[#This Row],[Dedicación]],Tabla201[#All],2,0)),\"\")","v":""},null,{"$f":"+IFERROR(CIS[[#This Row],[Costo parcial]]*CIS[[#This Row],[% Participación]]/100,\"\")","v":""}]
[null,null,null,null,{"$f":"+IFERROR(VLOOKUP(CIS[[#This Row],[Cargo ]],Tabla206[],2,0),\"\")","v":""},null,{"$f":"+IF(CIS[[#This Row],[Cargo ]]=\"\",\"\",Listas!$D$59)","v":""},null,{"$f":"IFERROR(IF(CIS[[#This Row],[Salario]]=\"\",((CIS[[#This Row],[Salario Sugerido]]*CIS[[#This Row],[Factor]]*(1+CIS[[#This Row],[% Administración]]))),(CIS[[#This Row],[Salario]]*CIS[[#This Row],[Factor]]*(1+CIS[[#This Row],[% Administración]]))),\"\")","v":""},null,{"$f":"IFERROR(CIS[[#This Row],[Salario con factor]]/VLOOKUP(CIS[[#This Row],[Unidad de tiempo]],Tabla210[],2,0),\"\")","v":""},null,null,null,{"$f":"+IFERROR((CIS[[#This Row],[Costo unidad de tiempo]]*CIS[[#This Row],[Cantidad de tiempo]]*CIS[[#This Row],[Número de personas]]*VLOOKUP(CIS[[#This Row],[Dedicación]],Tabla201[#All],2,0)),\"\")","v":""},null,{"$f":"+IFERROR(CIS[[#This Row],[Costo parcial]]*CIS[[#This Row],[% Participación]]/100,\"\")","v":""}]
[null,null,null,null,{"$f":"+IFERROR(VLOOKUP(CIS[[#This Row],[Cargo ]],Tabla206[],2,0),\"\")","v":""},null,{"$f":"+IF(CIS[[#This Row],[Cargo ]]=\"\",\"\",Listas!$D$59)","v":""},null,{"$f":"IFERROR(IF(CIS[[#This Row],[Salario]]=\"\",((CIS[[#This Row],[Salario Sugerido]]*CIS[[#This Row],[Factor]]*(1+CIS[[#This Row],[% Administración]]))),(CIS[[#This Row],[Salario]]*CIS[[#This Row],[Factor]]*(1+CIS[[#This Row],[% Administración]]))),\"\")","v":""},null,{"$f":"IFERROR(CIS[[#This Row],[Salario con factor]]/VLOOKUP(CIS[[#This Row],[Unidad de tiempo]],Tabla210[],2,0),\"\")","v":""},null,null,null,{"$f":"+IFERROR((CIS[[#This Row],[Costo unidad de tiempo]]*CIS[[#This Row],[Cantidad de tiempo]]*CIS[[#This Row],[Número de personas]]*VLOOKUP(CIS[[#This Row],[Dedicación]],Tabla201[#All],2,0)),\"\")","v":""},null,{"$f":"+IFERROR(CIS[[#This Row],[Costo parcial]]*CIS[[#This Row],[% Participación]]/100,\"\")","v":""}]
[null,null,null,null,{"$f":"+IFERROR(VLOOKUP(CIS[[#This Row],[Cargo ]],Tabla206[],2,0),\"\")","v":""},null,{"$f":"+IF(CIS[[#This Row],[Cargo ]]=\"\",\"\",Listas!$D$59)","v":""},null,{"$f":"IFERROR(IF(CIS[[#This Row],[Salario]]=\"\",((CIS[[#This Row],[Salario Sugerido]]*CIS[[#This Row],[Factor]]*(1+CIS[[#This Row],[% Administración]]))),(CIS[[#This Row],[Salario]]*CIS[[#This Row],[Factor]]*(1+CIS[[#This Row],[% Administración]]))),\"\")","v":""},null,{"$f":"IFERROR(CIS[[#This Row],[Salario con factor]]/VLOOKUP(CIS[[#This Row],[Unidad de tiempo]],Tabla210[],2,0),\"\")","v":""},null,null,null,{"$f":"+IFERROR((CIS[[#This Row],[Costo unidad de tiempo]]*CIS[[#This Row],[Cantidad de tiempo]]*CIS[[#This Row],[Número de personas]]*VLOOKUP(CIS[[#This Row],[Dedicación]],Tabla201[#All],2,0)),\"\")","v":""},null,{"$f":"+IFERROR(CIS[[#This Row],[Costo parcial]]*CIS[[#This Row],[% Participación]]/100,\"\")","v":""}]
[null,null,null,null,{"$f":"+IFERROR(VLOOKUP(CIS[[#This Row],[Cargo ]],Tabla206[],2,0),\"\")","v":""},null,{"$f":"+IF(CIS[[#This Row],[Cargo ]]=\"\",\"\",Listas!$D$59)","v":""},null,{"$f":"IFERROR(IF(CIS[[#This Row],[Salario]]=\"\",((CIS[[#This Row],[Salario Sugerido]]*CIS[[#This Row],[Factor]]*(1+CIS[[#This Row],[% Administración]]))),(CIS[[#This Row],[Salario]]*CIS[[#This Row],[Factor]]*(1+CIS[[#This Row],[% Administración]]))),\"\")","v":""},null,{"$f":"IFERROR(CIS[[#This Row],[Salario con factor]]/VLOOKUP(CIS[[#This Row],[Unidad de tiempo]],Tabla210[],2,0),\"\")","v":""},null,null,null,{"$f":"+IFERROR((CIS[[#This Row],[Costo unidad de tiempo]]*CIS[[#This Row],[Cantidad de tiempo]]*CIS[[#This Row],[Número de personas]]*VLOOKUP(CIS[[#This Row],[Dedicación]],Tabla201[#All],2,0)),\"\")","v":""},null,{"$f":"+IFERROR(CIS[[#This Row],[Costo parcial]]*CIS[[#This Row],[% Participación]]/100,\"\")","v":""}]
[null,null,null,null,{"$f":"+IFERROR(VLOOKUP(CIS[[#This Row],[Cargo ]],Tabla206[],2,0),\"\")","v":""},null,{"$f":"+IF(CIS[[#This Row],[Cargo ]]=\"\",\"\",Listas!$D$59)","v":""},null,{"$f":"IFERROR(IF(CIS[[#This Row],[Salario]]=\"\",((CIS[[#This Row],[Salario Sugerido]]*CIS[[#This Row],[Factor]]*(1+CIS[[#This Row],[% Administración]]))),(CIS[[#This Row],[Salario]]*CIS[[#This Row],[Factor]]*(1+CIS[[#This Row],[% Administración]]))),\"\")","v":""},null,{"$f":"IFERROR(CIS[[#This Row],[Salario con factor]]/VLOOKUP(CIS[[#This Row],[Unidad de tiempo]],Tabla210[],2,0),\"\")","v":""},null,null,null,{"$f":"+IFERROR((CIS[[#This Row],[Costo unidad de tiempo]]*CIS[[#This Row],[Cantidad de tiempo]]*CIS[[#This Row],[Número de personas]]*VLOOKUP(CIS[[#This Row],[Dedicación]],Tabla201[#All],2,0)),\"\")","v":""},null,{"$f":"+IFERROR(CIS[[#This Row],[Costo parcial]]*CIS[[#This Row],[% Participación]]/100,\"\")","v":""}]
[null,null,null,null,{"$f":"+IFERROR(VLOOKUP(CIS[[#This Row],[Cargo ]],Tabla206[],2,0),\"\")","v":""},null,{"$f":"+IF(CIS[[#This Row],[Cargo ]]=\"\",\"\",Listas!$D$59)","v":""},null,{"$f":"IFERROR(IF(CIS[[#This Row],[Salario]]=\"\",((CIS[[#This Row],[Salario Sugerido]]*CIS[[#This Row],[Factor]]*(1+CIS[[#This Row],[% Administración]]))),(CIS[[#This Row],[Salario]]*CIS[[#This Row],[Factor]]*(1+CIS[[#This Row],[% Administración]]))),\"\")","v":""},null,{"$f":"IFERROR(CIS[[#This Row],[Salario con factor]]/VLOOKUP(CIS[[#This Row],[Unidad de tiempo]],Tabla210[],2,0),\"\")","v":""},null,null,null,{"$f":"+IFERROR((CIS[[#This Row],[Costo unidad de tiempo]]*CIS[[#This Row],[Cantidad de tiempo]]*CIS[[#This Row],[Número de personas]]*VLOOKUP(CIS[[#This Row],[Dedicación]],Tabla201[#All],2,0)),\"\")","v":""},null,{"$f":"+IFERROR(CIS[[#This Row],[Costo parcial]]*CIS[[#This Row],[% Participación]]/100,\"\")","v":""}]
[null,null,null,null,{"$f":"+IFERROR(VLOOKUP(CIS[[#This Row],[Cargo ]],Tabla206[],2,0),\"\")","v":""},null,{"$f":"+IF(CIS[[#This Row],[Cargo ]]=\"\",\"\",Listas!$D$59)","v":""},null,{"$f":"IFERROR(IF(CIS[[#This Row],[Salario]]=\"\",((CIS[[#This Row],[Salario Sugerido]]*CIS[[#This Row],[Factor]]*(1+CIS[[#This Row],[% Administración]]))),(CIS[[#This Row],[Salario]]*CIS[[#This Row],[Factor]]*(1+CIS[[#This Row],[% Administración]]))),\"\")","v":""},null,{"$f":"IFERROR(CIS[[#This Row],[Salario con factor]]/VLOOKUP(CIS[[#This Row],[Unidad de tiempo]],Tabla210[],2,0),\"\")","v":""},null,null,null,{"$f":"+IFERROR((CIS[[#This Row],[Costo unidad de tiempo]]*CIS[[#This Row],[Cantidad de tiempo]]*CIS[[#This Row],[Número de personas]]*VLOOKUP(CIS[[#This Row],[Dedicación]],Tabla201[#All],2,0)),\"\")","v":""},null,{"$f":"+IFERROR(CIS[[#This Row],[Costo parcial]]*CIS[[#This Row],[% Participación]]/100,\"\")","v":""}]
[null,null,null,null,{"$f":"+IFERROR(VLOOKUP(CIS[[#This Row],[Cargo ]],Tabla206[],2,0),\"\")","v":""},null,{"$f":"+IF(CIS[[#This Row],[Cargo ]]=\"\",\"\",Listas!$D$59)","v":""},null,{"$f":"IFERROR(IF(CIS[[#This Row],[Salario]]=\"\",((CIS[[#This Row],[Salario Sugerido]]*CIS[[#This Row],[Factor]]*(1+CIS[[#This Row],[% Administración]]))),(CIS[[#This Row],[Salario]]*CIS[[#This Row],[Factor]]*(1+CIS[[#This Row],[% Administración]]))),\"\")","v":""},null,{"$f":"IFERROR(CIS[[#This Row],[Salario con factor]]/VLOOKUP(CIS[[#This Row],[Unidad de tiempo]],Tabla210[],2,0),\"\")","v":""},null,null,null,{"$f":"+IFERROR((CIS[[#This Row],[Costo unidad de tiempo]]*CIS[[#This Row],[Cantidad de tiempo]]*CIS[[#This Row],[Número de personas]]*VLOOKUP(CIS[[#This Row],[Dedicación]],Tabla201[#All],2,0)),\"\")","v":""},null,{"$f":"+IFERROR(CIS[[#This Row],[Costo parcial]]*CIS[[#This Row],[% Participación]]/100,\"\")","v":""}]

{"sheet":"Viáticos","index":17,"n_rows":201,"n_cols":14,"rows_kept":201,"cut":false,"hidden":false,"merged":[]}
["Financiador","Fase","Destino","Descripción","Nivel del cargo","TRM","Número de días por viático","Número de personas","Valor Viático por viaje","Viático pactado","% Administración","Costo parcial","% Participación ","Costo"]
[null,null,null,null,null,null,null,null,{"$f":"IFERROR(IF(Viáticos[[#This Row],[Nivel del cargo]]=\"No directivo\",((IF(OR(Viáticos[[#This Row],[Número de días por viático]]=\"\",Viáticos[[#This Row],[Número de personas]]=\"\"),\"\",IFERROR(2*(VLOOKUP(Viáticos[[#This Row],[Destino]],Tabla216[#All],3,0)+VLOOKUP(Viáticos[[#This Row],[Destino]],Tabla216[#All],4,0))+Viáticos[[#This Row],[Número de días por viático]]*(2*VLOOKUP(Viáticos[[#This Row],[Destino]],Tabla216[#All],5,0)+VLOOKUP(Viáticos[[#This Row],[Destino]],Tabla216[#All],6,0)+VLOOKUP(Viáticos[[#This Row],[Destino]],Tabla216[#All],7,0))+(Viáticos[[#This Row],[Número de días por viático]]-1)*(VLOOKUP(Viáticos[[#This Row],[Destino]],Tabla216[#All],8,0)+VLOOKUP(Viáticos[[#This Row],[Destino]],Tabla216[#All],9,0)),\"\"))))*Viáticos[[#This Row],[Número de personas]],(IF(OR(Viáticos[[#This Row],[Número de días por viático]]=\"\",Viáticos[[#This Row],[Número de personas]]=\"\"),\"\",IFERROR(2*(VLOOKUP(Viáticos[[#This Row],[Destino]],Tabla216[#All],3,0)+VLOOKUP(Viáticos[[#This Row],[Destino]],Tabla216[#All],4,0))+Viáticos[[#This Row],[Número de días por viático]]*(2*VLOOKUP(Viáticos[[#This Row],[Destino]],Tabla216[#All],5,0)+VLOOKUP(Viáticos[[#This Row],[Destino]],Tabla216[#All],6,0)+VLOOKUP(Viáticos[[#This Row],[Destino]],Tabla216[#All],7,0))+(Viáticos[[#This Row],[Número de días por viático]]-1)*(VLOOKUP(Viáticos[[#This Row],[Destino]],Tabla216[#All],8,0)+VLOOKUP(Viáticos[[#This Row],[Destino]],Tabla216[#All],9,0)),\"\")))*Viáticos[[#This Row],[Número de personas]]*(1+25%)),\"\")","v":""},null,null,{"$f":"IFERROR(IF(Viáticos[[#This Row],[Viático pactado]]=\"\",((Viáticos[[#This Row],[Valor Viático por viaje]]*(1+Viáticos[[#This Row],[% Administración]]/100))),(Viáticos[[#This Row],[Viático pactado]]*(1+Viáticos[[#This Row],[% Administración]]/100))),\"\")","v":""},null,{"$f":"+IFERROR(Viáticos[[#This Row],[Costo parcial]]*(Viáticos[[#This Row],[% Participación ]]/100),\"\")","v":""}]
[null,null,null,null,null,{"$f":"+IF(Viáticos[[#This Row],[Nivel del cargo]]=\"\",\"\",F2)","v":""},null,null,{"$f":"IFERROR(IF(Viáticos[[#This Row],[Nivel del cargo]]=\"No directivo\",((IF(OR(Viáticos[[#This Row],[Número de días por viático]]=\"\",Viáticos[[#This Row],[Número de personas]]=\"\"),\"\",IFERROR(2*(VLOOKUP(Viáticos[[#This Row],[Destino]],Tabla216[#All],3,0)+VLOOKUP(Viáticos[[#This Row],[Destino]],Tabla216[#All],4,0))+Viáticos[[#This Row],[Número de días por viático]]*(2*VLOOKUP(Viáticos[[#This Row],[Destino]],Tabla216[#All],5,0)+VLOOKUP(Viáticos[[#This Row],[Destino]],Tabla216[#All],6,0)+VLOOKUP(Viáticos[[#This Row],[Destino]],Tabla216[#All],7,0))+(Viáticos[[#This Row],[Número de días por viático]]-1)*(VLOOKUP(Viáticos[[#This Row],[Destino]],Tabla216[#All],8,0)+VLOOKUP(Viáticos[[#This Row],[Destino]],Tabla216[#All],9,0)),\"\"))))*Viáticos[[#This Row],[Número de personas]],(IF(OR(Viáticos[[#This Row],[Número de días por viático]]=\"\",Viáticos[[#This Row],[Número de personas]]=\"\"),\"\",IFERROR(2*(VLOOKUP(Viáticos[[#This Row],[Destino]],Tabla216[#All],3,0)+VLOOKUP(Viáticos[[#This Row],[Destino]],Tabla216[#All],4,0))+Viáticos[[#This Row],[Número de días por viático]]*(2*VLOOKUP(Viáticos[[#This Row],[Destino]],Tabla216[#All],5,0)+VLOOKUP(Viáticos[[#This Row],[Destino]],Tabla216[#All],6,0)+VLOOKUP(Viáticos[[#This Row],[Destino]],Tabla216[#All],7,0))+(Viáticos[[#This Row],[Número de días por viático]]-1)*(VLOOKUP(Viáticos[[#This Row],[Destino]],Tabla216[#All],8,0)+VLOOKUP(Viáticos[[#This Row],[Destino]],Tabla216[#All],9,0)),\"\")))*Viáticos[[#This Row],[Número de personas]]*(1+25%)),\"\")","v":""},null,null,{"$f":"IFERROR(IF(Viáticos[[#This Row],[Viático pactado]]=\"\",((Viáticos[[#This Row],[Valor Viático por viaje]]*(1+Viáticos[[#This Row],[% Administración]]/100))),(Viáticos[[#This Row],[Viático pactado]]*(1+Viáticos[[#This Row],[% Administración]]/100))),\"\")","v":""},null,{"$f":"+IFERROR(Viáticos[[#This Row],[Costo parcial]]*(Viáticos[[#This Row],[% Participación ]]/100),\"\")","v":""}]
[null,null,null,null,null,{"$f":"+IF(Viáticos[[#This Row],[Nivel del cargo]]=\"\",\"\",F3)","v":""},null,null,{"$f":"IFERROR(IF(Viáticos[[#This Row],[Nivel del cargo]]=\"No directivo\",((IF(OR(Viáticos[[#This Row],[Número de días por viático]]=\"\",Viáticos[[#This Row],[Número de personas]]=\"\"),\"\",IFERROR(2*(VLOOKUP(Viáticos[[#This Row],[Destino]],Tabla216[#All],3,0)+VLOOKUP(Viáticos[[#This Row],[Destino]],Tabla216[#All],4,0))+Viáticos[[#This Row],[Número de días por viático]]*(2*VLOOKUP(Viáticos[[#This Row],[Destino]],Tabla216[#All],5,0)+VLOOKUP(Viáticos[[#This Row],[Destino]],Tabla216[#All],6,0)+VLOOKUP(Viáticos[[#This Row],[Destino]],Tabla216[#All],7,0))+(Viáticos[[#This Row],[Número de días por viático]]-1)*(VLOOKUP(Viáticos[[#This Row],[Destino]],Tabla216[#All],8,0)+VLOOKUP(Viáticos[[#This Row],[Destino]],Tabla216[#All],9,0)),\"\"))))*Viáticos[[#This Row],[Número de personas]],(IF(OR(Viáticos[[#This Row],[Número de días por viático]]=\"\",Viáticos[[#This Row],[Número de personas]]=\"\"),\"\",IFERROR(2*(VLOOKUP(Viáticos[[#This Row],[Destino]],Tabla216[#All],3,0)+VLOOKUP(Viáticos[[#This Row],[Destino]],Tabla216[#All],4,0))+Viáticos[[#This Row],[Número de días por viático]]*(2*VLOOKUP(Viáticos[[#This Row],[Destino]],Tabla216[#All],5,0)+VLOOKUP(Viáticos[[#This Row],[Destino]],Tabla216[#All],6,0)+VLOOKUP(Viáticos[[#This Row],[Destino]],Tabla216[#All],7,0))+(Viáticos[[#This Row],[Número de días por viático]]-1)*(VLOOKUP(Viáticos[[#This Row],[Destino]],Tabla216[#All],8,0)+VLOOKUP(Viáticos[[#This Row],[Destino]],Tabla216[#All],9,0)),\"\")))*Viáticos[[#This Row],[Número de personas]]*(1+25%)),\"\")","v":""},null,null,{"$f":"IFERROR(IF(Viáticos[[#This Row],[Viático pactado]]=\"\",((Viáticos[[#This Row],[Valor Viático por viaje]]*(1+Viáticos[[#This Row],[% Administración]]/100))),(Viáticos[[#This Row],[Viático pactado]]*(1+Viáticos[[#This Row],[% Administración]]/100))),\"\")","v":""},null,{"$f":"+IFERROR(Viáticos[[#This Row],[Costo parcial]]*(Viáticos[[#This Row],[% Participación ]]/100),\"\")","v":""}]
[null,null,null,null,null,{"$f":"+IF(Viáticos[[#This Row],[Nivel del cargo]]=\"\",\"\",F4)","v":""},null,null,{"$f":"IFERROR(IF(Viáticos[[#This Row],[Nivel del cargo]]=\"No directivo\",((IF(OR(Viáticos[[#This Row],[Número de días por viático]]=\"\",Viáticos[[#This Row],[Número de personas]]=\"\"),\"\",IFERROR(2*(VLOOKUP(Viáticos[[#This Row],[Destino]],Tabla216[#All],3,0)+VLOOKUP(Viáticos[[#This Row],[Destino]],Tabla216[#All],4,0))+Viáticos[[#This Row],[Número de días por viático]]*(2*VLOOKUP(Viáticos[[#This Row],[Destino]],Tabla216[#All],5,0)+VLOOKUP(Viáticos[[#This Row],[Destino]],Tabla216[#All],6,0)+VLOOKUP(Viáticos[[#This Row],[Destino]],Tabla216[#All],7,0))+(Viáticos[[#This Row],[Número de días por viático]]-1)*(VLOOKUP(Viáticos[[#This Row],[Destino]],Tabla216[#All],8,0)+VLOOKUP(Viáticos[[#This Row],[Destino]],Tabla216[#All],9,0)),\"\"))))*Viáticos[[#This Row],[Número de personas]],(IF(OR(Viáticos[[#This Row],[Número de días por viático]]=\"\",Viáticos[[#This Row],[Número de personas]]=\"\"),\"\",IFERROR(2*(VLOOKUP(Viáticos[[#This Row],[Destino]],Tabla216[#All],3,0)+VLOOKUP(Viáticos[[#This Row],[Destino]],Tabla216[#All],4,0))+Viáticos[[#This Row],[Número de días por viático]]*(2*VLOOKUP(Viáticos[[#This Row],[Destino]],Tabla216[#All],5,0)+VLOOKUP(Viáticos[[#This Row],[Destino]],Tabla216[#All],6,0)+VLOOKUP(Viáticos[[#This Row],[Destino]],Tabla216[#All],7,0))+(Viáticos[[#This Row],[Número de días por viático]]-1)*(VLOOKUP(Viáticos[[#This Row],[Destino]],Tabla216[#All],8,0)+VLOOKUP(Viáticos[[#This Row],[Destino]],Tabla216[#All],9,0)),\"\")))*Viáticos[[#This Row],[Número de personas]]*(1+25%)),\"\")","v":""},null,null,{"$f":"IFERROR(IF(Viáticos[[#This Row],[Viático pactado]]=\"\",((Viáticos[[#This Row],[Valor Viático por viaje]]*(1+Viáticos[[#This Row],[% Administración]]/100))),(Viáticos[[#This Row],[Viático pactado]]*(1+Viáticos[[#This Row],[% Administración]]/100))),\"\")","v":""},null,{"$f":"+IFERROR(Viáticos[[#This Row],[Costo parcial]]*(Viáticos[[#This Row],[% Participación ]]/100),\"\")","v":""}]
[null,null,null,null,null,{"$f":"+IF(Viáticos[[#This Row],[Nivel del cargo]]=\"\",\"\",F5)","v":""},null,null,{"$f":"IFERROR(IF(Viáticos[[#This Row],[Nivel del cargo]]=\"No directivo\",((IF(OR(Viáticos[[#This Row],[Número de días por viático]]=\"\",Viáticos[[#This Row],[Número de personas]]=\"\"),\"\",IFERROR(2*(VLOOKUP(Viáticos[[#This Row],[Destino]],Tabla216[#All],3,0)+VLOOKUP(Viáticos[[#This Row],[Destino]],Tabla216[#All],4,0))+Viáticos[[#This Row],[Número de días por viático]]*(2*VLOOKUP(Viáticos[[#This Row],[Destino]],Tabla216[#All],5,0)+VLOOKUP(Viáticos[[#This Row],[Destino]],Tabla216[#All],6,0)+VLOOKUP(Viáticos[[#This Row],[Destino]],Tabla216[#All],7,0))+(Viáticos[[#This Row],[Número de días por viático]]-1)*(VLOOKUP(Viáticos[[#This Row],[Destino]],Tabla216[#All],8,0)+VLOOKUP(Viáticos[[#This Row],[Destino]],Tabla216[#All],9,0)),\"\"))))*Viáticos[[#This Row],[Número de personas]],(IF(OR(Viáticos[[#This Row],[Número de días por viático]]=\"\",Viáticos[[#This Row],[Número de personas]]=\"\"),\"\",IFERROR(2*(VLOOKUP(Viáticos[[#This Row],[Destino]],Tabla216[#All],3,0)+VLOOKUP(Viáticos[[#This Row],[Destino]],Tabla216[#All],4,0))+Viáticos[[#This Row],[Número de días por viático]]*(2*VLOOKUP(Viáticos[[#This Row],[Destino]],Tabla216[#All],5,0)+VLOOKUP(Viáticos[[#This Row],[Destino]],Tabla216[#All],6,0)+VLOOKUP(Viáticos[[#This Row],[Destino]],Tabla216[#All],7,0))+(Viáticos[[#This Row],[Número de días por viático]]-1)*(VLOOKUP(Viáticos[[#This Row],[Destino]],Tabla216[#All],8,0)+VLOOKUP(Viáticos[[#This Row],[Destino]],Tabla216[#All],9,0)),\"\")))*Viáticos[[#This Row],[Número de personas]]*(1+25%)),\"\")","v":""},null,null,{"$f":"IFERROR(IF(Viáticos[[#This Row],[Viático pactado]]=\"\",((Viáticos[[#This Row],[Valor Viático por viaje]]*(1+Viáticos[[#This Row],[% Administración]]/100))),(Viáticos[[#This Row],[Viático pactado]]*(1+Viáticos[[#This Row],[% Administración]]/100))),\"\")","v":""},null,{"$f":"+IFERROR(Viáticos[[#This Row],[Costo parcial]]*(Viáticos[[#This Row],[% Participación ]]/100),\"\")","v":""}]
[null,null,null,null,null,{"$f":"+IF(Viáticos[[#This Row],[Nivel del cargo]]=\"\",\"\",F6)","v":""},null,null,{"$f":"IFERROR(IF(Viáticos[[#This Row],[Nivel del cargo]]=\"No directivo\",((IF(OR(Viáticos[[#This Row],[Número de días por viático]]=\"\",Viáticos[[#This Row],[Número de personas]]=\"\"),\"\",IFERROR(2*(VLOOKUP(Viáticos[[#This Row],[Destino]],Tabla216[#All],3,0)+VLOOKUP(Viáticos[[#This Row],[Destino]],Tabla216[#All],4,0))+Viáticos[[#This Row],[Número de días por viático]]*(2*VLOOKUP(Viáticos[[#This Row],[Destino]],Tabla216[#All],5,0)+VLOOKUP(Viáticos[[#This Row],[Destino]],Tabla216[#All],6,0)+VLOOKUP(Viáticos[[#This Row],[Destino]],Tabla216[#All],7,0))+(Viáticos[[#This Row],[Número de días por viático]]-1)*(VLOOKUP(Viáticos[[#This Row],[Destino]],Tabla216[#All],8,0)+VLOOKUP(Viáticos[[#This Row],[Destino]],Tabla216[#All],9,0)),\"\"))))*Viáticos[[#This Row],[Número de personas]],(IF(OR(Viáticos[[#This Row],[Número de días por viático]]=\"\",Viáticos[[#This Row],[Número de personas]]=\"\"),\"\",IFERROR(2*(VLOOKUP(Viáticos[[#This Row],[Destino]],Tabla216[#All],3,0)+VLOOKUP(Viáticos[[#This Row],[Destino]],Tabla216[#All],4,0))+Viáticos[[#This Row],[Número de días por viático]]*(2*VLOOKUP(Viáticos[[#This Row],[Destino]],Tabla216[#All],5,0)+VLOOKUP(Viáticos[[#This Row],[Destino]],Tabla216[#All],6,0)+VLOOKUP(Viáticos[[#This Row],[Destino]],Tabla216[#All],7,0))+(Viáticos[[#This Row],[Número de días por viático]]-1)*(VLOOKUP(Viáticos[[#This Row],[Destino]],Tabla216[#All],8,0)+VLOOKUP(Viáticos[[#This Row],[Destino]],Tabla216[#All],9,0)),\"\")))*Viáticos[[#This Row],[Número de personas]]*(1+25%)),\"\")","v":""},null,null,{"$f":"IFERROR(IF(Viáticos[[#This Row],[Viático pactado]]=\"\",((Viáticos[[#This Row],[Valor Viático por viaje]]*(1+Viáticos[[#This Row],[% Administración]]/100))),(Viáticos[[#This Row],[Viático pactado]]*(1+Viáticos[[#This Row],[% Administración]]/100))),\"\")","v":""},null,{"$f":"+IFERROR(Viáticos[[#This Row],[Costo parcial]]*(Viáticos[[#This Row],[% Participación ]]/100),\"\")","v":""}]
[null,null,null,null,null,{"$f":"+IF(Viáticos[[#This Row],[Nivel del cargo]]=\"\",\"\",F7)","v":""},null,null,{"$f":"IFERROR(IF(Viáticos[[#This Row],[Nivel del cargo]]=\"No directivo\",((IF(OR(Viáticos[[#This Row],[Número de días por viático]]=\"\",Viáticos[[#This Row],[Número de personas]]=\"\"),\"\",IFERROR(2*(VLOOKUP(Viáticos[[#This Row],[Destino]],Tabla216[#All],3,0)+VLOOKUP(Viáticos[[#This Row],[Destino]],Tabla216[#All],4,0))+Viáticos[[#This Row],[Número de días por viático]]*(2*VLOOKUP(Viáticos[[#This Row],[Destino]],Tabla216[#All],5,0)+VLOOKUP(Viáticos[[#This Row],[Destino]],Tabla216[#All],6,0)+VLOOKUP(Viáticos[[#This Row],[Destino]],Tabla216[#All],7,0))+(Viáticos[[#This Row],[Número de días por viático]]-1)*(VLOOKUP(Viáticos[[#This Row],[Destino]],Tabla216[#All],8,0)+VLOOKUP(Viáticos[[#This Row],[Destino]],Tabla216[#All],9,0)),\"\"))))*Viáticos[[#This Row],[Número de personas]],(IF(OR(Viáticos[[#This Row],[Número de días por viático]]=\"\",Viáticos[[#This Row],[Número de personas]]=\"\"),\"\",IFERROR(2*(VLOOKUP(Viáticos[[#This Row],[Destino]],Tabla216[#All],3,0)+VLOOKUP(Viáticos[[#This Row],[Destino]],Tabla216[#All],4,0))+Viáticos[[#This Row],[Número de días por viático]]*(2*VLOOKUP(Viáticos[[#This Row],[Destino]],Tabla216[#All],5,0)+VLOOKUP(Viáticos[[#This Row],[Destino]],Tabla216[#All],6,0)+VLOOKUP(Viáticos[[#This Row],[Destino]],Tabla216[#All],7,0))+(Viáticos[[#This Row],[Número de días por viático]]-1)*(VLOOKUP(Viáticos[[#This Row],[Destino]],Tabla216[#All],8,0)+VLOOKUP(Viáticos[[#This Row],[Destino]],Tabla216[#All],9,0)),\"\")))*Viáticos[[#This Row],[Número de personas]]*(1+25%)),\"\")","v":""},null,null,{"$f":"IFERROR(IF(Viáticos[[#This Row],[Viático pactado]]=\"\",((Viáticos[[#This Row],[Valor Viático por viaje]]*(1+Viáticos[[#This Row],[% Administración]]/100))),(Viáticos[[#This Row],[Viático pactado]]*(1+Viáticos[[#This Row],[% Administración]]/100))),\"\")","v":""},null,{"$f":"+IFERROR(Viáticos[[#This Row],[Costo parcial]]*(Viáticos[[#This Row],[% Participación ]]/100),\"\")","v":""}]
[null,null,null,null,null,{"$f":"+IF(Viáticos[[#This Row],[Nivel del cargo]]=\"\",\"\",F8)","v":""},null,null,{"$f":"IFERROR(IF(Viáticos[[#This Row],[Nivel del cargo]]=\"No directivo\",((IF(OR(Viáticos[[#This Row],[Número de días por viático]]=\"\",Viáticos[[#This Row],[Número de personas]]=\"\"),\"\",IFERROR(2*(VLOOKUP(Viáticos[[#This Row],[Destino]],Tabla216[#All],3,0)+VLOOKUP(Viáticos[[#This Row],[Destino]],Tabla216[#All],4,0))+Viáticos[[#This Row],[Número de días por viático]]*(2*VLOOKUP(Viáticos[[#This Row],[Destino]],Tabla216[#All],5,0)+VLOOKUP(Viáticos[[#This Row],[Destino]],Tabla216[#All],6,0)+VLOOKUP(Viáticos[[#This Row],[Destino]],Tabla216[#All],7,0))+(Viáticos[[#This Row],[Número de días por viático]]-1)*(VLOOKUP(Viáticos[[#This Row],[Destino]],Tabla216[#All],8,0)+VLOOKUP(Viáticos[[#This Row],[Destino]],Tabla216[#All],9,0)),\"\"))))*Viáticos[[#This Row],[Número de personas]],(IF(OR(Viáticos[[#This Row],[Número de días por viático]]=\"\",Viáticos[[#This Row],[Número de personas]]=\"\"),\"\",IFERROR(2*(VLOOKUP(Viáticos[[#This Row],[Destino]],Tabla216[#All],3,0)+VLOOKUP(Viáticos[[#This Row],[Destino]],Tabla216[#All],4,0))+Viáticos[[#This Row],[Número de días por viático]]*(2*VLOOKUP(Viáticos[[#This Row],[Destino]],Tabla216[#All],5,0)+VLOOKUP(Viáticos[[#This Row],[Destino]],Tabla216[#All],6,0)+VLOOKUP(Viáticos[[#This Row],[Destino]],Tabla216[#All],7,0))+(Viáticos[[#This Row],[Número de días por viático]]-1)*(VLOOKUP(Viáticos[[#This Row],[Destino]],Tabla216[#All],8,0)+VLOOKUP(Viáticos[[#This Row],[Destino]],Tabla216[#All],9,0)),\"\")))*Viáticos[[#This Row],[Número de personas]]*(1+25%)),\"\")","v":""},null,null,{"$f":"IFERROR(IF(Viáticos[[#This Row],[Viático pactado]]=\"\",((Viáticos[[#This Row],[Valor Viático por viaje]]*(1+Viáticos[[#This Row],[% Administración]]/100))),(Viáticos[[#This Row],[Viático pactado]]*(1+Viáticos[[#This Row],[% Administración]]/100))),\"\")","v":""},null,{"$f":"+IFERROR(Viáticos[[#This Row],[Costo parcial]]*(Viáticos[[#This Row],[% Participación ]]/100),\"\")","v":""}]
[null,null,null,null,null,{"$f":"+IF(Viáticos[[#This Row],[Nivel del cargo]]=\"\",\"\",F9)","v":""},null,null,{"$f":"IFERROR(IF(Viáticos[[#This Row],[Nivel del cargo]]=\"No directivo\",((IF(OR(Viáticos[[#This Row],[Número de días por viático]]=\"\",Viáticos[[#This Row],[Número de personas]]=\"\"),\"\",IFERROR(2*(VLOOKUP(Viáticos[[#This Row],[Destino]],Tabla216[#All],3,0)+VLOOKUP(Viáticos[[#This Row],[Destino]],Tabla216[#All],4,0))+Viáticos[[#This Row],[Número de días por viático]]*(2*VLOOKUP(Viáticos[[#This Row],[Destino]],Tabla216[#All],5,0)+VLOOKUP(Viáticos[[#This Row],[Destino]],Tabla216[#All],6,0)+VLOOKUP(Viáticos[[#This Row],[Destino]],Tabla216[#All],7,0))+(Viáticos[[#This Row],[Número de días por viático]]-1)*(VLOOKUP(Viáticos[[#This Row],[Destino]],Tabla216[#All],8,0)+VLOOKUP(Viáticos[[#This Row],[Destino]],Tabla216[#All],9,0)),\"\"))))*Viáticos[[#This Row],[Número de personas]],(IF(OR(Viáticos[[#This Row],[Número de días por viático]]=\"\",Viáticos[[#This Row],[Número de personas]]=\"\"),\"\",IFERROR(2*(VLOOKUP(Viáticos[[#This Row],[Destino]],Tabla216[#All],3,0)+VLOOKUP(Viáticos[[#This Row],[Destino]],Tabla216[#All],4,0))+Viáticos[[#This Row],[Número de días por viático]]*(2*VLOOKUP(Viáticos[[#This Row],[Destino]],Tabla216[#All],5,0)+VLOOKUP(Viáticos[[#This Row],[Destino]],Tabla216[#All],6,0)+VLOOKUP(Viáticos[[#This Row],[Destino]],Tabla216[#All],7,0))+(Viáticos[[#This Row],[Número de días por viático]]-1)*(VLOOKUP(Viáticos[[#This Row],[Destino]],Tabla216[#All],8,0)+VLOOKUP(Viáticos[[#This Row],[Destino]],Tabla216[#All],9,0)),\"\")))*Viáticos[[#This Row],[Número de personas]]*(1+25%)),\"\")","v":""},null,null,{"$f":"IFERROR(IF(Viáticos[[#This Row],[Viático pactado]]=\"\",((Viáticos[[#This Row],[Valor Viático por viaje]]*(1+Viáticos[[#This Row],[% Administración]]/100))),(Viáticos[[#This Row],[Viático pactado]]*(1+Viáticos[[#This Row],[% Administración]]/100))),\"\")","v":""},null,{"$f":"+IFERROR(Viáticos[[#This Row],[Costo parcial]]*(Viáticos[[#This Row],[% Participación ]]/100),\"\")","v":""}]
[null,null,null,null,null,{"$f":"+IF(Viáticos[[#This Row],[Nivel del cargo]]=\"\",\"\",F10)","v":""},null,null,{"$f":"IFERROR(IF(Viáticos[[#This Row],[Nivel del cargo]]=\"No directivo\",((IF(OR(Viáticos[[#This Row],[Número de días por viático]]=\"\",Viáticos[[#This Row],[Número de personas]]=\"\"),\"\",IFERROR(2*(VLOOKUP(Viáticos[[#This Row],[Destino]],Tabla216[#All],3,0)+VLOOKUP(Viáticos[[#This Row],[Destino]],Tabla216[#All],4,0))+Viáticos[[#This Row],[Número de días por viático]]*(2*VLOOKUP(Viáticos[[#This Row],[Destino]],Tabla216[#All],5,0)+VLOOKUP(Viáticos[[#This Row],[Destino]],Tabla216[#All],6,0)+VLOOKUP(Viáticos[[#This Row],[Destino]],Tabla216[#All],7,0))+(Viáticos[[#This Row],[Número de días por viático]]-1)*(VLOOKUP(Viáticos[[#This Row],[Destino]],Tabla216[#All],8,0)+VLOOKUP(Viáticos[[#This Row],[Destino]],Tabla216[#All],9,0)),\"\"))))*Viáticos[[#This Row],[Número de personas]],(IF(OR(Viáticos[[#This Row],[Número de días por viático]]=\"\",Viáticos[[#This Row],[Número de personas]]=\"\"),\"\",IFERROR(2*(VLOOKUP(Viáticos[[#This Row],[Destino]],Tabla216[#All],3,0)+VLOOKUP(Viáticos[[#This Row],[Destino]],Tabla216[#All],4,0))+Viáticos[[#This Row],[Número de días por viático]]*(2*VLOOKUP(Viáticos[[#This Row],[Destino]],Tabla216[#All],5,0)+VLOOKUP(Viáticos[[#This Row],[Destino]],Tabla216[#All],6,0)+VLOOKUP(Viáticos[[#This Row],[Destino]],Tabla216[#All],7,0))+(Viáticos[[#This Row],[Número de días por viático]]-1)*(VLOOKUP(Viáticos[[#This Row],[Destino]],Tabla216[#All],8,0)+VLOOKUP(Viáticos[[#This Row],[Destino]],Tabla216[#All],9,0)),\"\")))*Viáticos[[#This Row],[Número de personas]]*(1+25%)),\"\")","v":""},null,null,{"$f":"IFERROR(IF(Viáticos[[#This Row],[Viático pactado]]=\"\",((Viáticos[[#This Row],[Valor Viático por viaje]]*(1+Viáticos[[#This Row],[% Administración]]/100))),(Viáticos[[#This Row],[Viático pactado]]*(1+Viáticos[[#This Row],[% Administración]]/100))),\"\")","v":""},null,{"$f":"+IFERROR(Viáticos[[#This Row],[Costo parcial]]*(Viáticos[[#This Row],[% Participación ]]/100),\"\")","v":""}]
[null,null,null,null,null,{"$f":"+IF(Viáticos[[#This Row],[Nivel del cargo]]=\"\",\"\",F11)","v":""},null,null,{"$f":"IFERROR(IF(Viáticos[[#This Row],[Nivel del cargo]]=\"No directivo\",((IF(OR(Viáticos[[#This Row],[Número de días por viático]]=\"\",Viáticos[[#This Row],[Número de personas]]=\"\"),\"\",IFERROR(2*(VLOOKUP(Viáticos[[#This Row],[Destino]],Tabla216[#All],3,0)+VLOOKUP(Viáticos[[#This Row],[Destino]],Tabla216[#All],4,0))+Viáticos[[#This Row],[Número de días por viático]]*(2*VLOOKUP(Viáticos[[#This Row],[Destino]],Tabla216[#All],5,0)+VLOOKUP(Viáticos[[#This Row],[Destino]],Tabla216[#All],6,0)+VLOOKUP(Viáticos[[#This Row],[Destino]],Tabla216[#All],7,0))+(Viáticos[[#This Row],[Número de días por viático]]-1)*(VLOOKUP(Viáticos[[#This Row],[Destino]],Tabla216[#All],8,0)+VLOOKUP(Viáticos[[#This Row],[Destino]],Tabla216[#All],9,0)),\"\"))))*Viáticos[[#This Row],[Número de personas]],(IF(OR(Viáticos[[#This Row],[Número de días por viático]]=\"\",Viáticos[[#This Row],[Número de personas]]=\"\"),\"\",IFERROR(2*(VLOOKUP(Viáticos[[#This Row],[Destino]],Tabla216[#All],3,0)+VLOOKUP(Viáticos[[#This Row],[Destino]],Tabla216[#All],4,0))+Viáticos[[#This Row],[Número de días por viático]]*(2*VLOOKUP(Viáticos[[#This Row],[Destino]],Tabla216[#All],5,0)+VLOOKUP(Viáticos[[#This Row],[Destino]],Tabla216[#All],6,0)+VLOOKUP(Viáticos[[#This Row],[Destino]],Tabla216[#All],7,0))+(Viáticos[[#This Row],[Número de días por viático]]-1)*(VLOOKUP(Viáticos[[#This Row],[Destino]],Tabla216[#All],8,0)+VLOOKUP(Viáticos[[#This Row],[Destino]],Tabla216[#All],9,0)),\"\")))*Viáticos[[#This Row],[Número de personas]]*(1+25%)),\"\")","v":""},null,null,{"$f":"IFERROR(IF(Viáticos[[#This Row],[Viático pactado]]=\"\",((Viáticos[[#This Row],[Valor Viático por viaje]]*(1+Viáticos[[#This Row],[% Administración]]/100))),(Viáticos[[#This Row],[Viático pactado]]*(1+Viáticos[[#This Row],[% Administración]]/100))),\"\")","v":""},null,{"$f":"+IFERROR(Viáticos[[#This Row],[Costo parcial]]*(Viáticos[[#This Row],[% Participación ]]/100),\"\")","v":""}]
[null,null,null,null,null,{"$f":"+IF(Viáticos[[#This Row],[Nivel del cargo]]=\"\",\"\",F12)","v":""},null,null,{"$f":"IFERROR(IF(Viáticos[[#This Row],[Nivel del cargo]]=\"No directivo\",((IF(OR(Viáticos[[#This Row],[Número de días por viático]]=\"\",Viáticos[[#This Row],[Número de personas]]=\"\"),\"\",IFERROR(2*(VLOOKUP(Viáticos[[#This Row],[Destino]],Tabla216[#All],3,0)+VLOOKUP(Viáticos[[#This Row],[Destino]],Tabla216[#All],4,0))+Viáticos[[#This Row],[Número de días por viático]]*(2*VLOOKUP(Viáticos[[#This Row],[Destino]],Tabla216[#All],5,0)+VLOOKUP(Viáticos[[#This Row],[Destino]],Tabla216[#All],6,0)+VLOOKUP(Viáticos[[#This Row],[Destino]],Tabla216[#All],7,0))+(Viáticos[[#This Row],[Número de días por viático]]-1)*(VLOOKUP(Viáticos[[#This Row],[Destino]],Tabla216[#All],8,0)+VLOOKUP(Viáticos[[#This Row],[Destino]],Tabla216[#All],9,0)),\"\"))))*Viáticos[[#This Row],[Número de personas]],(IF(OR(Viáticos[[#This Row],[Número de días por viático]]=\"\",Viáticos[[#This Row],[Número de personas]]=\"\"),\"\",IFERROR(2*(VLOOKUP(Viáticos[[#This Row],[Destino]],Tabla216[#All],3,0)+VLOOKUP(Viáticos[[#This Row],[Destino]],Tabla216[#All],4,0))+Viáticos[[#This Row],[Número de días por viático]]*(2*VLOOKUP(Viáticos[[#This Row],[Destino]],Tabla216[#All],5,0)+VLOOKUP(Viáticos[[#This Row],[Destino]],Tabla216[#All],6,0)+VLOOKUP(Viáticos[[#This Row],[Destino]],Tabla216[#All],7,0))+(Viáticos[[#This Row],[Número de días por viático]]-1)*(VLOOKUP(Viáticos[[#This Row],[Destino]],Tabla216[#All],8,0)+VLOOKUP(Viáticos[[#This Row],[Destino]],Tabla216[#All],9,0)),\"\")))*Viáticos[[#This Row],[Número de personas]]*(1+25%)),\"\")","v":""},null,null,{"$f":"IFERROR(IF(Viáticos[[#This Row],[Viático pactado]]=\"\",((Viáticos[[#This Row],[Valor Viático por viaje]]*(1+Viáticos[[#This Row],[% Administración]]/100))),(Viáticos[[#This Row],[Viático pactado]]*(1+Viáticos[[#This Row],[% Administración]]/100))),\"\")","v":""},null,{"$f":"+IFERROR(Viáticos[[#This Row],[Costo parcial]]*(Viáticos[[#This Row],[% Participación ]]/100),\"\")","v":""}]
[null,null,null,null,null,{"$f":"+IF(Viáticos[[#This Row],[Nivel del cargo]]=\"\",\"\",F13)","v":""},null,null,{"$f":"IFERROR(IF(Viáticos[[#This Row],[Nivel del cargo]]=\"No directivo\",((IF(OR(Viáticos[[#This Row],[Número de días por viático]]=\"\",Viáticos[[#This Row],[Número de personas]]=\"\"),\"\",IFERROR(2*(VLOOKUP(Viáticos[[#This Row],[Destino]],Tabla216[#All],3,0)+VLOOKUP(Viáticos[[#This Row],[Destino]],Tabla216[#All],4,0))+Viáticos[[#This Row],[Número de días por viático]]*(2*VLOOKUP(Viáticos[[#This Row],[Destino]],Tabla216[#All],5,0)+VLOOKUP(Viáticos[[#This Row],[Destino]],Tabla216[#All],6,0)+VLOOKUP(Viáticos[[#This Row],[Destino]],Tabla216[#All],7,0))+(Viáticos[[#This Row],[Número de días por viático]]-1)*(VLOOKUP(Viáticos[[#This Row],[Destino]],Tabla216[#All],8,0)+VLOOKUP(Viáticos[[#This Row],[Destino]],Tabla216[#All],9,0)),\"\"))))*Viáticos[[#This Row],[Número de personas]],(IF(OR(Viáticos[[#This Row],[Número de días por viático]]=\"\",Viáticos[[#This Row],[Número de personas]]=\"\"),\"\",IFERROR(2*(VLOOKUP(Viáticos[[#This Row],[Destino]],Tabla216[#All],3,0)+VLOOKUP(Viáticos[[#This Row],[Destino]],Tabla216[#All],4,0))+Viáticos[[#This Row],[Número de días por viático]]*(2*VLOOKUP(Viáticos[[#This Row],[Destino]],Tabla216[#All],5,0)+VLOOKUP(Viáticos[[#This Row],[Destino]],Tabla216[#All],6,0)+VLOOKUP(Viáticos[[#This Row],[Destino]],Tabla216[#All],7,0))+(Viáticos[[#This Row],[Número de días por viático]]-1)*(VLOOKUP(Viáticos[[#This Row],[Destino]],Tabla216[#All],8,0)+VLOOKUP(Viáticos[[#This Row],[Destino]],Tabla216[#All],9,0)),\"\")))*Viáticos[[#This Row],[Número de personas]]*(1+25%)),\"\")","v":""},null,null,{"$f":"IFERROR(IF(Viáticos[[#This Row],[Viático pactado]]=\"\",((Viáticos[[#This Row],[Valor Viático por viaje]]*(1+Viáticos[[#This Row],[% Administración]]/100))),(Viáticos[[#This Row],[Viático pactado]]*(1+Viáticos[[#This Row],[% Administración]]/100))),\"\")","v":""},null,{"$f":"+IFERROR(Viáticos[[#This Row],[Costo parcial]]*(Viáticos[[#This Row],[% Participación ]]/100),\"\")","v":""}]
[null,null,null,null,null,{"$f":"+IF(Viáticos[[#This Row],[Nivel del cargo]]=\"\",\"\",F14)","v":""},null,null,{"$f":"IFERROR(IF(Viáticos[[#This Row],[Nivel del cargo]]=\"No directivo\",((IF(OR(Viáticos[[#This Row],[Número de días por viático]]=\"\",Viáticos[[#This Row],[Número de personas]]=\"\"),\"\",IFERROR(2*(VLOOKUP(Viáticos[[#This Row],[Destino]],Tabla216[#All],3,0)+VLOOKUP(Viáticos[[#This Row],[Destino]],Tabla216[#All],4,0))+Viáticos[[#This Row],[Número de días por viático]]*(2*VLOOKUP(Viáticos[[#This Row],[Destino]],Tabla216[#All],5,0)+VLOOKUP(Viáticos[[#This Row],[Destino]],Tabla216[#All],6,0)+VLOOKUP(Viáticos[[#This Row],[Destino]],Tabla216[#All],7,0))+(Viáticos[[#This Row],[Número de días por viático]]-1)*(VLOOKUP(Viáticos[[#This Row],[Destino]],Tabla216[#All],8,0)+VLOOKUP(Viáticos[[#This Row],[Destino]],Tabla216[#All],9,0)),\"\"))))*Viáticos[[#This Row],[Número de personas]],(IF(OR(Viáticos[[#This Row],[Número de días por viático]]=\"\",Viáticos[[#This Row],[Número de personas]]=\"\"),\"\",IFERROR(2*(VLOOKUP(Viáticos[[#This Row],[Destino]],Tabla216[#All],3,0)+VLOOKUP(Viáticos[[#This Row],[Destino]],Tabla216[#All],4,0))+Viáticos[[#This Row],[Número de días por viático]]*(2*VLOOKUP(Viáticos[[#This Row],[Destino]],Tabla216[#All],5,0)+VLOOKUP(Viáticos[[#This Row],[Destino]],Tabla216[#All],6,0)+VLOOKUP(Viáticos[[#This Row],[Destino]],Tabla216[#All],7,0))+(Viáticos[[#This Row],[Número de días por viático]]-1)*(VLOOKUP(Viáticos[[#This Row],[Destino]],Tabla216[#All],8,0)+VLOOKUP(Viáticos[[#This Row],[Destino]],Tabla216[#All],9,0)),\"\")))*Viáticos[[#This Row],[Número de personas]]*(1+25%)),\"\")","v":""},null,null,{"$f":"IFERROR(IF(Viáticos[[#This Row],[Viático pactado]]=\"\",((Viáticos[[#This Row],[Valor Viático por viaje]]*(1+Viáticos[[#This Row],[% Administración]]/100))),(Viáticos[[#This Row],[Viático pactado]]*(1+Viáticos[[#This Row],[% Administración]]/100))),\"\")","v":""},null,{"$f":"+IFERROR(Viáticos[[#This Row],[Costo parcial]]*(Viáticos[[#This Row],[% Participación ]]/100),\"\")","v":""}]
[null,null,null,null,null,{"$f":"+IF(Viáticos[[#This Row],[Nivel del cargo]]=\"\",\"\",F15)","v":""},null,null,{"$f":"IFERROR(IF(Viáticos[[#This Row],[Nivel del cargo]]=\"No directivo\",((IF(OR(Viáticos[[#This Row],[Número de días por viático]]=\"\",Viáticos[[#This Row],[Número de personas]]=\"\"),\"\",IFERROR(2*(VLOOKUP(Viáticos[[#This Row],[Destino]],Tabla216[#All],3,0)+VLOOKUP(Viáticos[[#This Row],[Destino]],Tabla216[#All],4,0))+Viáticos[[#This Row],[Número de días por viático]]*(2*VLOOKUP(Viáticos[[#This Row],[Destino]],Tabla216[#All],5,0)+VLOOKUP(Viáticos[[#This Row],[Destino]],Tabla216[#All],6,0)+VLOOKUP(Viáticos[[#This Row],[Destino]],Tabla216[#All],7,0))+(Viáticos[[#This Row],[Número de días por viático]]-1)*(VLOOKUP(Viáticos[[#This Row],[Destino]],Tabla216[#All],8,0)+VLOOKUP(Viáticos[[#This Row],[Destino]],Tabla216[#All],9,0)),\"\"))))*Viáticos[[#This Row],[Número de personas]],(IF(OR(Viáticos[[#This Row],[Número de días por viático]]=\"\",Viáticos[[#This Row],[Número de personas]]=\"\"),\"\",IFERROR(2*(VLOOKUP(Viáticos[[#This Row],[Destino]],Tabla216[#All],3,0)+VLOOKUP(Viáticos[[#This Row],[Destino]],Tabla216[#All],4,0))+Viáticos[[#This Row],[Número de días por viático]]*(2*VLOOKUP(Viáticos[[#This Row],[Destino]],Tabla216[#All],5,0)+VLOOKUP(Viáticos[[#This Row],[Destino]],Tabla216[#All],6,0)+VLOOKUP(Viáticos[[#This Row],[Destino]],Tabla216[#All],7,0))+(Viáticos[[#This Row],[Número de días por viático]]-1)*(VLOOKUP(Viáticos[[#This Row],[Destino]],Tabla216[#All],8,0)+VLOOKUP(Viáticos[[#This Row],[Destino]],Tabla216[#All],9,0)),\"\")))*Viáticos[[#This Row],[Número de personas]]*(1+25%)),\"\")","v":""},null,null,{"$f":"IFERROR(IF(Viáticos[[#This Row],[Viático pactado]]=\"\",((Viáticos[[#This Row],[Valor Viático por viaje]]*(1+Viáticos[[#This Row],[% Administración]]/100))),(Viáticos[[#This Row],[Viático pactado]]*(1+Viáticos[[#This Row],[% Administración]]/100))),\"\")","v":""},null,{"$f":"+IFERROR(Viáticos[[#This Row],[Costo parcial]]*(Viáticos[[#This Row],[% Participación ]]/100),\"\")","v":""}]
[null,null,null,null,null,{"$f":"+IF(Viáticos[[#This Row],[Nivel del cargo]]=\"\",\"\",F16)","v":""},null,null,{"$f":"IFERROR(IF(Viáticos[[#This Row],[Nivel del cargo]]=\"No directivo\",((IF(OR(Viáticos[[#This Row],[Número de días por viático]]=\"\",Viáticos[[#This Row],[Número de personas]]=\"\"),\"\",IFERROR(2*(VLOOKUP(Viáticos[[#This Row],[Destino]],Tabla216[#All],3,0)+VLOOKUP(Viáticos[[#This Row],[Destino]],Tabla216[#All],4,0))+Viáticos[[#This Row],[Número de días por viático]]*(2*VLOOKUP(Viáticos[[#This Row],[Destino]],Tabla216[#All],5,0)+VLOOKUP(Viáticos[[#This Row],[Destino]],Tabla216[#All],6,0)+VLOOKUP(Viáticos[[#This Row],[Destino]],Tabla216[#All],7,0))+(Viáticos[[#This Row],[Número de días por viático]]-1)*(VLOOKUP(Viáticos[[#This Row],[Destino]],Tabla216[#All],8,0)+VLOOKUP(Viáticos[[#This Row],[Destino]],Tabla216[#All],9,0)),\"\"))))*Viáticos[[#This Row],[Número de personas]],(IF(OR(Viáticos[[#This Row],[Número de días por viático]]=\"\",Viáticos[[#This Row],[Número de personas]]=\"\"),\"\",IFERROR(2*(VLOOKUP(Viáticos[[#This Row],[Destino]],Tabla216[#All],3,0)+VLOOKUP(Viáticos[[#This Row],[Destino]],Tabla216[#All],4,0))+Viáticos[[#This Row],[Número de días por viático]]*(2*VLOOKUP(Viáticos[[#This Row],[Destino]],Tabla216[#All],5,0)+VLOOKUP(Viáticos[[#This Row],[Destino]],Tabla216[#All],6,0)+VLOOKUP(Viáticos[[#This Row],[Destino]],Tabla216[#All],7,0))+(Viáticos[[#This Row],[Número de días por viático]]-1)*(VLOOKUP(Viáticos[[#This Row],[Destino]],Tabla216[#All],8,0)+VLOOKUP(Viáticos[[#This Row],[Destino]],Tabla216[#All],9,0)),\"\")))*Viáticos[[#This Row],[Número de personas]]*(1+25%)),\"\")","v":""},null,null,{"$f":"IFERROR(IF(Viáticos[[#This Row],[Viático pactado]]=\"\",((Viáticos[[#This Row],[Valor Viático por viaje]]*(1+Viáticos[[#This Row],[% Administración]]/100))),(Viáticos[[#This Row],[Viático pactado]]*(1+Viáticos[[#This Row],[% Administración]]/100))),\"\")","v":""},null,{"$f":"+IFERROR(Viáticos[[#This Row],[Costo parcial]]*(Viáticos[[#This Row],[% Participación ]]/100),\"\")","v":""}]
[null,null,null,null,null,{"$f":"+IF(Viáticos[[#This Row],[Nivel del cargo]]=\"\",\"\",F17)","v":""},null,null,{"$f":"IFERROR(IF(Viáticos[[#This Row],[Nivel del cargo]]=\"No directivo\",((IF(OR(Viáticos[[#This Row],[Número de días por viático]]=\"\",Viáticos[[#This Row],[Número de personas]]=\"\"),\"\",IFERROR(2*(VLOOKUP(Viáticos[[#This Row],[Destino]],Tabla216[#All],3,0)+VLOOKUP(Viáticos[[#This Row],[Destino]],Tabla216[#All],4,0))+Viáticos[[#This Row],[Número de días por viático]]*(2*VLOOKUP(Viáticos[[#This Row],[Destino]],Tabla216[#All],5,0)+VLOOKUP(Viáticos[[#This Row],[Destino]],Tabla216[#All],6,0)+VLOOKUP(Viáticos[[#This Row],[Destino]],Tabla216[#All],7,0))+(Viáticos[[#This Row],[Número de días por viático]]-1)*(VLOOKUP(Viáticos[[#This Row],[Destino]],Tabla216[#All],8,0)+VLOOKUP(Viáticos[[#This Row],[Destino]],Tabla216[#All],9,0)),\"\"))))*Viáticos[[#This Row],[Número de personas]],(IF(OR(Viáticos[[#This Row],[Número de días por viático]]=\"\",Viáticos[[#This Row],[Número de personas]]=\"\"),\"\",IFERROR(2*(VLOOKUP(Viáticos[[#This Row],[Destino]],Tabla216[#All],3,0)+VLOOKUP(Viáticos[[#This Row],[Destino]],Tabla216[#All],4,0))+Viáticos[[#This Row],[Número de días por viático]]*(2*VLOOKUP(Viáticos[[#This Row],[Destino]],Tabla216[#All],5,0)+VLOOKUP(Viáticos[[#This Row],[Destino]],Tabla216[#All],6,0)+VLOOKUP(Viáticos[[#This Row],[Destino]],Tabla216[#All],7,0))+(Viáticos[[#This Row],[Número de días por viático]]-1)*(VLOOKUP(Viáticos[[#This Row],[Destino]],Tabla216[#All],8,0)+VLOOKUP(Viáticos[[#This Row],[Destino]],Tabla216[#All],9,0)),\"\")))*Viáticos[[#This Row],[Número de personas]]*(1+25%)),\"\")","v":""},null,null,{"$f":"IFERROR(IF(Viáticos[[#This Row],[Viático pactado]]=\"\",((Viáticos[[#This Row],[Valor Viático por viaje]]*(1+Viáticos[[#This Row],[% Administración]]/100))),(Viáticos[[#This Row],[Viático pactado]]*(1+Viáticos[[#This Row],[% Administración]]/100))),\"\")","v":""},null,{"$f":"+IFERROR(Viáticos[[#This Row],[Costo parcial]]*(Viáticos[[#This Row],[% Participación ]]/100),\"\")","v":""}]
[null,null,null,null,null,{"$f":"+IF(Viáticos[[#This Row],[Nivel del cargo]]=\"\",\"\",F18)","v":""},null,null,{"$f":"IFERROR(IF(Viáticos[[#This Row],[Nivel del cargo]]=\"No directivo\",((IF(OR(Viáticos[[#This Row],[Número de días por viático]]=\"\",Viáticos[[#This Row],[Número de personas]]=\"\"),\"\",IFERROR(2*(VLOOKUP(Viáticos[[#This Row],[Destino]],Tabla216[#All],3,0)+VLOOKUP(Viáticos[[#This Row],[Destino]],Tabla216[#All],4,0))+Viáticos[[#This Row],[Número de días por viático]]*(2*VLOOKUP(Viáticos[[#This Row],[Destino]],Tabla216[#All],5,0)+VLOOKUP(Viáticos[[#This Row],[Destino]],Tabla216[#All],6,0)+VLOOKUP(Viáticos[[#This Row],[Destino]],Tabla216[#All],7,0))+(Viáticos[[#This Row],[Número de días por viático]]-1)*(VLOOKUP(Viáticos[[#This Row],[Destino]],Tabla216[#All],8,0)+VLOOKUP(Viáticos[[#This Row],[Destino]],Tabla216[#All],9,0)),\"\"))))*Viáticos[[#This Row],[Número de personas]],(IF(OR(Viáticos[[#This Row],[Número de días por viático]]=\"\",Viáticos[[#This Row],[Número de personas]]=\"\"),\"\",IFERROR(2*(VLOOKUP(Viáticos[[#This Row],[Destino]],Tabla216[#All],3,0)+VLOOKUP(Viáticos[[#This Row],[Destino]],Tabla216[#All],4,0))+Viáticos[[#This Row],[Número de días por viático]]*(2*VLOOKUP(Viáticos[[#This Row],[Destino]],Tabla216[#All],5,0)+VLOOKUP(Viáticos[[#This Row],[Destino]],Tabla216[#All],6,0)+VLOOKUP(Viáticos[[#This Row],[Destino]],Tabla216[#All],7,0))+(Viáticos[[#This Row],[Número de días por viático]]-1)*(VLOOKUP(Viáticos[[#This Row],[Destino]],Tabla216[#All],8,0)+VLOOKUP(Viáticos[[#This Row],[Destino]],Tabla216[#All],9,0)),\"\")))*Viáticos[[#This Row],[Número de personas]]*(1+25%)),\"\")","v":""},null,null,{"$f":"IFERROR(IF(Viáticos[[#This Row],[Viático pactado]]=\"\",((Viáticos[[#This Row],[Valor Viático por viaje]]*(1+Viáticos[[#This Row],[% Administración]]/100))),(Viáticos[[#This Row],[Viático pactado]]*(1+Viáticos[[#This Row],[% Administración]]/100))),\"\")","v":""},null,{"$f":"+IFERROR(Viáticos[[#This Row],[Costo parcial]]*(Viáticos[[#This Row],[% Participación ]]/100),\"\")","v":""}]
[null,null,null,null,null,{"$f":"+IF(Viáticos[[#This Row],[Nivel del cargo]]=\"\",\"\",F19)","v":""},null,null,{"$f":"IFERROR(IF(Viáticos[[#This Row],[Nivel del cargo]]=\"No directivo\",((IF(OR(Viáticos[[#This Row],[Número de días por viático]]=\"\",Viáticos[[#This Row],[Número de personas]]=\"\"),\"\",IFERROR(2*(VLOOKUP(Viáticos[[#This Row],[Destino]],Tabla216[#All],3,0)+VLOOKUP(Viáticos[[#This Row],[Destino]],Tabla216[#All],4,0))+Viáticos[[#This Row],[Número de días por viático]]*(2*VLOOKUP(Viáticos[[#This Row],[Destino]],Tabla216[#All],5,0)+VLOOKUP(Viáticos[[#This Row],[Destino]],Tabla216[#All],6,0)+VLOOKUP(Viáticos[[#This Row],[Destino]],Tabla216[#All],7,0))+(Viáticos[[#This Row],[Número de días por viático]]-1)*(VLOOKUP(Viáticos[[#This Row],[Destino]],Tabla216[#All],8,0)+VLOOKUP(Viáticos[[#This Row],[Destino]],Tabla216[#All],9,0)),\"\"))))*Viáticos[[#This Row],[Número de personas]],(IF(OR(Viáticos[[#This Row],[Número de días por viático]]=\"\",Viáticos[[#This Row],[Número de personas]]=\"\"),\"\",IFERROR(2*(VLOOKUP(Viáticos[[#This Row],[Destino]],Tabla216[#All],3,0)+VLOOKUP(Viáticos[[#This Row],[Destino]],Tabla216[#All],4,0))+Viáticos[[#This Row],[Número de días por viático]]*(2*VLOOKUP(Viáticos[[#This Row],[Destino]],Tabla216[#All],5,0)+VLOOKUP(Viáticos[[#This Row],[Destino]],Tabla216[#All],6,0)+VLOOKUP(Viáticos[[#This Row],[Destino]],Tabla216[#All],7,0))+(Viáticos[[#This Row],[Número de días por viático]]-1)*(VLOOKUP(Viáticos[[#This Row],[Destino]],Tabla216[#All],8,0)+VLOOKUP(Viáticos[[#This Row],[Destino]],Tabla216[#All],9,0)),\"\")))*Viáticos[[#This Row],[Número de personas]]*(1+25%)),\"\")","v":""},null,null,{"$f":"IFERROR(IF(Viáticos[[#This Row],[Viático pactado]]=\"\",((Viáticos[[#This Row],[Valor Viático por viaje]]*(1+Viáticos[[#This Row],[% Administración]]/100))),(Viáticos[[#This Row],[Viático pactado]]*(1+Viáticos[[#This Row],[% Administración]]/100))),\"\")","v":""},null,{"$f":"+IFERROR(Viáticos[[#This Row],[Costo parcial]]*(Viáticos[[#This Row],[% Participación ]]/100),\"\")","v":""}]
[null,null,null,null,null,{"$f":"+IF(Viáticos[[#This Row],[Nivel del cargo]]=\"\",\"\",F20)","v":""},null,null,{"$f":"IFERROR(IF(Viáticos[[#This Row],[Nivel del cargo]]=\"No directivo\",((IF(OR(Viáticos[[#This Row],[Número de días por viático]]=\"\",Viáticos[[#This Row],[Número de personas]]=\"\"),\"\",IFERROR(2*(VLOOKUP(Viáticos[[#This Row],[Destino]],Tabla216[#All],3,0)+VLOOKUP(Viáticos[[#This Row],[Destino]],Tabla216[#All],4,0))+Viáticos[[#This Row],[Número de días por viático]]*(2*VLOOKUP(Viáticos[[#This Row],[Destino]],Tabla216[#All],5,0)+VLOOKUP(Viáticos[[#This Row],[Destino]],Tabla216[#All],6,0)+VLOOKUP(Viáticos[[#This Row],[Destino]],Tabla216[#All],7,0))+(Viáticos[[#This Row],[Número de días por viático]]-1)*(VLOOKUP(Viáticos[[#This Row],[Destino]],Tabla216[#All],8,0)+VLOOKUP(Viáticos[[#This Row],[Destino]],Tabla216[#All],9,0)),\"\"))))*Viáticos[[#This Row],[Número de personas]],(IF(OR(Viáticos[[#This Row],[Número de días por viático]]=\"\",Viáticos[[#This Row],[Número de personas]]=\"\"),\"\",IFERROR(2*(VLOOKUP(Viáticos[[#This Row],[Destino]],Tabla216[#All],3,0)+VLOOKUP(Viáticos[[#This Row],[Destino]],Tabla216[#All],4,0))+Viáticos[[#This Row],[Número de días por viático]]*(2*VLOOKUP(Viáticos[[#This Row],[Destino]],Tabla216[#All],5,0)+VLOOKUP(Viáticos[[#This Row],[Destino]],Tabla216[#All],6,0)+VLOOKUP(Viáticos[[#This Row],[Destino]],Tabla216[#All],7,0))+(Viáticos[[#This Row],[Número de días por viático]]-1)*(VLOOKUP(Viáticos[[#This Row],[Destino]],Tabla216[#All],8,0)+VLOOKUP(Viáticos[[#This Row],[Destino]],Tabla216[#All],9,0)),\"\")))*Viáticos[[#This Row],[Número de personas]]*(1+25%)),\"\")","v":""},null,null,{"$f":"IFERROR(IF(Viáticos[[#This Row],[Viático pactado]]=\"\",((Viáticos[[#This Row],[Valor Viático por viaje]]*(1+Viáticos[[#This Row],[% Administración]]/100))),(Viáticos[[#This Row],[Viático pactado]]*(1+Viáticos[[#This Row],[% Administración]]/100))),\"\")","v":""},null,{"$f":"+IFERROR(Viáticos[[#This Row],[Costo parcial]]*(Viáticos[[#This Row],[% Participación ]]/100),\"\")","v":""}]
[null,null,null,null,null,{"$f":"+IF(Viáticos[[#This Row],[Nivel del cargo]]=\"\",\"\",F21)","v":""},null,null,{"$f":"IFERROR(IF(Viáticos[[#This Row],[Nivel del cargo]]=\"No directivo\",((IF(OR(Viáticos[[#This Row],[Número de días por viático]]=\"\",Viáticos[[#This Row],[Número de personas]]=\"\"),\"\",IFERROR(2*(VLOOKUP(Viáticos[[#This Row],[Destino]],Tabla216[#All],3,0)+VLOOKUP(Viáticos[[#This Row],[Destino]],Tabla216[#All],4,0))+Viáticos[[#This Row],[Número de días por viático]]*(2*VLOOKUP(Viáticos[[#This Row],[Destino]],Tabla216[#All],5,0)+VLOOKUP(Viáticos[[#This Row],[Destino]],Tabla216[#All],6,0)+VLOOKUP(Viáticos[[#This Row],[Destino]],Tabla216[#All],7,0))+(Viáticos[[#This Row],[Número de días por viático]]-1)*(VLOOKUP(Viáticos[[#This Row],[Destino]],Tabla216[#All],8,0)+VLOOKUP(Viáticos[[#This Row],[Destino]],Tabla216[#All],9,0)),\"\"))))*Viáticos[[#This Row],[Número de personas]],(IF(OR(Viáticos[[#This Row],[Número de días por viático]]=\"\",Viáticos[[#This Row],[Número de personas]]=\"\"),\"\",IFERROR(2*(VLOOKUP(Viáticos[[#This Row],[Destino]],Tabla216[#All],3,0)+VLOOKUP(Viáticos[[#This Row],[Destino]],Tabla216[#All],4,0))+Viáticos[[#This Row],[Número de días por viático]]*(2*VLOOKUP(Viáticos[[#This Row],[Destino]],Tabla216[#All],5,0)+VLOOKUP(Viáticos[[#This Row],[Destino]],Tabla216[#All],6,0)+VLOOKUP(Viáticos[[#This Row],[Destino]],Tabla216[#All],7,0))+(Viáticos[[#This Row],[Número de días por viático]]-1)*(VLOOKUP(Viáticos[[#This Row],[Destino]],Tabla216[#All],8,0)+VLOOKUP(Viáticos[[#This Row],[Destino]],Tabla216[#All],9,0)),\"\")))*Viáticos[[#This Row],[Número de personas]]*(1+25%)),\"\")","v":""},null,null,{"$f":"IFERROR(IF(Viáticos[[#This Row],[Viático pactado]]=\"\",((Viáticos[[#This Row],[Valor Viático por viaje]]*(1+Viáticos[[#This Row],[% Administración]]/100))),(Viáticos[[#This Row],[Viático pactado]]*(1+Viáticos[[#This Row],[% Administración]]/100))),\"\")","v":""},null,{"$f":"+IFERROR(Viáticos[[#This Row],[Costo parcial]]*(Viáticos[[#This Row],[% Participación ]]/100),\"\")","v":""}]
[null,null,null,null,null,{"$f":"+IF(Viáticos[[#This Row],[Nivel del cargo]]=\"\",\"\",F22)","v":""},null,null,{"$f":"IFERROR(IF(Viáticos[[#This Row],[Nivel del cargo]]=\"No directivo\",((IF(OR(Viáticos[[#This Row],[Número de días por viático]]=\"\",Viáticos[[#This Row],[Número de personas]]=\"\"),\"\",IFERROR(2*(VLOOKUP(Viáticos[[#This Row],[Destino]],Tabla216[#All],3,0)+VLOOKUP(Viáticos[[#This Row],[Destino]],Tabla216[#All],4,0))+Viáticos[[#This Row],[Número de días por viático]]*(2*VLOOKUP(Viáticos[[#This Row],[Destino]],Tabla216[#All],5,0)+VLOOKUP(Viáticos[[#This Row],[Destino]],Tabla216[#All],6,0)+VLOOKUP(Viáticos[[#This Row],[Destino]],Tabla216[#All],7,0))+(Viáticos[[#This Row],[Número de días por viático]]-1)*(VLOOKUP(Viáticos[[#This Row],[Destino]],Tabla216[#All],8,0)+VLOOKUP(Viáticos[[#This Row],[Destino]],Tabla216[#All],9,0)),\"\"))))*Viáticos[[#This Row],[Número de personas]],(IF(OR(Viáticos[[#This Row],[Número de días por viático]]=\"\",Viáticos[[#This Row],[Número de personas]]=\"\"),\"\",IFERROR(2*(VLOOKUP(Viáticos[[#This Row],[Destino]],Tabla216[#All],3,0)+VLOOKUP(Viáticos[[#This Row],[Destino]],Tabla216[#All],4,0))+Viáticos[[#This Row],[Número de días por viático]]*(2*VLOOKUP(Viáticos[[#This Row],[Destino]],Tabla216[#All],5,0)+VLOOKUP(Viáticos[[#This Row],[Destino]],Tabla216[#All],6,0)+VLOOKUP(Viáticos[[#This Row],[Destino]],Tabla216[#All],7,0))+(Viáticos[[#This Row],[Número de días por viático]]-1)*(VLOOKUP(Viáticos[[#This Row],[Destino]],Tabla216[#All],8,0)+VLOOKUP(Viáticos[[#This Row],[Destino]],Tabla216[#All],9,0)),\"\")))*Viáticos[[#This Row],[Número de personas]]*(1+25%)),\"\")","v":""},null,null,{"$f":"IFERROR(IF(Viáticos[[#This Row],[Viático pactado]]=\"\",((Viáticos[[#This Row],[Valor Viático por viaje]]*(1+Viáticos[[#This Row],[% Administración]]/100))),(Viáticos[[#This Row],[Viático pactado]]*(1+Viáticos[[#This Row],[% Administración]]/100))),\"\")","v":""},null,{"$f":"+IFERROR(Viáticos[[#This Row],[Costo parcial]]*(Viáticos[[#This Row],[% Participación ]]/100),\"\")","v":""}]
[null,null,null,null,null,{"$f":"+IF(Viáticos[[#This Row],[Nivel del cargo]]=\"\",\"\",F23)","v":""},null,null,{"$f":"IFERROR(IF(Viáticos[[#This Row],[Nivel del cargo]]=\"No directivo\",((IF(OR(Viáticos[[#This Row],[Número de días por viático]]=\"\",Viáticos[[#This Row],[Número de personas]]=\"\"),\"\",IFERROR(2*(VLOOKUP(Viáticos[[#This Row],[Destino]],Tabla216[#All],3,0)+VLOOKUP(Viáticos[[#This Row],[Destino]],Tabla216[#All],4,0))+Viáticos[[#This Row],[Número de días por viático]]*(2*VLOOKUP(Viáticos[[#This Row],[Destino]],Tabla216[#All],5,0)+VLOOKUP(Viáticos[[#This Row],[Destino]],Tabla216[#All],6,0)+VLOOKUP(Viáticos[[#This Row],[Destino]],Tabla216[#All],7,0))+(Viáticos[[#This Row],[Número de días por viático]]-1)*(VLOOKUP(Viáticos[[#This Row],[Destino]],Tabla216[#All],8,0)+VLOOKUP(Viáticos[[#This Row],[Destino]],Tabla216[#All],9,0)),\"\"))))*Viáticos[[#This Row],[Número de personas]],(IF(OR(Viáticos[[#This Row],[Número de días por viático]]=\"\",Viáticos[[#This Row],[Número de personas]]=\"\"),\"\",IFERROR(2*(VLOOKUP(Viáticos[[#This Row],[Destino]],Tabla216[#All],3,0)+VLOOKUP(Viáticos[[#This Row],[Destino]],Tabla216[#All],4,0))+Viáticos[[#This Row],[Número de días por viático]]*(2*VLOOKUP(Viáticos[[#This Row],[Destino]],Tabla216[#All],5,0)+VLOOKUP(Viáticos[[#This Row],[Destino]],Tabla216[#All],6,0)+VLOOKUP(Viáticos[[#This Row],[Destino]],Tabla216[#All],7,0))+(Viáticos[[#This Row],[Número de días por viático]]-1)*(VLOOKUP(Viáticos[[#This Row],[Destino]],Tabla216[#All],8,0)+VLOOKUP(Viáticos[[#This Row],[Destino]],Tabla216[#All],9,0)),\"\")))*Viáticos[[#This Row],[Número de personas]]*(1+25%)),\"\")","v":""},null,null,{"$f":"IFERROR(IF(Viáticos[[#This Row],[Viático pactado]]=\"\",((Viáticos[[#This Row],[Valor Viático por viaje]]*(1+Viáticos[[#This Row],[% Administración]]/100))),(Viáticos[[#This Row],[Viático pactado]]*(1+Viáticos[[#This Row],[% Administración]]/100))),\"\")","v":""},null,{"$f":"+IFERROR(Viáticos[[#This Row],[Costo parcial]]*(Viáticos[[#This Row],[% Participación ]]/100),\"\")","v":""}]
[null,null,null,null,null,{"$f":"+IF(Viáticos[[#This Row],[Nivel del cargo]]=\"\",\"\",F24)","v":""},null,null,{"$f":"IFERROR(IF(Viáticos[[#This Row],[Nivel del cargo]]=\"No directivo\",((IF(OR(Viáticos[[#This Row],[Número de días por viático]]=\"\",Viáticos[[#This Row],[Número de personas]]=\"\"),\"\",IFERROR(2*(VLOOKUP(Viáticos[[#This Row],[Destino]],Tabla216[#All],3,0)+VLOOKUP(Viáticos[[#This Row],[Destino]],Tabla216[#All],4,0))+Viáticos[[#This Row],[Número de días por viático]]*(2*VLOOKUP(Viáticos[[#This Row],[Destino]],Tabla216[#All],5,0)+VLOOKUP(Viáticos[[#This Row],[Destino]],Tabla216[#All],6,0)+VLOOKUP(Viáticos[[#This Row],[Destino]],Tabla216[#All],7,0))+(Viáticos[[#This Row],[Número de días por viático]]-1)*(VLOOKUP(Viáticos[[#This Row],[Destino]],Tabla216[#All],8,0)+VLOOKUP(Viáticos[[#This Row],[Destino]],Tabla216[#All],9,0)),\"\"))))*Viáticos[[#This Row],[Número de personas]],(IF(OR(Viáticos[[#This Row],[Número de días por viático]]=\"\",Viáticos[[#This Row],[Número de personas]]=\"\"),\"\",IFERROR(2*(VLOOKUP(Viáticos[[#This Row],[Destino]],Tabla216[#All],3,0)+VLOOKUP(Viáticos[[#This Row],[Destino]],Tabla216[#All],4,0))+Viáticos[[#This Row],[Número de días por viático]]*(2*VLOOKUP(Viáticos[[#This Row],[Destino]],Tabla216[#All],5,0)+VLOOKUP(Viáticos[[#This Row],[Destino]],Tabla216[#All],6,0)+VLOOKUP(Viáticos[[#This Row],[Destino]],Tabla216[#All],7,0))+(Viáticos[[#This Row],[Número de días por viático]]-1)*(VLOOKUP(Viáticos[[#This Row],[Destino]],Tabla216[#All],8,0)+VLOOKUP(Viáticos[[#This Row],[Destino]],Tabla216[#All],9,0)),\"\")))*Viáticos[[#This Row],[Número de personas]]*(1+25%)),\"\")","v":""},null,null,{"$f":"IFERROR(IF(Viáticos[[#This Row],[Viático pactado]]=\"\",((Viáticos[[#This Row],[Valor Viático por viaje]]*(1+Viáticos[[#This Row],[% Administración]]/100))),(Viáticos[[#This Row],[Viático pactado]]*(1+Viáticos[[#This Row],[% Administración]]/100))),\"\")","v":""},null,{"$f":"+IFERROR(Viáticos[[#This Row],[Costo parcial]]*(Viáticos[[#This Row],[% Participación ]]/100),\"\")","v":""}]
[null,null,null,null,null,{"$f":"+IF(Viáticos[[#This Row],[Nivel del cargo]]=\"\",\"\",F25)","v":""},null,null,{"$f":"IFERROR(IF(Viáticos[[#This Row],[Nivel del cargo]]=\"No directivo\",((IF(OR(Viáticos[[#This Row],[Número de días por viático]]=\"\",Viáticos[[#This Row],[Número de personas]]=\"\"),\"\",IFERROR(2*(VLOOKUP(Viáticos[[#This Row],[Destino]],Tabla216[#All],3,0)+VLOOKUP(Viáticos[[#This Row],[Destino]],Tabla216[#All],4,0))+Viáticos[[#This Row],[Número de días por viático]]*(2*VLOOKUP(Viáticos[[#This Row],[Destino]],Tabla216[#All],5,0)+VLOOKUP(Viáticos[[#This Row],[Destino]],Tabla216[#All],6,0)+VLOOKUP(Viáticos[[#This Row],[Destino]],Tabla216[#All],7,0))+(Viáticos[[#This Row],[Número de días por viático]]-1)*(VLOOKUP(Viáticos[[#This Row],[Destino]],Tabla216[#All],8,0)+VLOOKUP(Viáticos[[#This Row],[Destino]],Tabla216[#All],9,0)),\"\"))))*Viáticos[[#This Row],[Número de personas]],(IF(OR(Viáticos[[#This Row],[Número de días por viático]]=\"\",Viáticos[[#This Row],[Número de personas]]=\"\"),\"\",IFERROR(2*(VLOOKUP(Viáticos[[#This Row],[Destino]],Tabla216[#All],3,0)+VLOOKUP(Viáticos[[#This Row],[Destino]],Tabla216[#All],4,0))+Viáticos[[#This Row],[Número de días por viático]]*(2*VLOOKUP(Viáticos[[#This Row],[Destino]],Tabla216[#All],5,0)+VLOOKUP(Viáticos[[#This Row],[Destino]],Tabla216[#All],6,0)+VLOOKUP(Viáticos[[#This Row],[Destino]],Tabla216[#All],7,0))+(Viáticos[[#This Row],[Número de días por viático]]-1)*(VLOOKUP(Viáticos[[#This Row],[Destino]],Tabla216[#All],8,0)+VLOOKUP(Viáticos[[#This Row],[Destino]],Tabla216[#All],9,0)),\"\")))*Viáticos[[#This Row],[Número de personas]]*(1+25%)),\"\")","v":""},null,null,{"$f":"IFERROR(IF(Viáticos[[#This Row],[Viático pactado]]=\"\",((Viáticos[[#This Row],[Valor Viático por viaje]]*(1+Viáticos[[#This Row],[% Administración]]/100))),(Viáticos[[#This Row],[Viático pactado]]*(1+Viáticos[[#This Row],[% Administración]]/100))),\"\")","v":""},null,{"$f":"+IFERROR(Viáticos[[#This Row],[Costo parcial]]*(Viáticos[[#This Row],[% Participación ]]/100),\"\")","v":""}]
[null,null,null,null,null,{"$f":"+IF(Viáticos[[#This Row],[Nivel del cargo]]=\"\",\"\",F26)","v":""},null,null,{"$f":"IFERROR(IF(Viáticos[[#This Row],[Nivel del cargo]]=\"No directivo\",((IF(OR(Viáticos[[#This Row],[Número de días por viático]]=\"\",Viáticos[[#This Row],[Número de personas]]=\"\"),\"\",IFERROR(2*(VLOOKUP(Viáticos[[#This Row],[Destino]],Tabla216[#All],3,0)+VLOOKUP(Viáticos[[#This Row],[Destino]],Tabla216[#All],4,0))+Viáticos[[#This Row],[Número de días por viático]]*(2*VLOOKUP(Viáticos[[#This Row],[Destino]],Tabla216[#All],5,0)+VLOOKUP(Viáticos[[#This Row],[Destino]],Tabla216[#All],6,0)+VLOOKUP(Viáticos[[#This Row],[Destino]],Tabla216[#All],7,0))+(Viáticos[[#This Row],[Número de días por viático]]-1)*(VLOOKUP(Viáticos[[#This Row],[Destino]],Tabla216[#All],8,0)+VLOOKUP(Viáticos[[#This Row],[Destino]],Tabla216[#All],9,0)),\"\"))))*Viáticos[[#This Row],[Número de personas]],(IF(OR(Viáticos[[#This Row],[Número de días por viático]]=\"\",Viáticos[[#This Row],[Número de personas]]=\"\"),\"\",IFERROR(2*(VLOOKUP(Viáticos[[#This Row],[Destino]],Tabla216[#All],3,0)+VLOOKUP(Viáticos[[#This Row],[Destino]],Tabla216[#All],4,0))+Viáticos[[#This Row],[Número de días por viático]]*(2*VLOOKUP(Viáticos[[#This Row],[Destino]],Tabla216[#All],5,0)+VLOOKUP(Viáticos[[#This Row],[Destino]],Tabla216[#All],6,0)+VLOOKUP(Viáticos[[#This Row],[Destino]],Tabla216[#All],7,0))+(Viáticos[[#This Row],[Número de días por viático]]-1)*(VLOOKUP(Viáticos[[#This Row],[Destino]],Tabla216[#All],8,0)+VLOOKUP(Viáticos[[#This Row],[Destino]],Tabla216[#All],9,0)),\"\")))*Viáticos[[#This Row],[Número de personas]]*(1+25%)),\"\")","v":""},null,null,{"$f":"IFERROR(IF(Viáticos[[#This Row],[Viático pactado]]=\"\",((Viáticos[[#This Row],[Valor Viático por viaje]]*(1+Viáticos[[#This Row],[% Administración]]/100))),(Viáticos[[#This Row],[Viático pactado]]*(1+Viáticos[[#This Row],[% Administración]]/100))),\"\")","v":""},null,{"$f":"+IFERROR(Viáticos[[#This Row],[Costo parcial]]*(Viáticos[[#This Row],[% Participación ]]/100),\"\")","v":""}]
[null,null,null,null,null,{"$f":"+IF(Viáticos[[#This Row],[Nivel del cargo]]=\"\",\"\",F27)","v":""},null,null,{"$f":"IFERROR(IF(Viáticos[[#This Row],[Nivel del cargo]]=\"No directivo\",((IF(OR(Viáticos[[#This Row],[Número de días por viático]]=\"\",Viáticos[[#This Row],[Número de personas]]=\"\"),\"\",IFERROR(2*(VLOOKUP(Viáticos[[#This Row],[Destino]],Tabla216[#All],3,0)+VLOOKUP(Viáticos[[#This Row],[Destino]],Tabla216[#All],4,0))+Viáticos[[#This Row],[Número de días por viático]]*(2*VLOOKUP(Viáticos[[#This Row],[Destino]],Tabla216[#All],5,0)+VLOOKUP(Viáticos[[#This Row],[Destino]],Tabla216[#All],6,0)+VLOOKUP(Viáticos[[#This Row],[Destino]],Tabla216[#All],7,0))+(Viáticos[[#This Row],[Número de días por viático]]-1)*(VLOOKUP(Viáticos[[#This Row],[Destino]],Tabla216[#All],8,0)+VLOOKUP(Viáticos[[#This Row],[Destino]],Tabla216[#All],9,0)),\"\"))))*Viáticos[[#This Row],[Número de personas]],(IF(OR(Viáticos[[#This Row],[Número de días por viático]]=\"\",Viáticos[[#This Row],[Número de personas]]=\"\"),\"\",IFERROR(2*(VLOOKUP(Viáticos[[#This Row],[Destino]],Tabla216[#All],3,0)+VLOOKUP(Viáticos[[#This Row],[Destino]],Tabla216[#All],4,0))+Viáticos[[#This Row],[Número de días por viático]]*(2*VLOOKUP(Viáticos[[#This Row],[Destino]],Tabla216[#All],5,0)+VLOOKUP(Viáticos[[#This Row],[Destino]],Tabla216[#All],6,0)+VLOOKUP(Viáticos[[#This Row],[Destino]],Tabla216[#All],7,0))+(Viáticos[[#This Row],[Número de días por viático]]-1)*(VLOOKUP(Viáticos[[#This Row],[Destino]],Tabla216[#All],8,0)+VLOOKUP(Viáticos[[#This Row],[Destino]],Tabla216[#All],9,0)),\"\")))*Viáticos[[#This Row],[Número de personas]]*(1+25%)),\"\")","v":""},null,null,{"$f":"IFERROR(IF(Viáticos[[#This Row],[Viático pactado]]=\"\",((Viáticos[[#This Row],[Valor Viático por viaje]]*(1+Viáticos[[#This Row],[% Administración]]/100))),(Viáticos[[#This Row],[Viático pactado]]*(1+Viáticos[[#This Row],[% Administración]]/100))),\"\")","v":""},null,{"$f":"+IFERROR(Viáticos[[#This Row],[Costo parcial]]*(Viáticos[[#This Row],[% Participación ]]/100),\"\")","v":""}]
[null,null,null,null,null,{"$f":"+IF(Viáticos[[#This Row],[Nivel del cargo]]=\"\",\"\",F28)","v":""},null,null,{"$f":"IFERROR(IF(Viáticos[[#This Row],[Nivel del cargo]]=\"No directivo\",((IF(OR(Viáticos[[#This Row],[Número de días por viático]]=\"\",Viáticos[[#This Row],[Número de personas]]=\"\"),\"\",IFERROR(2*(VLOOKUP(Viáticos[[#This Row],[Destino]],Tabla216[#All],3,0)+VLOOKUP(Viáticos[[#This Row],[Destino]],Tabla216[#All],4,0))+Viáticos[[#This Row],[Número de días por viático]]*(2*VLOOKUP(Viáticos[[#This Row],[Destino]],Tabla216[#All],5,0)+VLOOKUP(Viáticos[[#This Row],[Destino]],Tabla216[#All],6,0)+VLOOKUP(Viáticos[[#This Row],[Destino]],Tabla216[#All],7,0))+(Viáticos[[#This Row],[Número de días por viático]]-1)*(VLOOKUP(Viáticos[[#This Row],[Destino]],Tabla216[#All],8,0)+VLOOKUP(Viáticos[[#This Row],[Destino]],Tabla216[#All],9,0)),\"\"))))*Viáticos[[#This Row],[Número de personas]],(IF(OR(Viáticos[[#This Row],[Número de días por viático]]=\"\",Viáticos[[#This Row],[Número de personas]]=\"\"),\"\",IFERROR(2*(VLOOKUP(Viáticos[[#This Row],[Destino]],Tabla216[#All],3,0)+VLOOKUP(Viáticos[[#This Row],[Destino]],Tabla216[#All],4,0))+Viáticos[[#This Row],[Número de días por viático]]*(2*VLOOKUP(Viáticos[[#This Row],[Destino]],Tabla216[#All],5,0)+VLOOKUP(Viáticos[[#This Row],[Destino]],Tabla216[#All],6,0)+VLOOKUP(Viáticos[[#This Row],[Destino]],Tabla216[#All],7,0))+(Viáticos[[#This Row],[Número de días por viático]]-1)*(VLOOKUP(Viáticos[[#This Row],[Destino]],Tabla216[#All],8,0)+VLOOKUP(Viáticos[[#This Row],[Destino]],Tabla216[#All],9,0)),\"\")))*Viáticos[[#This Row],[Número de personas]]*(1+25%)),\"\")","v":""},null,null,{"$f":"IFERROR(IF(Viáticos[[#This Row],[Viático pactado]]=\"\",((Viáticos[[#This Row],[Valor Viático por viaje]]*(1+Viáticos[[#This Row],[% Administración]]/100))),(Viáticos[[#This Row],[Viático pactado]]*(1+Viáticos[[#This Row],[% Administración]]/100))),\"\")","v":""},null,{"$f":"+IFERROR(Viáticos[[#This Row],[Costo parcial]]*(Viáticos[[#This Row],[% Participación ]]/100),\"\")","v":""}]
[null,null,null,null,null,{"$f":"+IF(Viáticos[[#This Row],[Nivel del cargo]]=\"\",\"\",F29)","v":""},null,null,{"$f":"IFERROR(IF(Viáticos[[#This Row],[Nivel del cargo]]=\"No directivo\",((IF(OR(Viáticos[[#This Row],[Número de días por viático]]=\"\",Viáticos[[#This Row],[Número de personas]]=\"\"),\"\",IFERROR(2*(VLOOKUP(Viáticos[[#This Row],[Destino]],Tabla216[#All],3,0)+VLOOKUP(Viáticos[[#This Row],[Destino]],Tabla216[#All],4,0))+Viáticos[[#This Row],[Número de días por viático]]*(2*VLOOKUP(Viáticos[[#This Row],[Destino]],Tabla216[#All],5,0)+VLOOKUP(Viáticos[[#This Row],[Destino]],Tabla216[#All],6,0)+VLOOKUP(Viáticos[[#This Row],[Destino]],Tabla216[#All],7,0))+(Viáticos[[#This Row],[Número de días por viático]]-1)*(VLOOKUP(Viáticos[[#This Row],[Destino]],Tabla216[#All],8,0)+VLOOKUP(Viáticos[[#This Row],[Destino]],Tabla216[#All],9,0)),\"\"))))*Viáticos[[#This Row],[Número de personas]],(IF(OR(Viáticos[[#This Row],[Número de días por viático]]=\"\",Viáticos[[#This Row],[Número de personas]]=\"\"),\"\",IFERROR(2*(VLOOKUP(Viáticos[[#This Row],[Destino]],Tabla216[#All],3,0)+VLOOKUP(Viáticos[[#This Row],[Destino]],Tabla216[#All],4,0))+Viáticos[[#This Row],[Número de días por viático]]*(2*VLOOKUP(Viáticos[[#This Row],[Destino]],Tabla216[#All],5,0)+VLOOKUP(Viáticos[[#This Row],[Destino]],Tabla216[#All],6,0)+VLOOKUP(Viáticos[[#This Row],[Destino]],Tabla216[#All],7,0))+(Viáticos[[#This Row],[Número de días por viático]]-1)*(VLOOKUP(Viáticos[[#This Row],[Destino]],Tabla216[#All],8,0)+VLOOKUP(Viáticos[[#This Row],[Destino]],Tabla216[#All],9,0)),\"\")))*Viáticos[[#This Row],[Número de personas]]*(1+25%)),\"\")","v":""},null,null,{"$f":"IFERROR(IF(Viáticos[[#This Row],[Viático pactado]]=\"\",((Viáticos[[#This Row],[Valor Viático por viaje]]*(1+Viáticos[[#This Row],[% Administración]]/100))),(Viáticos[[#This Row],[Viático pactado]]*(1+Viáticos[[#This Row],[% Administración]]/100))),\"\")","v":""},null,{"$f":"+IFERROR(Viáticos[[#This Row],[Costo parcial]]*(Viáticos[[#This Row],[% Participación ]]/100),\"\")","v":""}]
[null,null,null,null,null,{"$f":"+IF(Viáticos[[#This Row],[Nivel del cargo]]=\"\",\"\",F30)","v":""},null,null,{"$f":"IFERROR(IF(Viáticos[[#This Row],[Nivel del cargo]]=\"No directivo\",((IF(OR(Viáticos[[#This Row],[Número de días por viático]]=\"\",Viáticos[[#This Row],[Número de personas]]=\"\"),\"\",IFERROR(2*(VLOOKUP(Viáticos[[#This Row],[Destino]],Tabla216[#All],3,0)+VLOOKUP(Viáticos[[#This Row],[Destino]],Tabla216[#All],4,0))+Viáticos[[#This Row],[Número de días por viático]]*(2*VLOOKUP(Viáticos[[#This Row],[Destino]],Tabla216[#All],5,0)+VLOOKUP(Viáticos[[#This Row],[Destino]],Tabla216[#All],6,0)+VLOOKUP(Viáticos[[#This Row],[Destino]],Tabla216[#All],7,0))+(Viáticos[[#This Row],[Número de días por viático]]-1)*(VLOOKUP(Viáticos[[#This Row],[Destino]],Tabla216[#All],8,0)+VLOOKUP(Viáticos[[#This Row],[Destino]],Tabla216[#All],9,0)),\"\"))))*Viáticos[[#This Row],[Número de personas]],(IF(OR(Viáticos[[#This Row],[Número de días por viático]]=\"\",Viáticos[[#This Row],[Número de personas]]=\"\"),\"\",IFERROR(2*(VLOOKUP(Viáticos[[#This Row],[Destino]],Tabla216[#All],3,0)+VLOOKUP(Viáticos[[#This Row],[Destino]],Tabla216[#All],4,0))+Viáticos[[#This Row],[Número de días por viático]]*(2*VLOOKUP(Viáticos[[#This Row],[Destino]],Tabla216[#All],5,0)+VLOOKUP(Viáticos[[#This Row],[Destino]],Tabla216[#All],6,0)+VLOOKUP(Viáticos[[#This Row],[Destino]],Tabla216[#All],7,0))+(Viáticos[[#This Row],[Número de días por viático]]-1)*(VLOOKUP(Viáticos[[#This Row],[Destino]],Tabla216[#All],8,0)+VLOOKUP(Viáticos[[#This Row],[Destino]],Tabla216[#All],9,0)),\"\")))*Viáticos[[#This Row],[Número de personas]]*(1+25%)),\"\")","v":""},null,null,{"$f":"IFERROR(IF(Viáticos[[#This Row],[Viático pactado]]=\"\",((Viáticos[[#This Row],[Valor Viático por viaje]]*(1+Viáticos[[#This Row],[% Administración]]/100))),(Viáticos[[#This Row],[Viático pactado]]*(1+Viáticos[[#This Row],[% Administración]]/100))),\"\")","v":""},null,{"$f":"+IFERROR(Viáticos[[#This Row],[Costo parcial]]*(Viáticos[[#This Row],[% Participación ]]/100),\"\")","v":""}]
[null,null,null,null,null,{"$f":"+IF(Viáticos[[#This Row],[Nivel del cargo]]=\"\",\"\",F31)","v":""},null,null,{"$f":"IFERROR(IF(Viáticos[[#This Row],[Nivel del cargo]]=\"No directivo\",((IF(OR(Viáticos[[#This Row],[Número de días por viático]]=\"\",Viáticos[[#This Row],[Número de personas]]=\"\"),\"\",IFERROR(2*(VLOOKUP(Viáticos[[#This Row],[Destino]],Tabla216[#All],3,0)+VLOOKUP(Viáticos[[#This Row],[Destino]],Tabla216[#All],4,0))+Viáticos[[#This Row],[Número de días por viático]]*(2*VLOOKUP(Viáticos[[#This Row],[Destino]],Tabla216[#All],5,0)+VLOOKUP(Viáticos[[#This Row],[Destino]],Tabla216[#All],6,0)+VLOOKUP(Viáticos[[#This Row],[Destino]],Tabla216[#All],7,0))+(Viáticos[[#This Row],[Número de días por viático]]-1)*(VLOOKUP(Viáticos[[#This Row],[Destino]],Tabla216[#All],8,0)+VLOOKUP(Viáticos[[#This Row],[Destino]],Tabla216[#All],9,0)),\"\"))))*Viáticos[[#This Row],[Número de personas]],(IF(OR(Viáticos[[#This Row],[Número de días por viático]]=\"\",Viáticos[[#This Row],[Número de personas]]=\"\"),\"\",IFERROR(2*(VLOOKUP(Viáticos[[#This Row],[Destino]],Tabla216[#All],3,0)+VLOOKUP(Viáticos[[#This Row],[Destino]],Tabla216[#All],4,0))+Viáticos[[#This Row],[Número de días por viático]]*(2*VLOOKUP(Viáticos[[#This Row],[Destino]],Tabla216[#All],5,0)+VLOOKUP(Viáticos[[#This Row],[Destino]],Tabla216[#All],6,0)+VLOOKUP(Viáticos[[#This Row],[Destino]],Tabla216[#All],7,0))+(Viáticos[[#This Row],[Número de días por viático]]-1)*(VLOOKUP(Viáticos[[#This Row],[Destino]],Tabla216[#All],8,0)+VLOOKUP(Viáticos[[#This Row],[Destino]],Tabla216[#All],9,0)),\"\")))*Viáticos[[#This Row],[Número de personas]]*(1+25%)),\"\")","v":""},null,null,{"$f":"IFERROR(IF(Viáticos[[#This Row],[Viático pactado]]=\"\",((Viáticos[[#This Row],[Valor Viático por viaje]]*(1+Viáticos[[#This Row],[% Administración]]/100))),(Viáticos[[#This Row],[Viático pactado]]*(1+Viáticos[[#This Row],[% Administración]]/100))),\"\")","v":""},null,{"$f":"+IFERROR(Viáticos[[#This Row],[Costo parcial]]*(Viáticos[[#This Row],[% Participación ]]/100),\"\")","v":""}]
[null,null,null,null,null,{"$f":"+IF(Viáticos[[#This Row],[Nivel del cargo]]=\"\",\"\",F32)","v":""},null,null,{"$f":"IFERROR(IF(Viáticos[[#This Row],[Nivel del cargo]]=\"No directivo\",((IF(OR(Viáticos[[#This Row],[Número de días por viático]]=\"\",Viáticos[[#This Row],[Número de personas]]=\"\"),\"\",IFERROR(2*(VLOOKUP(Viáticos[[#This Row],[Destino]],Tabla216[#All],3,0)+VLOOKUP(Viáticos[[#This Row],[Destino]],Tabla216[#All],4,0))+Viáticos[[#This Row],[Número de días por viático]]*(2*VLOOKUP(Viáticos[[#This Row],[Destino]],Tabla216[#All],5,0)+VLOOKUP(Viáticos[[#This Row],[Destino]],Tabla216[#All],6,0)+VLOOKUP(Viáticos[[#This Row],[Destino]],Tabla216[#All],7,0))+(Viáticos[[#This Row],[Número de días por viático]]-1)*(VLOOKUP(Viáticos[[#This Row],[Destino]],Tabla216[#All],8,0)+VLOOKUP(Viáticos[[#This Row],[Destino]],Tabla216[#All],9,0)),\"\"))))*Viáticos[[#This Row],[Número de personas]],(IF(OR(Viáticos[[#This Row],[Número de días por viático]]=\"\",Viáticos[[#This Row],[Número de personas]]=\"\"),\"\",IFERROR(2*(VLOOKUP(Viáticos[[#This Row],[Destino]],Tabla216[#All],3,0)+VLOOKUP(Viáticos[[#This Row],[Destino]],Tabla216[#All],4,0))+Viáticos[[#This Row],[Número de días por viático]]*(2*VLOOKUP(Viáticos[[#This Row],[Destino]],Tabla216[#All],5,0)+VLOOKUP(Viáticos[[#This Row],[Destino]],Tabla216[#All],6,0)+VLOOKUP(Viáticos[[#This Row],[Destino]],Tabla216[#All],7,0))+(Viáticos[[#This Row],[Número de días por viático]]-1)*(VLOOKUP(Viáticos[[#This Row],[Destino]],Tabla216[#All],8,0)+VLOOKUP(Viáticos[[#This Row],[Destino]],Tabla216[#All],9,0)),\"\")))*Viáticos[[#This Row],[Número de personas]]*(1+25%)),\"\")","v":""},null,null,{"$f":"IFERROR(IF(Viáticos[[#This Row],[Viático pactado]]=\"\",((Viáticos[[#This Row],[Valor Viático por viaje]]*(1+Viáticos[[#This Row],[% Administración]]/100))),(Viáticos[[#This Row],[Viático pactado]]*(1+Viáticos[[#This Row],[% Administración]]/100))),\"\")","v":""},null,{"$f":"+IFERROR(Viáticos[[#This Row],[Costo parcial]]*(Viáticos[[#This Row],[% Participación ]]/100),\"\")","v":""}]
[null,null,null,null,null,{"$f":"+IF(Viáticos[[#This Row],[Nivel del cargo]]=\"\",\"\",F33)","v":""},null,null,{"$f":"IFERROR(IF(Viáticos[[#This Row],[Nivel del cargo]]=\"No directivo\",((IF(OR(Viáticos[[#This Row],[Número de días por viático]]=\"\",Viáticos[[#This Row],[Número de personas]]=\"\"),\"\",IFERROR(2*(VLOOKUP(Viáticos[[#This Row],[Destino]],Tabla216[#All],3,0)+VLOOKUP(Viáticos[[#This Row],[Destino]],Tabla216[#All],4,0))+Viáticos[[#This Row],[Número de días por viático]]*(2*VLOOKUP(Viáticos[[#This Row],[Destino]],Tabla216[#All],5,0)+VLOOKUP(Viáticos[[#This Row],[Destino]],Tabla216[#All],6,0)+VLOOKUP(Viáticos[[#This Row],[Destino]],Tabla216[#All],7,0))+(Viáticos[[#This Row],[Número de días por viático]]-1)*(VLOOKUP(Viáticos[[#This Row],[Destino]],Tabla216[#All],8,0)+VLOOKUP(Viáticos[[#This Row],[Destino]],Tabla216[#All],9,0)),\"\"))))*Viáticos[[#This Row],[Número de personas]],(IF(OR(Viáticos[[#This Row],[Número de días por viático]]=\"\",Viáticos[[#This Row],[Número de personas]]=\"\"),\"\",IFERROR(2*(VLOOKUP(Viáticos[[#This Row],[Destino]],Tabla216[#All],3,0)+VLOOKUP(Viáticos[[#This Row],[Destino]],Tabla216[#All],4,0))+Viáticos[[#This Row],[Número de días por viático]]*(2*VLOOKUP(Viáticos[[#This Row],[Destino]],Tabla216[#All],5,0)+VLOOKUP(Viáticos[[#This Row],[Destino]],Tabla216[#All],6,0)+VLOOKUP(Viáticos[[#This Row],[Destino]],Tabla216[#All],7,0))+(Viáticos[[#This Row],[Número de días por viático]]-1)*(VLOOKUP(Viáticos[[#This Row],[Destino]],Tabla216[#All],8,0)+VLOOKUP(Viáticos[[#This Row],[Destino]],Tabla216[#All],9,0)),\"\")))*Viáticos[[#This Row],[Número de personas]]*(1+25%)),\"\")","v":""},null,null,{"$f":"IFERROR(IF(Viáticos[[#This Row],[Viático pactado]]=\"\",((Viáticos[[#This Row],[Valor Viático por viaje]]*(1+Viáticos[[#This Row],[% Administración]]/100))),(Viáticos[[#This Row],[Viático pactado]]*(1+Viáticos[[#This Row],[% Administración]]/100))),\"\")","v":""},null,{"$f":"+IFERROR(Viáticos[[#This Row],[Costo parcial]]*(Viáticos[[#This Row],[% Participación ]]/100),\"\")","v":""}]
[null,null,null,null,null,{"$f":"+IF(Viáticos[[#This Row],[Nivel del cargo]]=\"\",\"\",F34)","v":""},null,null,{"$f":"IFERROR(IF(Viáticos[[#This Row],[Nivel del cargo]]=\"No directivo\",((IF(OR(Viáticos[[#This Row],[Número de días por viático]]=\"\",Viáticos[[#This Row],[Número de personas]]=\"\"),\"\",IFERROR(2*(VLOOKUP(Viáticos[[#This Row],[Destino]],Tabla216[#All],3,0)+VLOOKUP(Viáticos[[#This Row],[Destino]],Tabla216[#All],4,0))+Viáticos[[#This Row],[Número de días por viático]]*(2*VLOOKUP(Viáticos[[#This Row],[Destino]],Tabla216[#All],5,0)+VLOOKUP(Viáticos[[#This Row],[Destino]],Tabla216[#All],6,0)+VLOOKUP(Viáticos[[#This Row],[Destino]],Tabla216[#All],7,0))+(Viáticos[[#This Row],[Número de días por viático]]-1)*(VLOOKUP(Viáticos[[#This Row],[Destino]],Tabla216[#All],8,0)+VLOOKUP(Viáticos[[#This Row],[Destino]],Tabla216[#All],9,0)),\"\"))))*Viáticos[[#This Row],[Número de personas]],(IF(OR(Viáticos[[#This Row],[Número de días por viático]]=\"\",Viáticos[[#This Row],[Número de personas]]=\"\"),\"\",IFERROR(2*(VLOOKUP(Viáticos[[#This Row],[Destino]],Tabla216[#All],3,0)+VLOOKUP(Viáticos[[#This Row],[Destino]],Tabla216[#All],4,0))+Viáticos[[#This Row],[Número de días por viático]]*(2*VLOOKUP(Viáticos[[#This Row],[Destino]],Tabla216[#All],5,0)+VLOOKUP(Viáticos[[#This Row],[Destino]],Tabla216[#All],6,0)+VLOOKUP(Viáticos[[#This Row],[Destino]],Tabla216[#All],7,0))+(Viáticos[[#This Row],[Número de días por viático]]-1)*(VLOOKUP(Viáticos[[#This Row],[Destino]],Tabla216[#All],8,0)+VLOOKUP(Viáticos[[#This Row],[Destino]],Tabla216[#All],9,0)),\"\")))*Viáticos[[#This Row],[Número de personas]]*(1+25%)),\"\")","v":""},null,null,{"$f":"IFERROR(IF(Viáticos[[#This Row],[Viático pactado]]=\"\",((Viáticos[[#This Row],[Valor Viático por viaje]]*(1+Viáticos[[#This Row],[% Administración]]/100))),(Viáticos[[#This Row],[Viático pactado]]*(1+Viáticos[[#This Row],[% Administración]]/100))),\"\")","v":""},null,{"$f":"+IFERROR(Viáticos[[#This Row],[Costo parcial]]*(Viáticos[[#This Row],[% Participación ]]/100),\"\")","v":""}]
[null,null,null,null,null,{"$f":"+IF(Viáticos[[#This Row],[Nivel del cargo]]=\"\",\"\",F35)","v":""},null,null,{"$f":"IFERROR(IF(Viáticos[[#This Row],[Nivel del cargo]]=\"No directivo\",((IF(OR(Viáticos[[#This Row],[Número de días por viático]]=\"\",Viáticos[[#This Row],[Número de personas]]=\"\"),\"\",IFERROR(2*(VLOOKUP(Viáticos[[#This Row],[Destino]],Tabla216[#All],3,0)+VLOOKUP(Viáticos[[#This Row],[Destino]],Tabla216[#All],4,0))+Viáticos[[#This Row],[Número de días por viático]]*(2*VLOOKUP(Viáticos[[#This Row],[Destino]],Tabla216[#All],5,0)+VLOOKUP(Viáticos[[#This Row],[Destino]],Tabla216[#All],6,0)+VLOOKUP(Viáticos[[#This Row],[Destino]],Tabla216[#All],7,0))+(Viáticos[[#This Row],[Número de días por viático]]-1)*(VLOOKUP(Viáticos[[#This Row],[Destino]],Tabla216[#All],8,0)+VLOOKUP(Viáticos[[#This Row],[Destino]],Tabla216[#All],9,0)),\"\"))))*Viáticos[[#This Row],[Número de personas]],(IF(OR(Viáticos[[#This Row],[Número de días por viático]]=\"\",Viáticos[[#This Row],[Número de personas]]=\"\"),\"\",IFERROR(2*(VLOOKUP(Viáticos[[#This Row],[Destino]],Tabla216[#All],3,0)+VLOOKUP(Viáticos[[#This Row],[Destino]],Tabla216[#All],4,0))+Viáticos[[#This Row],[Número de días por viático]]*(2*VLOOKUP(Viáticos[[#This Row],[Destino]],Tabla216[#All],5,0)+VLOOKUP(Viáticos[[#This Row],[Destino]],Tabla216[#All],6,0)+VLOOKUP(Viáticos[[#This Row],[Destino]],Tabla216[#All],7,0))+(Viáticos[[#This Row],[Número de días por viático]]-1)*(VLOOKUP(Viáticos[[#This Row],[Destino]],Tabla216[#All],8,0)+VLOOKUP(Viáticos[[#This Row],[Destino]],Tabla216[#All],9,0)),\"\")))*Viáticos[[#This Row],[Número de personas]]*(1+25%)),\"\")","v":""},null,null,{"$f":"IFERROR(IF(Viáticos[[#This Row],[Viático pactado]]=\"\",((Viáticos[[#This Row],[Valor Viático por viaje]]*(1+Viáticos[[#This Row],[% Administración]]/100))),(Viáticos[[#This Row],[Viático pactado]]*(1+Viáticos[[#This Row],[% Administración]]/100))),\"\")","v":""},null,{"$f":"+IFERROR(Viáticos[[#This Row],[Costo parcial]]*(Viáticos[[#This Row],[% Participación ]]/100),\"\")","v":""}]
[null,null,null,null,null,{"$f":"+IF(Viáticos[[#This Row],[Nivel del cargo]]=\"\",\"\",F36)","v":""},null,null,{"$f":"IFERROR(IF(Viáticos[[#This Row],[Nivel del cargo]]=\"No directivo\",((IF(OR(Viáticos[[#This Row],[Número de días por viático]]=\"\",Viáticos[[#This Row],[Número de personas]]=\"\"),\"\",IFERROR(2*(VLOOKUP(Viáticos[[#This Row],[Destino]],Tabla216[#All],3,0)+VLOOKUP(Viáticos[[#This Row],[Destino]],Tabla216[#All],4,0))+Viáticos[[#This Row],[Número de días por viático]]*(2*VLOOKUP(Viáticos[[#This Row],[Destino]],Tabla216[#All],5,0)+VLOOKUP(Viáticos[[#This Row],[Destino]],Tabla216[#All],6,0)+VLOOKUP(Viáticos[[#This Row],[Destino]],Tabla216[#All],7,0))+(Viáticos[[#This Row],[Número de días por viático]]-1)*(VLOOKUP(Viáticos[[#This Row],[Destino]],Tabla216[#All],8,0)+VLOOKUP(Viáticos[[#This Row],[Destino]],Tabla216[#All],9,0)),\"\"))))*Viáticos[[#This Row],[Número de personas]],(IF(OR(Viáticos[[#This Row],[Número de días por viático]]=\"\",Viáticos[[#This Row],[Número de personas]]=\"\"),\"\",IFERROR(2*(VLOOKUP(Viáticos[[#This Row],[Destino]],Tabla216[#All],3,0)+VLOOKUP(Viáticos[[#This Row],[Destino]],Tabla216[#All],4,0))+Viáticos[[#This Row],[Número de días por viático]]*(2*VLOOKUP(Viáticos[[#This Row],[Destino]],Tabla216[#All],5,0)+VLOOKUP(Viáticos[[#This Row],[Destino]],Tabla216[#All],6,0)+VLOOKUP(Viáticos[[#This Row],[Destino]],Tabla216[#All],7,0))+(Viáticos[[#This Row],[Número de días por viático]]-1)*(VLOOKUP(Viáticos[[#This Row],[Destino]],Tabla216[#All],8,0)+VLOOKUP(Viáticos[[#This Row],[Destino]],Tabla216[#All],9,0)),\"\")))*Viáticos[[#This Row],[Número de personas]]*(1+25%)),\"\")","v":""},null,null,{"$f":"IFERROR(IF(Viáticos[[#This Row],[Viático pactado]]=\"\",((Viáticos[[#This Row],[Valor Viático por viaje]]*(1+Viáticos[[#This Row],[% Administración]]/100))),(Viáticos[[#This Row],[Viático pactado]]*(1+Viáticos[[#This Row],[% Administración]]/100))),\"\")","v":""},null,{"$f":"+IFERROR(Viáticos[[#This Row],[Costo parcial]]*(Viáticos[[#This Row],[% Participación ]]/100),\"\")","v":""}]
[null,null,null,null,null,{"$f":"+IF(Viáticos[[#This Row],[Nivel del cargo]]=\"\",\"\",F37)","v":""},null,null,{"$f":"IFERROR(IF(Viáticos[[#This Row],[Nivel del cargo]]=\"No directivo\",((IF(OR(Viáticos[[#This Row],[Número de días por viático]]=\"\",Viáticos[[#This Row],[Número de personas]]=\"\"),\"\",IFERROR(2*(VLOOKUP(Viáticos[[#This Row],[Destino]],Tabla216[#All],3,0)+VLOOKUP(Viáticos[[#This Row],[Destino]],Tabla216[#All],4,0))+Viáticos[[#This Row],[Número de días por viático]]*(2*VLOOKUP(Viáticos[[#This Row],[Destino]],Tabla216[#All],5,0)+VLOOKUP(Viáticos[[#This Row],[Destino]],Tabla216[#All],6,0)+VLOOKUP(Viáticos[[#This Row],[Destino]],Tabla216[#All],7,0))+(Viáticos[[#This Row],[Número de días por viático]]-1)*(VLOOKUP(Viáticos[[#This Row],[Destino]],Tabla216[#All],8,0)+VLOOKUP(Viáticos[[#This Row],[Destino]],Tabla216[#All],9,0)),\"\"))))*Viáticos[[#This Row],[Número de personas]],(IF(OR(Viáticos[[#This Row],[Número de días por viático]]=\"\",Viáticos[[#This Row],[Número de personas]]=\"\"),\"\",IFERROR(2*(VLOOKUP(Viáticos[[#This Row],[Destino]],Tabla216[#All],3,0)+VLOOKUP(Viáticos[[#This Row],[Destino]],Tabla216[#All],4,0))+Viáticos[[#This Row],[Número de días por viático]]*(2*VLOOKUP(Viáticos[[#This Row],[Destino]],Tabla216[#All],5,0)+VLOOKUP(Viáticos[[#This Row],[Destino]],Tabla216[#All],6,0)+VLOOKUP(Viáticos[[#This Row],[Destino]],Tabla216[#All],7,0))+(Viáticos[[#This Row],[Número de días por viático]]-1)*(VLOOKUP(Viáticos[[#This Row],[Destino]],Tabla216[#All],8,0)+VLOOKUP(Viáticos[[#This Row],[Destino]],Tabla216[#All],9,0)),\"\")))*Viáticos[[#This Row],[Número de personas]]*(1+25%)),\"\")","v":""},null,null,{"$f":"IFERROR(IF(Viáticos[[#This Row],[Viático pactado]]=\"\",((Viáticos[[#This Row],[Valor Viático por viaje]]*(1+Viáticos[[#This Row],[% Administración]]/100))),(Viáticos[[#This Row],[Viático pactado]]*(1+Viáticos[[#This Row],[% Administración]]/100))),\"\")","v":""},null,{"$f":"+IFERROR(Viáticos[[#This Row],[Costo parcial]]*(Viáticos[[#This Row],[% Participación ]]/100),\"\")","v":""}]
[null,null,null,null,null,{"$f":"+IF(Viáticos[[#This Row],[Nivel del cargo]]=\"\",\"\",F38)","v":""},null,null,{"$f":"IFERROR(IF(Viáticos[[#This Row],[Nivel del cargo]]=\"No directivo\",((IF(OR(Viáticos[[#This Row],[Número de días por viático]]=\"\",Viáticos[[#This Row],[Número de personas]]=\"\"),\"\",IFERROR(2*(VLOOKUP(Viáticos[[#This Row],[Destino]],Tabla216[#All],3,0)+VLOOKUP(Viáticos[[#This Row],[Destino]],Tabla216[#All],4,0))+Viáticos[[#This Row],[Número de días por viático]]*(2*VLOOKUP(Viáticos[[#This Row],[Destino]],Tabla216[#All],5,0)+VLOOKUP(Viáticos[[#This Row],[Destino]],Tabla216[#All],6,0)+VLOOKUP(Viáticos[[#This Row],[Destino]],Tabla216[#All],7,0))+(Viáticos[[#This Row],[Número de días por viático]]-1)*(VLOOKUP(Viáticos[[#This Row],[Destino]],Tabla216[#All],8,0)+VLOOKUP(Viáticos[[#This Row],[Destino]],Tabla216[#All],9,0)),\"\"))))*Viáticos[[#This Row],[Número de personas]],(IF(OR(Viáticos[[#This Row],[Número de días por viático]]=\"\",Viáticos[[#This Row],[Número de personas]]=\"\"),\"\",IFERROR(2*(VLOOKUP(Viáticos[[#This Row],[Destino]],Tabla216[#All],3,0)+VLOOKUP(Viáticos[[#This Row],[Destino]],Tabla216[#All],4,0))+Viáticos[[#This Row],[Número de días por viático]]*(2*VLOOKUP(Viáticos[[#This Row],[Destino]],Tabla216[#All],5,0)+VLOOKUP(Viáticos[[#This Row],[Destino]],Tabla216[#All],6,0)+VLOOKUP(Viáticos[[#This Row],[Destino]],Tabla216[#All],7,0))+(Viáticos[[#This Row],[Número de días por viático]]-1)*(VLOOKUP(Viáticos[[#This Row],[Destino]],Tabla216[#All],8,0)+VLOOKUP(Viáticos[[#This Row],[Destino]],Tabla216[#All],9,0)),\"\")))*Viáticos[[#This Row],[Número de personas]]*(1+25%)),\"\")","v":""},null,null,{"$f":"IFERROR(IF(Viáticos[[#This Row],[Viático pactado]]=\"\",((Viáticos[[#This Row],[Valor Viático por viaje]]*(1+Viáticos[[#This Row],[% Administración]]/100))),(Viáticos[[#This Row],[Viático pactado]]*(1+Viáticos[[#This Row],[% Administración]]/100))),\"\")","v":""},null,{"$f":"+IFERROR(Viáticos[[#This Row],[Costo parcial]]*(Viáticos[[#This Row],[% Participación ]]/100),\"\")","v":""}]
[null,null,null,null,null,{"$f":"+IF(Viáticos[[#This Row],[Nivel del cargo]]=\"\",\"\",F39)","v":""},null,null,{"$f":"IFERROR(IF(Viáticos[[#This Row],[Nivel del cargo]]=\"No directivo\",((IF(OR(Viáticos[[#This Row],[Número de días por viático]]=\"\",Viáticos[[#This Row],[Número de personas]]=\"\"),\"\",IFERROR(2*(VLOOKUP(Viáticos[[#This Row],[Destino]],Tabla216[#All],3,0)+VLOOKUP(Viáticos[[#This Row],[Destino]],Tabla216[#All],4,0))+Viáticos[[#This Row],[Número de días por viático]]*(2*VLOOKUP(Viáticos[[#This Row],[Destino]],Tabla216[#All],5,0)+VLOOKUP(Viáticos[[#This Row],[Destino]],Tabla216[#All],6,0)+VLOOKUP(Viáticos[[#This Row],[Destino]],Tabla216[#All],7,0))+(Viáticos[[#This Row],[Número de días por viático]]-1)*(VLOOKUP(Viáticos[[#This Row],[Destino]],Tabla216[#All],8,0)+VLOOKUP(Viáticos[[#This Row],[Destino]],Tabla216[#All],9,0)),\"\"))))*Viáticos[[#This Row],[Número de personas]],(IF(OR(Viáticos[[#This Row],[Número de días por viático]]=\"\",Viáticos[[#This Row],[Número de personas]]=\"\"),\"\",IFERROR(2*(VLOOKUP(Viáticos[[#This Row],[Destino]],Tabla216[#All],3,0)+VLOOKUP(Viáticos[[#This Row],[Destino]],Tabla216[#All],4,0))+Viáticos[[#This Row],[Número de días por viático]]*(2*VLOOKUP(Viáticos[[#This Row],[Destino]],Tabla216[#All],5,0)+VLOOKUP(Viáticos[[#This Row],[Destino]],Tabla216[#All],6,0)+VLOOKUP(Viáticos[[#This Row],[Destino]],Tabla216[#All],7,0))+(Viáticos[[#This Row],[Número de días por viático]]-1)*(VLOOKUP(Viáticos[[#This Row],[Destino]],Tabla216[#All],8,0)+VLOOKUP(Viáticos[[#This Row],[Destino]],Tabla216[#All],9,0)),\"\")))*Viáticos[[#This Row],[Número de personas]]*(1+25%)),\"\")","v":""},null,null,{"$f":"IFERROR(IF(Viáticos[[#This Row],[Viático pactado]]=\"\",((Viáticos[[#This Row],[Valor Viático por viaje]]*(1+Viáticos[[#This Row],[% Administración]]/100))),(Viáticos[[#This Row],[Viático pactado]]*(1+Viáticos[[#This Row],[% Administración]]/100))),\"\")","v":""},null,{"$f":"+IFERROR(Viáticos[[#This Row],[Costo parcial]]*(Viáticos[[#This Row],[% Participación ]]/100),\"\")","v":""}]
[null,null,null,null,null,{"$f":"+IF(Viáticos[[#This Row],[Nivel del cargo]]=\"\",\"\",F40)","v":""},null,null,{"$f":"IFERROR(IF(Viáticos[[#This Row],[Nivel del cargo]]=\"No directivo\",((IF(OR(Viáticos[[#This Row],[Número de días por viático]]=\"\",Viáticos[[#This Row],[Número de personas]]=\"\"),\"\",IFERROR(2*(VLOOKUP(Viáticos[[#This Row],[Destino]],Tabla216[#All],3,0)+VLOOKUP(Viáticos[[#This Row],[Destino]],Tabla216[#All],4,0))+Viáticos[[#This Row],[Número de días por viático]]*(2*VLOOKUP(Viáticos[[#This Row],[Destino]],Tabla216[#All],5,0)+VLOOKUP(Viáticos[[#This Row],[Destino]],Tabla216[#All],6,0)+VLOOKUP(Viáticos[[#This Row],[Destino]],Tabla216[#All],7,0))+(Viáticos[[#This Row],[Número de días por viático]]-1)*(VLOOKUP(Viáticos[[#This Row],[Destino]],Tabla216[#All],8,0)+VLOOKUP(Viáticos[[#This Row],[Destino]],Tabla216[#All],9,0)),\"\"))))*Viáticos[[#This Row],[Número de personas]],(IF(OR(Viáticos[[#This Row],[Número de días por viático]]=\"\",Viáticos[[#This Row],[Número de personas]]=\"\"),\"\",IFERROR(2*(VLOOKUP(Viáticos[[#This Row],[Destino]],Tabla216[#All],3,0)+VLOOKUP(Viáticos[[#This Row],[Destino]],Tabla216[#All],4,0))+Viáticos[[#This Row],[Número de días por viático]]*(2*VLOOKUP(Viáticos[[#This Row],[Destino]],Tabla216[#All],5,0)+VLOOKUP(Viáticos[[#This Row],[Destino]],Tabla216[#All],6,0)+VLOOKUP(Viáticos[[#This Row],[Destino]],Tabla216[#All],7,0))+(Viáticos[[#This Row],[Número de días por viático]]-1)*(VLOOKUP(Viáticos[[#This Row],[Destino]],Tabla216[#All],8,0)+VLOOKUP(Viáticos[[#This Row],[Destino]],Tabla216[#All],9,0)),\"\")))*Viáticos[[#This Row],[Número de personas]]*(1+25%)),\"\")","v":""},null,null,{"$f":"IFERROR(IF(Viáticos[[#This Row],[Viático pactado]]=\"\",((Viáticos[[#This Row],[Valor Viático por viaje]]*(1+Viáticos[[#This Row],[% Administración]]/100))),(Viáticos[[#This Row],[Viático pactado]]*(1+Viáticos[[#This Row],[% Administración]]/100))),\"\")","v":""},null,{"$f":"+IFERROR(Viáticos[[#This Row],[Costo parcial]]*(Viáticos[[#This Row],[% Participación ]]/100),\"\")","v":""}]
[null,null,null,null,null,{"$f":"+IF(Viáticos[[#This Row],[Nivel del cargo]]=\"\",\"\",F41)","v":""},null,null,{"$f":"IFERROR(IF(Viáticos[[#This Row],[Nivel del cargo]]=\"No directivo\",((IF(OR(Viáticos[[#This Row],[Número de días por viático]]=\"\",Viáticos[[#This Row],[Número de personas]]=\"\"),\"\",IFERROR(2*(VLOOKUP(Viáticos[[#This Row],[Destino]],Tabla216[#All],3,0)+VLOOKUP(Viáticos[[#This Row],[Destino]],Tabla216[#All],4,0))+Viáticos[[#This Row],[Número de días por viático]]*(2*VLOOKUP(Viáticos[[#This Row],[Destino]],Tabla216[#All],5,0)+VLOOKUP(Viáticos[[#This Row],[Destino]],Tabla216[#All],6,0)+VLOOKUP(Viáticos[[#This Row],[Destino]],Tabla216[#All],7,0))+(Viáticos[[#This Row],[Número de días por viático]]-1)*(VLOOKUP(Viáticos[[#This Row],[Destino]],Tabla216[#All],8,0)+VLOOKUP(Viáticos[[#This Row],[Destino]],Tabla216[#All],9,0)),\"\"))))*Viáticos[[#This Row],[Número de personas]],(IF(OR(Viáticos[[#This Row],[Número de días por viático]]=\"\",Viáticos[[#This Row],[Número de personas]]=\"\"),\"\",IFERROR(2*(VLOOKUP(Viáticos[[#This Row],[Destino]],Tabla216[#All],3,0)+VLOOKUP(Viáticos[[#This Row],[Destino]],Tabla216[#All],4,0))+Viáticos[[#This Row],[Número de días por viático]]*(2*VLOOKUP(Viáticos[[#This Row],[Destino]],Tabla216[#All],5,0)+VLOOKUP(Viáticos[[#This Row],[Destino]],Tabla216[#All],6,0)+VLOOKUP(Viáticos[[#This Row],[Destino]],Tabla216[#All],7,0))+(Viáticos[[#This Row],[Número de días por viático]]-1)*(VLOOKUP(Viáticos[[#This Row],[Destino]],Tabla216[#All],8,0)+VLOOKUP(Viáticos[[#This Row],[Destino]],Tabla216[#All],9,0)),\"\")))*Viáticos[[#This Row],[Número de personas]]*(1+25%)),\"\")","v":""},null,null,{"$f":"IFERROR(IF(Viáticos[[#This Row],[Viático pactado]]=\"\",((Viáticos[[#This Row],[Valor Viático por viaje]]*(1+Viáticos[[#This Row],[% Administración]]/100))),(Viáticos[[#This Row],[Viático pactado]]*(1+Viáticos[[#This Row],[% Administración]]/100))),\"\")","v":""},null,{"$f":"+IFERROR(Viáticos[[#This Row],[Costo parcial]]*(Viáticos[[#This Row],[% Participación ]]/100),\"\")","v":""}]
[null,null,null,null,null,{"$f":"+IF(Viáticos[[#This Row],[Nivel del cargo]]=\"\",\"\",F42)","v":""},null,null,{"$f":"IFERROR(IF(Viáticos[[#This Row],[Nivel del cargo]]=\"No directivo\",((IF(OR(Viáticos[[#This Row],[Número de días por viático]]=\"\",Viáticos[[#This Row],[Número de personas]]=\"\"),\"\",IFERROR(2*(VLOOKUP(Viáticos[[#This Row],[Destino]],Tabla216[#All],3,0)+VLOOKUP(Viáticos[[#This Row],[Destino]],Tabla216[#All],4,0))+Viáticos[[#This Row],[Número de días por viático]]*(2*VLOOKUP(Viáticos[[#This Row],[Destino]],Tabla216[#All],5,0)+VLOOKUP(Viáticos[[#This Row],[Destino]],Tabla216[#All],6,0)+VLOOKUP(Viáticos[[#This Row],[Destino]],Tabla216[#All],7,0))+(Viáticos[[#This Row],[Número de días por viático]]-1)*(VLOOKUP(Viáticos[[#This Row],[Destino]],Tabla216[#All],8,0)+VLOOKUP(Viáticos[[#This Row],[Destino]],Tabla216[#All],9,0)),\"\"))))*Viáticos[[#This Row],[Número de personas]],(IF(OR(Viáticos[[#This Row],[Número de días por viático]]=\"\",Viáticos[[#This Row],[Número de personas]]=\"\"),\"\",IFERROR(2*(VLOOKUP(Viáticos[[#This Row],[Destino]],Tabla216[#All],3,0)+VLOOKUP(Viáticos[[#This Row],[Destino]],Tabla216[#All],4,0))+Viáticos[[#This Row],[Número de días por viático]]*(2*VLOOKUP(Viáticos[[#This Row],[Destino]],Tabla216[#All],5,0)+VLOOKUP(Viáticos[[#This Row],[Destino]],Tabla216[#All],6,0)+VLOOKUP(Viáticos[[#This Row],[Destino]],Tabla216[#All],7,0))+(Viáticos[[#This Row],[Número de días por viático]]-1)*(VLOOKUP(Viáticos[[#This Row],[Destino]],Tabla216[#All],8,0)+VLOOKUP(Viáticos[[#This Row],[Destino]],Tabla216[#All],9,0)),\"\")))*Viáticos[[#This Row],[Número de personas]]*(1+25%)),\"\")","v":""},null,null,{"$f":"IFERROR(IF(Viáticos[[#This Row],[Viático pactado]]=\"\",((Viáticos[[#This Row],[Valor Viático por viaje]]*(1+Viáticos[[#This Row],[% Administración]]/100))),(Viáticos[[#This Row],[Viático pactado]]*(1+Viáticos[[#This Row],[% Administración]]/100))),\"\")","v":""},null,{"$f":"+IFERROR(Viáticos[[#This Row],[Costo parcial]]*(Viáticos[[#This Row],[% Participación ]]/100),\"\")","v":""}]
[null,null,null,null,null,{"$f":"+IF(Viáticos[[#This Row],[Nivel del cargo]]=\"\",\"\",F43)","v":""},null,null,{"$f":"IFERROR(IF(Viáticos[[#This Row],[Nivel del cargo]]=\"No directivo\",((IF(OR(Viáticos[[#This Row],[Número de días por viático]]=\"\",Viáticos[[#This Row],[Número de personas]]=\"\"),\"\",IFERROR(2*(VLOOKUP(Viáticos[[#This Row],[Destino]],Tabla216[#All],3,0)+VLOOKUP(Viáticos[[#This Row],[Destino]],Tabla216[#All],4,0))+Viáticos[[#This Row],[Número de días por viático]]*(2*VLOOKUP(Viáticos[[#This Row],[Destino]],Tabla216[#All],5,0)+VLOOKUP(Viáticos[[#This Row],[Destino]],Tabla216[#All],6,0)+VLOOKUP(Viáticos[[#This Row],[Destino]],Tabla216[#All],7,0))+(Viáticos[[#This Row],[Número de días por viático]]-1)*(VLOOKUP(Viáticos[[#This Row],[Destino]],Tabla216[#All],8,0)+VLOOKUP(Viáticos[[#This Row],[Destino]],Tabla216[#All],9,0)),\"\"))))*Viáticos[[#This Row],[Número de personas]],(IF(OR(Viáticos[[#This Row],[Número de días por viático]]=\"\",Viáticos[[#This Row],[Número de personas]]=\"\"),\"\",IFERROR(2*(VLOOKUP(Viáticos[[#This Row],[Destino]],Tabla216[#All],3,0)+VLOOKUP(Viáticos[[#This Row],[Destino]],Tabla216[#All],4,0))+Viáticos[[#This Row],[Número de días por viático]]*(2*VLOOKUP(Viáticos[[#This Row],[Destino]],Tabla216[#All],5,0)+VLOOKUP(Viáticos[[#This Row],[Destino]],Tabla216[#All],6,0)+VLOOKUP(Viáticos[[#This Row],[Destino]],Tabla216[#All],7,0))+(Viáticos[[#This Row],[Número de días por viático]]-1)*(VLOOKUP(Viáticos[[#This Row],[Destino]],Tabla216[#All],8,0)+VLOOKUP(Viáticos[[#This Row],[Destino]],Tabla216[#All],9,0)),\"\")))*Viáticos[[#This Row],[Número de personas]]*(1+25%)),\"\")","v":""},null,null,{"$f":"IFERROR(IF(Viáticos[[#This Row],[Viático pactado]]=\"\",((Viáticos[[#This Row],[Valor Viático por viaje]]*(1+Viáticos[[#This Row],[% Administración]]/100))),(Viáticos[[#This Row],[Viático pactado]]*(1+Viáticos[[#This Row],[% Administración]]/100))),\"\")","v":""},null,{"$f":"+IFERROR(Viáticos[[#This Row],[Costo parcial]]*(Viáticos[[#This Row],[% Participación ]]/100),\"\")","v":""}]
[null,null,null,null,null,{"$f":"+IF(Viáticos[[#This Row],[Nivel del cargo]]=\"\",\"\",F44)","v":""},null,null,{"$f":"IFERROR(IF(Viáticos[[#This Row],[Nivel del cargo]]=\"No directivo\",((IF(OR(Viáticos[[#This Row],[Número de días por viático]]=\"\",Viáticos[[#This Row],[Número de personas]]=\"\"),\"\",IFERROR(2*(VLOOKUP(Viáticos[[#This Row],[Destino]],Tabla216[#All],3,0)+VLOOKUP(Viáticos[[#This Row],[Destino]],Tabla216[#All],4,0))+Viáticos[[#This Row],[Número de días por viático]]*(2*VLOOKUP(Viáticos[[#This Row],[Destino]],Tabla216[#All],5,0)+VLOOKUP(Viáticos[[#This Row],[Destino]],Tabla216[#All],6,0)+VLOOKUP(Viáticos[[#This Row],[Destino]],Tabla216[#All],7,0))+(Viáticos[[#This Row],[Número de días por viático]]-1)*(VLOOKUP(Viáticos[[#This Row],[Destino]],Tabla216[#All],8,0)+VLOOKUP(Viáticos[[#This Row],[Destino]],Tabla216[#All],9,0)),\"\"))))*Viáticos[[#This Row],[Número de personas]],(IF(OR(Viáticos[[#This Row],[Número de días por viático]]=\"\",Viáticos[[#This Row],[Número de personas]]=\"\"),\"\",IFERROR(2*(VLOOKUP(Viáticos[[#This Row],[Destino]],Tabla216[#All],3,0)+VLOOKUP(Viáticos[[#This Row],[Destino]],Tabla216[#All],4,0))+Viáticos[[#This Row],[Número de días por viático]]*(2*VLOOKUP(Viáticos[[#This Row],[Destino]],Tabla216[#All],5,0)+VLOOKUP(Viáticos[[#This Row],[Destino]],Tabla216[#All],6,0)+VLOOKUP(Viáticos[[#This Row],[Destino]],Tabla216[#All],7,0))+(Viáticos[[#This Row],[Número de días por viático]]-1)*(VLOOKUP(Viáticos[[#This Row],[Destino]],Tabla216[#All],8,0)+VLOOKUP(Viáticos[[#This Row],[Destino]],Tabla216[#All],9,0)),\"\")))*Viáticos[[#This Row],[Número de personas]]*(1+25%)),\"\")","v":""},null,null,{"$f":"IFERROR(IF(Viáticos[[#This Row],[Viático pactado]]=\"\",((Viáticos[[#This Row],[Valor Viático por viaje]]*(1+Viáticos[[#This Row],[% Administración]]/100))),(Viáticos[[#This Row],[Viático pactado]]*(1+Viáticos[[#This Row],[% Administración]]/100))),\"\")","v":""},null,{"$f":"+IFERROR(Viáticos[[#This Row],[Costo parcial]]*(Viáticos[[#This Row],[% Participación ]]/100),\"\")","v":""}]
[null,null,null,null,null,{"$f":"+IF(Viáticos[[#This Row],[Nivel del cargo]]=\"\",\"\",F45)","v":""},null,null,{"$f":"IFERROR(IF(Viáticos[[#This Row],[Nivel del cargo]]=\"No directivo\",((IF(OR(Viáticos[[#This Row],[Número de días por viático]]=\"\",Viáticos[[#This Row],[Número de personas]]=\"\"),\"\",IFERROR(2*(VLOOKUP(Viáticos[[#This Row],[Destino]],Tabla216[#All],3,0)+VLOOKUP(Viáticos[[#This Row],[Destino]],Tabla216[#All],4,0))+Viáticos[[#This Row],[Número de días por viático]]*(2*VLOOKUP(Viáticos[[#This Row],[Destino]],Tabla216[#All],5,0)+VLOOKUP(Viáticos[[#This Row],[Destino]],Tabla216[#All],6,0)+VLOOKUP(Viáticos[[#This Row],[Destino]],Tabla216[#All],7,0))+(Viáticos[[#This Row],[Número de días por viático]]-1)*(VLOOKUP(Viáticos[[#This Row],[Destino]],Tabla216[#All],8,0)+VLOOKUP(Viáticos[[#This Row],[Destino]],Tabla216[#All],9,0)),\"\"))))*Viáticos[[#This Row],[Número de personas]],(IF(OR(Viáticos[[#This Row],[Número de días por viático]]=\"\",Viáticos[[#This Row],[Número de personas]]=\"\"),\"\",IFERROR(2*(VLOOKUP(Viáticos[[#This Row],[Destino]],Tabla216[#All],3,0)+VLOOKUP(Viáticos[[#This Row],[Destino]],Tabla216[#All],4,0))+Viáticos[[#This Row],[Número de días por viático]]*(2*VLOOKUP(Viáticos[[#This Row],[Destino]],Tabla216[#All],5,0)+VLOOKUP(Viáticos[[#This Row],[Destino]],Tabla216[#All],6,0)+VLOOKUP(Viáticos[[#This Row],[Destino]],Tabla216[#All],7,0))+(Viáticos[[#This Row],[Número de días por viático]]-1)*(VLOOKUP(Viáticos[[#This Row],[Destino]],Tabla216[#All],8,0)+VLOOKUP(Viáticos[[#This Row],[Destino]],Tabla216[#All],9,0)),\"\")))*Viáticos[[#This Row],[Número de personas]]*(1+25%)),\"\")","v":""},null,null,{"$f":"IFERROR(IF(Viáticos[[#This Row],[Viático pactado]]=\"\",((Viáticos[[#This Row],[Valor Viático por viaje]]*(1+Viáticos[[#This Row],[% Administración]]/100))),(Viáticos[[#This Row],[Viático pactado]]*(1+Viáticos[[#This Row],[% Administración]]/100))),\"\")","v":""},null,{"$f":"+IFERROR(Viáticos[[#This Row],[Costo parcial]]*(Viáticos[[#This Row],[% Participación ]]/100),\"\")","v":""}]
[null,null,null,null,null,{"$f":"+IF(Viáticos[[#This Row],[Nivel del cargo]]=\"\",\"\",F46)","v":""},null,null,{"$f":"IFERROR(IF(Viáticos[[#This Row],[Nivel del cargo]]=\"No directivo\",((IF(OR(Viáticos[[#This Row],[Número de días por viático]]=\"\",Viáticos[[#This Row],[Número de personas]]=\"\"),\"\",IFERROR(2*(VLOOKUP(Viáticos[[#This Row],[Destino]],Tabla216[#All],3,0)+VLOOKUP(Viáticos[[#This Row],[Destino]],Tabla216[#All],4,0))+Viáticos[[#This Row],[Número de días por viático]]*(2*VLOOKUP(Viáticos[[#This Row],[Destino]],Tabla216[#All],5,0)+VLOOKUP(Viáticos[[#This Row],[Destino]],Tabla216[#All],6,0)+VLOOKUP(Viáticos[[#This Row],[Destino]],Tabla216[#All],7,0))+(Viáticos[[#This Row],[Número de días por viático]]-1)*(VLOOKUP(Viáticos[[#This Row],[Destino]],Tabla216[#All],8,0)+VLOOKUP(Viáticos[[#This Row],[Destino]],Tabla216[#All],9,0)),\"\"))))*Viáticos[[#This Row],[Número de personas]],(IF(OR(Viáticos[[#This Row],[Número de días por viático]]=\"\",Viáticos[[#This Row],[Número de personas]]=\"\"),\"\",IFERROR(2*(VLOOKUP(Viáticos[[#This Row],[Destino]],Tabla216[#All],3,0)+VLOOKUP(Viáticos[[#This Row],[Destino]],Tabla216[#All],4,0))+Viáticos[[#This Row],[Número de días por viático]]*(2*VLOOKUP(Viáticos[[#This Row],[Destino]],Tabla216[#All],5,0)+VLOOKUP(Viáticos[[#This Row],[Destino]],Tabla216[#All],6,0)+VLOOKUP(Viáticos[[#This Row],[Destino]],Tabla216[#All],7,0))+(Viáticos[[#This Row],[Número de días por viático]]-1)*(VLOOKUP(Viáticos[[#This Row],[Destino]],Tabla216[#All],8,0)+VLOOKUP(Viáticos[[#This Row],[Destino]],Tabla216[#All],9,0)),\"\")))*Viáticos[[#This Row],[Número de personas]]*(1+25%)),\"\")","v":""},null,null,{"$f":"IFERROR(IF(Viáticos[[#This Row],[Viático pactado]]=\"\",((Viáticos[[#This Row],[Valor Viático por viaje]]*(1+Viáticos[[#This Row],[% Administración]]/100))),(Viáticos[[#This Row],[Viático pactado]]*(1+Viáticos[[#This Row],[% Administración]]/100))),\"\")","v":""},null,{"$f":"+IFERROR(Viáticos[[#This Row],[Costo parcial]]*(Viáticos[[#This Row],[% Participación ]]/100),\"\")","v":""}]
[null,null,null,null,null,{"$f":"+IF(Viáticos[[#This Row],[Nivel del cargo]]=\"\",\"\",F47)","v":""},null,null,{"$f":"IFERROR(IF(Viáticos[[#This Row],[Nivel del cargo]]=\"No directivo\",((IF(OR(Viáticos[[#This Row],[Número de días por viático]]=\"\",Viáticos[[#This Row],[Número de personas]]=\"\"),\"\",IFERROR(2*(VLOOKUP(Viáticos[[#This Row],[Destino]],Tabla216[#All],3,0)+VLOOKUP(Viáticos[[#This Row],[Destino]],Tabla216[#All],4,0))+Viáticos[[#This Row],[Número de días por viático]]*(2*VLOOKUP(Viáticos[[#This Row],[Destino]],Tabla216[#All],5,0)+VLOOKUP(Viáticos[[#This Row],[Destino]],Tabla216[#All],6,0)+VLOOKUP(Viáticos[[#This Row],[Destino]],Tabla216[#All],7,0))+(Viáticos[[#This Row],[Número de días por viático]]-1)*(VLOOKUP(Viáticos[[#This Row],[Destino]],Tabla216[#All],8,0)+VLOOKUP(Viáticos[[#This Row],[Destino]],Tabla216[#All],9,0)),\"\"))))*Viáticos[[#This Row],[Número de personas]],(IF(OR(Viáticos[[#This Row],[Número de días por viático]]=\"\",Viáticos[[#This Row],[Número de personas]]=\"\"),\"\",IFERROR(2*(VLOOKUP(Viáticos[[#This Row],[Destino]],Tabla216[#All],3,0)+VLOOKUP(Viáticos[[#This Row],[Destino]],Tabla216[#All],4,0))+Viáticos[[#This Row],[Número de días por viático]]*(2*VLOOKUP(Viáticos[[#This Row],[Destino]],Tabla216[#All],5,0)+VLOOKUP(Viáticos[[#This Row],[Destino]],Tabla216[#All],6,0)+VLOOKUP(Viáticos[[#This Row],[Destino]],Tabla216[#All],7,0))+(Viáticos[[#This Row],[Número de días por viático]]-1)*(VLOOKUP(Viáticos[[#This Row],[Destino]],Tabla216[#All],8,0)+VLOOKUP(Viáticos[[#This Row],[Destino]],Tabla216[#All],9,0)),\"\")))*Viáticos[[#This Row],[Número de personas]]*(1+25%)),\"\")","v":""},null,null,{"$f":"IFERROR(IF(Viáticos[[#This Row],[Viático pactado]]=\"\",((Viáticos[[#This Row],[Valor Viático por viaje]]*(1+Viáticos[[#This Row],[% Administración]]/100))),(Viáticos[[#This Row],[Viático pactado]]*(1+Viáticos[[#This Row],[% Administración]]/100))),\"\")","v":""},null,{"$f":"+IFERROR(Viáticos[[#This Row],[Costo parcial]]*(Viáticos[[#This Row],[% Participación ]]/100),\"\")","v":""}]
[null,null,null,null,null,{"$f":"+IF(Viáticos[[#This Row],[Nivel del cargo]]=\"\",\"\",F48)","v":""},null,null,{"$f":"IFERROR(IF(Viáticos[[#This Row],[Nivel del cargo]]=\"No directivo\",((IF(OR(Viáticos[[#This Row],[Número de días por viático]]=\"\",Viáticos[[#This Row],[Número de personas]]=\"\"),\"\",IFERROR(2*(VLOOKUP(Viáticos[[#This Row],[Destino]],Tabla216[#All],3,0)+VLOOKUP(Viáticos[[#This Row],[Destino]],Tabla216[#All],4,0))+Viáticos[[#This Row],[Número de días por viático]]*(2*VLOOKUP(Viáticos[[#This Row],[Destino]],Tabla216[#All],5,0)+VLOOKUP(Viáticos[[#This Row],[Destino]],Tabla216[#All],6,0)+VLOOKUP(Viáticos[[#This Row],[Destino]],Tabla216[#All],7,0))+(Viáticos[[#This Row],[Número de días por viático]]-1)*(VLOOKUP(Viáticos[[#This Row],[Destino]],Tabla216[#All],8,0)+VLOOKUP(Viáticos[[#This Row],[Destino]],Tabla216[#All],9,0)),\"\"))))*Viáticos[[#This Row],[Número de personas]],(IF(OR(Viáticos[[#This Row],[Número de días por viático]]=\"\",Viáticos[[#This Row],[Número de personas]]=\"\"),\"\",IFERROR(2*(VLOOKUP(Viáticos[[#This Row],[Destino]],Tabla216[#All],3,0)+VLOOKUP(Viáticos[[#This Row],[Destino]],Tabla216[#All],4,0))+Viáticos[[#This Row],[Número de días por viático]]*(2*VLOOKUP(Viáticos[[#This Row],[Destino]],Tabla216[#All],5,0)+VLOOKUP(Viáticos[[#This Row],[Destino]],Tabla216[#All],6,0)+VLOOKUP(Viáticos[[#This Row],[Destino]],Tabla216[#All],7,0))+(Viáticos[[#This Row],[Número de días por viático]]-1)*(VLOOKUP(Viáticos[[#This Row],[Destino]],Tabla216[#All],8,0)+VLOOKUP(Viáticos[[#This Row],[Destino]],Tabla216[#All],9,0)),\"\")))*Viáticos[[#This Row],[Número de personas]]*(1+25%)),\"\")","v":""},null,null,{"$f":"IFERROR(IF(Viáticos[[#This Row],[Viático pactado]]=\"\",((Viáticos[[#This Row],[Valor Viático por viaje]]*(1+Viáticos[[#This Row],[% Administración]]/100))),(Viáticos[[#This Row],[Viático pactado]]*(1+Viáticos[[#This Row],[% Administración]]/100))),\"\")","v":""},null,{"$f":"+IFERROR(Viáticos[[#This Row],[Costo parcial]]*(Viáticos[[#This Row],[% Participación ]]/100),\"\")","v":""}]
[null,null,null,null,null,{"$f":"+IF(Viáticos[[#This Row],[Nivel del cargo]]=\"\",\"\",F49)","v":""},null,null,{"$f":"IFERROR(IF(Viáticos[[#This Row],[Nivel del cargo]]=\"No directivo\",((IF(OR(Viáticos[[#This Row],[Número de días por viático]]=\"\",Viáticos[[#This Row],[Número de personas]]=\"\"),\"\",IFERROR(2*(VLOOKUP(Viáticos[[#This Row],[Destino]],Tabla216[#All],3,0)+VLOOKUP(Viáticos[[#This Row],[Destino]],Tabla216[#All],4,0))+Viáticos[[#This Row],[Número de días por viático]]*(2*VLOOKUP(Viáticos[[#This Row],[Destino]],Tabla216[#All],5,0)+VLOOKUP(Viáticos[[#This Row],[Destino]],Tabla216[#All],6,0)+VLOOKUP(Viáticos[[#This Row],[Destino]],Tabla216[#All],7,0))+(Viáticos[[#This Row],[Número de días por viático]]-1)*(VLOOKUP(Viáticos[[#This Row],[Destino]],Tabla216[#All],8,0)+VLOOKUP(Viáticos[[#This Row],[Destino]],Tabla216[#All],9,0)),\"\"))))*Viáticos[[#This Row],[Número de personas]],(IF(OR(Viáticos[[#This Row],[Número de días por viático]]=\"\",Viáticos[[#This Row],[Número de personas]]=\"\"),\"\",IFERROR(2*(VLOOKUP(Viáticos[[#This Row],[Destino]],Tabla216[#All],3,0)+VLOOKUP(Viáticos[[#This Row],[Destino]],Tabla216[#All],4,0))+Viáticos[[#This Row],[Número de días por viático]]*(2*VLOOKUP(Viáticos[[#This Row],[Destino]],Tabla216[#All],5,0)+VLOOKUP(Viáticos[[#This Row],[Destino]],Tabla216[#All],6,0)+VLOOKUP(Viáticos[[#This Row],[Destino]],Tabla216[#All],7,0))+(Viáticos[[#This Row],[Número de días por viático]]-1)*(VLOOKUP(Viáticos[[#This Row],[Destino]],Tabla216[#All],8,0)+VLOOKUP(Viáticos[[#This Row],[Destino]],Tabla216[#All],9,0)),\"\")))*Viáticos[[#This Row],[Número de personas]]*(1+25%)),\"\")","v":""},null,null,{"$f":"IFERROR(IF(Viáticos[[#This Row],[Viático pactado]]=\"\",((Viáticos[[#This Row],[Valor Viático por viaje]]*(1+Viáticos[[#This Row],[% Administración]]/100))),(Viáticos[[#This Row],[Viático pactado]]*(1+Viáticos[[#This Row],[% Administración]]/100))),\"\")","v":""},null,{"$f":"+IFERROR(Viáticos[[#This Row],[Costo parcial]]*(Viáticos[[#This Row],[% Participación ]]/100),\"\")","v":""}]
[null,null,null,null,null,{"$f":"+IF(Viáticos[[#This Row],[Nivel del cargo]]=\"\",\"\",F50)","v":""},null,null,{"$f":"IFERROR(IF(Viáticos[[#This Row],[Nivel del cargo]]=\"No directivo\",((IF(OR(Viáticos[[#This Row],[Número de días por viático]]=\"\",Viáticos[[#This Row],[Número de personas]]=\"\"),\"\",IFERROR(2*(VLOOKUP(Viáticos[[#This Row],[Destino]],Tabla216[#All],3,0)+VLOOKUP(Viáticos[[#This Row],[Destino]],Tabla216[#All],4,0))+Viáticos[[#This Row],[Número de días por viático]]*(2*VLOOKUP(Viáticos[[#This Row],[Destino]],Tabla216[#All],5,0)+VLOOKUP(Viáticos[[#This Row],[Destino]],Tabla216[#All],6,0)+VLOOKUP(Viáticos[[#This Row],[Destino]],Tabla216[#All],7,0))+(Viáticos[[#This Row],[Número de días por viático]]-1)*(VLOOKUP(Viáticos[[#This Row],[Destino]],Tabla216[#All],8,0)+VLOOKUP(Viáticos[[#This Row],[Destino]],Tabla216[#All],9,0)),\"\"))))*Viáticos[[#This Row],[Número de personas]],(IF(OR(Viáticos[[#This Row],[Número de días por viático]]=\"\",Viáticos[[#This Row],[Número de personas]]=\"\"),\"\",IFERROR(2*(VLOOKUP(Viáticos[[#This Row],[Destino]],Tabla216[#All],3,0)+VLOOKUP(Viáticos[[#This Row],[Destino]],Tabla216[#All],4,0))+Viáticos[[#This Row],[Número de días por viático]]*(2*VLOOKUP(Viáticos[[#This Row],[Destino]],Tabla216[#All],5,0)+VLOOKUP(Viáticos[[#This Row],[Destino]],Tabla216[#All],6,0)+VLOOKUP(Viáticos[[#This Row],[Destino]],Tabla216[#All],7,0))+(Viáticos[[#This Row],[Número de días por viático]]-1)*(VLOOKUP(Viáticos[[#This Row],[Destino]],Tabla216[#All],8,0)+VLOOKUP(Viáticos[[#This Row],[Destino]],Tabla216[#All],9,0)),\"\")))*Viáticos[[#This Row],[Número de personas]]*(1+25%)),\"\")","v":""},null,null,{"$f":"IFERROR(IF(Viáticos[[#This Row],[Viático pactado]]=\"\",((Viáticos[[#This Row],[Valor Viático por viaje]]*(1+Viáticos[[#This Row],[% Administración]]/100))),(Viáticos[[#This Row],[Viático pactado]]*(1+Viáticos[[#This Row],[% Administración]]/100))),\"\")","v":""},null,{"$f":"+IFERROR(Viáticos[[#This Row],[Costo parcial]]*(Viáticos[[#This Row],[% Participación ]]/100),\"\")","v":""}]
[null,null,null,null,null,{"$f":"+IF(Viáticos[[#This Row],[Nivel del cargo]]=\"\",\"\",F51)","v":""},null,null,{"$f":"IFERROR(IF(Viáticos[[#This Row],[Nivel del cargo]]=\"No directivo\",((IF(OR(Viáticos[[#This Row],[Número de días por viático]]=\"\",Viáticos[[#This Row],[Número de personas]]=\"\"),\"\",IFERROR(2*(VLOOKUP(Viáticos[[#This Row],[Destino]],Tabla216[#All],3,0)+VLOOKUP(Viáticos[[#This Row],[Destino]],Tabla216[#All],4,0))+Viáticos[[#This Row],[Número de días por viático]]*(2*VLOOKUP(Viáticos[[#This Row],[Destino]],Tabla216[#All],5,0)+VLOOKUP(Viáticos[[#This Row],[Destino]],Tabla216[#All],6,0)+VLOOKUP(Viáticos[[#This Row],[Destino]],Tabla216[#All],7,0))+(Viáticos[[#This Row],[Número de días por viático]]-1)*(VLOOKUP(Viáticos[[#This Row],[Destino]],Tabla216[#All],8,0)+VLOOKUP(Viáticos[[#This Row],[Destino]],Tabla216[#All],9,0)),\"\"))))*Viáticos[[#This Row],[Número de personas]],(IF(OR(Viáticos[[#This Row],[Número de días por viático]]=\"\",Viáticos[[#This Row],[Número de personas]]=\"\"),\"\",IFERROR(2*(VLOOKUP(Viáticos[[#This Row],[Destino]],Tabla216[#All],3,0)+VLOOKUP(Viáticos[[#This Row],[Destino]],Tabla216[#All],4,0))+Viáticos[[#This Row],[Número de días por viático]]*(2*VLOOKUP(Viáticos[[#This Row],[Destino]],Tabla216[#All],5,0)+VLOOKUP(Viáticos[[#This Row],[Destino]],Tabla216[#All],6,0)+VLOOKUP(Viáticos[[#This Row],[Destino]],Tabla216[#All],7,0))+(Viáticos[[#This Row],[Número de días por viático]]-1)*(VLOOKUP(Viáticos[[#This Row],[Destino]],Tabla216[#All],8,0)+VLOOKUP(Viáticos[[#This Row],[Destino]],Tabla216[#All],9,0)),\"\")))*Viáticos[[#This Row],[Número de personas]]*(1+25%)),\"\")","v":""},null,null,{"$f":"IFERROR(IF(Viáticos[[#This Row],[Viático pactado]]=\"\",((Viáticos[[#This Row],[Valor Viático por viaje]]*(1+Viáticos[[#This Row],[% Administración]]/100))),(Viáticos[[#This Row],[Viático pactado]]*(1+Viáticos[[#This Row],[% Administración]]/100))),\"\")","v":""},null,{"$f":"+IFERROR(Viáticos[[#This Row],[Costo parcial]]*(Viáticos[[#This Row],[% Participación ]]/100),\"\")","v":""}]
[null,null,null,null,null,{"$f":"+IF(Viáticos[[#This Row],[Nivel del cargo]]=\"\",\"\",F52)","v":""},null,null,{"$f":"IFERROR(IF(Viáticos[[#This Row],[Nivel del cargo]]=\"No directivo\",((IF(OR(Viáticos[[#This Row],[Número de días por viático]]=\"\",Viáticos[[#This Row],[Número de personas]]=\"\"),\"\",IFERROR(2*(VLOOKUP(Viáticos[[#This Row],[Destino]],Tabla216[#All],3,0)+VLOOKUP(Viáticos[[#This Row],[Destino]],Tabla216[#All],4,0))+Viáticos[[#This Row],[Número de días por viático]]*(2*VLOOKUP(Viáticos[[#This Row],[Destino]],Tabla216[#All],5,0)+VLOOKUP(Viáticos[[#This Row],[Destino]],Tabla216[#All],6,0)+VLOOKUP(Viáticos[[#This Row],[Destino]],Tabla216[#All],7,0))+(Viáticos[[#This Row],[Número de días por viático]]-1)*(VLOOKUP(Viáticos[[#This Row],[Destino]],Tabla216[#All],8,0)+VLOOKUP(Viáticos[[#This Row],[Destino]],Tabla216[#All],9,0)),\"\"))))*Viáticos[[#This Row],[Número de personas]],(IF(OR(Viáticos[[#This Row],[Número de días por viático]]=\"\",Viáticos[[#This Row],[Número de personas]]=\"\"),\"\",IFERROR(2*(VLOOKUP(Viáticos[[#This Row],[Destino]],Tabla216[#All],3,0)+VLOOKUP(Viáticos[[#This Row],[Destino]],Tabla216[#All],4,0))+Viáticos[[#This Row],[Número de días por viático]]*(2*VLOOKUP(Viáticos[[#This Row],[Destino]],Tabla216[#All],5,0)+VLOOKUP(Viáticos[[#This Row],[Destino]],Tabla216[#All],6,0)+VLOOKUP(Viáticos[[#This Row],[Destino]],Tabla216[#All],7,0))+(Viáticos[[#This Row],[Número de días por viático]]-1)*(VLOOKUP(Viáticos[[#This Row],[Destino]],Tabla216[#All],8,0)+VLOOKUP(Viáticos[[#This Row],[Destino]],Tabla216[#All],9,0)),\"\")))*Viáticos[[#This Row],[Número de personas]]*(1+25%)),\"\")","v":""},null,null,{"$f":"IFERROR(IF(Viáticos[[#This Row],[Viático pactado]]=\"\",((Viáticos[[#This Row],[Valor Viático por viaje]]*(1+Viáticos[[#This Row],[% Administración]]/100))),(Viáticos[[#This Row],[Viático pactado]]*(1+Viáticos[[#This Row],[% Administración]]/100))),\"\")","v":""},null,{"$f":"+IFERROR(Viáticos[[#This Row],[Costo parcial]]*(Viáticos[[#This Row],[% Participación ]]/100),\"\")","v":""}]
[null,null,null,null,null,{"$f":"+IF(Viáticos[[#This Row],[Nivel del cargo]]=\"\",\"\",F53)","v":""},null,null,{"$f":"IFERROR(IF(Viáticos[[#This Row],[Nivel del cargo]]=\"No directivo\",((IF(OR(Viáticos[[#This Row],[Número de días por viático]]=\"\",Viáticos[[#This Row],[Número de personas]]=\"\"),\"\",IFERROR(2*(VLOOKUP(Viáticos[[#This Row],[Destino]],Tabla216[#All],3,0)+VLOOKUP(Viáticos[[#This Row],[Destino]],Tabla216[#All],4,0))+Viáticos[[#This Row],[Número de días por viático]]*(2*VLOOKUP(Viáticos[[#This Row],[Destino]],Tabla216[#All],5,0)+VLOOKUP(Viáticos[[#This Row],[Destino]],Tabla216[#All],6,0)+VLOOKUP(Viáticos[[#This Row],[Destino]],Tabla216[#All],7,0))+(Viáticos[[#This Row],[Número de días por viático]]-1)*(VLOOKUP(Viáticos[[#This Row],[Destino]],Tabla216[#All],8,0)+VLOOKUP(Viáticos[[#This Row],[Destino]],Tabla216[#All],9,0)),\"\"))))*Viáticos[[#This Row],[Número de personas]],(IF(OR(Viáticos[[#This Row],[Número de días por viático]]=\"\",Viáticos[[#This Row],[Número de personas]]=\"\"),\"\",IFERROR(2*(VLOOKUP(Viáticos[[#This Row],[Destino]],Tabla216[#All],3,0)+VLOOKUP(Viáticos[[#This Row],[Destino]],Tabla216[#All],4,0))+Viáticos[[#This Row],[Número de días por viático]]*(2*VLOOKUP(Viáticos[[#This Row],[Destino]],Tabla216[#All],5,0)+VLOOKUP(Viáticos[[#This Row],[Destino]],Tabla216[#All],6,0)+VLOOKUP(Viáticos[[#This Row],[Destino]],Tabla216[#All],7,0))+(Viáticos[[#This Row],[Número de días por viático]]-1)*(VLOOKUP(Viáticos[[#This Row],[Destino]],Tabla216[#All],8,0)+VLOOKUP(Viáticos[[#This Row],[Destino]],Tabla216[#All],9,0)),\"\")))*Viáticos[[#This Row],[Número de personas]]*(1+25%)),\"\")","v":""},null,null,{"$f":"IFERROR(IF(Viáticos[[#This Row],[Viático pactado]]=\"\",((Viáticos[[#This Row],[Valor Viático por viaje]]*(1+Viáticos[[#This Row],[% Administración]]/100))),(Viáticos[[#This Row],[Viático pactado]]*(1+Viáticos[[#This Row],[% Administración]]/100))),\"\")","v":""},null,{"$f":"+IFERROR(Viáticos[[#This Row],[Costo parcial]]*(Viáticos[[#This Row],[% Participación ]]/100),\"\")","v":""}]
[null,null,null,null,null,{"$f":"+IF(Viáticos[[#This Row],[Nivel del cargo]]=\"\",\"\",F54)","v":""},null,null,{"$f":"IFERROR(IF(Viáticos[[#This Row],[Nivel del cargo]]=\"No directivo\",((IF(OR(Viáticos[[#This Row],[Número de días por viático]]=\"\",Viáticos[[#This Row],[Número de personas]]=\"\"),\"\",IFERROR(2*(VLOOKUP(Viáticos[[#This Row],[Destino]],Tabla216[#All],3,0)+VLOOKUP(Viáticos[[#This Row],[Destino]],Tabla216[#All],4,0))+Viáticos[[#This Row],[Número de días por viático]]*(2*VLOOKUP(Viáticos[[#This Row],[Destino]],Tabla216[#All],5,0)+VLOOKUP(Viáticos[[#This Row],[Destino]],Tabla216[#All],6,0)+VLOOKUP(Viáticos[[#This Row],[Destino]],Tabla216[#All],7,0))+(Viáticos[[#This Row],[Número de días por viático]]-1)*(VLOOKUP(Viáticos[[#This Row],[Destino]],Tabla216[#All],8,0)+VLOOKUP(Viáticos[[#This Row],[Destino]],Tabla216[#All],9,0)),\"\"))))*Viáticos[[#This Row],[Número de personas]],(IF(OR(Viáticos[[#This Row],[Número de días por viático]]=\"\",Viáticos[[#This Row],[Número de personas]]=\"\"),\"\",IFERROR(2*(VLOOKUP(Viáticos[[#This Row],[Destino]],Tabla216[#All],3,0)+VLOOKUP(Viáticos[[#This Row],[Destino]],Tabla216[#All],4,0))+Viáticos[[#This Row],[Número de días por viático]]*(2*VLOOKUP(Viáticos[[#This Row],[Destino]],Tabla216[#All],5,0)+VLOOKUP(Viáticos[[#This Row],[Destino]],Tabla216[#All],6,0)+VLOOKUP(Viáticos[[#This Row],[Destino]],Tabla216[#All],7,0))+(Viáticos[[#This Row],[Número de días por viático]]-1)*(VLOOKUP(Viáticos[[#This Row],[Destino]],Tabla216[#All],8,0)+VLOOKUP(Viáticos[[#This Row],[Destino]],Tabla216[#All],9,0)),\"\")))*Viáticos[[#This Row],[Número de personas]]*(1+25%)),\"\")","v":""},null,null,{"$f":"IFERROR(IF(Viáticos[[#This Row],[Viático pactado]]=\"\",((Viáticos[[#This Row],[Valor Viático por viaje]]*(1+Viáticos[[#This Row],[% Administración]]/100))),(Viáticos[[#This Row],[Viático pactado]]*(1+Viáticos[[#This Row],[% Administración]]/100))),\"\")","v":""},null,{"$f":"+IFERROR(Viáticos[[#This Row],[Costo parcial]]*(Viáticos[[#This Row],[% Participación ]]/100),\"\")","v":""}]
[null,null,null,null,null,{"$f":"+IF(Viáticos[[#This Row],[Nivel del cargo]]=\"\",\"\",F55)","v":""},null,null,{"$f":"IFERROR(IF(Viáticos[[#This Row],[Nivel del cargo]]=\"No directivo\",((IF(OR(Viáticos[[#This Row],[Número de días por viático]]=\"\",Viáticos[[#This Row],[Número de personas]]=\"\"),\"\",IFERROR(2*(VLOOKUP(Viáticos[[#This Row],[Destino]],Tabla216[#All],3,0)+VLOOKUP(Viáticos[[#This Row],[Destino]],Tabla216[#All],4,0))+Viáticos[[#This Row],[Número de días por viático]]*(2*VLOOKUP(Viáticos[[#This Row],[Destino]],Tabla216[#All],5,0)+VLOOKUP(Viáticos[[#This Row],[Destino]],Tabla216[#All],6,0)+VLOOKUP(Viáticos[[#This Row],[Destino]],Tabla216[#All],7,0))+(Viáticos[[#This Row],[Número de días por viático]]-1)*(VLOOKUP(Viáticos[[#This Row],[Destino]],Tabla216[#All],8,0)+VLOOKUP(Viáticos[[#This Row],[Destino]],Tabla216[#All],9,0)),\"\"))))*Viáticos[[#This Row],[Número de personas]],(IF(OR(Viáticos[[#This Row],[Número de días por viático]]=\"\",Viáticos[[#This Row],[Número de personas]]=\"\"),\"\",IFERROR(2*(VLOOKUP(Viáticos[[#This Row],[Destino]],Tabla216[#All],3,0)+VLOOKUP(Viáticos[[#This Row],[Destino]],Tabla216[#All],4,0))+Viáticos[[#This Row],[Número de días por viático]]*(2*VLOOKUP(Viáticos[[#This Row],[Destino]],Tabla216[#All],5,0)+VLOOKUP(Viáticos[[#This Row],[Destino]],Tabla216[#All],6,0)+VLOOKUP(Viáticos[[#This Row],[Destino]],Tabla216[#All],7,0))+(Viáticos[[#This Row],[Número de días por viático]]-1)*(VLOOKUP(Viáticos[[#This Row],[Destino]],Tabla216[#All],8,0)+VLOOKUP(Viáticos[[#This Row],[Destino]],Tabla216[#All],9,0)),\"\")))*Viáticos[[#This Row],[Número de personas]]*(1+25%)),\"\")","v":""},null,null,{"$f":"IFERROR(IF(Viáticos[[#This Row],[Viático pactado]]=\"\",((Viáticos[[#This Row],[Valor Viático por viaje]]*(1+Viáticos[[#This Row],[% Administración]]/100))),(Viáticos[[#This Row],[Viático pactado]]*(1+Viáticos[[#This Row],[% Administración]]/100))),\"\")","v":""},null,{"$f":"+IFERROR(Viáticos[[#This Row],[Costo parcial]]*(Viáticos[[#This Row],[% Participación ]]/100),\"\")","v":""}]
[null,null,null,null,null,{"$f":"+IF(Viáticos[[#This Row],[Nivel del cargo]]=\"\",\"\",F56)","v":""},null,null,{"$f":"IFERROR(IF(Viáticos[[#This Row],[Nivel del cargo]]=\"No directivo\",((IF(OR(Viáticos[[#This Row],[Número de días por viático]]=\"\",Viáticos[[#This Row],[Número de personas]]=\"\"),\"\",IFERROR(2*(VLOOKUP(Viáticos[[#This Row],[Destino]],Tabla216[#All],3,0)+VLOOKUP(Viáticos[[#This Row],[Destino]],Tabla216[#All],4,0))+Viáticos[[#This Row],[Número de días por viático]]*(2*VLOOKUP(Viáticos[[#This Row],[Destino]],Tabla216[#All],5,0)+VLOOKUP(Viáticos[[#This Row],[Destino]],Tabla216[#All],6,0)+VLOOKUP(Viáticos[[#This Row],[Destino]],Tabla216[#All],7,0))+(Viáticos[[#This Row],[Número de días por viático]]-1)*(VLOOKUP(Viáticos[[#This Row],[Destino]],Tabla216[#All],8,0)+VLOOKUP(Viáticos[[#This Row],[Destino]],Tabla216[#All],9,0)),\"\"))))*Viáticos[[#This Row],[Número de personas]],(IF(OR(Viáticos[[#This Row],[Número de días por viático]]=\"\",Viáticos[[#This Row],[Número de personas]]=\"\"),\"\",IFERROR(2*(VLOOKUP(Viáticos[[#This Row],[Destino]],Tabla216[#All],3,0)+VLOOKUP(Viáticos[[#This Row],[Destino]],Tabla216[#All],4,0))+Viáticos[[#This Row],[Número de días por viático]]*(2*VLOOKUP(Viáticos[[#This Row],[Destino]],Tabla216[#All],5,0)+VLOOKUP(Viáticos[[#This Row],[Destino]],Tabla216[#All],6,0)+VLOOKUP(Viáticos[[#This Row],[Destino]],Tabla216[#All],7,0))+(Viáticos[[#This Row],[Número de días por viático]]-1)*(VLOOKUP(Viáticos[[#This Row],[Destino]],Tabla216[#All],8,0)+VLOOKUP(Viáticos[[#This Row],[Destino]],Tabla216[#All],9,0)),\"\")))*Viáticos[[#This Row],[Número de personas]]*(1+25%)),\"\")","v":""},null,null,{"$f":"IFERROR(IF(Viáticos[[#This Row],[Viático pactado]]=\"\",((Viáticos[[#This Row],[Valor Viático por viaje]]*(1+Viáticos[[#This Row],[% Administración]]/100))),(Viáticos[[#This Row],[Viático pactado]]*(1+Viáticos[[#This Row],[% Administración]]/100))),\"\")","v":""},null,{"$f":"+IFERROR(Viáticos[[#This Row],[Costo parcial]]*(Viáticos[[#This Row],[% Participación ]]/100),\"\")","v":""}]
[null,null,null,null,null,{"$f":"+IF(Viáticos[[#This Row],[Nivel del cargo]]=\"\",\"\",F57)","v":""},null,null,{"$f":"IFERROR(IF(Viáticos[[#This Row],[Nivel del cargo]]=\"No directivo\",((IF(OR(Viáticos[[#This Row],[Número de días por viático]]=\"\",Viáticos[[#This Row],[Número de personas]]=\"\"),\"\",IFERROR(2*(VLOOKUP(Viáticos[[#This Row],[Destino]],Tabla216[#All],3,0)+VLOOKUP(Viáticos[[#This Row],[Destino]],Tabla216[#All],4,0))+Viáticos[[#This Row],[Número de días por viático]]*(2*VLOOKUP(Viáticos[[#This Row],[Destino]],Tabla216[#All],5,0)+VLOOKUP(Viáticos[[#This Row],[Destino]],Tabla216[#All],6,0)+VLOOKUP(Viáticos[[#This Row],[Destino]],Tabla216[#All],7,0))+(Viáticos[[#This Row],[Número de días por viático]]-1)*(VLOOKUP(Viáticos[[#This Row],[Destino]],Tabla216[#All],8,0)+VLOOKUP(Viáticos[[#This Row],[Destino]],Tabla216[#All],9,0)),\"\"))))*Viáticos[[#This Row],[Número de personas]],(IF(OR(Viáticos[[#This Row],[Número de días por viático]]=\"\",Viáticos[[#This Row],[Número de personas]]=\"\"),\"\",IFERROR(2*(VLOOKUP(Viáticos[[#This Row],[Destino]],Tabla216[#All],3,0)+VLOOKUP(Viáticos[[#This Row],[Destino]],Tabla216[#All],4,0))+Viáticos[[#This Row],[Número de días por viático]]*(2*VLOOKUP(Viáticos[[#This Row],[Destino]],Tabla216[#All],5,0)+VLOOKUP(Viáticos[[#This Row],[Destino]],Tabla216[#All],6,0)+VLOOKUP(Viáticos[[#This Row],[Destino]],Tabla216[#All],7,0))+(Viáticos[[#This Row],[Número de días por viático]]-1)*(VLOOKUP(Viáticos[[#This Row],[Destino]],Tabla216[#All],8,0)+VLOOKUP(Viáticos[[#This Row],[Destino]],Tabla216[#All],9,0)),\"\")))*Viáticos[[#This Row],[Número de personas]]*(1+25%)),\"\")","v":""},null,null,{"$f":"IFERROR(IF(Viáticos[[#This Row],[Viático pactado]]=\"\",((Viáticos[[#This Row],[Valor Viático por viaje]]*(1+Viáticos[[#This Row],[% Administración]]/100))),(Viáticos[[#This Row],[Viático pactado]]*(1+Viáticos[[#This Row],[% Administración]]/100))),\"\")","v":""},null,{"$f":"+IFERROR(Viáticos[[#This Row],[Costo parcial]]*(Viáticos[[#This Row],[% Participación ]]/100),\"\")","v":""}]
[null,null,null,null,null,{"$f":"+IF(Viáticos[[#This Row],[Nivel del cargo]]=\"\",\"\",F58)","v":""},null,null,{"$f":"IFERROR(IF(Viáticos[[#This Row],[Nivel del cargo]]=\"No directivo\",((IF(OR(Viáticos[[#This Row],[Número de días por viático]]=\"\",Viáticos[[#This Row],[Número de personas]]=\"\"),\"\",IFERROR(2*(VLOOKUP(Viáticos[[#This Row],[Destino]],Tabla216[#All],3,0)+VLOOKUP(Viáticos[[#This Row],[Destino]],Tabla216[#All],4,0))+Viáticos[[#This Row],[Número de días por viático]]*(2*VLOOKUP(Viáticos[[#This Row],[Destino]],Tabla216[#All],5,0)+VLOOKUP(Viáticos[[#This Row],[Destino]],Tabla216[#All],6,0)+VLOOKUP(Viáticos[[#This Row],[Destino]],Tabla216[#All],7,0))+(Viáticos[[#This Row],[Número de días por viático]]-1)*(VLOOKUP(Viáticos[[#This Row],[Destino]],Tabla216[#All],8,0)+VLOOKUP(Viáticos[[#This Row],[Destino]],Tabla216[#All],9,0)),\"\"))))*Viáticos[[#This Row],[Número de personas]],(IF(OR(Viáticos[[#This Row],[Número de días por viático]]=\"\",Viáticos[[#This Row],[Número de personas]]=\"\"),\"\",IFERROR(2*(VLOOKUP(Viáticos[[#This Row],[Destino]],Tabla216[#All],3,0)+VLOOKUP(Viáticos[[#This Row],[Destino]],Tabla216[#All],4,0))+Viáticos[[#This Row],[Número de días por viático]]*(2*VLOOKUP(Viáticos[[#This Row],[Destino]],Tabla216[#All],5,0)+VLOOKUP(Viáticos[[#This Row],[Destino]],Tabla216[#All],6,0)+VLOOKUP(Viáticos[[#This Row],[Destino]],Tabla216[#All],7,0))+(Viáticos[[#This Row],[Número de días por viático]]-1)*(VLOOKUP(Viáticos[[#This Row],[Destino]],Tabla216[#All],8,0)+VLOOKUP(Viáticos[[#This Row],[Destino]],Tabla216[#All],9,0)),\"\")))*Viáticos[[#This Row],[Número de personas]]*(1+25%)),\"\")","v":""},null,null,{"$f":"IFERROR(IF(Viáticos[[#This Row],[Viático pactado]]=\"\",((Viáticos[[#This Row],[Valor Viático por viaje]]*(1+Viáticos[[#This Row],[% Administración]]/100))),(Viáticos[[#This Row],[Viático pactado]]*(1+Viáticos[[#This Row],[% Administración]]/100))),\"\")","v":""},null,{"$f":"+IFERROR(Viáticos[[#This Row],[Costo parcial]]*(Viáticos[[#This Row],[% Participación ]]/100),\"\")","v":""}]
[null,null,null,null,null,{"$f":"+IF(Viáticos[[#This Row],[Nivel del cargo]]=\"\",\"\",F59)","v":""},null,null,{"$f":"IFERROR(IF(Viáticos[[#This Row],[Nivel del cargo]]=\"No directivo\",((IF(OR(Viáticos[[#This Row],[Número de días por viático]]=\"\",Viáticos[[#This Row],[Número de personas]]=\"\"),\"\",IFERROR(2*(VLOOKUP(Viáticos[[#This Row],[Destino]],Tabla216[#All],3,0)+VLOOKUP(Viáticos[[#This Row],[Destino]],Tabla216[#All],4,0))+Viáticos[[#This Row],[Número de días por viático]]*(2*VLOOKUP(Viáticos[[#This Row],[Destino]],Tabla216[#All],5,0)+VLOOKUP(Viáticos[[#This Row],[Destino]],Tabla216[#All],6,0)+VLOOKUP(Viáticos[[#This Row],[Destino]],Tabla216[#All],7,0))+(Viáticos[[#This Row],[Número de días por viático]]-1)*(VLOOKUP(Viáticos[[#This Row],[Destino]],Tabla216[#All],8,0)+VLOOKUP(Viáticos[[#This Row],[Destino]],Tabla216[#All],9,0)),\"\"))))*Viáticos[[#This Row],[Número de personas]],(IF(OR(Viáticos[[#This Row],[Número de días por viático]]=\"\",Viáticos[[#This Row],[Número de personas]]=\"\"),\"\",IFERROR(2*(VLOOKUP(Viáticos[[#This Row],[Destino]],Tabla216[#All],3,0)+VLOOKUP(Viáticos[[#This Row],[Destino]],Tabla216[#All],4,0))+Viáticos[[#This Row],[Número de días por viático]]*(2*VLOOKUP(Viáticos[[#This Row],[Destino]],Tabla216[#All],5,0)+VLOOKUP(Viáticos[[#This Row],[Destino]],Tabla216[#All],6,0)+VLOOKUP(Viáticos[[#This Row],[Destino]],Tabla216[#All],7,0))+(Viáticos[[#This Row],[Número de días por viático]]-1)*(VLOOKUP(Viáticos[[#This Row],[Destino]],Tabla216[#All],8,0)+VLOOKUP(Viáticos[[#This Row],[Destino]],Tabla216[#All],9,0)),\"\")))*Viáticos[[#This Row],[Número de personas]]*(1+25%)),\"\")","v":""},null,null,{"$f":"IFERROR(IF(Viáticos[[#This Row],[Viático pactado]]=\"\",((Viáticos[[#This Row],[Valor Viático por viaje]]*(1+Viáticos[[#This Row],[% Administración]]/100))),(Viáticos[[#This Row],[Viático pactado]]*(1+Viáticos[[#This Row],[% Administración]]/100))),\"\")","v":""},null,{"$f":"+IFERROR(Viáticos[[#This Row],[Costo parcial]]*(Viáticos[[#This Row],[% Participación ]]/100),\"\")","v":""}]
[null,null,null,null,null,{"$f":"+IF(Viáticos[[#This Row],[Nivel del cargo]]=\"\",\"\",F60)","v":""},null,null,{"$f":"IFERROR(IF(Viáticos[[#This Row],[Nivel del cargo]]=\"No directivo\",((IF(OR(Viáticos[[#This Row],[Número de días por viático]]=\"\",Viáticos[[#This Row],[Número de personas]]=\"\"),\"\",IFERROR(2*(VLOOKUP(Viáticos[[#This Row],[Destino]],Tabla216[#All],3,0)+VLOOKUP(Viáticos[[#This Row],[Destino]],Tabla216[#All],4,0))+Viáticos[[#This Row],[Número de días por viático]]*(2*VLOOKUP(Viáticos[[#This Row],[Destino]],Tabla216[#All],5,0)+VLOOKUP(Viáticos[[#This Row],[Destino]],Tabla216[#All],6,0)+VLOOKUP(Viáticos[[#This Row],[Destino]],Tabla216[#All],7,0))+(Viáticos[[#This Row],[Número de días por viático]]-1)*(VLOOKUP(Viáticos[[#This Row],[Destino]],Tabla216[#All],8,0)+VLOOKUP(Viáticos[[#This Row],[Destino]],Tabla216[#All],9,0)),\"\"))))*Viáticos[[#This Row],[Número de personas]],(IF(OR(Viáticos[[#This Row],[Número de días por viático]]=\"\",Viáticos[[#This Row],[Número de personas]]=\"\"),\"\",IFERROR(2*(VLOOKUP(Viáticos[[#This Row],[Destino]],Tabla216[#All],3,0)+VLOOKUP(Viáticos[[#This Row],[Destino]],Tabla216[#All],4,0))+Viáticos[[#This Row],[Número de días por viático]]*(2*VLOOKUP(Viáticos[[#This Row],[Destino]],Tabla216[#All],5,0)+VLOOKUP(Viáticos[[#This Row],[Destino]],Tabla216[#All],6,0)+VLOOKUP(Viáticos[[#This Row],[Destino]],Tabla216[#All],7,0))+(Viáticos[[#This Row],[Número de días por viático]]-1)*(VLOOKUP(Viáticos[[#This Row],[Destino]],Tabla216[#All],8,0)+VLOOKUP(Viáticos[[#This Row],[Destino]],Tabla216[#All],9,0)),\"\")))*Viáticos[[#This Row],[Número de personas]]*(1+25%)),\"\")","v":""},null,null,{"$f":"IFERROR(IF(Viáticos[[#This Row],[Viático pactado]]=\"\",((Viáticos[[#This Row],[Valor Viático por viaje]]*(1+Viáticos[[#This Row],[% Administración]]/100))),(Viáticos[[#This Row],[Viático pactado]]*(1+Viáticos[[#This Row],[% Administración]]/100))),\"\")","v":""},null,{"$f":"+IFERROR(Viáticos[[#This Row],[Costo parcial]]*(Viáticos[[#This Row],[% Participación ]]/100),\"\")","v":""}]
[null,null,null,null,null,{"$f":"+IF(Viáticos[[#This Row],[Nivel del cargo]]=\"\",\"\",F61)","v":""},null,null,{"$f":"IFERROR(IF(Viáticos[[#This Row],[Nivel del cargo]]=\"No directivo\",((IF(OR(Viáticos[[#This Row],[Número de días por viático]]=\"\",Viáticos[[#This Row],[Número de personas]]=\"\"),\"\",IFERROR(2*(VLOOKUP(Viáticos[[#This Row],[Destino]],Tabla216[#All],3,0)+VLOOKUP(Viáticos[[#This Row],[Destino]],Tabla216[#All],4,0))+Viáticos[[#This Row],[Número de días por viático]]*(2*VLOOKUP(Viáticos[[#This Row],[Destino]],Tabla216[#All],5,0)+VLOOKUP(Viáticos[[#This Row],[Destino]],Tabla216[#All],6,0)+VLOOKUP(Viáticos[[#This Row],[Destino]],Tabla216[#All],7,0))+(Viáticos[[#This Row],[Número de días por viático]]-1)*(VLOOKUP(Viáticos[[#This Row],[Destino]],Tabla216[#All],8,0)+VLOOKUP(Viáticos[[#This Row],[Destino]],Tabla216[#All],9,0)),\"\"))))*Viáticos[[#This Row],[Número de personas]],(IF(OR(Viáticos[[#This Row],[Número de días por viático]]=\"\",Viáticos[[#This Row],[Número de personas]]=\"\"),\"\",IFERROR(2*(VLOOKUP(Viáticos[[#This Row],[Destino]],Tabla216[#All],3,0)+VLOOKUP(Viáticos[[#This Row],[Destino]],Tabla216[#All],4,0))+Viáticos[[#This Row],[Número de días por viático]]*(2*VLOOKUP(Viáticos[[#This Row],[Destino]],Tabla216[#All],5,0)+VLOOKUP(Viáticos[[#This Row],[Destino]],Tabla216[#All],6,0)+VLOOKUP(Viáticos[[#This Row],[Destino]],Tabla216[#All],7,0))+(Viáticos[[#This Row],[Número de días por viático]]-1)*(VLOOKUP(Viáticos[[#This Row],[Destino]],Tabla216[#All],8,0)+VLOOKUP(Viáticos[[#This Row],[Destino]],Tabla216[#All],9,0)),\"\")))*Viáticos[[#This Row],[Número de personas]]*(1+25%)),\"\")","v":""},null,null,{"$f":"IFERROR(IF(Viáticos[[#This Row],[Viático pactado]]=\"\",((Viáticos[[#This Row],[Valor Viático por viaje]]*(1+Viáticos[[#This Row],[% Administración]]/100))),(Viáticos[[#This Row],[Viático pactado]]*(1+Viáticos[[#This Row],[% Administración]]/100))),\"\")","v":""},null,{"$f":"+IFERROR(Viáticos[[#This Row],[Costo parcial]]*(Viáticos[[#This Row],[% Participación ]]/100),\"\")","v":""}]
[null,null,null,null,null,{"$f":"+IF(Viáticos[[#This Row],[Nivel del cargo]]=\"\",\"\",F62)","v":""},null,null,{"$f":"IFERROR(IF(Viáticos[[#This Row],[Nivel del cargo]]=\"No directivo\",((IF(OR(Viáticos[[#This Row],[Número de días por viático]]=\"\",Viáticos[[#This Row],[Número de personas]]=\"\"),\"\",IFERROR(2*(VLOOKUP(Viáticos[[#This Row],[Destino]],Tabla216[#All],3,0)+VLOOKUP(Viáticos[[#This Row],[Destino]],Tabla216[#All],4,0))+Viáticos[[#This Row],[Número de días por viático]]*(2*VLOOKUP(Viáticos[[#This Row],[Destino]],Tabla216[#All],5,0)+VLOOKUP(Viáticos[[#This Row],[Destino]],Tabla216[#All],6,0)+VLOOKUP(Viáticos[[#This Row],[Destino]],Tabla216[#All],7,0))+(Viáticos[[#This Row],[Número de días por viático]]-1)*(VLOOKUP(Viáticos[[#This Row],[Destino]],Tabla216[#All],8,0)+VLOOKUP(Viáticos[[#This Row],[Destino]],Tabla216[#All],9,0)),\"\"))))*Viáticos[[#This Row],[Número de personas]],(IF(OR(Viáticos[[#This Row],[Número de días por viático]]=\"\",Viáticos[[#This Row],[Número de personas]]=\"\"),\"\",IFERROR(2*(VLOOKUP(Viáticos[[#This Row],[Destino]],Tabla216[#All],3,0)+VLOOKUP(Viáticos[[#This Row],[Destino]],Tabla216[#All],4,0))+Viáticos[[#This Row],[Número de días por viático]]*(2*VLOOKUP(Viáticos[[#This Row],[Destino]],Tabla216[#All],5,0)+VLOOKUP(Viáticos[[#This Row],[Destino]],Tabla216[#All],6,0)+VLOOKUP(Viáticos[[#This Row],[Destino]],Tabla216[#All],7,0))+(Viáticos[[#This Row],[Número de días por viático]]-1)*(VLOOKUP(Viáticos[[#This Row],[Destino]],Tabla216[#All],8,0)+VLOOKUP(Viáticos[[#This Row],[Destino]],Tabla216[#All],9,0)),\"\")))*Viáticos[[#This Row],[Número de personas]]*(1+25%)),\"\")","v":""},null,null,{"$f":"IFERROR(IF(Viáticos[[#This Row],[Viático pactado]]=\"\",((Viáticos[[#This Row],[Valor Viático por viaje]]*(1+Viáticos[[#This Row],[% Administración]]/100))),(Viáticos[[#This Row],[Viático pactado]]*(1+Viáticos[[#This Row],[% Administración]]/100))),\"\")","v":""},null,{"$f":"+IFERROR(Viáticos[[#This Row],[Costo parcial]]*(Viáticos[[#This Row],[% Participación ]]/100),\"\")","v":""}]
[null,null,null,null,null,{"$f":"+IF(Viáticos[[#This Row],[Nivel del cargo]]=\"\",\"\",F63)","v":""},null,null,{"$f":"IFERROR(IF(Viáticos[[#This Row],[Nivel del cargo]]=\"No directivo\",((IF(OR(Viáticos[[#This Row],[Número de días por viático]]=\"\",Viáticos[[#This Row],[Número de personas]]=\"\"),\"\",IFERROR(2*(VLOOKUP(Viáticos[[#This Row],[Destino]],Tabla216[#All],3,0)+VLOOKUP(Viáticos[[#This Row],[Destino]],Tabla216[#All],4,0))+Viáticos[[#This Row],[Número de días por viático]]*(2*VLOOKUP(Viáticos[[#This Row],[Destino]],Tabla216[#All],5,0)+VLOOKUP(Viáticos[[#This Row],[Destino]],Tabla216[#All],6,0)+VLOOKUP(Viáticos[[#This Row],[Destino]],Tabla216[#All],7,0))+(Viáticos[[#This Row],[Número de días por viático]]-1)*(VLOOKUP(Viáticos[[#This Row],[Destino]],Tabla216[#All],8,0)+VLOOKUP(Viáticos[[#This Row],[Destino]],Tabla216[#All],9,0)),\"\"))))*Viáticos[[#This Row],[Número de personas]],(IF(OR(Viáticos[[#This Row],[Número de días por viático]]=\"\",Viáticos[[#This Row],[Número de personas]]=\"\"),\"\",IFERROR(2*(VLOOKUP(Viáticos[[#This Row],[Destino]],Tabla216[#All],3,0)+VLOOKUP(Viáticos[[#This Row],[Destino]],Tabla216[#All],4,0))+Viáticos[[#This Row],[Número de días por viático]]*(2*VLOOKUP(Viáticos[[#This Row],[Destino]],Tabla216[#All],5,0)+VLOOKUP(Viáticos[[#This Row],[Destino]],Tabla216[#All],6,0)+VLOOKUP(Viáticos[[#This Row],[Destino]],Tabla216[#All],7,0))+(Viáticos[[#This Row],[Número de días por viático]]-1)*(VLOOKUP(Viáticos[[#This Row],[Destino]],Tabla216[#All],8,0)+VLOOKUP(Viáticos[[#This Row],[Destino]],Tabla216[#All],9,0)),\"\")))*Viáticos[[#This Row],[Número de personas]]*(1+25%)),\"\")","v":""},null,null,{"$f":"IFERROR(IF(Viáticos[[#This Row],[Viático pactado]]=\"\",((Viáticos[[#This Row],[Valor Viático por viaje]]*(1+Viáticos[[#This Row],[% Administración]]/100))),(Viáticos[[#This Row],[Viático pactado]]*(1+Viáticos[[#This Row],[% Administración]]/100))),\"\")","v":""},null,{"$f":"+IFERROR(Viáticos[[#This Row],[Costo parcial]]*(Viáticos[[#This Row],[% Participación ]]/100),\"\")","v":""}]
[null,null,null,null,null,{"$f":"+IF(Viáticos[[#This Row],[Nivel del cargo]]=\"\",\"\",F64)","v":""},null,null,{"$f":"IFERROR(IF(Viáticos[[#This Row],[Nivel del cargo]]=\"No directivo\",((IF(OR(Viáticos[[#This Row],[Número de días por viático]]=\"\",Viáticos[[#This Row],[Número de personas]]=\"\"),\"\",IFERROR(2*(VLOOKUP(Viáticos[[#This Row],[Destino]],Tabla216[#All],3,0)+VLOOKUP(Viáticos[[#This Row],[Destino]],Tabla216[#All],4,0))+Viáticos[[#This Row],[Número de días por viático]]*(2*VLOOKUP(Viáticos[[#This Row],[Destino]],Tabla216[#All],5,0)+VLOOKUP(Viáticos[[#This Row],[Destino]],Tabla216[#All],6,0)+VLOOKUP(Viáticos[[#This Row],[Destino]],Tabla216[#All],7,0))+(Viáticos[[#This Row],[Número de días por viático]]-1)*(VLOOKUP(Viáticos[[#This Row],[Destino]],Tabla216[#All],8,0)+VLOOKUP(Viáticos[[#This Row],[Destino]],Tabla216[#All],9,0)),\"\"))))*Viáticos[[#This Row],[Número de personas]],(IF(OR(Viáticos[[#This Row],[Número de días por viático]]=\"\",Viáticos[[#This Row],[Número de personas]]=\"\"),\"\",IFERROR(2*(VLOOKUP(Viáticos[[#This Row],[Destino]],Tabla216[#All],3,0)+VLOOKUP(Viáticos[[#This Row],[Destino]],Tabla216[#All],4,0))+Viáticos[[#This Row],[Número de días por viático]]*(2*VLOOKUP(Viáticos[[#This Row],[Destino]],Tabla216[#All],5,0)+VLOOKUP(Viáticos[[#This Row],[Destino]],Tabla216[#All],6,0)+VLOOKUP(Viáticos[[#This Row],[Destino]],Tabla216[#All],7,0))+(Viáticos[[#This Row],[Número de días por viático]]-1)*(VLOOKUP(Viáticos[[#This Row],[Destino]],Tabla216[#All],8,0)+VLOOKUP(Viáticos[[#This Row],[Destino]],Tabla216[#All],9,0)),\"\")))*Viáticos[[#This Row],[Número de personas]]*(1+25%)),\"\")","v":""},null,null,{"$f":"IFERROR(IF(Viáticos[[#This Row],[Viático pactado]]=\"\",((Viáticos[[#This Row],[Valor Viático por viaje]]*(1+Viáticos[[#This Row],[% Administración]]/100))),(Viáticos[[#This Row],[Viático pactado]]*(1+Viáticos[[#This Row],[% Administración]]/100))),\"\")","v":""},null,{"$f":"+IFERROR(Viáticos[[#This Row],[Costo parcial]]*(Viáticos[[#This Row],[% Participación ]]/100),\"\")","v":""}]
[null,null,null,null,null,{"$f":"+IF(Viáticos[[#This Row],[Nivel del cargo]]=\"\",\"\",F65)","v":""},null,null,{"$f":"IFERROR(IF(Viáticos[[#This Row],[Nivel del cargo]]=\"No directivo\",((IF(OR(Viáticos[[#This Row],[Número de días por viático]]=\"\",Viáticos[[#This Row],[Número de personas]]=\"\"),\"\",IFERROR(2*(VLOOKUP(Viáticos[[#This Row],[Destino]],Tabla216[#All],3,0)+VLOOKUP(Viáticos[[#This Row],[Destino]],Tabla216[#All],4,0))+Viáticos[[#This Row],[Número de días por viático]]*(2*VLOOKUP(Viáticos[[#This Row],[Destino]],Tabla216[#All],5,0)+VLOOKUP(Viáticos[[#This Row],[Destino]],Tabla216[#All],6,0)+VLOOKUP(Viáticos[[#This Row],[Destino]],Tabla216[#All],7,0))+(Viáticos[[#This Row],[Número de días por viático]]-1)*(VLOOKUP(Viáticos[[#This Row],[Destino]],Tabla216[#All],8,0)+VLOOKUP(Viáticos[[#This Row],[Destino]],Tabla216[#All],9,0)),\"\"))))*Viáticos[[#This Row],[Número de personas]],(IF(OR(Viáticos[[#This Row],[Número de días por viático]]=\"\",Viáticos[[#This Row],[Número de personas]]=\"\"),\"\",IFERROR(2*(VLOOKUP(Viáticos[[#This Row],[Destino]],Tabla216[#All],3,0)+VLOOKUP(Viáticos[[#This Row],[Destino]],Tabla216[#All],4,0))+Viáticos[[#This Row],[Número de días por viático]]*(2*VLOOKUP(Viáticos[[#This Row],[Destino]],Tabla216[#All],5,0)+VLOOKUP(Viáticos[[#This Row],[Destino]],Tabla216[#All],6,0)+VLOOKUP(Viáticos[[#This Row],[Destino]],Tabla216[#All],7,0))+(Viáticos[[#This Row],[Número de días por viático]]-1)*(VLOOKUP(Viáticos[[#This Row],[Destino]],Tabla216[#All],8,0)+VLOOKUP(Viáticos[[#This Row],[Destino]],Tabla216[#All],9,0)),\"\")))*Viáticos[[#This Row],[Número de personas]]*(1+25%)),\"\")","v":""},null,null,{"$f":"IFERROR(IF(Viáticos[[#This Row],[Viático pactado]]=\"\",((Viáticos[[#This Row],[Valor Viático por viaje]]*(1+Viáticos[[#This Row],[% Administración]]/100))),(Viáticos[[#This Row],[Viático pactado]]*(1+Viáticos[[#This Row],[% Administración]]/100))),\"\")","v":""},null,{"$f":"+IFERROR(Viáticos[[#This Row],[Costo parcial]]*(Viáticos[[#This Row],[% Participación ]]/100),\"\")","v":""}]
[null,null,null,null,null,{"$f":"+IF(Viáticos[[#This Row],[Nivel del cargo]]=\"\",\"\",F66)","v":""},null,null,{"$f":"IFERROR(IF(Viáticos[[#This Row],[Nivel del cargo]]=\"No directivo\",((IF(OR(Viáticos[[#This Row],[Número de días por viático]]=\"\",Viáticos[[#This Row],[Número de personas]]=\"\"),\"\",IFERROR(2*(VLOOKUP(Viáticos[[#This Row],[Destino]],Tabla216[#All],3,0)+VLOOKUP(Viáticos[[#This Row],[Destino]],Tabla216[#All],4,0))+Viáticos[[#This Row],[Número de días por viático]]*(2*VLOOKUP(Viáticos[[#This Row],[Destino]],Tabla216[#All],5,0)+VLOOKUP(Viáticos[[#This Row],[Destino]],Tabla216[#All],6,0)+VLOOKUP(Viáticos[[#This Row],[Destino]],Tabla216[#All],7,0))+(Viáticos[[#This Row],[Número de días por viático]]-1)*(VLOOKUP(Viáticos[[#This Row],[Destino]],Tabla216[#All],8,0)+VLOOKUP(Viáticos[[#This Row],[Destino]],Tabla216[#All],9,0)),\"\"))))*Viáticos[[#This Row],[Número de personas]],(IF(OR(Viáticos[[#This Row],[Número de días por viático]]=\"\",Viáticos[[#This Row],[Número de personas]]=\"\"),\"\",IFERROR(2*(VLOOKUP(Viáticos[[#This Row],[Destino]],Tabla216[#All],3,0)+VLOOKUP(Viáticos[[#This Row],[Destino]],Tabla216[#All],4,0))+Viáticos[[#This Row],[Número de días por viático]]*(2*VLOOKUP(Viáticos[[#This Row],[Destino]],Tabla216[#All],5,0)+VLOOKUP(Viáticos[[#This Row],[Destino]],Tabla216[#All],6,0)+VLOOKUP(Viáticos[[#This Row],[Destino]],Tabla216[#All],7,0))+(Viáticos[[#This Row],[Número de días por viático]]-1)*(VLOOKUP(Viáticos[[#This Row],[Destino]],Tabla216[#All],8,0)+VLOOKUP(Viáticos[[#This Row],[Destino]],Tabla216[#All],9,0)),\"\")))*Viáticos[[#This Row],[Número de personas]]*(1+25%)),\"\")","v":""},null,null,{"$f":"IFERROR(IF(Viáticos[[#This Row],[Viático pactado]]=\"\",((Viáticos[[#This Row],[Valor Viático por viaje]]*(1+Viáticos[[#This Row],[% Administración]]/100))),(Viáticos[[#This Row],[Viático pactado]]*(1+Viáticos[[#This Row],[% Administración]]/100))),\"\")","v":""},null,{"$f":"+IFERROR(Viáticos[[#This Row],[Costo parcial]]*(Viáticos[[#This Row],[% Participación ]]/100),\"\")","v":""}]
[null,null,null,null,null,{"$f":"+IF(Viáticos[[#This Row],[Nivel del cargo]]=\"\",\"\",F67)","v":""},null,null,{"$f":"IFERROR(IF(Viáticos[[#This Row],[Nivel del cargo]]=\"No directivo\",((IF(OR(Viáticos[[#This Row],[Número de días por viático]]=\"\",Viáticos[[#This Row],[Número de personas]]=\"\"),\"\",IFERROR(2*(VLOOKUP(Viáticos[[#This Row],[Destino]],Tabla216[#All],3,0)+VLOOKUP(Viáticos[[#This Row],[Destino]],Tabla216[#All],4,0))+Viáticos[[#This Row],[Número de días por viático]]*(2*VLOOKUP(Viáticos[[#This Row],[Destino]],Tabla216[#All],5,0)+VLOOKUP(Viáticos[[#This Row],[Destino]],Tabla216[#All],6,0)+VLOOKUP(Viáticos[[#This Row],[Destino]],Tabla216[#All],7,0))+(Viáticos[[#This Row],[Número de días por viático]]-1)*(VLOOKUP(Viáticos[[#This Row],[Destino]],Tabla216[#All],8,0)+VLOOKUP(Viáticos[[#This Row],[Destino]],Tabla216[#All],9,0)),\"\"))))*Viáticos[[#This Row],[Número de personas]],(IF(OR(Viáticos[[#This Row],[Número de días por viático]]=\"\",Viáticos[[#This Row],[Número de personas]]=\"\"),\"\",IFERROR(2*(VLOOKUP(Viáticos[[#This Row],[Destino]],Tabla216[#All],3,0)+VLOOKUP(Viáticos[[#This Row],[Destino]],Tabla216[#All],4,0))+Viáticos[[#This Row],[Número de días por viático]]*(2*VLOOKUP(Viáticos[[#This Row],[Destino]],Tabla216[#All],5,0)+VLOOKUP(Viáticos[[#This Row],[Destino]],Tabla216[#All],6,0)+VLOOKUP(Viáticos[[#This Row],[Destino]],Tabla216[#All],7,0))+(Viáticos[[#This Row],[Número de días por viático]]-1)*(VLOOKUP(Viáticos[[#This Row],[Destino]],Tabla216[#All],8,0)+VLOOKUP(Viáticos[[#This Row],[Destino]],Tabla216[#All],9,0)),\"\")))*Viáticos[[#This Row],[Número de personas]]*(1+25%)),\"\")","v":""},null,null,{"$f":"IFERROR(IF(Viáticos[[#This Row],[Viático pactado]]=\"\",((Viáticos[[#This Row],[Valor Viático por viaje]]*(1+Viáticos[[#This Row],[% Administración]]/100))),(Viáticos[[#This Row],[Viático pactado]]*(1+Viáticos[[#This Row],[% Administración]]/100))),\"\")","v":""},null,{"$f":"+IFERROR(Viáticos[[#This Row],[Costo parcial]]*(Viáticos[[#This Row],[% Participación ]]/100),\"\")","v":""}]
[null,null,null,null,null,{"$f":"+IF(Viáticos[[#This Row],[Nivel del cargo]]=\"\",\"\",F68)","v":""},null,null,{"$f":"IFERROR(IF(Viáticos[[#This Row],[Nivel del cargo]]=\"No directivo\",((IF(OR(Viáticos[[#This Row],[Número de días por viático]]=\"\",Viáticos[[#This Row],[Número de personas]]=\"\"),\"\",IFERROR(2*(VLOOKUP(Viáticos[[#This Row],[Destino]],Tabla216[#All],3,0)+VLOOKUP(Viáticos[[#This Row],[Destino]],Tabla216[#All],4,0))+Viáticos[[#This Row],[Número de días por viático]]*(2*VLOOKUP(Viáticos[[#This Row],[Destino]],Tabla216[#All],5,0)+VLOOKUP(Viáticos[[#This Row],[Destino]],Tabla216[#All],6,0)+VLOOKUP(Viáticos[[#This Row],[Destino]],Tabla216[#All],7,0))+(Viáticos[[#This Row],[Número de días por viático]]-1)*(VLOOKUP(Viáticos[[#This Row],[Destino]],Tabla216[#All],8,0)+VLOOKUP(Viáticos[[#This Row],[Destino]],Tabla216[#All],9,0)),\"\"))))*Viáticos[[#This Row],[Número de personas]],(IF(OR(Viáticos[[#This Row],[Número de días por viático]]=\"\",Viáticos[[#This Row],[Número de personas]]=\"\"),\"\",IFERROR(2*(VLOOKUP(Viáticos[[#This Row],[Destino]],Tabla216[#All],3,0)+VLOOKUP(Viáticos[[#This Row],[Destino]],Tabla216[#All],4,0))+Viáticos[[#This Row],[Número de días por viático]]*(2*VLOOKUP(Viáticos[[#This Row],[Destino]],Tabla216[#All],5,0)+VLOOKUP(Viáticos[[#This Row],[Destino]],Tabla216[#All],6,0)+VLOOKUP(Viáticos[[#This Row],[Destino]],Tabla216[#All],7,0))+(Viáticos[[#This Row],[Número de días por viático]]-1)*(VLOOKUP(Viáticos[[#This Row],[Destino]],Tabla216[#All],8,0)+VLOOKUP(Viáticos[[#This Row],[Destino]],Tabla216[#All],9,0)),\"\")))*Viáticos[[#This Row],[Número de personas]]*(1+25%)),\"\")","v":""},null,null,{"$f":"IFERROR(IF(Viáticos[[#This Row],[Viático pactado]]=\"\",((Viáticos[[#This Row],[Valor Viático por viaje]]*(1+Viáticos[[#This Row],[% Administración]]/100))),(Viáticos[[#This Row],[Viático pactado]]*(1+Viáticos[[#This Row],[% Administración]]/100))),\"\")","v":""},null,{"$f":"+IFERROR(Viáticos[[#This Row],[Costo parcial]]*(Viáticos[[#This Row],[% Participación ]]/100),\"\")","v":""}]
[null,null,null,null,null,{"$f":"+IF(Viáticos[[#This Row],[Nivel del cargo]]=\"\",\"\",F69)","v":""},null,null,{"$f":"IFERROR(IF(Viáticos[[#This Row],[Nivel del cargo]]=\"No directivo\",((IF(OR(Viáticos[[#This Row],[Número de días por viático]]=\"\",Viáticos[[#This Row],[Número de personas]]=\"\"),\"\",IFERROR(2*(VLOOKUP(Viáticos[[#This Row],[Destino]],Tabla216[#All],3,0)+VLOOKUP(Viáticos[[#This Row],[Destino]],Tabla216[#All],4,0))+Viáticos[[#This Row],[Número de días por viático]]*(2*VLOOKUP(Viáticos[[#This Row],[Destino]],Tabla216[#All],5,0)+VLOOKUP(Viáticos[[#This Row],[Destino]],Tabla216[#All],6,0)+VLOOKUP(Viáticos[[#This Row],[Destino]],Tabla216[#All],7,0))+(Viáticos[[#This Row],[Número de días por viático]]-1)*(VLOOKUP(Viáticos[[#This Row],[Destino]],Tabla216[#All],8,0)+VLOOKUP(Viáticos[[#This Row],[Destino]],Tabla216[#All],9,0)),\"\"))))*Viáticos[[#This Row],[Número de personas]],(IF(OR(Viáticos[[#This Row],[Número de días por viático]]=\"\",Viáticos[[#This Row],[Número de personas]]=\"\"),\"\",IFERROR(2*(VLOOKUP(Viáticos[[#This Row],[Destino]],Tabla216[#All],3,0)+VLOOKUP(Viáticos[[#This Row],[Destino]],Tabla216[#All],4,0))+Viáticos[[#This Row],[Número de días por viático]]*(2*VLOOKUP(Viáticos[[#This Row],[Destino]],Tabla216[#All],5,0)+VLOOKUP(Viáticos[[#This Row],[Destino]],Tabla216[#All],6,0)+VLOOKUP(Viáticos[[#This Row],[Destino]],Tabla216[#All],7,0))+(Viáticos[[#This Row],[Número de días por viático]]-1)*(VLOOKUP(Viáticos[[#This Row],[Destino]],Tabla216[#All],8,0)+VLOOKUP(Viáticos[[#This Row],[Destino]],Tabla216[#All],9,0)),\"\")))*Viáticos[[#This Row],[Número de personas]]*(1+25%)),\"\")","v":""},null,null,{"$f":"IFERROR(IF(Viáticos[[#This Row],[Viático pactado]]=\"\",((Viáticos[[#This Row],[Valor Viático por viaje]]*(1+Viáticos[[#This Row],[% Administración]]/100))),(Viáticos[[#This Row],[Viático pactado]]*(1+Viáticos[[#This Row],[% Administración]]/100))),\"\")","v":""},null,{"$f":"+IFERROR(Viáticos[[#This Row],[Costo parcial]]*(Viáticos[[#This Row],[% Participación ]]/100),\"\")","v":""}]
[null,null,null,null,null,{"$f":"+IF(Viáticos[[#This Row],[Nivel del cargo]]=\"\",\"\",F70)","v":""},null,null,{"$f":"IFERROR(IF(Viáticos[[#This Row],[Nivel del cargo]]=\"No directivo\",((IF(OR(Viáticos[[#This Row],[Número de días por viático]]=\"\",Viáticos[[#This Row],[Número de personas]]=\"\"),\"\",IFERROR(2*(VLOOKUP(Viáticos[[#This Row],[Destino]],Tabla216[#All],3,0)+VLOOKUP(Viáticos[[#This Row],[Destino]],Tabla216[#All],4,0))+Viáticos[[#This Row],[Número de días por viático]]*(2*VLOOKUP(Viáticos[[#This Row],[Destino]],Tabla216[#All],5,0)+VLOOKUP(Viáticos[[#This Row],[Destino]],Tabla216[#All],6,0)+VLOOKUP(Viáticos[[#This Row],[Destino]],Tabla216[#All],7,0))+(Viáticos[[#This Row],[Número de días por viático]]-1)*(VLOOKUP(Viáticos[[#This Row],[Destino]],Tabla216[#All],8,0)+VLOOKUP(Viáticos[[#This Row],[Destino]],Tabla216[#All],9,0)),\"\"))))*Viáticos[[#This Row],[Número de personas]],(IF(OR(Viáticos[[#This Row],[Número de días por viático]]=\"\",Viáticos[[#This Row],[Número de personas]]=\"\"),\"\",IFERROR(2*(VLOOKUP(Viáticos[[#This Row],[Destino]],Tabla216[#All],3,0)+VLOOKUP(Viáticos[[#This Row],[Destino]],Tabla216[#All],4,0))+Viáticos[[#This Row],[Número de días por viático]]*(2*VLOOKUP(Viáticos[[#This Row],[Destino]],Tabla216[#All],5,0)+VLOOKUP(Viáticos[[#This Row],[Destino]],Tabla216[#All],6,0)+VLOOKUP(Viáticos[[#This Row],[Destino]],Tabla216[#All],7,0))+(Viáticos[[#This Row],[Número de días por viático]]-1)*(VLOOKUP(Viáticos[[#This Row],[Destino]],Tabla216[#All],8,0)+VLOOKUP(Viáticos[[#This Row],[Destino]],Tabla216[#All],9,0)),\"\")))*Viáticos[[#This Row],[Número de personas]]*(1+25%)),\"\")","v":""},null,null,{"$f":"IFERROR(IF(Viáticos[[#This Row],[Viático pactado]]=\"\",((Viáticos[[#This Row],[Valor Viático por viaje]]*(1+Viáticos[[#This Row],[% Administración]]/100))),(Viáticos[[#This Row],[Viático pactado]]*(1+Viáticos[[#This Row],[% Administración]]/100))),\"\")","v":""},null,{"$f":"+IFERROR(Viáticos[[#This Row],[Costo parcial]]*(Viáticos[[#This Row],[% Participación ]]/100),\"\")","v":""}]
[null,null,null,null,null,{"$f":"+IF(Viáticos[[#This Row],[Nivel del cargo]]=\"\",\"\",F71)","v":""},null,null,{"$f":"IFERROR(IF(Viáticos[[#This Row],[Nivel del cargo]]=\"No directivo\",((IF(OR(Viáticos[[#This Row],[Número de días por viático]]=\"\",Viáticos[[#This Row],[Número de personas]]=\"\"),\"\",IFERROR(2*(VLOOKUP(Viáticos[[#This Row],[Destino]],Tabla216[#All],3,0)+VLOOKUP(Viáticos[[#This Row],[Destino]],Tabla216[#All],4,0))+Viáticos[[#This Row],[Número de días por viático]]*(2*VLOOKUP(Viáticos[[#This Row],[Destino]],Tabla216[#All],5,0)+VLOOKUP(Viáticos[[#This Row],[Destino]],Tabla216[#All],6,0)+VLOOKUP(Viáticos[[#This Row],[Destino]],Tabla216[#All],7,0))+(Viáticos[[#This Row],[Número de días por viático]]-1)*(VLOOKUP(Viáticos[[#This Row],[Destino]],Tabla216[#All],8,0)+VLOOKUP(Viáticos[[#This Row],[Destino]],Tabla216[#All],9,0)),\"\"))))*Viáticos[[#This Row],[Número de personas]],(IF(OR(Viáticos[[#This Row],[Número de días por viático]]=\"\",Viáticos[[#This Row],[Número de personas]]=\"\"),\"\",IFERROR(2*(VLOOKUP(Viáticos[[#This Row],[Destino]],Tabla216[#All],3,0)+VLOOKUP(Viáticos[[#This Row],[Destino]],Tabla216[#All],4,0))+Viáticos[[#This Row],[Número de días por viático]]*(2*VLOOKUP(Viáticos[[#This Row],[Destino]],Tabla216[#All],5,0)+VLOOKUP(Viáticos[[#This Row],[Destino]],Tabla216[#All],6,0)+VLOOKUP(Viáticos[[#This Row],[Destino]],Tabla216[#All],7,0))+(Viáticos[[#This Row],[Número de días por viático]]-1)*(VLOOKUP(Viáticos[[#This Row],[Destino]],Tabla216[#All],8,0)+VLOOKUP(Viáticos[[#This Row],[Destino]],Tabla216[#All],9,0)),\"\")))*Viáticos[[#This Row],[Número de personas]]*(1+25%)),\"\")","v":""},null,null,{"$f":"IFERROR(IF(Viáticos[[#This Row],[Viático pactado]]=\"\",((Viáticos[[#This Row],[Valor Viático por viaje]]*(1+Viáticos[[#This Row],[% Administración]]/100))),(Viáticos[[#This Row],[Viático pactado]]*(1+Viáticos[[#This Row],[% Administración]]/100))),\"\")","v":""},null,{"$f":"+IFERROR(Viáticos[[#This Row],[Costo parcial]]*(Viáticos[[#This Row],[% Participación ]]/100),\"\")","v":""}]
[null,null,null,null,null,{"$f":"+IF(Viáticos[[#This Row],[Nivel del cargo]]=\"\",\"\",F72)","v":""},null,null,{"$f":"IFERROR(IF(Viáticos[[#This Row],[Nivel del cargo]]=\"No directivo\",((IF(OR(Viáticos[[#This Row],[Número de días por viático]]=\"\",Viáticos[[#This Row],[Número de personas]]=\"\"),\"\",IFERROR(2*(VLOOKUP(Viáticos[[#This Row],[Destino]],Tabla216[#All],3,0)+VLOOKUP(Viáticos[[#This Row],[Destino]],Tabla216[#All],4,0))+Viáticos[[#This Row],[Número de días por viático]]*(2*VLOOKUP(Viáticos[[#This Row],[Destino]],Tabla216[#All],5,0)+VLOOKUP(Viáticos[[#This Row],[Destino]],Tabla216[#All],6,0)+VLOOKUP(Viáticos[[#This Row],[Destino]],Tabla216[#All],7,0))+(Viáticos[[#This Row],[Número de días por viático]]-1)*(VLOOKUP(Viáticos[[#This Row],[Destino]],Tabla216[#All],8,0)+VLOOKUP(Viáticos[[#This Row],[Destino]],Tabla216[#All],9,0)),\"\"))))*Viáticos[[#This Row],[Número de personas]],(IF(OR(Viáticos[[#This Row],[Número de días por viático]]=\"\",Viáticos[[#This Row],[Número de personas]]=\"\"),\"\",IFERROR(2*(VLOOKUP(Viáticos[[#This Row],[Destino]],Tabla216[#All],3,0)+VLOOKUP(Viáticos[[#This Row],[Destino]],Tabla216[#All],4,0))+Viáticos[[#This Row],[Número de días por viático]]*(2*VLOOKUP(Viáticos[[#This Row],[Destino]],Tabla216[#All],5,0)+VLOOKUP(Viáticos[[#This Row],[Destino]],Tabla216[#All],6,0)+VLOOKUP(Viáticos[[#This Row],[Destino]],Tabla216[#All],7,0))+(Viáticos[[#This Row],[Número de días por viático]]-1)*(VLOOKUP(Viáticos[[#This Row],[Destino]],Tabla216[#All],8,0)+VLOOKUP(Viáticos[[#This Row],[Destino]],Tabla216[#All],9,0)),\"\")))*Viáticos[[#This Row],[Número de personas]]*(1+25%)),\"\")","v":""},null,null,{"$f":"IFERROR(IF(Viáticos[[#This Row],[Viático pactado]]=\"\",((Viáticos[[#This Row],[Valor Viático por viaje]]*(1+Viáticos[[#This Row],[% Administración]]/100))),(Viáticos[[#This Row],[Viático pactado]]*(1+Viáticos[[#This Row],[% Administración]]/100))),\"\")","v":""},null,{"$f":"+IFERROR(Viáticos[[#This Row],[Costo parcial]]*(Viáticos[[#This Row],[% Participación ]]/100),\"\")","v":""}]
[null,null,null,null,null,{"$f":"+IF(Viáticos[[#This Row],[Nivel del cargo]]=\"\",\"\",F73)","v":""},null,null,{"$f":"IFERROR(IF(Viáticos[[#This Row],[Nivel del cargo]]=\"No directivo\",((IF(OR(Viáticos[[#This Row],[Número de días por viático]]=\"\",Viáticos[[#This Row],[Número de personas]]=\"\"),\"\",IFERROR(2*(VLOOKUP(Viáticos[[#This Row],[Destino]],Tabla216[#All],3,0)+VLOOKUP(Viáticos[[#This Row],[Destino]],Tabla216[#All],4,0))+Viáticos[[#This Row],[Número de días por viático]]*(2*VLOOKUP(Viáticos[[#This Row],[Destino]],Tabla216[#All],5,0)+VLOOKUP(Viáticos[[#This Row],[Destino]],Tabla216[#All],6,0)+VLOOKUP(Viáticos[[#This Row],[Destino]],Tabla216[#All],7,0))+(Viáticos[[#This Row],[Número de días por viático]]-1)*(VLOOKUP(Viáticos[[#This Row],[Destino]],Tabla216[#All],8,0)+VLOOKUP(Viáticos[[#This Row],[Destino]],Tabla216[#All],9,0)),\"\"))))*Viáticos[[#This Row],[Número de personas]],(IF(OR(Viáticos[[#This Row],[Número de días por viático]]=\"\",Viáticos[[#This Row],[Número de personas]]=\"\"),\"\",IFERROR(2*(VLOOKUP(Viáticos[[#This Row],[Destino]],Tabla216[#All],3,0)+VLOOKUP(Viáticos[[#This Row],[Destino]],Tabla216[#All],4,0))+Viáticos[[#This Row],[Número de días por viático]]*(2*VLOOKUP(Viáticos[[#This Row],[Destino]],Tabla216[#All],5,0)+VLOOKUP(Viáticos[[#This Row],[Destino]],Tabla216[#All],6,0)+VLOOKUP(Viáticos[[#This Row],[Destino]],Tabla216[#All],7,0))+(Viáticos[[#This Row],[Número de días por viático]]-1)*(VLOOKUP(Viáticos[[#This Row],[Destino]],Tabla216[#All],8,0)+VLOOKUP(Viáticos[[#This Row],[Destino]],Tabla216[#All],9,0)),\"\")))*Viáticos[[#This Row],[Número de personas]]*(1+25%)),\"\")","v":""},null,null,{"$f":"IFERROR(IF(Viáticos[[#This Row],[Viático pactado]]=\"\",((Viáticos[[#This Row],[Valor Viático por viaje]]*(1+Viáticos[[#This Row],[% Administración]]/100))),(Viáticos[[#This Row],[Viático pactado]]*(1+Viáticos[[#This Row],[% Administración]]/100))),\"\")","v":""},null,{"$f":"+IFERROR(Viáticos[[#This Row],[Costo parcial]]*(Viáticos[[#This Row],[% Participación ]]/100),\"\")","v":""}]
[null,null,null,null,null,{"$f":"+IF(Viáticos[[#This Row],[Nivel del cargo]]=\"\",\"\",F74)","v":""},null,null,{"$f":"IFERROR(IF(Viáticos[[#This Row],[Nivel del cargo]]=\"No directivo\",((IF(OR(Viáticos[[#This Row],[Número de días por viático]]=\"\",Viáticos[[#This Row],[Número de personas]]=\"\"),\"\",IFERROR(2*(VLOOKUP(Viáticos[[#This Row],[Destino]],Tabla216[#All],3,0)+VLOOKUP(Viáticos[[#This Row],[Destino]],Tabla216[#All],4,0))+Viáticos[[#This Row],[Número de días por viático]]*(2*VLOOKUP(Viáticos[[#This Row],[Destino]],Tabla216[#All],5,0)+VLOOKUP(Viáticos[[#This Row],[Destino]],Tabla216[#All],6,0)+VLOOKUP(Viáticos[[#This Row],[Destino]],Tabla216[#All],7,0))+(Viáticos[[#This Row],[Número de días por viático]]-1)*(VLOOKUP(Viáticos[[#This Row],[Destino]],Tabla216[#All],8,0)+VLOOKUP(Viáticos[[#This Row],[Destino]],Tabla216[#All],9,0)),\"\"))))*Viáticos[[#This Row],[Número de personas]],(IF(OR(Viáticos[[#This Row],[Número de días por viático]]=\"\",Viáticos[[#This Row],[Número de personas]]=\"\"),\"\",IFERROR(2*(VLOOKUP(Viáticos[[#This Row],[Destino]],Tabla216[#All],3,0)+VLOOKUP(Viáticos[[#This Row],[Destino]],Tabla216[#All],4,0))+Viáticos[[#This Row],[Número de días por viático]]*(2*VLOOKUP(Viáticos[[#This Row],[Destino]],Tabla216[#All],5,0)+VLOOKUP(Viáticos[[#This Row],[Destino]],Tabla216[#All],6,0)+VLOOKUP(Viáticos[[#This Row],[Destino]],Tabla216[#All],7,0))+(Viáticos[[#This Row],[Número de días por viático]]-1)*(VLOOKUP(Viáticos[[#This Row],[Destino]],Tabla216[#All],8,0)+VLOOKUP(Viáticos[[#This Row],[Destino]],Tabla216[#All],9,0)),\"\")))*Viáticos[[#This Row],[Número de personas]]*(1+25%)),\"\")","v":""},null,null,{"$f":"IFERROR(IF(Viáticos[[#This Row],[Viático pactado]]=\"\",((Viáticos[[#This Row],[Valor Viático por viaje]]*(1+Viáticos[[#This Row],[% Administración]]/100))),(Viáticos[[#This Row],[Viático pactado]]*(1+Viáticos[[#This Row],[% Administración]]/100))),\"\")","v":""},null,{"$f":"+IFERROR(Viáticos[[#This Row],[Costo parcial]]*(Viáticos[[#This Row],[% Participación ]]/100),\"\")","v":""}]
[null,null,null,null,null,{"$f":"+IF(Viáticos[[#This Row],[Nivel del cargo]]=\"\",\"\",F75)","v":""},null,null,{"$f":"IFERROR(IF(Viáticos[[#This Row],[Nivel del cargo]]=\"No directivo\",((IF(OR(Viáticos[[#This Row],[Número de días por viático]]=\"\",Viáticos[[#This Row],[Número de personas]]=\"\"),\"\",IFERROR(2*(VLOOKUP(Viáticos[[#This Row],[Destino]],Tabla216[#All],3,0)+VLOOKUP(Viáticos[[#This Row],[Destino]],Tabla216[#All],4,0))+Viáticos[[#This Row],[Número de días por viático]]*(2*VLOOKUP(Viáticos[[#This Row],[Destino]],Tabla216[#All],5,0)+VLOOKUP(Viáticos[[#This Row],[Destino]],Tabla216[#All],6,0)+VLOOKUP(Viáticos[[#This Row],[Destino]],Tabla216[#All],7,0))+(Viáticos[[#This Row],[Número de días por viático]]-1)*(VLOOKUP(Viáticos[[#This Row],[Destino]],Tabla216[#All],8,0)+VLOOKUP(Viáticos[[#This Row],[Destino]],Tabla216[#All],9,0)),\"\"))))*Viáticos[[#This Row],[Número de personas]],(IF(OR(Viáticos[[#This Row],[Número de días por viático]]=\"\",Viáticos[[#This Row],[Número de personas]]=\"\"),\"\",IFERROR(2*(VLOOKUP(Viáticos[[#This Row],[Destino]],Tabla216[#All],3,0)+VLOOKUP(Viáticos[[#This Row],[Destino]],Tabla216[#All],4,0))+Viáticos[[#This Row],[Número de días por viático]]*(2*VLOOKUP(Viáticos[[#This Row],[Destino]],Tabla216[#All],5,0)+VLOOKUP(Viáticos[[#This Row],[Destino]],Tabla216[#All],6,0)+VLOOKUP(Viáticos[[#This Row],[Destino]],Tabla216[#All],7,0))+(Viáticos[[#This Row],[Número de días por viático]]-1)*(VLOOKUP(Viáticos[[#This Row],[Destino]],Tabla216[#All],8,0)+VLOOKUP(Viáticos[[#This Row],[Destino]],Tabla216[#All],9,0)),\"\")))*Viáticos[[#This Row],[Número de personas]]*(1+25%)),\"\")","v":""},null,null,{"$f":"IFERROR(IF(Viáticos[[#This Row],[Viático pactado]]=\"\",((Viáticos[[#This Row],[Valor Viático por viaje]]*(1+Viáticos[[#This Row],[% Administración]]/100))),(Viáticos[[#This Row],[Viático pactado]]*(1+Viáticos[[#This Row],[% Administración]]/100))),\"\")","v":""},null,{"$f":"+IFERROR(Viáticos[[#This Row],[Costo parcial]]*(Viáticos[[#This Row],[% Participación ]]/100),\"\")","v":""}]
[null,null,null,null,null,{"$f":"+IF(Viáticos[[#This Row],[Nivel del cargo]]=\"\",\"\",F76)","v":""},null,null,{"$f":"IFERROR(IF(Viáticos[[#This Row],[Nivel del cargo]]=\"No directivo\",((IF(OR(Viáticos[[#This Row],[Número de días por viático]]=\"\",Viáticos[[#This Row],[Número de personas]]=\"\"),\"\",IFERROR(2*(VLOOKUP(Viáticos[[#This Row],[Destino]],Tabla216[#All],3,0)+VLOOKUP(Viáticos[[#This Row],[Destino]],Tabla216[#All],4,0))+Viáticos[[#This Row],[Número de días por viático]]*(2*VLOOKUP(Viáticos[[#This Row],[Destino]],Tabla216[#All],5,0)+VLOOKUP(Viáticos[[#This Row],[Destino]],Tabla216[#All],6,0)+VLOOKUP(Viáticos[[#This Row],[Destino]],Tabla216[#All],7,0))+(Viáticos[[#This Row],[Número de días por viático]]-1)*(VLOOKUP(Viáticos[[#This Row],[Destino]],Tabla216[#All],8,0)+VLOOKUP(Viáticos[[#This Row],[Destino]],Tabla216[#All],9,0)),\"\"))))*Viáticos[[#This Row],[Número de personas]],(IF(OR(Viáticos[[#This Row],[Número de días por viático]]=\"\",Viáticos[[#This Row],[Número de personas]]=\"\"),\"\",IFERROR(2*(VLOOKUP(Viáticos[[#This Row],[Destino]],Tabla216[#All],3,0)+VLOOKUP(Viáticos[[#This Row],[Destino]],Tabla216[#All],4,0))+Viáticos[[#This Row],[Número de días por viático]]*(2*VLOOKUP(Viáticos[[#This Row],[Destino]],Tabla216[#All],5,0)+VLOOKUP(Viáticos[[#This Row],[Destino]],Tabla216[#All],6,0)+VLOOKUP(Viáticos[[#This Row],[Destino]],Tabla216[#All],7,0))+(Viáticos[[#This Row],[Número de días por viático]]-1)*(VLOOKUP(Viáticos[[#This Row],[Destino]],Tabla216[#All],8,0)+VLOOKUP(Viáticos[[#This Row],[Destino]],Tabla216[#All],9,0)),\"\")))*Viáticos[[#This Row],[Número de personas]]*(1+25%)),\"\")","v":""},null,null,{"$f":"IFERROR(IF(Viáticos[[#This Row],[Viático pactado]]=\"\",((Viáticos[[#This Row],[Valor Viático por viaje]]*(1+Viáticos[[#This Row],[% Administración]]/100))),(Viáticos[[#This Row],[Viático pactado]]*(1+Viáticos[[#This Row],[% Administración]]/100))),\"\")","v":""},null,{"$f":"+IFERROR(Viáticos[[#This Row],[Costo parcial]]*(Viáticos[[#This Row],[% Participación ]]/100),\"\")","v":""}]
[null,null,null,null,null,{"$f":"+IF(Viáticos[[#This Row],[Nivel del cargo]]=\"\",\"\",F77)","v":""},null,null,{"$f":"IFERROR(IF(Viáticos[[#This Row],[Nivel del cargo]]=\"No directivo\",((IF(OR(Viáticos[[#This Row],[Número de días por viático]]=\"\",Viáticos[[#This Row],[Número de personas]]=\"\"),\"\",IFERROR(2*(VLOOKUP(Viáticos[[#This Row],[Destino]],Tabla216[#All],3,0)+VLOOKUP(Viáticos[[#This Row],[Destino]],Tabla216[#All],4,0))+Viáticos[[#This Row],[Número de días por viático]]*(2*VLOOKUP(Viáticos[[#This Row],[Destino]],Tabla216[#All],5,0)+VLOOKUP(Viáticos[[#This Row],[Destino]],Tabla216[#All],6,0)+VLOOKUP(Viáticos[[#This Row],[Destino]],Tabla216[#All],7,0))+(Viáticos[[#This Row],[Número de días por viático]]-1)*(VLOOKUP(Viáticos[[#This Row],[Destino]],Tabla216[#All],8,0)+VLOOKUP(Viáticos[[#This Row],[Destino]],Tabla216[#All],9,0)),\"\"))))*Viáticos[[#This Row],[Número de personas]],(IF(OR(Viáticos[[#This Row],[Número de días por viático]]=\"\",Viáticos[[#This Row],[Número de personas]]=\"\"),\"\",IFERROR(2*(VLOOKUP(Viáticos[[#This Row],[Destino]],Tabla216[#All],3,0)+VLOOKUP(Viáticos[[#This Row],[Destino]],Tabla216[#All],4,0))+Viáticos[[#This Row],[Número de días por viático]]*(2*VLOOKUP(Viáticos[[#This Row],[Destino]],Tabla216[#All],5,0)+VLOOKUP(Viáticos[[#This Row],[Destino]],Tabla216[#All],6,0)+VLOOKUP(Viáticos[[#This Row],[Destino]],Tabla216[#All],7,0))+(Viáticos[[#This Row],[Número de días por viático]]-1)*(VLOOKUP(Viáticos[[#This Row],[Destino]],Tabla216[#All],8,0)+VLOOKUP(Viáticos[[#This Row],[Destino]],Tabla216[#All],9,0)),\"\")))*Viáticos[[#This Row],[Número de personas]]*(1+25%)),\"\")","v":""},null,null,{"$f":"IFERROR(IF(Viáticos[[#This Row],[Viático pactado]]=\"\",((Viáticos[[#This Row],[Valor Viático por viaje]]*(1+Viáticos[[#This Row],[% Administración]]/100))),(Viáticos[[#This Row],[Viático pactado]]*(1+Viáticos[[#This Row],[% Administración]]/100))),\"\")","v":""},null,{"$f":"+IFERROR(Viáticos[[#This Row],[Costo parcial]]*(Viáticos[[#This Row],[% Participación ]]/100),\"\")","v":""}]
[null,null,null,null,null,{"$f":"+IF(Viáticos[[#This Row],[Nivel del cargo]]=\"\",\"\",F78)","v":""},null,null,{"$f":"IFERROR(IF(Viáticos[[#This Row],[Nivel del cargo]]=\"No directivo\",((IF(OR(Viáticos[[#This Row],[Número de días por viático]]=\"\",Viáticos[[#This Row],[Número de personas]]=\"\"),\"\",IFERROR(2*(VLOOKUP(Viáticos[[#This Row],[Destino]],Tabla216[#All],3,0)+VLOOKUP(Viáticos[[#This Row],[Destino]],Tabla216[#All],4,0))+Viáticos[[#This Row],[Número de días por viático]]*(2*VLOOKUP(Viáticos[[#This Row],[Destino]],Tabla216[#All],5,0)+VLOOKUP(Viáticos[[#This Row],[Destino]],Tabla216[#All],6,0)+VLOOKUP(Viáticos[[#This Row],[Destino]],Tabla216[#All],7,0))+(Viáticos[[#This Row],[Número de días por viático]]-1)*(VLOOKUP(Viáticos[[#This Row],[Destino]],Tabla216[#All],8,0)+VLOOKUP(Viáticos[[#This Row],[Destino]],Tabla216[#All],9,0)),\"\"))))*Viáticos[[#This Row],[Número de personas]],(IF(OR(Viáticos[[#This Row],[Número de días por viático]]=\"\",Viáticos[[#This Row],[Número de personas]]=\"\"),\"\",IFERROR(2*(VLOOKUP(Viáticos[[#This Row],[Destino]],Tabla216[#All],3,0)+VLOOKUP(Viáticos[[#This Row],[Destino]],Tabla216[#All],4,0))+Viáticos[[#This Row],[Número de días por viático]]*(2*VLOOKUP(Viáticos[[#This Row],[Destino]],Tabla216[#All],5,0)+VLOOKUP(Viáticos[[#This Row],[Destino]],Tabla216[#All],6,0)+VLOOKUP(Viáticos[[#This Row],[Destino]],Tabla216[#All],7,0))+(Viáticos[[#This Row],[Número de días por viático]]-1)*(VLOOKUP(Viáticos[[#This Row],[Destino]],Tabla216[#All],8,0)+VLOOKUP(Viáticos[[#This Row],[Destino]],Tabla216[#All],9,0)),\"\")))*Viáticos[[#This Row],[Número de personas]]*(1+25%)),\"\")","v":""},null,null,{"$f":"IFERROR(IF(Viáticos[[#This Row],[Viático pactado]]=\"\",((Viáticos[[#This Row],[Valor Viático por viaje]]*(1+Viáticos[[#This Row],[% Administración]]/100))),(Viáticos[[#This Row],[Viático pactado]]*(1+Viáticos[[#This Row],[% Administración]]/100))),\"\")","v":""},null,{"$f":"+IFERROR(Viáticos[[#This Row],[Costo parcial]]*(Viáticos[[#This Row],[% Participación ]]/100),\"\")","v":""}]
[null,null,null,null,null,{"$f":"+IF(Viáticos[[#This Row],[Nivel del cargo]]=\"\",\"\",F79)","v":""},null,null,{"$f":"IFERROR(IF(Viáticos[[#This Row],[Nivel del cargo]]=\"No directivo\",((IF(OR(Viáticos[[#This Row],[Número de días por viático]]=\"\",Viáticos[[#This Row],[Número de personas]]=\"\"),\"\",IFERROR(2*(VLOOKUP(Viáticos[[#This Row],[Destino]],Tabla216[#All],3,0)+VLOOKUP(Viáticos[[#This Row],[Destino]],Tabla216[#All],4,0))+Viáticos[[#This Row],[Número de días por viático]]*(2*VLOOKUP(Viáticos[[#This Row],[Destino]],Tabla216[#All],5,0)+VLOOKUP(Viáticos[[#This Row],[Destino]],Tabla216[#All],6,0)+VLOOKUP(Viáticos[[#This Row],[Destino]],Tabla216[#All],7,0))+(Viáticos[[#This Row],[Número de días por viático]]-1)*(VLOOKUP(Viáticos[[#This Row],[Destino]],Tabla216[#All],8,0)+VLOOKUP(Viáticos[[#This Row],[Destino]],Tabla216[#All],9,0)),\"\"))))*Viáticos[[#This Row],[Número de personas]],(IF(OR(Viáticos[[#This Row],[Número de días por viático]]=\"\",Viáticos[[#This Row],[Número de personas]]=\"\"),\"\",IFERROR(2*(VLOOKUP(Viáticos[[#This Row],[Destino]],Tabla216[#All],3,0)+VLOOKUP(Viáticos[[#This Row],[Destino]],Tabla216[#All],4,0))+Viáticos[[#This Row],[Número de días por viático]]*(2*VLOOKUP(Viáticos[[#This Row],[Destino]],Tabla216[#All],5,0)+VLOOKUP(Viáticos[[#This Row],[Destino]],Tabla216[#All],6,0)+VLOOKUP(Viáticos[[#This Row],[Destino]],Tabla216[#All],7,0))+(Viáticos[[#This Row],[Número de días por viático]]-1)*(VLOOKUP(Viáticos[[#This Row],[Destino]],Tabla216[#All],8,0)+VLOOKUP(Viáticos[[#This Row],[Destino]],Tabla216[#All],9,0)),\"\")))*Viáticos[[#This Row],[Número de personas]]*(1+25%)),\"\")","v":""},null,null,{"$f":"IFERROR(IF(Viáticos[[#This Row],[Viático pactado]]=\"\",((Viáticos[[#This Row],[Valor Viático por viaje]]*(1+Viáticos[[#This Row],[% Administración]]/100))),(Viáticos[[#This Row],[Viático pactado]]*(1+Viáticos[[#This Row],[% Administración]]/100))),\"\")","v":""},null,{"$f":"+IFERROR(Viáticos[[#This Row],[Costo parcial]]*(Viáticos[[#This Row],[% Participación ]]/100),\"\")","v":""}]
[null,null,null,null,null,{"$f":"+IF(Viáticos[[#This Row],[Nivel del cargo]]=\"\",\"\",F80)","v":""},null,null,{"$f":"IFERROR(IF(Viáticos[[#This Row],[Nivel del cargo]]=\"No directivo\",((IF(OR(Viáticos[[#This Row],[Número de días por viático]]=\"\",Viáticos[[#This Row],[Número de personas]]=\"\"),\"\",IFERROR(2*(VLOOKUP(Viáticos[[#This Row],[Destino]],Tabla216[#All],3,0)+VLOOKUP(Viáticos[[#This Row],[Destino]],Tabla216[#All],4,0))+Viáticos[[#This Row],[Número de días por viático]]*(2*VLOOKUP(Viáticos[[#This Row],[Destino]],Tabla216[#All],5,0)+VLOOKUP(Viáticos[[#This Row],[Destino]],Tabla216[#All],6,0)+VLOOKUP(Viáticos[[#This Row],[Destino]],Tabla216[#All],7,0))+(Viáticos[[#This Row],[Número de días por viático]]-1)*(VLOOKUP(Viáticos[[#This Row],[Destino]],Tabla216[#All],8,0)+VLOOKUP(Viáticos[[#This Row],[Destino]],Tabla216[#All],9,0)),\"\"))))*Viáticos[[#This Row],[Número de personas]],(IF(OR(Viáticos[[#This Row],[Número de días por viático]]=\"\",Viáticos[[#This Row],[Número de personas]]=\"\"),\"\",IFERROR(2*(VLOOKUP(Viáticos[[#This Row],[Destino]],Tabla216[#All],3,0)+VLOOKUP(Viáticos[[#This Row],[Destino]],Tabla216[#All],4,0))+Viáticos[[#This Row],[Número de días por viático]]*(2*VLOOKUP(Viáticos[[#This Row],[Destino]],Tabla216[#All],5,0)+VLOOKUP(Viáticos[[#This Row],[Destino]],Tabla216[#All],6,0)+VLOOKUP(Viáticos[[#This Row],[Destino]],Tabla216[#All],7,0))+(Viáticos[[#This Row],[Número de días por viático]]-1)*(VLOOKUP(Viáticos[[#This Row],[Destino]],Tabla216[#All],8,0)+VLOOKUP(Viáticos[[#This Row],[Destino]],Tabla216[#All],9,0)),\"\")))*Viáticos[[#This Row],[Número de personas]]*(1+25%)),\"\")","v":""},null,null,{"$f":"IFERROR(IF(Viáticos[[#This Row],[Viático pactado]]=\"\",((Viáticos[[#This Row],[Valor Viático por viaje]]*(1+Viáticos[[#This Row],[% Administración]]/100))),(Viáticos[[#This Row],[Viático pactado]]*(1+Viáticos[[#This Row],[% Administración]]/100))),\"\")","v":""},null,{"$f":"+IFERROR(Viáticos[[#This Row],[Costo parcial]]*(Viáticos[[#This Row],[% Participación ]]/100),\"\")","v":""}]
[null,null,null,null,null,{"$f":"+IF(Viáticos[[#This Row],[Nivel del cargo]]=\"\",\"\",F81)","v":""},null,null,{"$f":"IFERROR(IF(Viáticos[[#This Row],[Nivel del cargo]]=\"No directivo\",((IF(OR(Viáticos[[#This Row],[Número de días por viático]]=\"\",Viáticos[[#This Row],[Número de personas]]=\"\"),\"\",IFERROR(2*(VLOOKUP(Viáticos[[#This Row],[Destino]],Tabla216[#All],3,0)+VLOOKUP(Viáticos[[#This Row],[Destino]],Tabla216[#All],4,0))+Viáticos[[#This Row],[Número de días por viático]]*(2*VLOOKUP(Viáticos[[#This Row],[Destino]],Tabla216[#All],5,0)+VLOOKUP(Viáticos[[#This Row],[Destino]],Tabla216[#All],6,0)+VLOOKUP(Viáticos[[#This Row],[Destino]],Tabla216[#All],7,0))+(Viáticos[[#This Row],[Número de días por viático]]-1)*(VLOOKUP(Viáticos[[#This Row],[Destino]],Tabla216[#All],8,0)+VLOOKUP(Viáticos[[#This Row],[Destino]],Tabla216[#All],9,0)),\"\"))))*Viáticos[[#This Row],[Número de personas]],(IF(OR(Viáticos[[#This Row],[Número de días por viático]]=\"\",Viáticos[[#This Row],[Número de personas]]=\"\"),\"\",IFERROR(2*(VLOOKUP(Viáticos[[#This Row],[Destino]],Tabla216[#All],3,0)+VLOOKUP(Viáticos[[#This Row],[Destino]],Tabla216[#All],4,0))+Viáticos[[#This Row],[Número de días por viático]]*(2*VLOOKUP(Viáticos[[#This Row],[Destino]],Tabla216[#All],5,0)+VLOOKUP(Viáticos[[#This Row],[Destino]],Tabla216[#All],6,0)+VLOOKUP(Viáticos[[#This Row],[Destino]],Tabla216[#All],7,0))+(Viáticos[[#This Row],[Número de días por viático]]-1)*(VLOOKUP(Viáticos[[#This Row],[Destino]],Tabla216[#All],8,0)+VLOOKUP(Viáticos[[#This Row],[Destino]],Tabla216[#All],9,0)),\"\")))*Viáticos[[#This Row],[Número de personas]]*(1+25%)),\"\")","v":""},null,null,{"$f":"IFERROR(IF(Viáticos[[#This Row],[Viático pactado]]=\"\",((Viáticos[[#This Row],[Valor Viático por viaje]]*(1+Viáticos[[#This Row],[% Administración]]/100))),(Viáticos[[#This Row],[Viático pactado]]*(1+Viáticos[[#This Row],[% Administración]]/100))),\"\")","v":""},null,{"$f":"+IFERROR(Viáticos[[#This Row],[Costo parcial]]*(Viáticos[[#This Row],[% Participación ]]/100),\"\")","v":""}]
[null,null,null,null,null,{"$f":"+IF(Viáticos[[#This Row],[Nivel del cargo]]=\"\",\"\",F82)","v":""},null,null,{"$f":"IFERROR(IF(Viáticos[[#This Row],[Nivel del cargo]]=\"No directivo\",((IF(OR(Viáticos[[#This Row],[Número de días por viático]]=\"\",Viáticos[[#This Row],[Número de personas]]=\"\"),\"\",IFERROR(2*(VLOOKUP(Viáticos[[#This Row],[Destino]],Tabla216[#All],3,0)+VLOOKUP(Viáticos[[#This Row],[Destino]],Tabla216[#All],4,0))+Viáticos[[#This Row],[Número de días por viático]]*(2*VLOOKUP(Viáticos[[#This Row],[Destino]],Tabla216[#All],5,0)+VLOOKUP(Viáticos[[#This Row],[Destino]],Tabla216[#All],6,0)+VLOOKUP(Viáticos[[#This Row],[Destino]],Tabla216[#All],7,0))+(Viáticos[[#This Row],[Número de días por viático]]-1)*(VLOOKUP(Viáticos[[#This Row],[Destino]],Tabla216[#All],8,0)+VLOOKUP(Viáticos[[#This Row],[Destino]],Tabla216[#All],9,0)),\"\"))))*Viáticos[[#This Row],[Número de personas]],(IF(OR(Viáticos[[#This Row],[Número de días por viático]]=\"\",Viáticos[[#This Row],[Número de personas]]=\"\"),\"\",IFERROR(2*(VLOOKUP(Viáticos[[#This Row],[Destino]],Tabla216[#All],3,0)+VLOOKUP(Viáticos[[#This Row],[Destino]],Tabla216[#All],4,0))+Viáticos[[#This Row],[Número de días por viático]]*(2*VLOOKUP(Viáticos[[#This Row],[Destino]],Tabla216[#All],5,0)+VLOOKUP(Viáticos[[#This Row],[Destino]],Tabla216[#All],6,0)+VLOOKUP(Viáticos[[#This Row],[Destino]],Tabla216[#All],7,0))+(Viáticos[[#This Row],[Número de días por viático]]-1)*(VLOOKUP(Viáticos[[#This Row],[Destino]],Tabla216[#All],8,0)+VLOOKUP(Viáticos[[#This Row],[Destino]],Tabla216[#All],9,0)),\"\")))*Viáticos[[#This Row],[Número de personas]]*(1+25%)),\"\")","v":""},null,null,{"$f":"IFERROR(IF(Viáticos[[#This Row],[Viático pactado]]=\"\",((Viáticos[[#This Row],[Valor Viático por viaje]]*(1+Viáticos[[#This Row],[% Administración]]/100))),(Viáticos[[#This Row],[Viático pactado]]*(1+Viáticos[[#This Row],[% Administración]]/100))),\"\")","v":""},null,{"$f":"+IFERROR(Viáticos[[#This Row],[Costo parcial]]*(Viáticos[[#This Row],[% Participación ]]/100),\"\")","v":""}]
[null,null,null,null,null,{"$f":"+IF(Viáticos[[#This Row],[Nivel del cargo]]=\"\",\"\",F83)","v":""},null,null,{"$f":"IFERROR(IF(Viáticos[[#This Row],[Nivel del cargo]]=\"No directivo\",((IF(OR(Viáticos[[#This Row],[Número de días por viático]]=\"\",Viáticos[[#This Row],[Número de personas]]=\"\"),\"\",IFERROR(2*(VLOOKUP(Viáticos[[#This Row],[Destino]],Tabla216[#All],3,0)+VLOOKUP(Viáticos[[#This Row],[Destino]],Tabla216[#All],4,0))+Viáticos[[#This Row],[Número de días por viático]]*(2*VLOOKUP(Viáticos[[#This Row],[Destino]],Tabla216[#All],5,0)+VLOOKUP(Viáticos[[#This Row],[Destino]],Tabla216[#All],6,0)+VLOOKUP(Viáticos[[#This Row],[Destino]],Tabla216[#All],7,0))+(Viáticos[[#This Row],[Número de días por viático]]-1)*(VLOOKUP(Viáticos[[#This Row],[Destino]],Tabla216[#All],8,0)+VLOOKUP(Viáticos[[#This Row],[Destino]],Tabla216[#All],9,0)),\"\"))))*Viáticos[[#This Row],[Número de personas]],(IF(OR(Viáticos[[#This Row],[Número de días por viático]]=\"\",Viáticos[[#This Row],[Número de personas]]=\"\"),\"\",IFERROR(2*(VLOOKUP(Viáticos[[#This Row],[Destino]],Tabla216[#All],3,0)+VLOOKUP(Viáticos[[#This Row],[Destino]],Tabla216[#All],4,0))+Viáticos[[#This Row],[Número de días por viático]]*(2*VLOOKUP(Viáticos[[#This Row],[Destino]],Tabla216[#All],5,0)+VLOOKUP(Viáticos[[#This Row],[Destino]],Tabla216[#All],6,0)+VLOOKUP(Viáticos[[#This Row],[Destino]],Tabla216[#All],7,0))+(Viáticos[[#This Row],[Número de días por viático]]-1)*(VLOOKUP(Viáticos[[#This Row],[Destino]],Tabla216[#All],8,0)+VLOOKUP(Viáticos[[#This Row],[Destino]],Tabla216[#All],9,0)),\"\")))*Viáticos[[#This Row],[Número de personas]]*(1+25%)),\"\")","v":""},null,null,{"$f":"IFERROR(IF(Viáticos[[#This Row],[Viático pactado]]=\"\",((Viáticos[[#This Row],[Valor Viático por viaje]]*(1+Viáticos[[#This Row],[% Administración]]/100))),(Viáticos[[#This Row],[Viático pactado]]*(1+Viáticos[[#This Row],[% Administración]]/100))),\"\")","v":""},null,{"$f":"+IFERROR(Viáticos[[#This Row],[Costo parcial]]*(Viáticos[[#This Row],[% Participación ]]/100),\"\")","v":""}]
[null,null,null,null,null,{"$f":"+IF(Viáticos[[#This Row],[Nivel del cargo]]=\"\",\"\",F84)","v":""},null,null,{"$f":"IFERROR(IF(Viáticos[[#This Row],[Nivel del cargo]]=\"No directivo\",((IF(OR(Viáticos[[#This Row],[Número de días por viático]]=\"\",Viáticos[[#This Row],[Número de personas]]=\"\"),\"\",IFERROR(2*(VLOOKUP(Viáticos[[#This Row],[Destino]],Tabla216[#All],3,0)+VLOOKUP(Viáticos[[#This Row],[Destino]],Tabla216[#All],4,0))+Viáticos[[#This Row],[Número de días por viático]]*(2*VLOOKUP(Viáticos[[#This Row],[Destino]],Tabla216[#All],5,0)+VLOOKUP(Viáticos[[#This Row],[Destino]],Tabla216[#All],6,0)+VLOOKUP(Viáticos[[#This Row],[Destino]],Tabla216[#All],7,0))+(Viáticos[[#This Row],[Número de días por viático]]-1)*(VLOOKUP(Viáticos[[#This Row],[Destino]],Tabla216[#All],8,0)+VLOOKUP(Viáticos[[#This Row],[Destino]],Tabla216[#All],9,0)),\"\"))))*Viáticos[[#This Row],[Número de personas]],(IF(OR(Viáticos[[#This Row],[Número de días por viático]]=\"\",Viáticos[[#This Row],[Número de personas]]=\"\"),\"\",IFERROR(2*(VLOOKUP(Viáticos[[#This Row],[Destino]],Tabla216[#All],3,0)+VLOOKUP(Viáticos[[#This Row],[Destino]],Tabla216[#All],4,0))+Viáticos[[#This Row],[Número de días por viático]]*(2*VLOOKUP(Viáticos[[#This Row],[Destino]],Tabla216[#All],5,0)+VLOOKUP(Viáticos[[#This Row],[Destino]],Tabla216[#All],6,0)+VLOOKUP(Viáticos[[#This Row],[Destino]],Tabla216[#All],7,0))+(Viáticos[[#This Row],[Número de días por viático]]-1)*(VLOOKUP(Viáticos[[#This Row],[Destino]],Tabla216[#All],8,0)+VLOOKUP(Viáticos[[#This Row],[Destino]],Tabla216[#All],9,0)),\"\")))*Viáticos[[#This Row],[Número de personas]]*(1+25%)),\"\")","v":""},null,null,{"$f":"IFERROR(IF(Viáticos[[#This Row],[Viático pactado]]=\"\",((Viáticos[[#This Row],[Valor Viático por viaje]]*(1+Viáticos[[#This Row],[% Administración]]/100))),(Viáticos[[#This Row],[Viático pactado]]*(1+Viáticos[[#This Row],[% Administración]]/100))),\"\")","v":""},null,{"$f":"+IFERROR(Viáticos[[#This Row],[Costo parcial]]*(Viáticos[[#This Row],[% Participación ]]/100),\"\")","v":""}]
[null,null,null,null,null,{"$f":"+IF(Viáticos[[#This Row],[Nivel del cargo]]=\"\",\"\",F85)","v":""},null,null,{"$f":"IFERROR(IF(Viáticos[[#This Row],[Nivel del cargo]]=\"No directivo\",((IF(OR(Viáticos[[#This Row],[Número de días por viático]]=\"\",Viáticos[[#This Row],[Número de personas]]=\"\"),\"\",IFERROR(2*(VLOOKUP(Viáticos[[#This Row],[Destino]],Tabla216[#All],3,0)+VLOOKUP(Viáticos[[#This Row],[Destino]],Tabla216[#All],4,0))+Viáticos[[#This Row],[Número de días por viático]]*(2*VLOOKUP(Viáticos[[#This Row],[Destino]],Tabla216[#All],5,0)+VLOOKUP(Viáticos[[#This Row],[Destino]],Tabla216[#All],6,0)+VLOOKUP(Viáticos[[#This Row],[Destino]],Tabla216[#All],7,0))+(Viáticos[[#This Row],[Número de días por viático]]-1)*(VLOOKUP(Viáticos[[#This Row],[Destino]],Tabla216[#All],8,0)+VLOOKUP(Viáticos[[#This Row],[Destino]],Tabla216[#All],9,0)),\"\"))))*Viáticos[[#This Row],[Número de personas]],(IF(OR(Viáticos[[#This Row],[Número de días por viático]]=\"\",Viáticos[[#This Row],[Número de personas]]=\"\"),\"\",IFERROR(2*(VLOOKUP(Viáticos[[#This Row],[Destino]],Tabla216[#All],3,0)+VLOOKUP(Viáticos[[#This Row],[Destino]],Tabla216[#All],4,0))+Viáticos[[#This Row],[Número de días por viático]]*(2*VLOOKUP(Viáticos[[#This Row],[Destino]],Tabla216[#All],5,0)+VLOOKUP(Viáticos[[#This Row],[Destino]],Tabla216[#All],6,0)+VLOOKUP(Viáticos[[#This Row],[Destino]],Tabla216[#All],7,0))+(Viáticos[[#This Row],[Número de días por viático]]-1)*(VLOOKUP(Viáticos[[#This Row],[Destino]],Tabla216[#All],8,0)+VLOOKUP(Viáticos[[#This Row],[Destino]],Tabla216[#All],9,0)),\"\")))*Viáticos[[#This Row],[Número de personas]]*(1+25%)),\"\")","v":""},null,null,{"$f":"IFERROR(IF(Viáticos[[#This Row],[Viático pactado]]=\"\",((Viáticos[[#This Row],[Valor Viático por viaje]]*(1+Viáticos[[#This Row],[% Administración]]/100))),(Viáticos[[#This Row],[Viático pactado]]*(1+Viáticos[[#This Row],[% Administración]]/100))),\"\")","v":""},null,{"$f":"+IFERROR(Viáticos[[#This Row],[Costo parcial]]*(Viáticos[[#This Row],[% Participación ]]/100),\"\")","v":""}]
[null,null,null,null,null,{"$f":"+IF(Viáticos[[#This Row],[Nivel del cargo]]=\"\",\"\",F86)","v":""},null,null,{"$f":"IFERROR(IF(Viáticos[[#This Row],[Nivel del cargo]]=\"No directivo\",((IF(OR(Viáticos[[#This Row],[Número de días por viático]]=\"\",Viáticos[[#This Row],[Número de personas]]=\"\"),\"\",IFERROR(2*(VLOOKUP(Viáticos[[#This Row],[Destino]],Tabla216[#All],3,0)+VLOOKUP(Viáticos[[#This Row],[Destino]],Tabla216[#All],4,0))+Viáticos[[#This Row],[Número de días por viático]]*(2*VLOOKUP(Viáticos[[#This Row],[Destino]],Tabla216[#All],5,0)+VLOOKUP(Viáticos[[#This Row],[Destino]],Tabla216[#All],6,0)+VLOOKUP(Viáticos[[#This Row],[Destino]],Tabla216[#All],7,0))+(Viáticos[[#This Row],[Número de días por viático]]-1)*(VLOOKUP(Viáticos[[#This Row],[Destino]],Tabla216[#All],8,0)+VLOOKUP(Viáticos[[#This Row],[Destino]],Tabla216[#All],9,0)),\"\"))))*Viáticos[[#This Row],[Número de personas]],(IF(OR(Viáticos[[#This Row],[Número de días por viático]]=\"\",Viáticos[[#This Row],[Número de personas]]=\"\"),\"\",IFERROR(2*(VLOOKUP(Viáticos[[#This Row],[Destino]],Tabla216[#All],3,0)+VLOOKUP(Viáticos[[#This Row],[Destino]],Tabla216[#All],4,0))+Viáticos[[#This Row],[Número de días por viático]]*(2*VLOOKUP(Viáticos[[#This Row],[Destino]],Tabla216[#All],5,0)+VLOOKUP(Viáticos[[#This Row],[Destino]],Tabla216[#All],6,0)+VLOOKUP(Viáticos[[#This Row],[Destino]],Tabla216[#All],7,0))+(Viáticos[[#This Row],[Número de días por viático]]-1)*(VLOOKUP(Viáticos[[#This Row],[Destino]],Tabla216[#All],8,0)+VLOOKUP(Viáticos[[#This Row],[Destino]],Tabla216[#All],9,0)),\"\")))*Viáticos[[#This Row],[Número de personas]]*(1+25%)),\"\")","v":""},null,null,{"$f":"IFERROR(IF(Viáticos[[#This Row],[Viático pactado]]=\"\",((Viáticos[[#This Row],[Valor Viático por viaje]]*(1+Viáticos[[#This Row],[% Administración]]/100))),(Viáticos[[#This Row],[Viático pactado]]*(1+Viáticos[[#This Row],[% Administración]]/100))),\"\")","v":""},null,{"$f":"+IFERROR(Viáticos[[#This Row],[Costo parcial]]*(Viáticos[[#This Row],[% Participación ]]/100),\"\")","v":""}]
[null,null,null,null,null,{"$f":"+IF(Viáticos[[#This Row],[Nivel del cargo]]=\"\",\"\",F87)","v":""},null,null,{"$f":"IFERROR(IF(Viáticos[[#This Row],[Nivel del cargo]]=\"No directivo\",((IF(OR(Viáticos[[#This Row],[Número de días por viático]]=\"\",Viáticos[[#This Row],[Número de personas]]=\"\"),\"\",IFERROR(2*(VLOOKUP(Viáticos[[#This Row],[Destino]],Tabla216[#All],3,0)+VLOOKUP(Viáticos[[#This Row],[Destino]],Tabla216[#All],4,0))+Viáticos[[#This Row],[Número de días por viático]]*(2*VLOOKUP(Viáticos[[#This Row],[Destino]],Tabla216[#All],5,0)+VLOOKUP(Viáticos[[#This Row],[Destino]],Tabla216[#All],6,0)+VLOOKUP(Viáticos[[#This Row],[Destino]],Tabla216[#All],7,0))+(Viáticos[[#This Row],[Número de días por viático]]-1)*(VLOOKUP(Viáticos[[#This Row],[Destino]],Tabla216[#All],8,0)+VLOOKUP(Viáticos[[#This Row],[Destino]],Tabla216[#All],9,0)),\"\"))))*Viáticos[[#This Row],[Número de personas]],(IF(OR(Viáticos[[#This Row],[Número de días por viático]]=\"\",Viáticos[[#This Row],[Número de personas]]=\"\"),\"\",IFERROR(2*(VLOOKUP(Viáticos[[#This Row],[Destino]],Tabla216[#All],3,0)+VLOOKUP(Viáticos[[#This Row],[Destino]],Tabla216[#All],4,0))+Viáticos[[#This Row],[Número de días por viático]]*(2*VLOOKUP(Viáticos[[#This Row],[Destino]],Tabla216[#All],5,0)+VLOOKUP(Viáticos[[#This Row],[Destino]],Tabla216[#All],6,0)+VLOOKUP(Viáticos[[#This Row],[Destino]],Tabla216[#All],7,0))+(Viáticos[[#This Row],[Número de días por viático]]-1)*(VLOOKUP(Viáticos[[#This Row],[Destino]],Tabla216[#All],8,0)+VLOOKUP(Viáticos[[#This Row],[Destino]],Tabla216[#All],9,0)),\"\")))*Viáticos[[#This Row],[Número de personas]]*(1+25%)),\"\")","v":""},null,null,{"$f":"IFERROR(IF(Viáticos[[#This Row],[Viático pactado]]=\"\",((Viáticos[[#This Row],[Valor Viático por viaje]]*(1+Viáticos[[#This Row],[% Administración]]/100))),(Viáticos[[#This Row],[Viático pactado]]*(1+Viáticos[[#This Row],[% Administración]]/100))),\"\")","v":""},null,{"$f":"+IFERROR(Viáticos[[#This Row],[Costo parcial]]*(Viáticos[[#This Row],[% Participación ]]/100),\"\")","v":""}]
[null,null,null,null,null,{"$f":"+IF(Viáticos[[#This Row],[Nivel del cargo]]=\"\",\"\",F88)","v":""},null,null,{"$f":"IFERROR(IF(Viáticos[[#This Row],[Nivel del cargo]]=\"No directivo\",((IF(OR(Viáticos[[#This Row],[Número de días por viático]]=\"\",Viáticos[[#This Row],[Número de personas]]=\"\"),\"\",IFERROR(2*(VLOOKUP(Viáticos[[#This Row],[Destino]],Tabla216[#All],3,0)+VLOOKUP(Viáticos[[#This Row],[Destino]],Tabla216[#All],4,0))+Viáticos[[#This Row],[Número de días por viático]]*(2*VLOOKUP(Viáticos[[#This Row],[Destino]],Tabla216[#All],5,0)+VLOOKUP(Viáticos[[#This Row],[Destino]],Tabla216[#All],6,0)+VLOOKUP(Viáticos[[#This Row],[Destino]],Tabla216[#All],7,0))+(Viáticos[[#This Row],[Número de días por viático]]-1)*(VLOOKUP(Viáticos[[#This Row],[Destino]],Tabla216[#All],8,0)+VLOOKUP(Viáticos[[#This Row],[Destino]],Tabla216[#All],9,0)),\"\"))))*Viáticos[[#This Row],[Número de personas]],(IF(OR(Viáticos[[#This Row],[Número de días por viático]]=\"\",Viáticos[[#This Row],[Número de personas]]=\"\"),\"\",IFERROR(2*(VLOOKUP(Viáticos[[#This Row],[Destino]],Tabla216[#All],3,0)+VLOOKUP(Viáticos[[#This Row],[Destino]],Tabla216[#All],4,0))+Viáticos[[#This Row],[Número de días por viático]]*(2*VLOOKUP(Viáticos[[#This Row],[Destino]],Tabla216[#All],5,0)+VLOOKUP(Viáticos[[#This Row],[Destino]],Tabla216[#All],6,0)+VLOOKUP(Viáticos[[#This Row],[Destino]],Tabla216[#All],7,0))+(Viáticos[[#This Row],[Número de días por viático]]-1)*(VLOOKUP(Viáticos[[#This Row],[Destino]],Tabla216[#All],8,0)+VLOOKUP(Viáticos[[#This Row],[Destino]],Tabla216[#All],9,0)),\"\")))*Viáticos[[#This Row],[Número de personas]]*(1+25%)),\"\")","v":""},null,null,{"$f":"IFERROR(IF(Viáticos[[#This Row],[Viático pactado]]=\"\",((Viáticos[[#This Row],[Valor Viático por viaje]]*(1+Viáticos[[#This Row],[% Administración]]/100))),(Viáticos[[#This Row],[Viático pactado]]*(1+Viáticos[[#This Row],[% Administración]]/100))),\"\")","v":""},null,{"$f":"+IFERROR(Viáticos[[#This Row],[Costo parcial]]*(Viáticos[[#This Row],[% Participación ]]/100),\"\")","v":""}]
[null,null,null,null,null,{"$f":"+IF(Viáticos[[#This Row],[Nivel del cargo]]=\"\",\"\",F89)","v":""},null,null,{"$f":"IFERROR(IF(Viáticos[[#This Row],[Nivel del cargo]]=\"No directivo\",((IF(OR(Viáticos[[#This Row],[Número de días por viático]]=\"\",Viáticos[[#This Row],[Número de personas]]=\"\"),\"\",IFERROR(2*(VLOOKUP(Viáticos[[#This Row],[Destino]],Tabla216[#All],3,0)+VLOOKUP(Viáticos[[#This Row],[Destino]],Tabla216[#All],4,0))+Viáticos[[#This Row],[Número de días por viático]]*(2*VLOOKUP(Viáticos[[#This Row],[Destino]],Tabla216[#All],5,0)+VLOOKUP(Viáticos[[#This Row],[Destino]],Tabla216[#All],6,0)+VLOOKUP(Viáticos[[#This Row],[Destino]],Tabla216[#All],7,0))+(Viáticos[[#This Row],[Número de días por viático]]-1)*(VLOOKUP(Viáticos[[#This Row],[Destino]],Tabla216[#All],8,0)+VLOOKUP(Viáticos[[#This Row],[Destino]],Tabla216[#All],9,0)),\"\"))))*Viáticos[[#This Row],[Número de personas]],(IF(OR(Viáticos[[#This Row],[Número de días por viático]]=\"\",Viáticos[[#This Row],[Número de personas]]=\"\"),\"\",IFERROR(2*(VLOOKUP(Viáticos[[#This Row],[Destino]],Tabla216[#All],3,0)+VLOOKUP(Viáticos[[#This Row],[Destino]],Tabla216[#All],4,0))+Viáticos[[#This Row],[Número de días por viático]]*(2*VLOOKUP(Viáticos[[#This Row],[Destino]],Tabla216[#All],5,0)+VLOOKUP(Viáticos[[#This Row],[Destino]],Tabla216[#All],6,0)+VLOOKUP(Viáticos[[#This Row],[Destino]],Tabla216[#All],7,0))+(Viáticos[[#This Row],[Número de días por viático]]-1)*(VLOOKUP(Viáticos[[#This Row],[Destino]],Tabla216[#All],8,0)+VLOOKUP(Viáticos[[#This Row],[Destino]],Tabla216[#All],9,0)),\"\")))*Viáticos[[#This Row],[Número de personas]]*(1+25%)),\"\")","v":""},null,null,{"$f":"IFERROR(IF(Viáticos[[#This Row],[Viático pactado]]=\"\",((Viáticos[[#This Row],[Valor Viático por viaje]]*(1+Viáticos[[#This Row],[% Administración]]/100))),(Viáticos[[#This Row],[Viático pactado]]*(1+Viáticos[[#This Row],[% Administración]]/100))),\"\")","v":""},null,{"$f":"+IFERROR(Viáticos[[#This Row],[Costo parcial]]*(Viáticos[[#This Row],[% Participación ]]/100),\"\")","v":""}]
[null,null,null,null,null,{"$f":"+IF(Viáticos[[#This Row],[Nivel del cargo]]=\"\",\"\",F90)","v":""},null,null,{"$f":"IFERROR(IF(Viáticos[[#This Row],[Nivel del cargo]]=\"No directivo\",((IF(OR(Viáticos[[#This Row],[Número de días por viático]]=\"\",Viáticos[[#This Row],[Número de personas]]=\"\"),\"\",IFERROR(2*(VLOOKUP(Viáticos[[#This Row],[Destino]],Tabla216[#All],3,0)+VLOOKUP(Viáticos[[#This Row],[Destino]],Tabla216[#All],4,0))+Viáticos[[#This Row],[Número de días por viático]]*(2*VLOOKUP(Viáticos[[#This Row],[Destino]],Tabla216[#All],5,0)+VLOOKUP(Viáticos[[#This Row],[Destino]],Tabla216[#All],6,0)+VLOOKUP(Viáticos[[#This Row],[Destino]],Tabla216[#All],7,0))+(Viáticos[[#This Row],[Número de días por viático]]-1)*(VLOOKUP(Viáticos[[#This Row],[Destino]],Tabla216[#All],8,0)+VLOOKUP(Viáticos[[#This Row],[Destino]],Tabla216[#All],9,0)),\"\"))))*Viáticos[[#This Row],[Número de personas]],(IF(OR(Viáticos[[#This Row],[Número de días por viático]]=\"\",Viáticos[[#This Row],[Número de personas]]=\"\"),\"\",IFERROR(2*(VLOOKUP(Viáticos[[#This Row],[Destino]],Tabla216[#All],3,0)+VLOOKUP(Viáticos[[#This Row],[Destino]],Tabla216[#All],4,0))+Viáticos[[#This Row],[Número de días por viático]]*(2*VLOOKUP(Viáticos[[#This Row],[Destino]],Tabla216[#All],5,0)+VLOOKUP(Viáticos[[#This Row],[Destino]],Tabla216[#All],6,0)+VLOOKUP(Viáticos[[#This Row],[Destino]],Tabla216[#All],7,0))+(Viáticos[[#This Row],[Número de días por viático]]-1)*(VLOOKUP(Viáticos[[#This Row],[Destino]],Tabla216[#All],8,0)+VLOOKUP(Viáticos[[#This Row],[Destino]],Tabla216[#All],9,0)),\"\")))*Viáticos[[#This Row],[Número de personas]]*(1+25%)),\"\")","v":""},null,null,{"$f":"IFERROR(IF(Viáticos[[#This Row],[Viático pactado]]=\"\",((Viáticos[[#This Row],[Valor Viático por viaje]]*(1+Viáticos[[#This Row],[% Administración]]/100))),(Viáticos[[#This Row],[Viático pactado]]*(1+Viáticos[[#This Row],[% Administración]]/100))),\"\")","v":""},null,{"$f":"+IFERROR(Viáticos[[#This Row],[Costo parcial]]*(Viáticos[[#This Row],[% Participación ]]/100),\"\")","v":""}]
[null,null,null,null,null,{"$f":"+IF(Viáticos[[#This Row],[Nivel del cargo]]=\"\",\"\",F91)","v":""},null,null,{"$f":"IFERROR(IF(Viáticos[[#This Row],[Nivel del cargo]]=\"No directivo\",((IF(OR(Viáticos[[#This Row],[Número de días por viático]]=\"\",Viáticos[[#This Row],[Número de personas]]=\"\"),\"\",IFERROR(2*(VLOOKUP(Viáticos[[#This Row],[Destino]],Tabla216[#All],3,0)+VLOOKUP(Viáticos[[#This Row],[Destino]],Tabla216[#All],4,0))+Viáticos[[#This Row],[Número de días por viático]]*(2*VLOOKUP(Viáticos[[#This Row],[Destino]],Tabla216[#All],5,0)+VLOOKUP(Viáticos[[#This Row],[Destino]],Tabla216[#All],6,0)+VLOOKUP(Viáticos[[#This Row],[Destino]],Tabla216[#All],7,0))+(Viáticos[[#This Row],[Número de días por viático]]-1)*(VLOOKUP(Viáticos[[#This Row],[Destino]],Tabla216[#All],8,0)+VLOOKUP(Viáticos[[#This Row],[Destino]],Tabla216[#All],9,0)),\"\"))))*Viáticos[[#This Row],[Número de personas]],(IF(OR(Viáticos[[#This Row],[Número de días por viático]]=\"\",Viáticos[[#This Row],[Número de personas]]=\"\"),\"\",IFERROR(2*(VLOOKUP(Viáticos[[#This Row],[Destino]],Tabla216[#All],3,0)+VLOOKUP(Viáticos[[#This Row],[Destino]],Tabla216[#All],4,0))+Viáticos[[#This Row],[Número de días por viático]]*(2*VLOOKUP(Viáticos[[#This Row],[Destino]],Tabla216[#All],5,0)+VLOOKUP(Viáticos[[#This Row],[Destino]],Tabla216[#All],6,0)+VLOOKUP(Viáticos[[#This Row],[Destino]],Tabla216[#All],7,0))+(Viáticos[[#This Row],[Número de días por viático]]-1)*(VLOOKUP(Viáticos[[#This Row],[Destino]],Tabla216[#All],8,0)+VLOOKUP(Viáticos[[#This Row],[Destino]],Tabla216[#All],9,0)),\"\")))*Viáticos[[#This Row],[Número de personas]]*(1+25%)),\"\")","v":""},null,null,{"$f":"IFERROR(IF(Viáticos[[#This Row],[Viático pactado]]=\"\",((Viáticos[[#This Row],[Valor Viático por viaje]]*(1+Viáticos[[#This Row],[% Administración]]/100))),(Viáticos[[#This Row],[Viático pactado]]*(1+Viáticos[[#This Row],[% Administración]]/100))),\"\")","v":""},null,{"$f":"+IFERROR(Viáticos[[#This Row],[Costo parcial]]*(Viáticos[[#This Row],[% Participación ]]/100),\"\")","v":""}]
[null,null,null,null,null,{"$f":"+IF(Viáticos[[#This Row],[Nivel del cargo]]=\"\",\"\",F92)","v":""},null,null,{"$f":"IFERROR(IF(Viáticos[[#This Row],[Nivel del cargo]]=\"No directivo\",((IF(OR(Viáticos[[#This Row],[Número de días por viático]]=\"\",Viáticos[[#This Row],[Número de personas]]=\"\"),\"\",IFERROR(2*(VLOOKUP(Viáticos[[#This Row],[Destino]],Tabla216[#All],3,0)+VLOOKUP(Viáticos[[#This Row],[Destino]],Tabla216[#All],4,0))+Viáticos[[#This Row],[Número de días por viático]]*(2*VLOOKUP(Viáticos[[#This Row],[Destino]],Tabla216[#All],5,0)+VLOOKUP(Viáticos[[#This Row],[Destino]],Tabla216[#All],6,0)+VLOOKUP(Viáticos[[#This Row],[Destino]],Tabla216[#All],7,0))+(Viáticos[[#This Row],[Número de días por viático]]-1)*(VLOOKUP(Viáticos[[#This Row],[Destino]],Tabla216[#All],8,0)+VLOOKUP(Viáticos[[#This Row],[Destino]],Tabla216[#All],9,0)),\"\"))))*Viáticos[[#This Row],[Número de personas]],(IF(OR(Viáticos[[#This Row],[Número de días por viático]]=\"\",Viáticos[[#This Row],[Número de personas]]=\"\"),\"\",IFERROR(2*(VLOOKUP(Viáticos[[#This Row],[Destino]],Tabla216[#All],3,0)+VLOOKUP(Viáticos[[#This Row],[Destino]],Tabla216[#All],4,0))+Viáticos[[#This Row],[Número de días por viático]]*(2*VLOOKUP(Viáticos[[#This Row],[Destino]],Tabla216[#All],5,0)+VLOOKUP(Viáticos[[#This Row],[Destino]],Tabla216[#All],6,0)+VLOOKUP(Viáticos[[#This Row],[Destino]],Tabla216[#All],7,0))+(Viáticos[[#This Row],[Número de días por viático]]-1)*(VLOOKUP(Viáticos[[#This Row],[Destino]],Tabla216[#All],8,0)+VLOOKUP(Viáticos[[#This Row],[Destino]],Tabla216[#All],9,0)),\"\")))*Viáticos[[#This Row],[Número de personas]]*(1+25%)),\"\")","v":""},null,null,{"$f":"IFERROR(IF(Viáticos[[#This Row],[Viático pactado]]=\"\",((Viáticos[[#This Row],[Valor Viático por viaje]]*(1+Viáticos[[#This Row],[% Administración]]/100))),(Viáticos[[#This Row],[Viático pactado]]*(1+Viáticos[[#This Row],[% Administración]]/100))),\"\")","v":""},null,{"$f":"+IFERROR(Viáticos[[#This Row],[Costo parcial]]*(Viáticos[[#This Row],[% Participación ]]/100),\"\")","v":""}]
[null,null,null,null,null,{"$f":"+IF(Viáticos[[#This Row],[Nivel del cargo]]=\"\",\"\",F93)","v":""},null,null,{"$f":"IFERROR(IF(Viáticos[[#This Row],[Nivel del cargo]]=\"No directivo\",((IF(OR(Viáticos[[#This Row],[Número de días por viático]]=\"\",Viáticos[[#This Row],[Número de personas]]=\"\"),\"\",IFERROR(2*(VLOOKUP(Viáticos[[#This Row],[Destino]],Tabla216[#All],3,0)+VLOOKUP(Viáticos[[#This Row],[Destino]],Tabla216[#All],4,0))+Viáticos[[#This Row],[Número de días por viático]]*(2*VLOOKUP(Viáticos[[#This Row],[Destino]],Tabla216[#All],5,0)+VLOOKUP(Viáticos[[#This Row],[Destino]],Tabla216[#All],6,0)+VLOOKUP(Viáticos[[#This Row],[Destino]],Tabla216[#All],7,0))+(Viáticos[[#This Row],[Número de días por viático]]-1)*(VLOOKUP(Viáticos[[#This Row],[Destino]],Tabla216[#All],8,0)+VLOOKUP(Viáticos[[#This Row],[Destino]],Tabla216[#All],9,0)),\"\"))))*Viáticos[[#This Row],[Número de personas]],(IF(OR(Viáticos[[#This Row],[Número de días por viático]]=\"\",Viáticos[[#This Row],[Número de personas]]=\"\"),\"\",IFERROR(2*(VLOOKUP(Viáticos[[#This Row],[Destino]],Tabla216[#All],3,0)+VLOOKUP(Viáticos[[#This Row],[Destino]],Tabla216[#All],4,0))+Viáticos[[#This Row],[Número de días por viático]]*(2*VLOOKUP(Viáticos[[#This Row],[Destino]],Tabla216[#All],5,0)+VLOOKUP(Viáticos[[#This Row],[Destino]],Tabla216[#All],6,0)+VLOOKUP(Viáticos[[#This Row],[Destino]],Tabla216[#All],7,0))+(Viáticos[[#This Row],[Número de días por viático]]-1)*(VLOOKUP(Viáticos[[#This Row],[Destino]],Tabla216[#All],8,0)+VLOOKUP(Viáticos[[#This Row],[Destino]],Tabla216[#All],9,0)),\"\")))*Viáticos[[#This Row],[Número de personas]]*(1+25%)),\"\")","v":""},null,null,{"$f":"IFERROR(IF(Viáticos[[#This Row],[Viático pactado]]=\"\",((Viáticos[[#This Row],[Valor Viático por viaje]]*(1+Viáticos[[#This Row],[% Administración]]/100))),(Viáticos[[#This Row],[Viático pactado]]*(1+Viáticos[[#This Row],[% Administración]]/100))),\"\")","v":""},null,{"$f":"+IFERROR(Viáticos[[#This Row],[Costo parcial]]*(Viáticos[[#This Row],[% Participación ]]/100),\"\")","v":""}]
[null,null,null,null,null,{"$f":"+IF(Viáticos[[#This Row],[Nivel del cargo]]=\"\",\"\",F94)","v":""},null,null,{"$f":"IFERROR(IF(Viáticos[[#This Row],[Nivel del cargo]]=\"No directivo\",((IF(OR(Viáticos[[#This Row],[Número de días por viático]]=\"\",Viáticos[[#This Row],[Número de personas]]=\"\"),\"\",IFERROR(2*(VLOOKUP(Viáticos[[#This Row],[Destino]],Tabla216[#All],3,0)+VLOOKUP(Viáticos[[#This Row],[Destino]],Tabla216[#All],4,0))+Viáticos[[#This Row],[Número de días por viático]]*(2*VLOOKUP(Viáticos[[#This Row],[Destino]],Tabla216[#All],5,0)+VLOOKUP(Viáticos[[#This Row],[Destino]],Tabla216[#All],6,0)+VLOOKUP(Viáticos[[#This Row],[Destino]],Tabla216[#All],7,0))+(Viáticos[[#This Row],[Número de días por viático]]-1)*(VLOOKUP(Viáticos[[#This Row],[Destino]],Tabla216[#All],8,0)+VLOOKUP(Viáticos[[#This Row],[Destino]],Tabla216[#All],9,0)),\"\"))))*Viáticos[[#This Row],[Número de personas]],(IF(OR(Viáticos[[#This Row],[Número de días por viático]]=\"\",Viáticos[[#This Row],[Número de personas]]=\"\"),\"\",IFERROR(2*(VLOOKUP(Viáticos[[#This Row],[Destino]],Tabla216[#All],3,0)+VLOOKUP(Viáticos[[#This Row],[Destino]],Tabla216[#All],4,0))+Viáticos[[#This Row],[Número de días por viático]]*(2*VLOOKUP(Viáticos[[#This Row],[Destino]],Tabla216[#All],5,0)+VLOOKUP(Viáticos[[#This Row],[Destino]],Tabla216[#All],6,0)+VLOOKUP(Viáticos[[#This Row],[Destino]],Tabla216[#All],7,0))+(Viáticos[[#This Row],[Número de días por viático]]-1)*(VLOOKUP(Viáticos[[#This Row],[Destino]],Tabla216[#All],8,0)+VLOOKUP(Viáticos[[#This Row],[Destino]],Tabla216[#All],9,0)),\"\")))*Viáticos[[#This Row],[Número de personas]]*(1+25%)),\"\")","v":""},null,null,{"$f":"IFERROR(IF(Viáticos[[#This Row],[Viático pactado]]=\"\",((Viáticos[[#This Row],[Valor Viático por viaje]]*(1+Viáticos[[#This Row],[% Administración]]/100))),(Viáticos[[#This Row],[Viático pactado]]*(1+Viáticos[[#This Row],[% Administración]]/100))),\"\")","v":""},null,{"$f":"+IFERROR(Viáticos[[#This Row],[Costo parcial]]*(Viáticos[[#This Row],[% Participación ]]/100),\"\")","v":""}]
[null,null,null,null,null,{"$f":"+IF(Viáticos[[#This Row],[Nivel del cargo]]=\"\",\"\",F95)","v":""},null,null,{"$f":"IFERROR(IF(Viáticos[[#This Row],[Nivel del cargo]]=\"No directivo\",((IF(OR(Viáticos[[#This Row],[Número de días por viático]]=\"\",Viáticos[[#This Row],[Número de personas]]=\"\"),\"\",IFERROR(2*(VLOOKUP(Viáticos[[#This Row],[Destino]],Tabla216[#All],3,0)+VLOOKUP(Viáticos[[#This Row],[Destino]],Tabla216[#All],4,0))+Viáticos[[#This Row],[Número de días por viático]]*(2*VLOOKUP(Viáticos[[#This Row],[Destino]],Tabla216[#All],5,0)+VLOOKUP(Viáticos[[#This Row],[Destino]],Tabla216[#All],6,0)+VLOOKUP(Viáticos[[#This Row],[Destino]],Tabla216[#All],7,0))+(Viáticos[[#This Row],[Número de días por viático]]-1)*(VLOOKUP(Viáticos[[#This Row],[Destino]],Tabla216[#All],8,0)+VLOOKUP(Viáticos[[#This Row],[Destino]],Tabla216[#All],9,0)),\"\"))))*Viáticos[[#This Row],[Número de personas]],(IF(OR(Viáticos[[#This Row],[Número de días por viático]]=\"\",Viáticos[[#This Row],[Número de personas]]=\"\"),\"\",IFERROR(2*(VLOOKUP(Viáticos[[#This Row],[Destino]],Tabla216[#All],3,0)+VLOOKUP(Viáticos[[#This Row],[Destino]],Tabla216[#All],4,0))+Viáticos[[#This Row],[Número de días por viático]]*(2*VLOOKUP(Viáticos[[#This Row],[Destino]],Tabla216[#All],5,0)+VLOOKUP(Viáticos[[#This Row],[Destino]],Tabla216[#All],6,0)+VLOOKUP(Viáticos[[#This Row],[Destino]],Tabla216[#All],7,0))+(Viáticos[[#This Row],[Número de días por viático]]-1)*(VLOOKUP(Viáticos[[#This Row],[Destino]],Tabla216[#All],8,0)+VLOOKUP(Viáticos[[#This Row],[Destino]],Tabla216[#All],9,0)),\"\")))*Viáticos[[#This Row],[Número de personas]]*(1+25%)),\"\")","v":""},null,null,{"$f":"IFERROR(IF(Viáticos[[#This Row],[Viático pactado]]=\"\",((Viáticos[[#This Row],[Valor Viático por viaje]]*(1+Viáticos[[#This Row],[% Administración]]/100))),(Viáticos[[#This Row],[Viático pactado]]*(1+Viáticos[[#This Row],[% Administración]]/100))),\"\")","v":""},null,{"$f":"+IFERROR(Viáticos[[#This Row],[Costo parcial]]*(Viáticos[[#This Row],[% Participación ]]/100),\"\")","v":""}]
[null,null,null,null,null,{"$f":"+IF(Viáticos[[#This Row],[Nivel del cargo]]=\"\",\"\",F96)","v":""},null,null,{"$f":"IFERROR(IF(Viáticos[[#This Row],[Nivel del cargo]]=\"No directivo\",((IF(OR(Viáticos[[#This Row],[Número de días por viático]]=\"\",Viáticos[[#This Row],[Número de personas]]=\"\"),\"\",IFERROR(2*(VLOOKUP(Viáticos[[#This Row],[Destino]],Tabla216[#All],3,0)+VLOOKUP(Viáticos[[#This Row],[Destino]],Tabla216[#All],4,0))+Viáticos[[#This Row],[Número de días por viático]]*(2*VLOOKUP(Viáticos[[#This Row],[Destino]],Tabla216[#All],5,0)+VLOOKUP(Viáticos[[#This Row],[Destino]],Tabla216[#All],6,0)+VLOOKUP(Viáticos[[#This Row],[Destino]],Tabla216[#All],7,0))+(Viáticos[[#This Row],[Número de días por viático]]-1)*(VLOOKUP(Viáticos[[#This Row],[Destino]],Tabla216[#All],8,0)+VLOOKUP(Viáticos[[#This Row],[Destino]],Tabla216[#All],9,0)),\"\"))))*Viáticos[[#This Row],[Número de personas]],(IF(OR(Viáticos[[#This Row],[Número de días por viático]]=\"\",Viáticos[[#This Row],[Número de personas]]=\"\"),\"\",IFERROR(2*(VLOOKUP(Viáticos[[#This Row],[Destino]],Tabla216[#All],3,0)+VLOOKUP(Viáticos[[#This Row],[Destino]],Tabla216[#All],4,0))+Viáticos[[#This Row],[Número de días por viático]]*(2*VLOOKUP(Viáticos[[#This Row],[Destino]],Tabla216[#All],5,0)+VLOOKUP(Viáticos[[#This Row],[Destino]],Tabla216[#All],6,0)+VLOOKUP(Viáticos[[#This Row],[Destino]],Tabla216[#All],7,0))+(Viáticos[[#This Row],[Número de días por viático]]-1)*(VLOOKUP(Viáticos[[#This Row],[Destino]],Tabla216[#All],8,0)+VLOOKUP(Viáticos[[#This Row],[Destino]],Tabla216[#All],9,0)),\"\")))*Viáticos[[#This Row],[Número de personas]]*(1+25%)),\"\")","v":""},null,null,{"$f":"IFERROR(IF(Viáticos[[#This Row],[Viático pactado]]=\"\",((Viáticos[[#This Row],[Valor Viático por viaje]]*(1+Viáticos[[#This Row],[% Administración]]/100))),(Viáticos[[#This Row],[Viático pactado]]*(1+Viáticos[[#This Row],[% Administración]]/100))),\"\")","v":""},null,{"$f":"+IFERROR(Viáticos[[#This Row],[Costo parcial]]*(Viáticos[[#This Row],[% Participación ]]/100),\"\")","v":""}]
[null,null,null,null,null,{"$f":"+IF(Viáticos[[#This Row],[Nivel del cargo]]=\"\",\"\",F97)","v":""},null,null,{"$f":"IFERROR(IF(Viáticos[[#This Row],[Nivel del cargo]]=\"No directivo\",((IF(OR(Viáticos[[#This Row],[Número de días por viático]]=\"\",Viáticos[[#This Row],[Número de personas]]=\"\"),\"\",IFERROR(2*(VLOOKUP(Viáticos[[#This Row],[Destino]],Tabla216[#All],3,0)+VLOOKUP(Viáticos[[#This Row],[Destino]],Tabla216[#All],4,0))+Viáticos[[#This Row],[Número de días por viático]]*(2*VLOOKUP(Viáticos[[#This Row],[Destino]],Tabla216[#All],5,0)+VLOOKUP(Viáticos[[#This Row],[Destino]],Tabla216[#All],6,0)+VLOOKUP(Viáticos[[#This Row],[Destino]],Tabla216[#All],7,0))+(Viáticos[[#This Row],[Número de días por viático]]-1)*(VLOOKUP(Viáticos[[#This Row],[Destino]],Tabla216[#All],8,0)+VLOOKUP(Viáticos[[#This Row],[Destino]],Tabla216[#All],9,0)),\"\"))))*Viáticos[[#This Row],[Número de personas]],(IF(OR(Viáticos[[#This Row],[Número de días por viático]]=\"\",Viáticos[[#This Row],[Número de personas]]=\"\"),\"\",IFERROR(2*(VLOOKUP(Viáticos[[#This Row],[Destino]],Tabla216[#All],3,0)+VLOOKUP(Viáticos[[#This Row],[Destino]],Tabla216[#All],4,0))+Viáticos[[#This Row],[Número de días por viático]]*(2*VLOOKUP(Viáticos[[#This Row],[Destino]],Tabla216[#All],5,0)+VLOOKUP(Viáticos[[#This Row],[Destino]],Tabla216[#All],6,0)+VLOOKUP(Viáticos[[#This Row],[Destino]],Tabla216[#All],7,0))+(Viáticos[[#This Row],[Número de días por viático]]-1)*(VLOOKUP(Viáticos[[#This Row],[Destino]],Tabla216[#All],8,0)+VLOOKUP(Viáticos[[#This Row],[Destino]],Tabla216[#All],9,0)),\"\")))*Viáticos[[#This Row],[Número de personas]]*(1+25%)),\"\")","v":""},null,null,{"$f":"IFERROR(IF(Viáticos[[#This Row],[Viático pactado]]=\"\",((Viáticos[[#This Row],[Valor Viático por viaje]]*(1+Viáticos[[#This Row],[% Administración]]/100))),(Viáticos[[#This Row],[Viático pactado]]*(1+Viáticos[[#This Row],[% Administración]]/100))),\"\")","v":""},null,{"$f":"+IFERROR(Viáticos[[#This Row],[Costo parcial]]*(Viáticos[[#This Row],[% Participación ]]/100),\"\")","v":""}]
[null,null,null,null,null,{"$f":"+IF(Viáticos[[#This Row],[Nivel del cargo]]=\"\",\"\",F98)","v":""},null,null,{"$f":"IFERROR(IF(Viáticos[[#This Row],[Nivel del cargo]]=\"No directivo\",((IF(OR(Viáticos[[#This Row],[Número de días por viático]]=\"\",Viáticos[[#This Row],[Número de personas]]=\"\"),\"\",IFERROR(2*(VLOOKUP(Viáticos[[#This Row],[Destino]],Tabla216[#All],3,0)+VLOOKUP(Viáticos[[#This Row],[Destino]],Tabla216[#All],4,0))+Viáticos[[#This Row],[Número de días por viático]]*(2*VLOOKUP(Viáticos[[#This Row],[Destino]],Tabla216[#All],5,0)+VLOOKUP(Viáticos[[#This Row],[Destino]],Tabla216[#All],6,0)+VLOOKUP(Viáticos[[#This Row],[Destino]],Tabla216[#All],7,0))+(Viáticos[[#This Row],[Número de días por viático]]-1)*(VLOOKUP(Viáticos[[#This Row],[Destino]],Tabla216[#All],8,0)+VLOOKUP(Viáticos[[#This Row],[Destino]],Tabla216[#All],9,0)),\"\"))))*Viáticos[[#This Row],[Número de personas]],(IF(OR(Viáticos[[#This Row],[Número de días por viático]]=\"\",Viáticos[[#This Row],[Número de personas]]=\"\"),\"\",IFERROR(2*(VLOOKUP(Viáticos[[#This Row],[Destino]],Tabla216[#All],3,0)+VLOOKUP(Viáticos[[#This Row],[Destino]],Tabla216[#All],4,0))+Viáticos[[#This Row],[Número de días por viático]]*(2*VLOOKUP(Viáticos[[#This Row],[Destino]],Tabla216[#All],5,0)+VLOOKUP(Viáticos[[#This Row],[Destino]],Tabla216[#All],6,0)+VLOOKUP(Viáticos[[#This Row],[Destino]],Tabla216[#All],7,0))+(Viáticos[[#This Row],[Número de días por viático]]-1)*(VLOOKUP(Viáticos[[#This Row],[Destino]],Tabla216[#All],8,0)+VLOOKUP(Viáticos[[#This Row],[Destino]],Tabla216[#All],9,0)),\"\")))*Viáticos[[#This Row],[Número de personas]]*(1+25%)),\"\")","v":""},null,null,{"$f":"IFERROR(IF(Viáticos[[#This Row],[Viático pactado]]=\"\",((Viáticos[[#This Row],[Valor Viático por viaje]]*(1+Viáticos[[#This Row],[% Administración]]/100))),(Viáticos[[#This Row],[Viático pactado]]*(1+Viáticos[[#This Row],[% Administración]]/100))),\"\")","v":""},null,{"$f":"+IFERROR(Viáticos[[#This Row],[Costo parcial]]*(Viáticos[[#This Row],[% Participación ]]/100),\"\")","v":""}]
[null,null,null,null,null,{"$f":"+IF(Viáticos[[#This Row],[Nivel del cargo]]=\"\",\"\",F99)","v":""},null,null,{"$f":"IFERROR(IF(Viáticos[[#This Row],[Nivel del cargo]]=\"No directivo\",((IF(OR(Viáticos[[#This Row],[Número de días por viático]]=\"\",Viáticos[[#This Row],[Número de personas]]=\"\"),\"\",IFERROR(2*(VLOOKUP(Viáticos[[#This Row],[Destino]],Tabla216[#All],3,0)+VLOOKUP(Viáticos[[#This Row],[Destino]],Tabla216[#All],4,0))+Viáticos[[#This Row],[Número de días por viático]]*(2*VLOOKUP(Viáticos[[#This Row],[Destino]],Tabla216[#All],5,0)+VLOOKUP(Viáticos[[#This Row],[Destino]],Tabla216[#All],6,0)+VLOOKUP(Viáticos[[#This Row],[Destino]],Tabla216[#All],7,0))+(Viáticos[[#This Row],[Número de días por viático]]-1)*(VLOOKUP(Viáticos[[#This Row],[Destino]],Tabla216[#All],8,0)+VLOOKUP(Viáticos[[#This Row],[Destino]],Tabla216[#All],9,0)),\"\"))))*Viáticos[[#This Row],[Número de personas]],(IF(OR(Viáticos[[#This Row],[Número de días por viático]]=\"\",Viáticos[[#This Row],[Número de personas]]=\"\"),\"\",IFERROR(2*(VLOOKUP(Viáticos[[#This Row],[Destino]],Tabla216[#All],3,0)+VLOOKUP(Viáticos[[#This Row],[Destino]],Tabla216[#All],4,0))+Viáticos[[#This Row],[Número de días por viático]]*(2*VLOOKUP(Viáticos[[#This Row],[Destino]],Tabla216[#All],5,0)+VLOOKUP(Viáticos[[#This Row],[Destino]],Tabla216[#All],6,0)+VLOOKUP(Viáticos[[#This Row],[Destino]],Tabla216[#All],7,0))+(Viáticos[[#This Row],[Número de días por viático]]-1)*(VLOOKUP(Viáticos[[#This Row],[Destino]],Tabla216[#All],8,0)+VLOOKUP(Viáticos[[#This Row],[Destino]],Tabla216[#All],9,0)),\"\")))*Viáticos[[#This Row],[Número de personas]]*(1+25%)),\"\")","v":""},null,null,{"$f":"IFERROR(IF(Viáticos[[#This Row],[Viático pactado]]=\"\",((Viáticos[[#This Row],[Valor Viático por viaje]]*(1+Viáticos[[#This Row],[% Administración]]/100))),(Viáticos[[#This Row],[Viático pactado]]*(1+Viáticos[[#This Row],[% Administración]]/100))),\"\")","v":""},null,{"$f":"+IFERROR(Viáticos[[#This Row],[Costo parcial]]*(Viáticos[[#This Row],[% Participación ]]/100),\"\")","v":""}]
[null,null,null,null,null,{"$f":"+IF(Viáticos[[#This Row],[Nivel del cargo]]=\"\",\"\",F100)","v":""},null,null,{"$f":"IFERROR(IF(Viáticos[[#This Row],[Nivel del cargo]]=\"No directivo\",((IF(OR(Viáticos[[#This Row],[Número de días por viático]]=\"\",Viáticos[[#This Row],[Número de personas]]=\"\"),\"\",IFERROR(2*(VLOOKUP(Viáticos[[#This Row],[Destino]],Tabla216[#All],3,0)+VLOOKUP(Viáticos[[#This Row],[Destino]],Tabla216[#All],4,0))+Viáticos[[#This Row],[Número de días por viático]]*(2*VLOOKUP(Viáticos[[#This Row],[Destino]],Tabla216[#All],5,0)+VLOOKUP(Viáticos[[#This Row],[Destino]],Tabla216[#All],6,0)+VLOOKUP(Viáticos[[#This Row],[Destino]],Tabla216[#All],7,0))+(Viáticos[[#This Row],[Número de días por viático]]-1)*(VLOOKUP(Viáticos[[#This Row],[Destino]],Tabla216[#All],8,0)+VLOOKUP(Viáticos[[#This Row],[Destino]],Tabla216[#All],9,0)),\"\"))))*Viáticos[[#This Row],[Número de personas]],(IF(OR(Viáticos[[#This Row],[Número de días por viático]]=\"\",Viáticos[[#This Row],[Número de personas]]=\"\"),\"\",IFERROR(2*(VLOOKUP(Viáticos[[#This Row],[Destino]],Tabla216[#All],3,0)+VLOOKUP(Viáticos[[#This Row],[Destino]],Tabla216[#All],4,0))+Viáticos[[#This Row],[Número de días por viático]]*(2*VLOOKUP(Viáticos[[#This Row],[Destino]],Tabla216[#All],5,0)+VLOOKUP(Viáticos[[#This Row],[Destino]],Tabla216[#All],6,0)+VLOOKUP(Viáticos[[#This Row],[Destino]],Tabla216[#All],7,0))+(Viáticos[[#This Row],[Número de días por viático]]-1)*(VLOOKUP(Viáticos[[#This Row],[Destino]],Tabla216[#All],8,0)+VLOOKUP(Viáticos[[#This Row],[Destino]],Tabla216[#All],9,0)),\"\")))*Viáticos[[#This Row],[Número de personas]]*(1+25%)),\"\")","v":""},null,null,{"$f":"IFERROR(IF(Viáticos[[#This Row],[Viático pactado]]=\"\",((Viáticos[[#This Row],[Valor Viático por viaje]]*(1+Viáticos[[#This Row],[% Administración]]/100))),(Viáticos[[#This Row],[Viático pactado]]*(1+Viáticos[[#This Row],[% Administración]]/100))),\"\")","v":""},null,{"$f":"+IFERROR(Viáticos[[#This Row],[Costo parcial]]*(Viáticos[[#This Row],[% Participación ]]/100),\"\")","v":""}]
[null,null,null,null,null,{"$f":"+IF(Viáticos[[#This Row],[Nivel del cargo]]=\"\",\"\",F101)","v":""},null,null,{"$f":"IFERROR(IF(Viáticos[[#This Row],[Nivel del cargo]]=\"No directivo\",((IF(OR(Viáticos[[#This Row],[Número de días por viático]]=\"\",Viáticos[[#This Row],[Número de personas]]=\"\"),\"\",IFERROR(2*(VLOOKUP(Viáticos[[#This Row],[Destino]],Tabla216[#All],3,0)+VLOOKUP(Viáticos[[#This Row],[Destino]],Tabla216[#All],4,0))+Viáticos[[#This Row],[Número de días por viático]]*(2*VLOOKUP(Viáticos[[#This Row],[Destino]],Tabla216[#All],5,0)+VLOOKUP(Viáticos[[#This Row],[Destino]],Tabla216[#All],6,0)+VLOOKUP(Viáticos[[#This Row],[Destino]],Tabla216[#All],7,0))+(Viáticos[[#This Row],[Número de días por viático]]-1)*(VLOOKUP(Viáticos[[#This Row],[Destino]],Tabla216[#All],8,0)+VLOOKUP(Viáticos[[#This Row],[Destino]],Tabla216[#All],9,0)),\"\"))))*Viáticos[[#This Row],[Número de personas]],(IF(OR(Viáticos[[#This Row],[Número de días por viático]]=\"\",Viáticos[[#This Row],[Número de personas]]=\"\"),\"\",IFERROR(2*(VLOOKUP(Viáticos[[#This Row],[Destino]],Tabla216[#All],3,0)+VLOOKUP(Viáticos[[#This Row],[Destino]],Tabla216[#All],4,0))+Viáticos[[#This Row],[Número de días por viático]]*(2*VLOOKUP(Viáticos[[#This Row],[Destino]],Tabla216[#All],5,0)+VLOOKUP(Viáticos[[#This Row],[Destino]],Tabla216[#All],6,0)+VLOOKUP(Viáticos[[#This Row],[Destino]],Tabla216[#All],7,0))+(Viáticos[[#This Row],[Número de días por viático]]-1)*(VLOOKUP(Viáticos[[#This Row],[Destino]],Tabla216[#All],8,0)+VLOOKUP(Viáticos[[#This Row],[Destino]],Tabla216[#All],9,0)),\"\")))*Viáticos[[#This Row],[Número de personas]]*(1+25%)),\"\")","v":""},null,null,{"$f":"IFERROR(IF(Viáticos[[#This Row],[Viático pactado]]=\"\",((Viáticos[[#This Row],[Valor Viático por viaje]]*(1+Viáticos[[#This Row],[% Administración]]/100))),(Viáticos[[#This Row],[Viático pactado]]*(1+Viáticos[[#This Row],[% Administración]]/100))),\"\")","v":""},null,{"$f":"+IFERROR(Viáticos[[#This Row],[Costo parcial]]*(Viáticos[[#This Row],[% Participación ]]/100),\"\")","v":""}]
[null,null,null,null,null,{"$f":"+IF(Viáticos[[#This Row],[Nivel del cargo]]=\"\",\"\",F102)","v":""},null,null,{"$f":"IFERROR(IF(Viáticos[[#This Row],[Nivel del cargo]]=\"No directivo\",((IF(OR(Viáticos[[#This Row],[Número de días por viático]]=\"\",Viáticos[[#This Row],[Número de personas]]=\"\"),\"\",IFERROR(2*(VLOOKUP(Viáticos[[#This Row],[Destino]],Tabla216[#All],3,0)+VLOOKUP(Viáticos[[#This Row],[Destino]],Tabla216[#All],4,0))+Viáticos[[#This Row],[Número de días por viático]]*(2*VLOOKUP(Viáticos[[#This Row],[Destino]],Tabla216[#All],5,0)+VLOOKUP(Viáticos[[#This Row],[Destino]],Tabla216[#All],6,0)+VLOOKUP(Viáticos[[#This Row],[Destino]],Tabla216[#All],7,0))+(Viáticos[[#This Row],[Número de días por viático]]-1)*(VLOOKUP(Viáticos[[#This Row],[Destino]],Tabla216[#All],8,0)+VLOOKUP(Viáticos[[#This Row],[Destino]],Tabla216[#All],9,0)),\"\"))))*Viáticos[[#This Row],[Número de personas]],(IF(OR(Viáticos[[#This Row],[Número de días por viático]]=\"\",Viáticos[[#This Row],[Número de personas]]=\"\"),\"\",IFERROR(2*(VLOOKUP(Viáticos[[#This Row],[Destino]],Tabla216[#All],3,0)+VLOOKUP(Viáticos[[#This Row],[Destino]],Tabla216[#All],4,0))+Viáticos[[#This Row],[Número de días por viático]]*(2*VLOOKUP(Viáticos[[#This Row],[Destino]],Tabla216[#All],5,0)+VLOOKUP(Viáticos[[#This Row],[Destino]],Tabla216[#All],6,0)+VLOOKUP(Viáticos[[#This Row],[Destino]],Tabla216[#All],7,0))+(Viáticos[[#This Row],[Número de días por viático]]-1)*(VLOOKUP(Viáticos[[#This Row],[Destino]],Tabla216[#All],8,0)+VLOOKUP(Viáticos[[#This Row],[Destino]],Tabla216[#All],9,0)),\"\")))*Viáticos[[#This Row],[Número de personas]]*(1+25%)),\"\")","v":""},null,null,{"$f":"IFERROR(IF(Viáticos[[#This Row],[Viático pactado]]=\"\",((Viáticos[[#This Row],[Valor Viático por viaje]]*(1+Viáticos[[#This Row],[% Administración]]/100))),(Viáticos[[#This Row],[Viático pactado]]*(1+Viáticos[[#This Row],[% Administración]]/100))),\"\")","v":""},null,{"$f":"+IFERROR(Viáticos[[#This Row],[Costo parcial]]*(Viáticos[[#This Row],[% Participación ]]/100),\"\")","v":""}]
[null,null,null,null,null,{"$f":"+IF(Viáticos[[#This Row],[Nivel del cargo]]=\"\",\"\",F103)","v":""},null,null,{"$f":"IFERROR(IF(Viáticos[[#This Row],[Nivel del cargo]]=\"No directivo\",((IF(OR(Viáticos[[#This Row],[Número de días por viático]]=\"\",Viáticos[[#This Row],[Número de personas]]=\"\"),\"\",IFERROR(2*(VLOOKUP(Viáticos[[#This Row],[Destino]],Tabla216[#All],3,0)+VLOOKUP(Viáticos[[#This Row],[Destino]],Tabla216[#All],4,0))+Viáticos[[#This Row],[Número de días por viático]]*(2*VLOOKUP(Viáticos[[#This Row],[Destino]],Tabla216[#All],5,0)+VLOOKUP(Viáticos[[#This Row],[Destino]],Tabla216[#All],6,0)+VLOOKUP(Viáticos[[#This Row],[Destino]],Tabla216[#All],7,0))+(Viáticos[[#This Row],[Número de días por viático]]-1)*(VLOOKUP(Viáticos[[#This Row],[Destino]],Tabla216[#All],8,0)+VLOOKUP(Viáticos[[#This Row],[Destino]],Tabla216[#All],9,0)),\"\"))))*Viáticos[[#This Row],[Número de personas]],(IF(OR(Viáticos[[#This Row],[Número de días por viático]]=\"\",Viáticos[[#This Row],[Número de personas]]=\"\"),\"\",IFERROR(2*(VLOOKUP(Viáticos[[#This Row],[Destino]],Tabla216[#All],3,0)+VLOOKUP(Viáticos[[#This Row],[Destino]],Tabla216[#All],4,0))+Viáticos[[#This Row],[Número de días por viático]]*(2*VLOOKUP(Viáticos[[#This Row],[Destino]],Tabla216[#All],5,0)+VLOOKUP(Viáticos[[#This Row],[Destino]],Tabla216[#All],6,0)+VLOOKUP(Viáticos[[#This Row],[Destino]],Tabla216[#All],7,0))+(Viáticos[[#This Row],[Número de días por viático]]-1)*(VLOOKUP(Viáticos[[#This Row],[Destino]],Tabla216[#All],8,0)+VLOOKUP(Viáticos[[#This Row],[Destino]],Tabla216[#All],9,0)),\"\")))*Viáticos[[#This Row],[Número de personas]]*(1+25%)),\"\")","v":""},null,null,{"$f":"IFERROR(IF(Viáticos[[#This Row],[Viático pactado]]=\"\",((Viáticos[[#This Row],[Valor Viático por viaje]]*(1+Viáticos[[#This Row],[% Administración]]/100))),(Viáticos[[#This Row],[Viático pactado]]*(1+Viáticos[[#This Row],[% Administración]]/100))),\"\")","v":""},null,{"$f":"+IFERROR(Viáticos[[#This Row],[Costo parcial]]*(Viáticos[[#This Row],[% Participación ]]/100),\"\")","v":""}]
[null,null,null,null,null,{"$f":"+IF(Viáticos[[#This Row],[Nivel del cargo]]=\"\",\"\",F104)","v":""},null,null,{"$f":"IFERROR(IF(Viáticos[[#This Row],[Nivel del cargo]]=\"No directivo\",((IF(OR(Viáticos[[#This Row],[Número de días por viático]]=\"\",Viáticos[[#This Row],[Número de personas]]=\"\"),\"\",IFERROR(2*(VLOOKUP(Viáticos[[#This Row],[Destino]],Tabla216[#All],3,0)+VLOOKUP(Viáticos[[#This Row],[Destino]],Tabla216[#All],4,0))+Viáticos[[#This Row],[Número de días por viático]]*(2*VLOOKUP(Viáticos[[#This Row],[Destino]],Tabla216[#All],5,0)+VLOOKUP(Viáticos[[#This Row],[Destino]],Tabla216[#All],6,0)+VLOOKUP(Viáticos[[#This Row],[Destino]],Tabla216[#All],7,0))+(Viáticos[[#This Row],[Número de días por viático]]-1)*(VLOOKUP(Viáticos[[#This Row],[Destino]],Tabla216[#All],8,0)+VLOOKUP(Viáticos[[#This Row],[Destino]],Tabla216[#All],9,0)),\"\"))))*Viáticos[[#This Row],[Número de personas]],(IF(OR(Viáticos[[#This Row],[Número de días por viático]]=\"\",Viáticos[[#This Row],[Número de personas]]=\"\"),\"\",IFERROR(2*(VLOOKUP(Viáticos[[#This Row],[Destino]],Tabla216[#All],3,0)+VLOOKUP(Viáticos[[#This Row],[Destino]],Tabla216[#All],4,0))+Viáticos[[#This Row],[Número de días por viático]]*(2*VLOOKUP(Viáticos[[#This Row],[Destino]],Tabla216[#All],5,0)+VLOOKUP(Viáticos[[#This Row],[Destino]],Tabla216[#All],6,0)+VLOOKUP(Viáticos[[#This Row],[Destino]],Tabla216[#All],7,0))+(Viáticos[[#This Row],[Número de días por viático]]-1)*(VLOOKUP(Viáticos[[#This Row],[Destino]],Tabla216[#All],8,0)+VLOOKUP(Viáticos[[#This Row],[Destino]],Tabla216[#All],9,0)),\"\")))*Viáticos[[#This Row],[Número de personas]]*(1+25%)),\"\")","v":""},null,null,{"$f":"IFERROR(IF(Viáticos[[#This Row],[Viático pactado]]=\"\",((Viáticos[[#This Row],[Valor Viático por viaje]]*(1+Viáticos[[#This Row],[% Administración]]/100))),(Viáticos[[#This Row],[Viático pactado]]*(1+Viáticos[[#This Row],[% Administración]]/100))),\"\")","v":""},null,{"$f":"+IFERROR(Viáticos[[#This Row],[Costo parcial]]*(Viáticos[[#This Row],[% Participación ]]/100),\"\")","v":""}]
[null,null,null,null,null,{"$f":"+IF(Viáticos[[#This Row],[Nivel del cargo]]=\"\",\"\",F105)","v":""},null,null,{"$f":"IFERROR(IF(Viáticos[[#This Row],[Nivel del cargo]]=\"No directivo\",((IF(OR(Viáticos[[#This Row],[Número de días por viático]]=\"\",Viáticos[[#This Row],[Número de personas]]=\"\"),\"\",IFERROR(2*(VLOOKUP(Viáticos[[#This Row],[Destino]],Tabla216[#All],3,0)+VLOOKUP(Viáticos[[#This Row],[Destino]],Tabla216[#All],4,0))+Viáticos[[#This Row],[Número de días por viático]]*(2*VLOOKUP(Viáticos[[#This Row],[Destino]],Tabla216[#All],5,0)+VLOOKUP(Viáticos[[#This Row],[Destino]],Tabla216[#All],6,0)+VLOOKUP(Viáticos[[#This Row],[Destino]],Tabla216[#All],7,0))+(Viáticos[[#This Row],[Número de días por viático]]-1)*(VLOOKUP(Viáticos[[#This Row],[Destino]],Tabla216[#All],8,0)+VLOOKUP(Viáticos[[#This Row],[Destino]],Tabla216[#All],9,0)),\"\"))))*Viáticos[[#This Row],[Número de personas]],(IF(OR(Viáticos[[#This Row],[Número de días por viático]]=\"\",Viáticos[[#This Row],[Número de personas]]=\"\"),\"\",IFERROR(2*(VLOOKUP(Viáticos[[#This Row],[Destino]],Tabla216[#All],3,0)+VLOOKUP(Viáticos[[#This Row],[Destino]],Tabla216[#All],4,0))+Viáticos[[#This Row],[Número de días por viático]]*(2*VLOOKUP(Viáticos[[#This Row],[Destino]],Tabla216[#All],5,0)+VLOOKUP(Viáticos[[#This Row],[Destino]],Tabla216[#All],6,0)+VLOOKUP(Viáticos[[#This Row],[Destino]],Tabla216[#All],7,0))+(Viáticos[[#This Row],[Número de días por viático]]-1)*(VLOOKUP(Viáticos[[#This Row],[Destino]],Tabla216[#All],8,0)+VLOOKUP(Viáticos[[#This Row],[Destino]],Tabla216[#All],9,0)),\"\")))*Viáticos[[#This Row],[Número de personas]]*(1+25%)),\"\")","v":""},null,null,{"$f":"IFERROR(IF(Viáticos[[#This Row],[Viático pactado]]=\"\",((Viáticos[[#This Row],[Valor Viático por viaje]]*(1+Viáticos[[#This Row],[% Administración]]/100))),(Viáticos[[#This Row],[Viático pactado]]*(1+Viáticos[[#This Row],[% Administración]]/100))),\"\")","v":""},null,{"$f":"+IFERROR(Viáticos[[#This Row],[Costo parcial]]*(Viáticos[[#This Row],[% Participación ]]/100),\"\")","v":""}]
[null,null,null,null,null,{"$f":"+IF(Viáticos[[#This Row],[Nivel del cargo]]=\"\",\"\",F106)","v":""},null,null,{"$f":"IFERROR(IF(Viáticos[[#This Row],[Nivel del cargo]]=\"No directivo\",((IF(OR(Viáticos[[#This Row],[Número de días por viático]]=\"\",Viáticos[[#This Row],[Número de personas]]=\"\"),\"\",IFERROR(2*(VLOOKUP(Viáticos[[#This Row],[Destino]],Tabla216[#All],3,0)+VLOOKUP(Viáticos[[#This Row],[Destino]],Tabla216[#All],4,0))+Viáticos[[#This Row],[Número de días por viático]]*(2*VLOOKUP(Viáticos[[#This Row],[Destino]],Tabla216[#All],5,0)+VLOOKUP(Viáticos[[#This Row],[Destino]],Tabla216[#All],6,0)+VLOOKUP(Viáticos[[#This Row],[Destino]],Tabla216[#All],7,0))+(Viáticos[[#This Row],[Número de días por viático]]-1)*(VLOOKUP(Viáticos[[#This Row],[Destino]],Tabla216[#All],8,0)+VLOOKUP(Viáticos[[#This Row],[Destino]],Tabla216[#All],9,0)),\"\"))))*Viáticos[[#This Row],[Número de personas]],(IF(OR(Viáticos[[#This Row],[Número de días por viático]]=\"\",Viáticos[[#This Row],[Número de personas]]=\"\"),\"\",IFERROR(2*(VLOOKUP(Viáticos[[#This Row],[Destino]],Tabla216[#All],3,0)+VLOOKUP(Viáticos[[#This Row],[Destino]],Tabla216[#All],4,0))+Viáticos[[#This Row],[Número de días por viático]]*(2*VLOOKUP(Viáticos[[#This Row],[Destino]],Tabla216[#All],5,0)+VLOOKUP(Viáticos[[#This Row],[Destino]],Tabla216[#All],6,0)+VLOOKUP(Viáticos[[#This Row],[Destino]],Tabla216[#All],7,0))+(Viáticos[[#This Row],[Número de días por viático]]-1)*(VLOOKUP(Viáticos[[#This Row],[Destino]],Tabla216[#All],8,0)+VLOOKUP(Viáticos[[#This Row],[Destino]],Tabla216[#All],9,0)),\"\")))*Viáticos[[#This Row],[Número de personas]]*(1+25%)),\"\")","v":""},null,null,{"$f":"IFERROR(IF(Viáticos[[#This Row],[Viático pactado]]=\"\",((Viáticos[[#This Row],[Valor Viático por viaje]]*(1+Viáticos[[#This Row],[% Administración]]/100))),(Viáticos[[#This Row],[Viático pactado]]*(1+Viáticos[[#This Row],[% Administración]]/100))),\"\")","v":""},null,{"$f":"+IFERROR(Viáticos[[#This Row],[Costo parcial]]*(Viáticos[[#This Row],[% Participación ]]/100),\"\")","v":""}]
[null,null,null,null,null,{"$f":"+IF(Viáticos[[#This Row],[Nivel del cargo]]=\"\",\"\",F107)","v":""},null,null,{"$f":"IFERROR(IF(Viáticos[[#This Row],[Nivel del cargo]]=\"No directivo\",((IF(OR(Viáticos[[#This Row],[Número de días por viático]]=\"\",Viáticos[[#This Row],[Número de personas]]=\"\"),\"\",IFERROR(2*(VLOOKUP(Viáticos[[#This Row],[Destino]],Tabla216[#All],3,0)+VLOOKUP(Viáticos[[#This Row],[Destino]],Tabla216[#All],4,0))+Viáticos[[#This Row],[Número de días por viático]]*(2*VLOOKUP(Viáticos[[#This Row],[Destino]],Tabla216[#All],5,0)+VLOOKUP(Viáticos[[#This Row],[Destino]],Tabla216[#All],6,0)+VLOOKUP(Viáticos[[#This Row],[Destino]],Tabla216[#All],7,0))+(Viáticos[[#This Row],[Número de días por viático]]-1)*(VLOOKUP(Viáticos[[#This Row],[Destino]],Tabla216[#All],8,0)+VLOOKUP(Viáticos[[#This Row],[Destino]],Tabla216[#All],9,0)),\"\"))))*Viáticos[[#This Row],[Número de personas]],(IF(OR(Viáticos[[#This Row],[Número de días por viático]]=\"\",Viáticos[[#This Row],[Número de personas]]=\"\"),\"\",IFERROR(2*(VLOOKUP(Viáticos[[#This Row],[Destino]],Tabla216[#All],3,0)+VLOOKUP(Viáticos[[#This Row],[Destino]],Tabla216[#All],4,0))+Viáticos[[#This Row],[Número de días por viático]]*(2*VLOOKUP(Viáticos[[#This Row],[Destino]],Tabla216[#All],5,0)+VLOOKUP(Viáticos[[#This Row],[Destino]],Tabla216[#All],6,0)+VLOOKUP(Viáticos[[#This Row],[Destino]],Tabla216[#All],7,0))+(Viáticos[[#This Row],[Número de días por viático]]-1)*(VLOOKUP(Viáticos[[#This Row],[Destino]],Tabla216[#All],8,0)+VLOOKUP(Viáticos[[#This Row],[Destino]],Tabla216[#All],9,0)),\"\")))*Viáticos[[#This Row],[Número de personas]]*(1+25%)),\"\")","v":""},null,null,{"$f":"IFERROR(IF(Viáticos[[#This Row],[Viático pactado]]=\"\",((Viáticos[[#This Row],[Valor Viático por viaje]]*(1+Viáticos[[#This Row],[% Administración]]/100))),(Viáticos[[#This Row],[Viático pactado]]*(1+Viáticos[[#This Row],[% Administración]]/100))),\"\")","v":""},null,{"$f":"+IFERROR(Viáticos[[#This Row],[Costo parcial]]*(Viáticos[[#This Row],[% Participación ]]/100),\"\")","v":""}]
[null,null,null,null,null,{"$f":"+IF(Viáticos[[#This Row],[Nivel del cargo]]=\"\",\"\",F108)","v":""},null,null,{"$f":"IFERROR(IF(Viáticos[[#This Row],[Nivel del cargo]]=\"No directivo\",((IF(OR(Viáticos[[#This Row],[Número de días por viático]]=\"\",Viáticos[[#This Row],[Número de personas]]=\"\"),\"\",IFERROR(2*(VLOOKUP(Viáticos[[#This Row],[Destino]],Tabla216[#All],3,0)+VLOOKUP(Viáticos[[#This Row],[Destino]],Tabla216[#All],4,0))+Viáticos[[#This Row],[Número de días por viático]]*(2*VLOOKUP(Viáticos[[#This Row],[Destino]],Tabla216[#All],5,0)+VLOOKUP(Viáticos[[#This Row],[Destino]],Tabla216[#All],6,0)+VLOOKUP(Viáticos[[#This Row],[Destino]],Tabla216[#All],7,0))+(Viáticos[[#This Row],[Número de días por viático]]-1)*(VLOOKUP(Viáticos[[#This Row],[Destino]],Tabla216[#All],8,0)+VLOOKUP(Viáticos[[#This Row],[Destino]],Tabla216[#All],9,0)),\"\"))))*Viáticos[[#This Row],[Número de personas]],(IF(OR(Viáticos[[#This Row],[Número de días por viático]]=\"\",Viáticos[[#This Row],[Número de personas]]=\"\"),\"\",IFERROR(2*(VLOOKUP(Viáticos[[#This Row],[Destino]],Tabla216[#All],3,0)+VLOOKUP(Viáticos[[#This Row],[Destino]],Tabla216[#All],4,0))+Viáticos[[#This Row],[Número de días por viático]]*(2*VLOOKUP(Viáticos[[#This Row],[Destino]],Tabla216[#All],5,0)+VLOOKUP(Viáticos[[#This Row],[Destino]],Tabla216[#All],6,0)+VLOOKUP(Viáticos[[#This Row],[Destino]],Tabla216[#All],7,0))+(Viáticos[[#This Row],[Número de días por viático]]-1)*(VLOOKUP(Viáticos[[#This Row],[Destino]],Tabla216[#All],8,0)+VLOOKUP(Viáticos[[#This Row],[Destino]],Tabla216[#All],9,0)),\"\")))*Viáticos[[#This Row],[Número de personas]]*(1+25%)),\"\")","v":""},null,null,{"$f":"IFERROR(IF(Viáticos[[#This Row],[Viático pactado]]=\"\",((Viáticos[[#This Row],[Valor Viático por viaje]]*(1+Viáticos[[#This Row],[% Administración]]/100))),(Viáticos[[#This Row],[Viático pactado]]*(1+Viáticos[[#This Row],[% Administración]]/100))),\"\")","v":""},null,{"$f":"+IFERROR(Viáticos[[#This Row],[Costo parcial]]*(Viáticos[[#This Row],[% Participación ]]/100),\"\")","v":""}]
[null,null,null,null,null,{"$f":"+IF(Viáticos[[#This Row],[Nivel del cargo]]=\"\",\"\",F109)","v":""},null,null,{"$f":"IFERROR(IF(Viáticos[[#This Row],[Nivel del cargo]]=\"No directivo\",((IF(OR(Viáticos[[#This Row],[Número de días por viático]]=\"\",Viáticos[[#This Row],[Número de personas]]=\"\"),\"\",IFERROR(2*(VLOOKUP(Viáticos[[#This Row],[Destino]],Tabla216[#All],3,0)+VLOOKUP(Viáticos[[#This Row],[Destino]],Tabla216[#All],4,0))+Viáticos[[#This Row],[Número de días por viático]]*(2*VLOOKUP(Viáticos[[#This Row],[Destino]],Tabla216[#All],5,0)+VLOOKUP(Viáticos[[#This Row],[Destino]],Tabla216[#All],6,0)+VLOOKUP(Viáticos[[#This Row],[Destino]],Tabla216[#All],7,0))+(Viáticos[[#This Row],[Número de días por viático]]-1)*(VLOOKUP(Viáticos[[#This Row],[Destino]],Tabla216[#All],8,0)+VLOOKUP(Viáticos[[#This Row],[Destino]],Tabla216[#All],9,0)),\"\"))))*Viáticos[[#This Row],[Número de personas]],(IF(OR(Viáticos[[#This Row],[Número de días por viático]]=\"\",Viáticos[[#This Row],[Número de personas]]=\"\"),\"\",IFERROR(2*(VLOOKUP(Viáticos[[#This Row],[Destino]],Tabla216[#All],3,0)+VLOOKUP(Viáticos[[#This Row],[Destino]],Tabla216[#All],4,0))+Viáticos[[#This Row],[Número de días por viático]]*(2*VLOOKUP(Viáticos[[#This Row],[Destino]],Tabla216[#All],5,0)+VLOOKUP(Viáticos[[#This Row],[Destino]],Tabla216[#All],6,0)+VLOOKUP(Viáticos[[#This Row],[Destino]],Tabla216[#All],7,0))+(Viáticos[[#This Row],[Número de días por viático]]-1)*(VLOOKUP(Viáticos[[#This Row],[Destino]],Tabla216[#All],8,0)+VLOOKUP(Viáticos[[#This Row],[Destino]],Tabla216[#All],9,0)),\"\")))*Viáticos[[#This Row],[Número de personas]]*(1+25%)),\"\")","v":""},null,null,{"$f":"IFERROR(IF(Viáticos[[#This Row],[Viático pactado]]=\"\",((Viáticos[[#This Row],[Valor Viático por viaje]]*(1+Viáticos[[#This Row],[% Administración]]/100))),(Viáticos[[#This Row],[Viático pactado]]*(1+Viáticos[[#This Row],[% Administración]]/100))),\"\")","v":""},null,{"$f":"+IFERROR(Viáticos[[#This Row],[Costo parcial]]*(Viáticos[[#This Row],[% Participación ]]/100),\"\")","v":""}]
[null,null,null,null,null,{"$f":"+IF(Viáticos[[#This Row],[Nivel del cargo]]=\"\",\"\",F110)","v":""},null,null,{"$f":"IFERROR(IF(Viáticos[[#This Row],[Nivel del cargo]]=\"No directivo\",((IF(OR(Viáticos[[#This Row],[Número de días por viático]]=\"\",Viáticos[[#This Row],[Número de personas]]=\"\"),\"\",IFERROR(2*(VLOOKUP(Viáticos[[#This Row],[Destino]],Tabla216[#All],3,0)+VLOOKUP(Viáticos[[#This Row],[Destino]],Tabla216[#All],4,0))+Viáticos[[#This Row],[Número de días por viático]]*(2*VLOOKUP(Viáticos[[#This Row],[Destino]],Tabla216[#All],5,0)+VLOOKUP(Viáticos[[#This Row],[Destino]],Tabla216[#All],6,0)+VLOOKUP(Viáticos[[#This Row],[Destino]],Tabla216[#All],7,0))+(Viáticos[[#This Row],[Número de días por viático]]-1)*(VLOOKUP(Viáticos[[#This Row],[Destino]],Tabla216[#All],8,0)+VLOOKUP(Viáticos[[#This Row],[Destino]],Tabla216[#All],9,0)),\"\"))))*Viáticos[[#This Row],[Número de personas]],(IF(OR(Viáticos[[#This Row],[Número de días por viático]]=\"\",Viáticos[[#This Row],[Número de personas]]=\"\"),\"\",IFERROR(2*(VLOOKUP(Viáticos[[#This Row],[Destino]],Tabla216[#All],3,0)+VLOOKUP(Viáticos[[#This Row],[Destino]],Tabla216[#All],4,0))+Viáticos[[#This Row],[Número de días por viático]]*(2*VLOOKUP(Viáticos[[#This Row],[Destino]],Tabla216[#All],5,0)+VLOOKUP(Viáticos[[#This Row],[Destino]],Tabla216[#All],6,0)+VLOOKUP(Viáticos[[#This Row],[Destino]],Tabla216[#All],7,0))+(Viáticos[[#This Row],[Número de días por viático]]-1)*(VLOOKUP(Viáticos[[#This Row],[Destino]],Tabla216[#All],8,0)+VLOOKUP(Viáticos[[#This Row],[Destino]],Tabla216[#All],9,0)),\"\")))*Viáticos[[#This Row],[Número de personas]]*(1+25%)),\"\")","v":""},null,null,{"$f":"IFERROR(IF(Viáticos[[#This Row],[Viático pactado]]=\"\",((Viáticos[[#This Row],[Valor Viático por viaje]]*(1+Viáticos[[#This Row],[% Administración]]/100))),(Viáticos[[#This Row],[Viático pactado]]*(1+Viáticos[[#This Row],[% Administración]]/100))),\"\")","v":""},null,{"$f":"+IFERROR(Viáticos[[#This Row],[Costo parcial]]*(Viáticos[[#This Row],[% Participación ]]/100),\"\")","v":""}]
[null,null,null,null,null,{"$f":"+IF(Viáticos[[#This Row],[Nivel del cargo]]=\"\",\"\",F111)","v":""},null,null,{"$f":"IFERROR(IF(Viáticos[[#This Row],[Nivel del cargo]]=\"No directivo\",((IF(OR(Viáticos[[#This Row],[Número de días por viático]]=\"\",Viáticos[[#This Row],[Número de personas]]=\"\"),\"\",IFERROR(2*(VLOOKUP(Viáticos[[#This Row],[Destino]],Tabla216[#All],3,0)+VLOOKUP(Viáticos[[#This Row],[Destino]],Tabla216[#All],4,0))+Viáticos[[#This Row],[Número de días por viático]]*(2*VLOOKUP(Viáticos[[#This Row],[Destino]],Tabla216[#All],5,0)+VLOOKUP(Viáticos[[#This Row],[Destino]],Tabla216[#All],6,0)+VLOOKUP(Viáticos[[#This Row],[Destino]],Tabla216[#All],7,0))+(Viáticos[[#This Row],[Número de días por viático]]-1)*(VLOOKUP(Viáticos[[#This Row],[Destino]],Tabla216[#All],8,0)+VLOOKUP(Viáticos[[#This Row],[Destino]],Tabla216[#All],9,0)),\"\"))))*Viáticos[[#This Row],[Número de personas]],(IF(OR(Viáticos[[#This Row],[Número de días por viático]]=\"\",Viáticos[[#This Row],[Número de personas]]=\"\"),\"\",IFERROR(2*(VLOOKUP(Viáticos[[#This Row],[Destino]],Tabla216[#All],3,0)+VLOOKUP(Viáticos[[#This Row],[Destino]],Tabla216[#All],4,0))+Viáticos[[#This Row],[Número de días por viático]]*(2*VLOOKUP(Viáticos[[#This Row],[Destino]],Tabla216[#All],5,0)+VLOOKUP(Viáticos[[#This Row],[Destino]],Tabla216[#All],6,0)+VLOOKUP(Viáticos[[#This Row],[Destino]],Tabla216[#All],7,0))+(Viáticos[[#This Row],[Número de días por viático]]-1)*(VLOOKUP(Viáticos[[#This Row],[Destino]],Tabla216[#All],8,0)+VLOOKUP(Viáticos[[#This Row],[Destino]],Tabla216[#All],9,0)),\"\")))*Viáticos[[#This Row],[Número de personas]]*(1+25%)),\"\")","v":""},null,null,{"$f":"IFERROR(IF(Viáticos[[#This Row],[Viático pactado]]=\"\",((Viáticos[[#This Row],[Valor Viático por viaje]]*(1+Viáticos[[#This Row],[% Administración]]/100))),(Viáticos[[#This Row],[Viático pactado]]*(1+Viáticos[[#This Row],[% Administración]]/100))),\"\")","v":""},null,{"$f":"+IFERROR(Viáticos[[#This Row],[Costo parcial]]*(Viáticos[[#This Row],[% Participación ]]/100),\"\")","v":""}]
[null,null,null,null,null,{"$f":"+IF(Viáticos[[#This Row],[Nivel del cargo]]=\"\",\"\",F112)","v":""},null,null,{"$f":"IFERROR(IF(Viáticos[[#This Row],[Nivel del cargo]]=\"No directivo\",((IF(OR(Viáticos[[#This Row],[Número de días por viático]]=\"\",Viáticos[[#This Row],[Número de personas]]=\"\"),\"\",IFERROR(2*(VLOOKUP(Viáticos[[#This Row],[Destino]],Tabla216[#All],3,0)+VLOOKUP(Viáticos[[#This Row],[Destino]],Tabla216[#All],4,0))+Viáticos[[#This Row],[Número de días por viático]]*(2*VLOOKUP(Viáticos[[#This Row],[Destino]],Tabla216[#All],5,0)+VLOOKUP(Viáticos[[#This Row],[Destino]],Tabla216[#All],6,0)+VLOOKUP(Viáticos[[#This Row],[Destino]],Tabla216[#All],7,0))+(Viáticos[[#This Row],[Número de días por viático]]-1)*(VLOOKUP(Viáticos[[#This Row],[Destino]],Tabla216[#All],8,0)+VLOOKUP(Viáticos[[#This Row],[Destino]],Tabla216[#All],9,0)),\"\"))))*Viáticos[[#This Row],[Número de personas]],(IF(OR(Viáticos[[#This Row],[Número de días por viático]]=\"\",Viáticos[[#This Row],[Número de personas]]=\"\"),\"\",IFERROR(2*(VLOOKUP(Viáticos[[#This Row],[Destino]],Tabla216[#All],3,0)+VLOOKUP(Viáticos[[#This Row],[Destino]],Tabla216[#All],4,0))+Viáticos[[#This Row],[Número de días por viático]]*(2*VLOOKUP(Viáticos[[#This Row],[Destino]],Tabla216[#All],5,0)+VLOOKUP(Viáticos[[#This Row],[Destino]],Tabla216[#All],6,0)+VLOOKUP(Viáticos[[#This Row],[Destino]],Tabla216[#All],7,0))+(Viáticos[[#This Row],[Número de días por viático]]-1)*(VLOOKUP(Viáticos[[#This Row],[Destino]],Tabla216[#All],8,0)+VLOOKUP(Viáticos[[#This Row],[Destino]],Tabla216[#All],9,0)),\"\")))*Viáticos[[#This Row],[Número de personas]]*(1+25%)),\"\")","v":""},null,null,{"$f":"IFERROR(IF(Viáticos[[#This Row],[Viático pactado]]=\"\",((Viáticos[[#This Row],[Valor Viático por viaje]]*(1+Viáticos[[#This Row],[% Administración]]/100))),(Viáticos[[#This Row],[Viático pactado]]*(1+Viáticos[[#This Row],[% Administración]]/100))),\"\")","v":""},null,{"$f":"+IFERROR(Viáticos[[#This Row],[Costo parcial]]*(Viáticos[[#This Row],[% Participación ]]/100),\"\")","v":""}]
[null,null,null,null,null,{"$f":"+IF(Viáticos[[#This Row],[Nivel del cargo]]=\"\",\"\",F113)","v":""},null,null,{"$f":"IFERROR(IF(Viáticos[[#This Row],[Nivel del cargo]]=\"No directivo\",((IF(OR(Viáticos[[#This Row],[Número de días por viático]]=\"\",Viáticos[[#This Row],[Número de personas]]=\"\"),\"\",IFERROR(2*(VLOOKUP(Viáticos[[#This Row],[Destino]],Tabla216[#All],3,0)+VLOOKUP(Viáticos[[#This Row],[Destino]],Tabla216[#All],4,0))+Viáticos[[#This Row],[Número de días por viático]]*(2*VLOOKUP(Viáticos[[#This Row],[Destino]],Tabla216[#All],5,0)+VLOOKUP(Viáticos[[#This Row],[Destino]],Tabla216[#All],6,0)+VLOOKUP(Viáticos[[#This Row],[Destino]],Tabla216[#All],7,0))+(Viáticos[[#This Row],[Número de días por viático]]-1)*(VLOOKUP(Viáticos[[#This Row],[Destino]],Tabla216[#All],8,0)+VLOOKUP(Viáticos[[#This Row],[Destino]],Tabla216[#All],9,0)),\"\"))))*Viáticos[[#This Row],[Número de personas]],(IF(OR(Viáticos[[#This Row],[Número de días por viático]]=\"\",Viáticos[[#This Row],[Número de personas]]=\"\"),\"\",IFERROR(2*(VLOOKUP(Viáticos[[#This Row],[Destino]],Tabla216[#All],3,0)+VLOOKUP(Viáticos[[#This Row],[Destino]],Tabla216[#All],4,0))+Viáticos[[#This Row],[Número de días por viático]]*(2*VLOOKUP(Viáticos[[#This Row],[Destino]],Tabla216[#All],5,0)+VLOOKUP(Viáticos[[#This Row],[Destino]],Tabla216[#All],6,0)+VLOOKUP(Viáticos[[#This Row],[Destino]],Tabla216[#All],7,0))+(Viáticos[[#This Row],[Número de días por viático]]-1)*(VLOOKUP(Viáticos[[#This Row],[Destino]],Tabla216[#All],8,0)+VLOOKUP(Viáticos[[#This Row],[Destino]],Tabla216[#All],9,0)),\"\")))*Viáticos[[#This Row],[Número de personas]]*(1+25%)),\"\")","v":""},null,null,{"$f":"IFERROR(IF(Viáticos[[#This Row],[Viático pactado]]=\"\",((Viáticos[[#This Row],[Valor Viático por viaje]]*(1+Viáticos[[#This Row],[% Administración]]/100))),(Viáticos[[#This Row],[Viático pactado]]*(1+Viáticos[[#This Row],[% Administración]]/100))),\"\")","v":""},null,{"$f":"+IFERROR(Viáticos[[#This Row],[Costo parcial]]*(Viáticos[[#This Row],[% Participación ]]/100),\"\")","v":""}]
[null,null,null,null,null,{"$f":"+IF(Viáticos[[#This Row],[Nivel del cargo]]=\"\",\"\",F114)","v":""},null,null,{"$f":"IFERROR(IF(Viáticos[[#This Row],[Nivel del cargo]]=\"No directivo\",((IF(OR(Viáticos[[#This Row],[Número de días por viático]]=\"\",Viáticos[[#This Row],[Número de personas]]=\"\"),\"\",IFERROR(2*(VLOOKUP(Viáticos[[#This Row],[Destino]],Tabla216[#All],3,0)+VLOOKUP(Viáticos[[#This Row],[Destino]],Tabla216[#All],4,0))+Viáticos[[#This Row],[Número de días por viático]]*(2*VLOOKUP(Viáticos[[#This Row],[Destino]],Tabla216[#All],5,0)+VLOOKUP(Viáticos[[#This Row],[Destino]],Tabla216[#All],6,0)+VLOOKUP(Viáticos[[#This Row],[Destino]],Tabla216[#All],7,0))+(Viáticos[[#This Row],[Número de días por viático]]-1)*(VLOOKUP(Viáticos[[#This Row],[Destino]],Tabla216[#All],8,0)+VLOOKUP(Viáticos[[#This Row],[Destino]],Tabla216[#All],9,0)),\"\"))))*Viáticos[[#This Row],[Número de personas]],(IF(OR(Viáticos[[#This Row],[Número de días por viático]]=\"\",Viáticos[[#This Row],[Número de personas]]=\"\"),\"\",IFERROR(2*(VLOOKUP(Viáticos[[#This Row],[Destino]],Tabla216[#All],3,0)+VLOOKUP(Viáticos[[#This Row],[Destino]],Tabla216[#All],4,0))+Viáticos[[#This Row],[Número de días por viático]]*(2*VLOOKUP(Viáticos[[#This Row],[Destino]],Tabla216[#All],5,0)+VLOOKUP(Viáticos[[#This Row],[Destino]],Tabla216[#All],6,0)+VLOOKUP(Viáticos[[#This Row],[Destino]],Tabla216[#All],7,0))+(Viáticos[[#This Row],[Número de días por viático]]-1)*(VLOOKUP(Viáticos[[#This Row],[Destino]],Tabla216[#All],8,0)+VLOOKUP(Viáticos[[#This Row],[Destino]],Tabla216[#All],9,0)),\"\")))*Viáticos[[#This Row],[Número de personas]]*(1+25%)),\"\")","v":""},null,null,{"$f":"IFERROR(IF(Viáticos[[#This Row],[Viático pactado]]=\"\",((Viáticos[[#This Row],[Valor Viático por viaje]]*(1+Viáticos[[#This Row],[% Administración]]/100))),(Viáticos[[#This Row],[Viático pactado]]*(1+Viáticos[[#This Row],[% Administración]]/100))),\"\")","v":""},null,{"$f":"+IFERROR(Viáticos[[#This Row],[Costo parcial]]*(Viáticos[[#This Row],[% Participación ]]/100),\"\")","v":""}]
[null,null,null,null,null,{"$f":"+IF(Viáticos[[#This Row],[Nivel del cargo]]=\"\",\"\",F115)","v":""},null,null,{"$f":"IFERROR(IF(Viáticos[[#This Row],[Nivel del cargo]]=\"No directivo\",((IF(OR(Viáticos[[#This Row],[Número de días por viático]]=\"\",Viáticos[[#This Row],[Número de personas]]=\"\"),\"\",IFERROR(2*(VLOOKUP(Viáticos[[#This Row],[Destino]],Tabla216[#All],3,0)+VLOOKUP(Viáticos[[#This Row],[Destino]],Tabla216[#All],4,0))+Viáticos[[#This Row],[Número de días por viático]]*(2*VLOOKUP(Viáticos[[#This Row],[Destino]],Tabla216[#All],5,0)+VLOOKUP(Viáticos[[#This Row],[Destino]],Tabla216[#All],6,0)+VLOOKUP(Viáticos[[#This Row],[Destino]],Tabla216[#All],7,0))+(Viáticos[[#This Row],[Número de días por viático]]-1)*(VLOOKUP(Viáticos[[#This Row],[Destino]],Tabla216[#All],8,0)+VLOOKUP(Viáticos[[#This Row],[Destino]],Tabla216[#All],9,0)),\"\"))))*Viáticos[[#This Row],[Número de personas]],(IF(OR(Viáticos[[#This Row],[Número de días por viático]]=\"\",Viáticos[[#This Row],[Número de personas]]=\"\"),\"\",IFERROR(2*(VLOOKUP(Viáticos[[#This Row],[Destino]],Tabla216[#All],3,0)+VLOOKUP(Viáticos[[#This Row],[Destino]],Tabla216[#All],4,0))+Viáticos[[#This Row],[Número de días por viático]]*(2*VLOOKUP(Viáticos[[#This Row],[Destino]],Tabla216[#All],5,0)+VLOOKUP(Viáticos[[#This Row],[Destino]],Tabla216[#All],6,0)+VLOOKUP(Viáticos[[#This Row],[Destino]],Tabla216[#All],7,0))+(Viáticos[[#This Row],[Número de días por viático]]-1)*(VLOOKUP(Viáticos[[#This Row],[Destino]],Tabla216[#All],8,0)+VLOOKUP(Viáticos[[#This Row],[Destino]],Tabla216[#All],9,0)),\"\")))*Viáticos[[#This Row],[Número de personas]]*(1+25%)),\"\")","v":""},null,null,{"$f":"IFERROR(IF(Viáticos[[#This Row],[Viático pactado]]=\"\",((Viáticos[[#This Row],[Valor Viático por viaje]]*(1+Viáticos[[#This Row],[% Administración]]/100))),(Viáticos[[#This Row],[Viático pactado]]*(1+Viáticos[[#This Row],[% Administración]]/100))),\"\")","v":""},null,{"$f":"+IFERROR(Viáticos[[#This Row],[Costo parcial]]*(Viáticos[[#This Row],[% Participación ]]/100),\"\")","v":""}]
[null,null,null,null,null,{"$f":"+IF(Viáticos[[#This Row],[Nivel del cargo]]=\"\",\"\",F116)","v":""},null,null,{"$f":"IFERROR(IF(Viáticos[[#This Row],[Nivel del cargo]]=\"No directivo\",((IF(OR(Viáticos[[#This Row],[Número de días por viático]]=\"\",Viáticos[[#This Row],[Número de personas]]=\"\"),\"\",IFERROR(2*(VLOOKUP(Viáticos[[#This Row],[Destino]],Tabla216[#All],3,0)+VLOOKUP(Viáticos[[#This Row],[Destino]],Tabla216[#All],4,0))+Viáticos[[#This Row],[Número de días por viático]]*(2*VLOOKUP(Viáticos[[#This Row],[Destino]],Tabla216[#All],5,0)+VLOOKUP(Viáticos[[#This Row],[Destino]],Tabla216[#All],6,0)+VLOOKUP(Viáticos[[#This Row],[Destino]],Tabla216[#All],7,0))+(Viáticos[[#This Row],[Número de días por viático]]-1)*(VLOOKUP(Viáticos[[#This Row],[Destino]],Tabla216[#All],8,0)+VLOOKUP(Viáticos[[#This Row],[Destino]],Tabla216[#All],9,0)),\"\"))))*Viáticos[[#This Row],[Número de personas]],(IF(OR(Viáticos[[#This Row],[Número de días por viático]]=\"\",Viáticos[[#This Row],[Número de personas]]=\"\"),\"\",IFERROR(2*(VLOOKUP(Viáticos[[#This Row],[Destino]],Tabla216[#All],3,0)+VLOOKUP(Viáticos[[#This Row],[Destino]],Tabla216[#All],4,0))+Viáticos[[#This Row],[Número de días por viático]]*(2*VLOOKUP(Viáticos[[#This Row],[Destino]],Tabla216[#All],5,0)+VLOOKUP(Viáticos[[#This Row],[Destino]],Tabla216[#All],6,0)+VLOOKUP(Viáticos[[#This Row],[Destino]],Tabla216[#All],7,0))+(Viáticos[[#This Row],[Número de días por viático]]-1)*(VLOOKUP(Viáticos[[#This Row],[Destino]],Tabla216[#All],8,0)+VLOOKUP(Viáticos[[#This Row],[Destino]],Tabla216[#All],9,0)),\"\")))*Viáticos[[#This Row],[Número de personas]]*(1+25%)),\"\")","v":""},null,null,{"$f":"IFERROR(IF(Viáticos[[#This Row],[Viático pactado]]=\"\",((Viáticos[[#This Row],[Valor Viático por viaje]]*(1+Viáticos[[#This Row],[% Administración]]/100))),(Viáticos[[#This Row],[Viático pactado]]*(1+Viáticos[[#This Row],[% Administración]]/100))),\"\")","v":""},null,{"$f":"+IFERROR(Viáticos[[#This Row],[Costo parcial]]*(Viáticos[[#This Row],[% Participación ]]/100),\"\")","v":""}]
[null,null,null,null,null,{"$f":"+IF(Viáticos[[#This Row],[Nivel del cargo]]=\"\",\"\",F117)","v":""},null,null,{"$f":"IFERROR(IF(Viáticos[[#This Row],[Nivel del cargo]]=\"No directivo\",((IF(OR(Viáticos[[#This Row],[Número de días por viático]]=\"\",Viáticos[[#This Row],[Número de personas]]=\"\"),\"\",IFERROR(2*(VLOOKUP(Viáticos[[#This Row],[Destino]],Tabla216[#All],3,0)+VLOOKUP(Viáticos[[#This Row],[Destino]],Tabla216[#All],4,0))+Viáticos[[#This Row],[Número de días por viático]]*(2*VLOOKUP(Viáticos[[#This Row],[Destino]],Tabla216[#All],5,0)+VLOOKUP(Viáticos[[#This Row],[Destino]],Tabla216[#All],6,0)+VLOOKUP(Viáticos[[#This Row],[Destino]],Tabla216[#All],7,0))+(Viáticos[[#This Row],[Número de días por viático]]-1)*(VLOOKUP(Viáticos[[#This Row],[Destino]],Tabla216[#All],8,0)+VLOOKUP(Viáticos[[#This Row],[Destino]],Tabla216[#All],9,0)),\"\"))))*Viáticos[[#This Row],[Número de personas]],(IF(OR(Viáticos[[#This Row],[Número de días por viático]]=\"\",Viáticos[[#This Row],[Número de personas]]=\"\"),\"\",IFERROR(2*(VLOOKUP(Viáticos[[#This Row],[Destino]],Tabla216[#All],3,0)+VLOOKUP(Viáticos[[#This Row],[Destino]],Tabla216[#All],4,0))+Viáticos[[#This Row],[Número de días por viático]]*(2*VLOOKUP(Viáticos[[#This Row],[Destino]],Tabla216[#All],5,0)+VLOOKUP(Viáticos[[#This Row],[Destino]],Tabla216[#All],6,0)+VLOOKUP(Viáticos[[#This Row],[Destino]],Tabla216[#All],7,0))+(Viáticos[[#This Row],[Número de días por viático]]-1)*(VLOOKUP(Viáticos[[#This Row],[Destino]],Tabla216[#All],8,0)+VLOOKUP(Viáticos[[#This Row],[Destino]],Tabla216[#All],9,0)),\"\")))*Viáticos[[#This Row],[Número de personas]]*(1+25%)),\"\")","v":""},null,null,{"$f":"IFERROR(IF(Viáticos[[#This Row],[Viático pactado]]=\"\",((Viáticos[[#This Row],[Valor Viático por viaje]]*(1+Viáticos[[#This Row],[% Administración]]/100))),(Viáticos[[#This Row],[Viático pactado]]*(1+Viáticos[[#This Row],[% Administración]]/100))),\"\")","v":""},null,{"$f":"+IFERROR(Viáticos[[#This Row],[Costo parcial]]*(Viáticos[[#This Row],[% Participación ]]/100),\"\")","v":""}]
[null,null,null,null,null,{"$f":"+IF(Viáticos[[#This Row],[Nivel del cargo]]=\"\",\"\",F118)","v":""},null,null,{"$f":"IFERROR(IF(Viáticos[[#This Row],[Nivel del cargo]]=\"No directivo\",((IF(OR(Viáticos[[#This Row],[Número de días por viático]]=\"\",Viáticos[[#This Row],[Número de personas]]=\"\"),\"\",IFERROR(2*(VLOOKUP(Viáticos[[#This Row],[Destino]],Tabla216[#All],3,0)+VLOOKUP(Viáticos[[#This Row],[Destino]],Tabla216[#All],4,0))+Viáticos[[#This Row],[Número de días por viático]]*(2*VLOOKUP(Viáticos[[#This Row],[Destino]],Tabla216[#All],5,0)+VLOOKUP(Viáticos[[#This Row],[Destino]],Tabla216[#All],6,0)+VLOOKUP(Viáticos[[#This Row],[Destino]],Tabla216[#All],7,0))+(Viáticos[[#This Row],[Número de días por viático]]-1)*(VLOOKUP(Viáticos[[#This Row],[Destino]],Tabla216[#All],8,0)+VLOOKUP(Viáticos[[#This Row],[Destino]],Tabla216[#All],9,0)),\"\"))))*Viáticos[[#This Row],[Número de personas]],(IF(OR(Viáticos[[#This Row],[Número de días por viático]]=\"\",Viáticos[[#This Row],[Número de personas]]=\"\"),\"\",IFERROR(2*(VLOOKUP(Viáticos[[#This Row],[Destino]],Tabla216[#All],3,0)+VLOOKUP(Viáticos[[#This Row],[Destino]],Tabla216[#All],4,0))+Viáticos[[#This Row],[Número de días por viático]]*(2*VLOOKUP(Viáticos[[#This Row],[Destino]],Tabla216[#All],5,0)+VLOOKUP(Viáticos[[#This Row],[Destino]],Tabla216[#All],6,0)+VLOOKUP(Viáticos[[#This Row],[Destino]],Tabla216[#All],7,0))+(Viáticos[[#This Row],[Número de días por viático]]-1)*(VLOOKUP(Viáticos[[#This Row],[Destino]],Tabla216[#All],8,0)+VLOOKUP(Viáticos[[#This Row],[Destino]],Tabla216[#All],9,0)),\"\")))*Viáticos[[#This Row],[Número de personas]]*(1+25%)),\"\")","v":""},null,null,{"$f":"IFERROR(IF(Viáticos[[#This Row],[Viático pactado]]=\"\",((Viáticos[[#This Row],[Valor Viático por viaje]]*(1+Viáticos[[#This Row],[% Administración]]/100))),(Viáticos[[#This Row],[Viático pactado]]*(1+Viáticos[[#This Row],[% Administración]]/100))),\"\")","v":""},null,{"$f":"+IFERROR(Viáticos[[#This Row],[Costo parcial]]*(Viáticos[[#This Row],[% Participación ]]/100),\"\")","v":""}]
[null,null,null,null,null,{"$f":"+IF(Viáticos[[#This Row],[Nivel del cargo]]=\"\",\"\",F119)","v":""},null,null,{"$f":"IFERROR(IF(Viáticos[[#This Row],[Nivel del cargo]]=\"No directivo\",((IF(OR(Viáticos[[#This Row],[Número de días por viático]]=\"\",Viáticos[[#This Row],[Número de personas]]=\"\"),\"\",IFERROR(2*(VLOOKUP(Viáticos[[#This Row],[Destino]],Tabla216[#All],3,0)+VLOOKUP(Viáticos[[#This Row],[Destino]],Tabla216[#All],4,0))+Viáticos[[#This Row],[Número de días por viático]]*(2*VLOOKUP(Viáticos[[#This Row],[Destino]],Tabla216[#All],5,0)+VLOOKUP(Viáticos[[#This Row],[Destino]],Tabla216[#All],6,0)+VLOOKUP(Viáticos[[#This Row],[Destino]],Tabla216[#All],7,0))+(Viáticos[[#This Row],[Número de días por viático]]-1)*(VLOOKUP(Viáticos[[#This Row],[Destino]],Tabla216[#All],8,0)+VLOOKUP(Viáticos[[#This Row],[Destino]],Tabla216[#All],9,0)),\"\"))))*Viáticos[[#This Row],[Número de personas]],(IF(OR(Viáticos[[#This Row],[Número de días por viático]]=\"\",Viáticos[[#This Row],[Número de personas]]=\"\"),\"\",IFERROR(2*(VLOOKUP(Viáticos[[#This Row],[Destino]],Tabla216[#All],3,0)+VLOOKUP(Viáticos[[#This Row],[Destino]],Tabla216[#All],4,0))+Viáticos[[#This Row],[Número de días por viático]]*(2*VLOOKUP(Viáticos[[#This Row],[Destino]],Tabla216[#All],5,0)+VLOOKUP(Viáticos[[#This Row],[Destino]],Tabla216[#All],6,0)+VLOOKUP(Viáticos[[#This Row],[Destino]],Tabla216[#All],7,0))+(Viáticos[[#This Row],[Número de días por viático]]-1)*(VLOOKUP(Viáticos[[#This Row],[Destino]],Tabla216[#All],8,0)+VLOOKUP(Viáticos[[#This Row],[Destino]],Tabla216[#All],9,0)),\"\")))*Viáticos[[#This Row],[Número de personas]]*(1+25%)),\"\")","v":""},null,null,{"$f":"IFERROR(IF(Viáticos[[#This Row],[Viático pactado]]=\"\",((Viáticos[[#This Row],[Valor Viático por viaje]]*(1+Viáticos[[#This Row],[% Administración]]/100))),(Viáticos[[#This Row],[Viático pactado]]*(1+Viáticos[[#This Row],[% Administración]]/100))),\"\")","v":""},null,{"$f":"+IFERROR(Viáticos[[#This Row],[Costo parcial]]*(Viáticos[[#This Row],[% Participación ]]/100),\"\")","v":""}]
[null,null,null,null,null,{"$f":"+IF(Viáticos[[#This Row],[Nivel del cargo]]=\"\",\"\",F120)","v":""},null,null,{"$f":"IFERROR(IF(Viáticos[[#This Row],[Nivel del cargo]]=\"No directivo\",((IF(OR(Viáticos[[#This Row],[Número de días por viático]]=\"\",Viáticos[[#This Row],[Número de personas]]=\"\"),\"\",IFERROR(2*(VLOOKUP(Viáticos[[#This Row],[Destino]],Tabla216[#All],3,0)+VLOOKUP(Viáticos[[#This Row],[Destino]],Tabla216[#All],4,0))+Viáticos[[#This Row],[Número de días por viático]]*(2*VLOOKUP(Viáticos[[#This Row],[Destino]],Tabla216[#All],5,0)+VLOOKUP(Viáticos[[#This Row],[Destino]],Tabla216[#All],6,0)+VLOOKUP(Viáticos[[#This Row],[Destino]],Tabla216[#All],7,0))+(Viáticos[[#This Row],[Número de días por viático]]-1)*(VLOOKUP(Viáticos[[#This Row],[Destino]],Tabla216[#All],8,0)+VLOOKUP(Viáticos[[#This Row],[Destino]],Tabla216[#All],9,0)),\"\"))))*Viáticos[[#This Row],[Número de personas]],(IF(OR(Viáticos[[#This Row],[Número de días por viático]]=\"\",Viáticos[[#This Row],[Número de personas]]=\"\"),\"\",IFERROR(2*(VLOOKUP(Viáticos[[#This Row],[Destino]],Tabla216[#All],3,0)+VLOOKUP(Viáticos[[#This Row],[Destino]],Tabla216[#All],4,0))+Viáticos[[#This Row],[Número de días por viático]]*(2*VLOOKUP(Viáticos[[#This Row],[Destino]],Tabla216[#All],5,0)+VLOOKUP(Viáticos[[#This Row],[Destino]],Tabla216[#All],6,0)+VLOOKUP(Viáticos[[#This Row],[Destino]],Tabla216[#All],7,0))+(Viáticos[[#This Row],[Número de días por viático]]-1)*(VLOOKUP(Viáticos[[#This Row],[Destino]],Tabla216[#All],8,0)+VLOOKUP(Viáticos[[#This Row],[Destino]],Tabla216[#All],9,0)),\"\")))*Viáticos[[#This Row],[Número de personas]]*(1+25%)),\"\")","v":""},null,null,{"$f":"IFERROR(IF(Viáticos[[#This Row],[Viático pactado]]=\"\",((Viáticos[[#This Row],[Valor Viático por viaje]]*(1+Viáticos[[#This Row],[% Administración]]/100))),(Viáticos[[#This Row],[Viático pactado]]*(1+Viáticos[[#This Row],[% Administración]]/100))),\"\")","v":""},null,{"$f":"+IFERROR(Viáticos[[#This Row],[Costo parcial]]*(Viáticos[[#This Row],[% Participación ]]/100),\"\")","v":""}]
[null,null,null,null,null,{"$f":"+IF(Viáticos[[#This Row],[Nivel del cargo]]=\"\",\"\",F121)","v":""},null,null,{"$f":"IFERROR(IF(Viáticos[[#This Row],[Nivel del cargo]]=\"No directivo\",((IF(OR(Viáticos[[#This Row],[Número de días por viático]]=\"\",Viáticos[[#This Row],[Número de personas]]=\"\"),\"\",IFERROR(2*(VLOOKUP(Viáticos[[#This Row],[Destino]],Tabla216[#All],3,0)+VLOOKUP(Viáticos[[#This Row],[Destino]],Tabla216[#All],4,0))+Viáticos[[#This Row],[Número de días por viático]]*(2*VLOOKUP(Viáticos[[#This Row],[Destino]],Tabla216[#All],5,0)+VLOOKUP(Viáticos[[#This Row],[Destino]],Tabla216[#All],6,0)+VLOOKUP(Viáticos[[#This Row],[Destino]],Tabla216[#All],7,0))+(Viáticos[[#This Row],[Número de días por viático]]-1)*(VLOOKUP(Viáticos[[#This Row],[Destino]],Tabla216[#All],8,0)+VLOOKUP(Viáticos[[#This Row],[Destino]],Tabla216[#All],9,0)),\"\"))))*Viáticos[[#This Row],[Número de personas]],(IF(OR(Viáticos[[#This Row],[Número de días por viático]]=\"\",Viáticos[[#This Row],[Número de personas]]=\"\"),\"\",IFERROR(2*(VLOOKUP(Viáticos[[#This Row],[Destino]],Tabla216[#All],3,0)+VLOOKUP(Viáticos[[#This Row],[Destino]],Tabla216[#All],4,0))+Viáticos[[#This Row],[Número de días por viático]]*(2*VLOOKUP(Viáticos[[#This Row],[Destino]],Tabla216[#All],5,0)+VLOOKUP(Viáticos[[#This Row],[Destino]],Tabla216[#All],6,0)+VLOOKUP(Viáticos[[#This Row],[Destino]],Tabla216[#All],7,0))+(Viáticos[[#This Row],[Número de días por viático]]-1)*(VLOOKUP(Viáticos[[#This Row],[Destino]],Tabla216[#All],8,0)+VLOOKUP(Viáticos[[#This Row],[Destino]],Tabla216[#All],9,0)),\"\")))*Viáticos[[#This Row],[Número de personas]]*(1+25%)),\"\")","v":""},null,null,{"$f":"IFERROR(IF(Viáticos[[#This Row],[Viático pactado]]=\"\",((Viáticos[[#This Row],[Valor Viático por viaje]]*(1+Viáticos[[#This Row],[% Administración]]/100))),(Viáticos[[#This Row],[Viático pactado]]*(1+Viáticos[[#This Row],[% Administración]]/100))),\"\")","v":""},null,{"$f":"+IFERROR(Viáticos[[#This Row],[Costo parcial]]*(Viáticos[[#This Row],[% Participación ]]/100),\"\")","v":""}]
[null,null,null,null,null,{"$f":"+IF(Viáticos[[#This Row],[Nivel del cargo]]=\"\",\"\",F122)","v":""},null,null,{"$f":"IFERROR(IF(Viáticos[[#This Row],[Nivel del cargo]]=\"No directivo\",((IF(OR(Viáticos[[#This Row],[Número de días por viático]]=\"\",Viáticos[[#This Row],[Número de personas]]=\"\"),\"\",IFERROR(2*(VLOOKUP(Viáticos[[#This Row],[Destino]],Tabla216[#All],3,0)+VLOOKUP(Viáticos[[#This Row],[Destino]],Tabla216[#All],4,0))+Viáticos[[#This Row],[Número de días por viático]]*(2*VLOOKUP(Viáticos[[#This Row],[Destino]],Tabla216[#All],5,0)+VLOOKUP(Viáticos[[#This Row],[Destino]],Tabla216[#All],6,0)+VLOOKUP(Viáticos[[#This Row],[Destino]],Tabla216[#All],7,0))+(Viáticos[[#This Row],[Número de días por viático]]-1)*(VLOOKUP(Viáticos[[#This Row],[Destino]],Tabla216[#All],8,0)+VLOOKUP(Viáticos[[#This Row],[Destino]],Tabla216[#All],9,0)),\"\"))))*Viáticos[[#This Row],[Número de personas]],(IF(OR(Viáticos[[#This Row],[Número de días por viático]]=\"\",Viáticos[[#This Row],[Número de personas]]=\"\"),\"\",IFERROR(2*(VLOOKUP(Viáticos[[#This Row],[Destino]],Tabla216[#All],3,0)+VLOOKUP(Viáticos[[#This Row],[Destino]],Tabla216[#All],4,0))+Viáticos[[#This Row],[Número de días por viático]]*(2*VLOOKUP(Viáticos[[#This Row],[Destino]],Tabla216[#All],5,0)+VLOOKUP(Viáticos[[#This Row],[Destino]],Tabla216[#All],6,0)+VLOOKUP(Viáticos[[#This Row],[Destino]],Tabla216[#All],7,0))+(Viáticos[[#This Row],[Número de días por viático]]-1)*(VLOOKUP(Viáticos[[#This Row],[Destino]],Tabla216[#All],8,0)+VLOOKUP(Viáticos[[#This Row],[Destino]],Tabla216[#All],9,0)),\"\")))*Viáticos[[#This Row],[Número de personas]]*(1+25%)),\"\")","v":""},null,null,{"$f":"IFERROR(IF(Viáticos[[#This Row],[Viático pactado]]=\"\",((Viáticos[[#This Row],[Valor Viático por viaje]]*(1+Viáticos[[#This Row],[% Administración]]/100))),(Viáticos[[#This Row],[Viático pactado]]*(1+Viáticos[[#This Row],[% Administración]]/100))),\"\")","v":""},null,{"$f":"+IFERROR(Viáticos[[#This Row],[Costo parcial]]*(Viáticos[[#This Row],[% Participación ]]/100),\"\")","v":""}]
[null,null,null,null,null,{"$f":"+IF(Viáticos[[#This Row],[Nivel del cargo]]=\"\",\"\",F123)","v":""},null,null,{"$f":"IFERROR(IF(Viáticos[[#This Row],[Nivel del cargo]]=\"No directivo\",((IF(OR(Viáticos[[#This Row],[Número de días por viático]]=\"\",Viáticos[[#This Row],[Número de personas]]=\"\"),\"\",IFERROR(2*(VLOOKUP(Viáticos[[#This Row],[Destino]],Tabla216[#All],3,0)+VLOOKUP(Viáticos[[#This Row],[Destino]],Tabla216[#All],4,0))+Viáticos[[#This Row],[Número de días por viático]]*(2*VLOOKUP(Viáticos[[#This Row],[Destino]],Tabla216[#All],5,0)+VLOOKUP(Viáticos[[#This Row],[Destino]],Tabla216[#All],6,0)+VLOOKUP(Viáticos[[#This Row],[Destino]],Tabla216[#All],7,0))+(Viáticos[[#This Row],[Número de días por viático]]-1)*(VLOOKUP(Viáticos[[#This Row],[Destino]],Tabla216[#All],8,0)+VLOOKUP(Viáticos[[#This Row],[Destino]],Tabla216[#All],9,0)),\"\"))))*Viáticos[[#This Row],[Número de personas]],(IF(OR(Viáticos[[#This Row],[Número de días por viático]]=\"\",Viáticos[[#This Row],[Número de personas]]=\"\"),\"\",IFERROR(2*(VLOOKUP(Viáticos[[#This Row],[Destino]],Tabla216[#All],3,0)+VLOOKUP(Viáticos[[#This Row],[Destino]],Tabla216[#All],4,0))+Viáticos[[#This Row],[Número de días por viático]]*(2*VLOOKUP(Viáticos[[#This Row],[Destino]],Tabla216[#All],5,0)+VLOOKUP(Viáticos[[#This Row],[Destino]],Tabla216[#All],6,0)+VLOOKUP(Viáticos[[#This Row],[Destino]],Tabla216[#All],7,0))+(Viáticos[[#This Row],[Número de días por viático]]-1)*(VLOOKUP(Viáticos[[#This Row],[Destino]],Tabla216[#All],8,0)+VLOOKUP(Viáticos[[#This Row],[Destino]],Tabla216[#All],9,0)),\"\")))*Viáticos[[#This Row],[Número de personas]]*(1+25%)),\"\")","v":""},null,null,{"$f":"IFERROR(IF(Viáticos[[#This Row],[Viático pactado]]=\"\",((Viáticos[[#This Row],[Valor Viático por viaje]]*(1+Viáticos[[#This Row],[% Administración]]/100))),(Viáticos[[#This Row],[Viático pactado]]*(1+Viáticos[[#This Row],[% Administración]]/100))),\"\")","v":""},null,{"$f":"+IFERROR(Viáticos[[#This Row],[Costo parcial]]*(Viáticos[[#This Row],[% Participación ]]/100),\"\")","v":""}]
[null,null,null,null,null,{"$f":"+IF(Viáticos[[#This Row],[Nivel del cargo]]=\"\",\"\",F124)","v":""},null,null,{"$f":"IFERROR(IF(Viáticos[[#This Row],[Nivel del cargo]]=\"No directivo\",((IF(OR(Viáticos[[#This Row],[Número de días por viático]]=\"\",Viáticos[[#This Row],[Número de personas]]=\"\"),\"\",IFERROR(2*(VLOOKUP(Viáticos[[#This Row],[Destino]],Tabla216[#All],3,0)+VLOOKUP(Viáticos[[#This Row],[Destino]],Tabla216[#All],4,0))+Viáticos[[#This Row],[Número de días por viático]]*(2*VLOOKUP(Viáticos[[#This Row],[Destino]],Tabla216[#All],5,0)+VLOOKUP(Viáticos[[#This Row],[Destino]],Tabla216[#All],6,0)+VLOOKUP(Viáticos[[#This Row],[Destino]],Tabla216[#All],7,0))+(Viáticos[[#This Row],[Número de días por viático]]-1)*(VLOOKUP(Viáticos[[#This Row],[Destino]],Tabla216[#All],8,0)+VLOOKUP(Viáticos[[#This Row],[Destino]],Tabla216[#All],9,0)),\"\"))))*Viáticos[[#This Row],[Número de personas]],(IF(OR(Viáticos[[#This Row],[Número de días por viático]]=\"\",Viáticos[[#This Row],[Número de personas]]=\"\"),\"\",IFERROR(2*(VLOOKUP(Viáticos[[#This Row],[Destino]],Tabla216[#All],3,0)+VLOOKUP(Viáticos[[#This Row],[Destino]],Tabla216[#All],4,0))+Viáticos[[#This Row],[Número de días por viático]]*(2*VLOOKUP(Viáticos[[#This Row],[Destino]],Tabla216[#All],5,0)+VLOOKUP(Viáticos[[#This Row],[Destino]],Tabla216[#All],6,0)+VLOOKUP(Viáticos[[#This Row],[Destino]],Tabla216[#All],7,0))+(Viáticos[[#This Row],[Número de días por viático]]-1)*(VLOOKUP(Viáticos[[#This Row],[Destino]],Tabla216[#All],8,0)+VLOOKUP(Viáticos[[#This Row],[Destino]],Tabla216[#All],9,0)),\"\")))*Viáticos[[#This Row],[Número de personas]]*(1+25%)),\"\")","v":""},null,null,{"$f":"IFERROR(IF(Viáticos[[#This Row],[Viático pactado]]=\"\",((Viáticos[[#This Row],[Valor Viático por viaje]]*(1+Viáticos[[#This Row],[% Administración]]/100))),(Viáticos[[#This Row],[Viático pactado]]*(1+Viáticos[[#This Row],[% Administración]]/100))),\"\")","v":""},null,{"$f":"+IFERROR(Viáticos[[#This Row],[Costo parcial]]*(Viáticos[[#This Row],[% Participación ]]/100),\"\")","v":""}]
[null,null,null,null,null,{"$f":"+IF(Viáticos[[#This Row],[Nivel del cargo]]=\"\",\"\",F125)","v":""},null,null,{"$f":"IFERROR(IF(Viáticos[[#This Row],[Nivel del cargo]]=\"No directivo\",((IF(OR(Viáticos[[#This Row],[Número de días por viático]]=\"\",Viáticos[[#This Row],[Número de personas]]=\"\"),\"\",IFERROR(2*(VLOOKUP(Viáticos[[#This Row],[Destino]],Tabla216[#All],3,0)+VLOOKUP(Viáticos[[#This Row],[Destino]],Tabla216[#All],4,0))+Viáticos[[#This Row],[Número de días por viático]]*(2*VLOOKUP(Viáticos[[#This Row],[Destino]],Tabla216[#All],5,0)+VLOOKUP(Viáticos[[#This Row],[Destino]],Tabla216[#All],6,0)+VLOOKUP(Viáticos[[#This Row],[Destino]],Tabla216[#All],7,0))+(Viáticos[[#This Row],[Número de días por viático]]-1)*(VLOOKUP(Viáticos[[#This Row],[Destino]],Tabla216[#All],8,0)+VLOOKUP(Viáticos[[#This Row],[Destino]],Tabla216[#All],9,0)),\"\"))))*Viáticos[[#This Row],[Número de personas]],(IF(OR(Viáticos[[#This Row],[Número de días por viático]]=\"\",Viáticos[[#This Row],[Número de personas]]=\"\"),\"\",IFERROR(2*(VLOOKUP(Viáticos[[#This Row],[Destino]],Tabla216[#All],3,0)+VLOOKUP(Viáticos[[#This Row],[Destino]],Tabla216[#All],4,0))+Viáticos[[#This Row],[Número de días por viático]]*(2*VLOOKUP(Viáticos[[#This Row],[Destino]],Tabla216[#All],5,0)+VLOOKUP(Viáticos[[#This Row],[Destino]],Tabla216[#All],6,0)+VLOOKUP(Viáticos[[#This Row],[Destino]],Tabla216[#All],7,0))+(Viáticos[[#This Row],[Número de días por viático]]-1)*(VLOOKUP(Viáticos[[#This Row],[Destino]],Tabla216[#All],8,0)+VLOOKUP(Viáticos[[#This Row],[Destino]],Tabla216[#All],9,0)),\"\")))*Viáticos[[#This Row],[Número de personas]]*(1+25%)),\"\")","v":""},null,null,{"$f":"IFERROR(IF(Viáticos[[#This Row],[Viático pactado]]=\"\",((Viáticos[[#This Row],[Valor Viático por viaje]]*(1+Viáticos[[#This Row],[% Administración]]/100))),(Viáticos[[#This Row],[Viático pactado]]*(1+Viáticos[[#This Row],[% Administración]]/100))),\"\")","v":""},null,{"$f":"+IFERROR(Viáticos[[#This Row],[Costo parcial]]*(Viáticos[[#This Row],[% Participación ]]/100),\"\")","v":""}]
[null,null,null,null,null,{"$f":"+IF(Viáticos[[#This Row],[Nivel del cargo]]=\"\",\"\",F126)","v":""},null,null,{"$f":"IFERROR(IF(Viáticos[[#This Row],[Nivel del cargo]]=\"No directivo\",((IF(OR(Viáticos[[#This Row],[Número de días por viático]]=\"\",Viáticos[[#This Row],[Número de personas]]=\"\"),\"\",IFERROR(2*(VLOOKUP(Viáticos[[#This Row],[Destino]],Tabla216[#All],3,0)+VLOOKUP(Viáticos[[#This Row],[Destino]],Tabla216[#All],4,0))+Viáticos[[#This Row],[Número de días por viático]]*(2*VLOOKUP(Viáticos[[#This Row],[Destino]],Tabla216[#All],5,0)+VLOOKUP(Viáticos[[#This Row],[Destino]],Tabla216[#All],6,0)+VLOOKUP(Viáticos[[#This Row],[Destino]],Tabla216[#All],7,0))+(Viáticos[[#This Row],[Número de días por viático]]-1)*(VLOOKUP(Viáticos[[#This Row],[Destino]],Tabla216[#All],8,0)+VLOOKUP(Viáticos[[#This Row],[Destino]],Tabla216[#All],9,0)),\"\"))))*Viáticos[[#This Row],[Número de personas]],(IF(OR(Viáticos[[#This Row],[Número de días por viático]]=\"\",Viáticos[[#This Row],[Número de personas]]=\"\"),\"\",IFERROR(2*(VLOOKUP(Viáticos[[#This Row],[Destino]],Tabla216[#All],3,0)+VLOOKUP(Viáticos[[#This Row],[Destino]],Tabla216[#All],4,0))+Viáticos[[#This Row],[Número de días por viático]]*(2*VLOOKUP(Viáticos[[#This Row],[Destino]],Tabla216[#All],5,0)+VLOOKUP(Viáticos[[#This Row],[Destino]],Tabla216[#All],6,0)+VLOOKUP(Viáticos[[#This Row],[Destino]],Tabla216[#All],7,0))+(Viáticos[[#This Row],[Número de días por viático]]-1)*(VLOOKUP(Viáticos[[#This Row],[Destino]],Tabla216[#All],8,0)+VLOOKUP(Viáticos[[#This Row],[Destino]],Tabla216[#All],9,0)),\"\")))*Viáticos[[#This Row],[Número de personas]]*(1+25%)),\"\")","v":""},null,null,{"$f":"IFERROR(IF(Viáticos[[#This Row],[Viático pactado]]=\"\",((Viáticos[[#This Row],[Valor Viático por viaje]]*(1+Viáticos[[#This Row],[% Administración]]/100))),(Viáticos[[#This Row],[Viático pactado]]*(1+Viáticos[[#This Row],[% Administración]]/100))),\"\")","v":""},null,{"$f":"+IFERROR(Viáticos[[#This Row],[Costo parcial]]*(Viáticos[[#This Row],[% Participación ]]/100),\"\")","v":""}]
[null,null,null,null,null,{"$f":"+IF(Viáticos[[#This Row],[Nivel del cargo]]=\"\",\"\",F127)","v":""},null,null,{"$f":"IFERROR(IF(Viáticos[[#This Row],[Nivel del cargo]]=\"No directivo\",((IF(OR(Viáticos[[#This Row],[Número de días por viático]]=\"\",Viáticos[[#This Row],[Número de personas]]=\"\"),\"\",IFERROR(2*(VLOOKUP(Viáticos[[#This Row],[Destino]],Tabla216[#All],3,0)+VLOOKUP(Viáticos[[#This Row],[Destino]],Tabla216[#All],4,0))+Viáticos[[#This Row],[Número de días por viático]]*(2*VLOOKUP(Viáticos[[#This Row],[Destino]],Tabla216[#All],5,0)+VLOOKUP(Viáticos[[#This Row],[Destino]],Tabla216[#All],6,0)+VLOOKUP(Viáticos[[#This Row],[Destino]],Tabla216[#All],7,0))+(Viáticos[[#This Row],[Número de días por viático]]-1)*(VLOOKUP(Viáticos[[#This Row],[Destino]],Tabla216[#All],8,0)+VLOOKUP(Viáticos[[#This Row],[Destino]],Tabla216[#All],9,0)),\"\"))))*Viáticos[[#This Row],[Número de personas]],(IF(OR(Viáticos[[#This Row],[Número de días por viático]]=\"\",Viáticos[[#This Row],[Número de personas]]=\"\"),\"\",IFERROR(2*(VLOOKUP(Viáticos[[#This Row],[Destino]],Tabla216[#All],3,0)+VLOOKUP(Viáticos[[#This Row],[Destino]],Tabla216[#All],4,0))+Viáticos[[#This Row],[Número de días por viático]]*(2*VLOOKUP(Viáticos[[#This Row],[Destino]],Tabla216[#All],5,0)+VLOOKUP(Viáticos[[#This Row],[Destino]],Tabla216[#All],6,0)+VLOOKUP(Viáticos[[#This Row],[Destino]],Tabla216[#All],7,0))+(Viáticos[[#This Row],[Número de días por viático]]-1)*(VLOOKUP(Viáticos[[#This Row],[Destino]],Tabla216[#All],8,0)+VLOOKUP(Viáticos[[#This Row],[Destino]],Tabla216[#All],9,0)),\"\")))*Viáticos[[#This Row],[Número de personas]]*(1+25%)),\"\")","v":""},null,null,{"$f":"IFERROR(IF(Viáticos[[#This Row],[Viático pactado]]=\"\",((Viáticos[[#This Row],[Valor Viático por viaje]]*(1+Viáticos[[#This Row],[% Administración]]/100))),(Viáticos[[#This Row],[Viático pactado]]*(1+Viáticos[[#This Row],[% Administración]]/100))),\"\")","v":""},null,{"$f":"+IFERROR(Viáticos[[#This Row],[Costo parcial]]*(Viáticos[[#This Row],[% Participación ]]/100),\"\")","v":""}]
[null,null,null,null,null,{"$f":"+IF(Viáticos[[#This Row],[Nivel del cargo]]=\"\",\"\",F128)","v":""},null,null,{"$f":"IFERROR(IF(Viáticos[[#This Row],[Nivel del cargo]]=\"No directivo\",((IF(OR(Viáticos[[#This Row],[Número de días por viático]]=\"\",Viáticos[[#This Row],[Número de personas]]=\"\"),\"\",IFERROR(2*(VLOOKUP(Viáticos[[#This Row],[Destino]],Tabla216[#All],3,0)+VLOOKUP(Viáticos[[#This Row],[Destino]],Tabla216[#All],4,0))+Viáticos[[#This Row],[Número de días por viático]]*(2*VLOOKUP(Viáticos[[#This Row],[Destino]],Tabla216[#All],5,0)+VLOOKUP(Viáticos[[#This Row],[Destino]],Tabla216[#All],6,0)+VLOOKUP(Viáticos[[#This Row],[Destino]],Tabla216[#All],7,0))+(Viáticos[[#This Row],[Número de días por viático]]-1)*(VLOOKUP(Viáticos[[#This Row],[Destino]],Tabla216[#All],8,0)+VLOOKUP(Viáticos[[#This Row],[Destino]],Tabla216[#All],9,0)),\"\"))))*Viáticos[[#This Row],[Número de personas]],(IF(OR(Viáticos[[#This Row],[Número de días por viático]]=\"\",Viáticos[[#This Row],[Número de personas]]=\"\"),\"\",IFERROR(2*(VLOOKUP(Viáticos[[#This Row],[Destino]],Tabla216[#All],3,0)+VLOOKUP(Viáticos[[#This Row],[Destino]],Tabla216[#All],4,0))+Viáticos[[#This Row],[Número de días por viático]]*(2*VLOOKUP(Viáticos[[#This Row],[Destino]],Tabla216[#All],5,0)+VLOOKUP(Viáticos[[#This Row],[Destino]],Tabla216[#All],6,0)+VLOOKUP(Viáticos[[#This Row],[Destino]],Tabla216[#All],7,0))+(Viáticos[[#This Row],[Número de días por viático]]-1)*(VLOOKUP(Viáticos[[#This Row],[Destino]],Tabla216[#All],8,0)+VLOOKUP(Viáticos[[#This Row],[Destino]],Tabla216[#All],9,0)),\"\")))*Viáticos[[#This Row],[Número de personas]]*(1+25%)),\"\")","v":""},null,null,{"$f":"IFERROR(IF(Viáticos[[#This Row],[Viático pactado]]=\"\",((Viáticos[[#This Row],[Valor Viático por viaje]]*(1+Viáticos[[#This Row],[% Administración]]/100))),(Viáticos[[#This Row],[Viático pactado]]*(1+Viáticos[[#This Row],[% Administración]]/100))),\"\")","v":""},null,{"$f":"+IFERROR(Viáticos[[#This Row],[Costo parcial]]*(Viáticos[[#This Row],[% Participación ]]/100),\"\")","v":""}]
[null,null,null,null,null,{"$f":"+IF(Viáticos[[#This Row],[Nivel del cargo]]=\"\",\"\",F129)","v":""},null,null,{"$f":"IFERROR(IF(Viáticos[[#This Row],[Nivel del cargo]]=\"No directivo\",((IF(OR(Viáticos[[#This Row],[Número de días por viático]]=\"\",Viáticos[[#This Row],[Número de personas]]=\"\"),\"\",IFERROR(2*(VLOOKUP(Viáticos[[#This Row],[Destino]],Tabla216[#All],3,0)+VLOOKUP(Viáticos[[#This Row],[Destino]],Tabla216[#All],4,0))+Viáticos[[#This Row],[Número de días por viático]]*(2*VLOOKUP(Viáticos[[#This Row],[Destino]],Tabla216[#All],5,0)+VLOOKUP(Viáticos[[#This Row],[Destino]],Tabla216[#All],6,0)+VLOOKUP(Viáticos[[#This Row],[Destino]],Tabla216[#All],7,0))+(Viáticos[[#This Row],[Número de días por viático]]-1)*(VLOOKUP(Viáticos[[#This Row],[Destino]],Tabla216[#All],8,0)+VLOOKUP(Viáticos[[#This Row],[Destino]],Tabla216[#All],9,0)),\"\"))))*Viáticos[[#This Row],[Número de personas]],(IF(OR(Viáticos[[#This Row],[Número de días por viático]]=\"\",Viáticos[[#This Row],[Número de personas]]=\"\"),\"\",IFERROR(2*(VLOOKUP(Viáticos[[#This Row],[Destino]],Tabla216[#All],3,0)+VLOOKUP(Viáticos[[#This Row],[Destino]],Tabla216[#All],4,0))+Viáticos[[#This Row],[Número de días por viático]]*(2*VLOOKUP(Viáticos[[#This Row],[Destino]],Tabla216[#All],5,0)+VLOOKUP(Viáticos[[#This Row],[Destino]],Tabla216[#All],6,0)+VLOOKUP(Viáticos[[#This Row],[Destino]],Tabla216[#All],7,0))+(Viáticos[[#This Row],[Número de días por viático]]-1)*(VLOOKUP(Viáticos[[#This Row],[Destino]],Tabla216[#All],8,0)+VLOOKUP(Viáticos[[#This Row],[Destino]],Tabla216[#All],9,0)),\"\")))*Viáticos[[#This Row],[Número de personas]]*(1+25%)),\"\")","v":""},null,null,{"$f":"IFERROR(IF(Viáticos[[#This Row],[Viático pactado]]=\"\",((Viáticos[[#This Row],[Valor Viático por viaje]]*(1+Viáticos[[#This Row],[% Administración]]/100))),(Viáticos[[#This Row],[Viático pactado]]*(1+Viáticos[[#This Row],[% Administración]]/100))),\"\")","v":""},null,{"$f":"+IFERROR(Viáticos[[#This Row],[Costo parcial]]*(Viáticos[[#This Row],[% Participación ]]/100),\"\")","v":""}]
[null,null,null,null,null,{"$f":"+IF(Viáticos[[#This Row],[Nivel del cargo]]=\"\",\"\",F130)","v":""},null,null,{"$f":"IFERROR(IF(Viáticos[[#This Row],[Nivel del cargo]]=\"No directivo\",((IF(OR(Viáticos[[#This Row],[Número de días por viático]]=\"\",Viáticos[[#This Row],[Número de personas]]=\"\"),\"\",IFERROR(2*(VLOOKUP(Viáticos[[#This Row],[Destino]],Tabla216[#All],3,0)+VLOOKUP(Viáticos[[#This Row],[Destino]],Tabla216[#All],4,0))+Viáticos[[#This Row],[Número de días por viático]]*(2*VLOOKUP(Viáticos[[#This Row],[Destino]],Tabla216[#All],5,0)+VLOOKUP(Viáticos[[#This Row],[Destino]],Tabla216[#All],6,0)+VLOOKUP(Viáticos[[#This Row],[Destino]],Tabla216[#All],7,0))+(Viáticos[[#This Row],[Número de días por viático]]-1)*(VLOOKUP(Viáticos[[#This Row],[Destino]],Tabla216[#All],8,0)+VLOOKUP(Viáticos[[#This Row],[Destino]],Tabla216[#All],9,0)),\"\"))))*Viáticos[[#This Row],[Número de personas]],(IF(OR(Viáticos[[#This Row],[Número de días por viático]]=\"\",Viáticos[[#This Row],[Número de personas]]=\"\"),\"\",IFERROR(2*(VLOOKUP(Viáticos[[#This Row],[Destino]],Tabla216[#All],3,0)+VLOOKUP(Viáticos[[#This Row],[Destino]],Tabla216[#All],4,0))+Viáticos[[#This Row],[Número de días por viático]]*(2*VLOOKUP(Viáticos[[#This Row],[Destino]],Tabla216[#All],5,0)+VLOOKUP(Viáticos[[#This Row],[Destino]],Tabla216[#All],6,0)+VLOOKUP(Viáticos[[#This Row],[Destino]],Tabla216[#All],7,0))+(Viáticos[[#This Row],[Número de días por viático]]-1)*(VLOOKUP(Viáticos[[#This Row],[Destino]],Tabla216[#All],8,0)+VLOOKUP(Viáticos[[#This Row],[Destino]],Tabla216[#All],9,0)),\"\")))*Viáticos[[#This Row],[Número de personas]]*(1+25%)),\"\")","v":""},null,null,{"$f":"IFERROR(IF(Viáticos[[#This Row],[Viático pactado]]=\"\",((Viáticos[[#This Row],[Valor Viático por viaje]]*(1+Viáticos[[#This Row],[% Administración]]/100))),(Viáticos[[#This Row],[Viático pactado]]*(1+Viáticos[[#This Row],[% Administración]]/100))),\"\")","v":""},null,{"$f":"+IFERROR(Viáticos[[#This Row],[Costo parcial]]*(Viáticos[[#This Row],[% Participación ]]/100),\"\")","v":""}]
[null,null,null,null,null,{"$f":"+IF(Viáticos[[#This Row],[Nivel del cargo]]=\"\",\"\",F131)","v":""},null,null,{"$f":"IFERROR(IF(Viáticos[[#This Row],[Nivel del cargo]]=\"No directivo\",((IF(OR(Viáticos[[#This Row],[Número de días por viático]]=\"\",Viáticos[[#This Row],[Número de personas]]=\"\"),\"\",IFERROR(2*(VLOOKUP(Viáticos[[#This Row],[Destino]],Tabla216[#All],3,0)+VLOOKUP(Viáticos[[#This Row],[Destino]],Tabla216[#All],4,0))+Viáticos[[#This Row],[Número de días por viático]]*(2*VLOOKUP(Viáticos[[#This Row],[Destino]],Tabla216[#All],5,0)+VLOOKUP(Viáticos[[#This Row],[Destino]],Tabla216[#All],6,0)+VLOOKUP(Viáticos[[#This Row],[Destino]],Tabla216[#All],7,0))+(Viáticos[[#This Row],[Número de días por viático]]-1)*(VLOOKUP(Viáticos[[#This Row],[Destino]],Tabla216[#All],8,0)+VLOOKUP(Viáticos[[#This Row],[Destino]],Tabla216[#All],9,0)),\"\"))))*Viáticos[[#This Row],[Número de personas]],(IF(OR(Viáticos[[#This Row],[Número de días por viático]]=\"\",Viáticos[[#This Row],[Número de personas]]=\"\"),\"\",IFERROR(2*(VLOOKUP(Viáticos[[#This Row],[Destino]],Tabla216[#All],3,0)+VLOOKUP(Viáticos[[#This Row],[Destino]],Tabla216[#All],4,0))+Viáticos[[#This Row],[Número de días por viático]]*(2*VLOOKUP(Viáticos[[#This Row],[Destino]],Tabla216[#All],5,0)+VLOOKUP(Viáticos[[#This Row],[Destino]],Tabla216[#All],6,0)+VLOOKUP(Viáticos[[#This Row],[Destino]],Tabla216[#All],7,0))+(Viáticos[[#This Row],[Número de días por viático]]-1)*(VLOOKUP(Viáticos[[#This Row],[Destino]],Tabla216[#All],8,0)+VLOOKUP(Viáticos[[#This Row],[Destino]],Tabla216[#All],9,0)),\"\")))*Viáticos[[#This Row],[Número de personas]]*(1+25%)),\"\")","v":""},null,null,{"$f":"IFERROR(IF(Viáticos[[#This Row],[Viático pactado]]=\"\",((Viáticos[[#This Row],[Valor Viático por viaje]]*(1+Viáticos[[#This Row],[% Administración]]/100))),(Viáticos[[#This Row],[Viático pactado]]*(1+Viáticos[[#This Row],[% Administración]]/100))),\"\")","v":""},null,{"$f":"+IFERROR(Viáticos[[#This Row],[Costo parcial]]*(Viáticos[[#This Row],[% Participación ]]/100),\"\")","v":""}]
[null,null,null,null,null,{"$f":"+IF(Viáticos[[#This Row],[Nivel del cargo]]=\"\",\"\",F132)","v":""},null,null,{"$f":"IFERROR(IF(Viáticos[[#This Row],[Nivel del cargo]]=\"No directivo\",((IF(OR(Viáticos[[#This Row],[Número de días por viático]]=\"\",Viáticos[[#This Row],[Número de personas]]=\"\"),\"\",IFERROR(2*(VLOOKUP(Viáticos[[#This Row],[Destino]],Tabla216[#All],3,0)+VLOOKUP(Viáticos[[#This Row],[Destino]],Tabla216[#All],4,0))+Viáticos[[#This Row],[Número de días por viático]]*(2*VLOOKUP(Viáticos[[#This Row],[Destino]],Tabla216[#All],5,0)+VLOOKUP(Viáticos[[#This Row],[Destino]],Tabla216[#All],6,0)+VLOOKUP(Viáticos[[#This Row],[Destino]],Tabla216[#All],7,0))+(Viáticos[[#This Row],[Número de días por viático]]-1)*(VLOOKUP(Viáticos[[#This Row],[Destino]],Tabla216[#All],8,0)+VLOOKUP(Viáticos[[#This Row],[Destino]],Tabla216[#All],9,0)),\"\"))))*Viáticos[[#This Row],[Número de personas]],(IF(OR(Viáticos[[#This Row],[Número de días por viático]]=\"\",Viáticos[[#This Row],[Número de personas]]=\"\"),\"\",IFERROR(2*(VLOOKUP(Viáticos[[#This Row],[Destino]],Tabla216[#All],3,0)+VLOOKUP(Viáticos[[#This Row],[Destino]],Tabla216[#All],4,0))+Viáticos[[#This Row],[Número de días por viático]]*(2*VLOOKUP(Viáticos[[#This Row],[Destino]],Tabla216[#All],5,0)+VLOOKUP(Viáticos[[#This Row],[Destino]],Tabla216[#All],6,0)+VLOOKUP(Viáticos[[#This Row],[Destino]],Tabla216[#All],7,0))+(Viáticos[[#This Row],[Número de días por viático]]-1)*(VLOOKUP(Viáticos[[#This Row],[Destino]],Tabla216[#All],8,0)+VLOOKUP(Viáticos[[#This Row],[Destino]],Tabla216[#All],9,0)),\"\")))*Viáticos[[#This Row],[Número de personas]]*(1+25%)),\"\")","v":""},null,null,{"$f":"IFERROR(IF(Viáticos[[#This Row],[Viático pactado]]=\"\",((Viáticos[[#This Row],[Valor Viático por viaje]]*(1+Viáticos[[#This Row],[% Administración]]/100))),(Viáticos[[#This Row],[Viático pactado]]*(1+Viáticos[[#This Row],[% Administración]]/100))),\"\")","v":""},null,{"$f":"+IFERROR(Viáticos[[#This Row],[Costo parcial]]*(Viáticos[[#This Row],[% Participación ]]/100),\"\")","v":""}]
[null,null,null,null,null,{"$f":"+IF(Viáticos[[#This Row],[Nivel del cargo]]=\"\",\"\",F133)","v":""},null,null,{"$f":"IFERROR(IF(Viáticos[[#This Row],[Nivel del cargo]]=\"No directivo\",((IF(OR(Viáticos[[#This Row],[Número de días por viático]]=\"\",Viáticos[[#This Row],[Número de personas]]=\"\"),\"\",IFERROR(2*(VLOOKUP(Viáticos[[#This Row],[Destino]],Tabla216[#All],3,0)+VLOOKUP(Viáticos[[#This Row],[Destino]],Tabla216[#All],4,0))+Viáticos[[#This Row],[Número de días por viático]]*(2*VLOOKUP(Viáticos[[#This Row],[Destino]],Tabla216[#All],5,0)+VLOOKUP(Viáticos[[#This Row],[Destino]],Tabla216[#All],6,0)+VLOOKUP(Viáticos[[#This Row],[Destino]],Tabla216[#All],7,0))+(Viáticos[[#This Row],[Número de días por viático]]-1)*(VLOOKUP(Viáticos[[#This Row],[Destino]],Tabla216[#All],8,0)+VLOOKUP(Viáticos[[#This Row],[Destino]],Tabla216[#All],9,0)),\"\"))))*Viáticos[[#This Row],[Número de personas]],(IF(OR(Viáticos[[#This Row],[Número de días por viático]]=\"\",Viáticos[[#This Row],[Número de personas]]=\"\"),\"\",IFERROR(2*(VLOOKUP(Viáticos[[#This Row],[Destino]],Tabla216[#All],3,0)+VLOOKUP(Viáticos[[#This Row],[Destino]],Tabla216[#All],4,0))+Viáticos[[#This Row],[Número de días por viático]]*(2*VLOOKUP(Viáticos[[#This Row],[Destino]],Tabla216[#All],5,0)+VLOOKUP(Viáticos[[#This Row],[Destino]],Tabla216[#All],6,0)+VLOOKUP(Viáticos[[#This Row],[Destino]],Tabla216[#All],7,0))+(Viáticos[[#This Row],[Número de días por viático]]-1)*(VLOOKUP(Viáticos[[#This Row],[Destino]],Tabla216[#All],8,0)+VLOOKUP(Viáticos[[#This Row],[Destino]],Tabla216[#All],9,0)),\"\")))*Viáticos[[#This Row],[Número de personas]]*(1+25%)),\"\")","v":""},null,null,{"$f":"IFERROR(IF(Viáticos[[#This Row],[Viático pactado]]=\"\",((Viáticos[[#This Row],[Valor Viático por viaje]]*(1+Viáticos[[#This Row],[% Administración]]/100))),(Viáticos[[#This Row],[Viático pactado]]*(1+Viáticos[[#This Row],[% Administración]]/100))),\"\")","v":""},null,{"$f":"+IFERROR(Viáticos[[#This Row],[Costo parcial]]*(Viáticos[[#This Row],[% Participación ]]/100),\"\")","v":""}]
[null,null,null,null,null,{"$f":"+IF(Viáticos[[#This Row],[Nivel del cargo]]=\"\",\"\",F134)","v":""},null,null,{"$f":"IFERROR(IF(Viáticos[[#This Row],[Nivel del cargo]]=\"No directivo\",((IF(OR(Viáticos[[#This Row],[Número de días por viático]]=\"\",Viáticos[[#This Row],[Número de personas]]=\"\"),\"\",IFERROR(2*(VLOOKUP(Viáticos[[#This Row],[Destino]],Tabla216[#All],3,0)+VLOOKUP(Viáticos[[#This Row],[Destino]],Tabla216[#All],4,0))+Viáticos[[#This Row],[Número de días por viático]]*(2*VLOOKUP(Viáticos[[#This Row],[Destino]],Tabla216[#All],5,0)+VLOOKUP(Viáticos[[#This Row],[Destino]],Tabla216[#All],6,0)+VLOOKUP(Viáticos[[#This Row],[Destino]],Tabla216[#All],7,0))+(Viáticos[[#This Row],[Número de días por viático]]-1)*(VLOOKUP(Viáticos[[#This Row],[Destino]],Tabla216[#All],8,0)+VLOOKUP(Viáticos[[#This Row],[Destino]],Tabla216[#All],9,0)),\"\"))))*Viáticos[[#This Row],[Número de personas]],(IF(OR(Viáticos[[#This Row],[Número de días por viático]]=\"\",Viáticos[[#This Row],[Número de personas]]=\"\"),\"\",IFERROR(2*(VLOOKUP(Viáticos[[#This Row],[Destino]],Tabla216[#All],3,0)+VLOOKUP(Viáticos[[#This Row],[Destino]],Tabla216[#All],4,0))+Viáticos[[#This Row],[Número de días por viático]]*(2*VLOOKUP(Viáticos[[#This Row],[Destino]],Tabla216[#All],5,0)+VLOOKUP(Viáticos[[#This Row],[Destino]],Tabla216[#All],6,0)+VLOOKUP(Viáticos[[#This Row],[Destino]],Tabla216[#All],7,0))+(Viáticos[[#This Row],[Número de días por viático]]-1)*(VLOOKUP(Viáticos[[#This Row],[Destino]],Tabla216[#All],8,0)+VLOOKUP(Viáticos[[#This Row],[Destino]],Tabla216[#All],9,0)),\"\")))*Viáticos[[#This Row],[Número de personas]]*(1+25%)),\"\")","v":""},null,null,{"$f":"IFERROR(IF(Viáticos[[#This Row],[Viático pactado]]=\"\",((Viáticos[[#This Row],[Valor Viático por viaje]]*(1+Viáticos[[#This Row],[% Administración]]/100))),(Viáticos[[#This Row],[Viático pactado]]*(1+Viáticos[[#This Row],[% Administración]]/100))),\"\")","v":""},null,{"$f":"+IFERROR(Viáticos[[#This Row],[Costo parcial]]*(Viáticos[[#This Row],[% Participación ]]/100),\"\")","v":""}]
[null,null,null,null,null,{"$f":"+IF(Viáticos[[#This Row],[Nivel del cargo]]=\"\",\"\",F135)","v":""},null,null,{"$f":"IFERROR(IF(Viáticos[[#This Row],[Nivel del cargo]]=\"No directivo\",((IF(OR(Viáticos[[#This Row],[Número de días por viático]]=\"\",Viáticos[[#This Row],[Número de personas]]=\"\"),\"\",IFERROR(2*(VLOOKUP(Viáticos[[#This Row],[Destino]],Tabla216[#All],3,0)+VLOOKUP(Viáticos[[#This Row],[Destino]],Tabla216[#All],4,0))+Viáticos[[#This Row],[Número de días por viático]]*(2*VLOOKUP(Viáticos[[#This Row],[Destino]],Tabla216[#All],5,0)+VLOOKUP(Viáticos[[#This Row],[Destino]],Tabla216[#All],6,0)+VLOOKUP(Viáticos[[#This Row],[Destino]],Tabla216[#All],7,0))+(Viáticos[[#This Row],[Número de días por viático]]-1)*(VLOOKUP(Viáticos[[#This Row],[Destino]],Tabla216[#All],8,0)+VLOOKUP(Viáticos[[#This Row],[Destino]],Tabla216[#All],9,0)),\"\"))))*Viáticos[[#This Row],[Número de personas]],(IF(OR(Viáticos[[#This Row],[Número de días por viático]]=\"\",Viáticos[[#This Row],[Número de personas]]=\"\"),\"\",IFERROR(2*(VLOOKUP(Viáticos[[#This Row],[Destino]],Tabla216[#All],3,0)+VLOOKUP(Viáticos[[#This Row],[Destino]],Tabla216[#All],4,0))+Viáticos[[#This Row],[Número de días por viático]]*(2*VLOOKUP(Viáticos[[#This Row],[Destino]],Tabla216[#All],5,0)+VLOOKUP(Viáticos[[#This Row],[Destino]],Tabla216[#All],6,0)+VLOOKUP(Viáticos[[#This Row],[Destino]],Tabla216[#All],7,0))+(Viáticos[[#This Row],[Número de días por viático]]-1)*(VLOOKUP(Viáticos[[#This Row],[Destino]],Tabla216[#All],8,0)+VLOOKUP(Viáticos[[#This Row],[Destino]],Tabla216[#All],9,0)),\"\")))*Viáticos[[#This Row],[Número de personas]]*(1+25%)),\"\")","v":""},null,null,{"$f":"IFERROR(IF(Viáticos[[#This Row],[Viático pactado]]=\"\",((Viáticos[[#This Row],[Valor Viático por viaje]]*(1+Viáticos[[#This Row],[% Administración]]/100))),(Viáticos[[#This Row],[Viático pactado]]*(1+Viáticos[[#This Row],[% Administración]]/100))),\"\")","v":""},null,{"$f":"+IFERROR(Viáticos[[#This Row],[Costo parcial]]*(Viáticos[[#This Row],[% Participación ]]/100),\"\")","v":""}]
[null,null,null,null,null,{"$f":"+IF(Viáticos[[#This Row],[Nivel del cargo]]=\"\",\"\",F136)","v":""},null,null,{"$f":"IFERROR(IF(Viáticos[[#This Row],[Nivel del cargo]]=\"No directivo\",((IF(OR(Viáticos[[#This Row],[Número de días por viático]]=\"\",Viáticos[[#This Row],[Número de personas]]=\"\"),\"\",IFERROR(2*(VLOOKUP(Viáticos[[#This Row],[Destino]],Tabla216[#All],3,0)+VLOOKUP(Viáticos[[#This Row],[Destino]],Tabla216[#All],4,0))+Viáticos[[#This Row],[Número de días por viático]]*(2*VLOOKUP(Viáticos[[#This Row],[Destino]],Tabla216[#All],5,0)+VLOOKUP(Viáticos[[#This Row],[Destino]],Tabla216[#All],6,0)+VLOOKUP(Viáticos[[#This Row],[Destino]],Tabla216[#All],7,0))+(Viáticos[[#This Row],[Número de días por viático]]-1)*(VLOOKUP(Viáticos[[#This Row],[Destino]],Tabla216[#All],8,0)+VLOOKUP(Viáticos[[#This Row],[Destino]],Tabla216[#All],9,0)),\"\"))))*Viáticos[[#This Row],[Número de personas]],(IF(OR(Viáticos[[#This Row],[Número de días por viático]]=\"\",Viáticos[[#This Row],[Número de personas]]=\"\"),\"\",IFERROR(2*(VLOOKUP(Viáticos[[#This Row],[Destino]],Tabla216[#All],3,0)+VLOOKUP(Viáticos[[#This Row],[Destino]],Tabla216[#All],4,0))+Viáticos[[#This Row],[Número de días por viático]]*(2*VLOOKUP(Viáticos[[#This Row],[Destino]],Tabla216[#All],5,0)+VLOOKUP(Viáticos[[#This Row],[Destino]],Tabla216[#All],6,0)+VLOOKUP(Viáticos[[#This Row],[Destino]],Tabla216[#All],7,0))+(Viáticos[[#This Row],[Número de días por viático]]-1)*(VLOOKUP(Viáticos[[#This Row],[Destino]],Tabla216[#All],8,0)+VLOOKUP(Viáticos[[#This Row],[Destino]],Tabla216[#All],9,0)),\"\")))*Viáticos[[#This Row],[Número de personas]]*(1+25%)),\"\")","v":""},null,null,{"$f":"IFERROR(IF(Viáticos[[#This Row],[Viático pactado]]=\"\",((Viáticos[[#This Row],[Valor Viático por viaje]]*(1+Viáticos[[#This Row],[% Administración]]/100))),(Viáticos[[#This Row],[Viático pactado]]*(1+Viáticos[[#This Row],[% Administración]]/100))),\"\")","v":""},null,{"$f":"+IFERROR(Viáticos[[#This Row],[Costo parcial]]*(Viáticos[[#This Row],[% Participación ]]/100),\"\")","v":""}]
[null,null,null,null,null,{"$f":"+IF(Viáticos[[#This Row],[Nivel del cargo]]=\"\",\"\",F137)","v":""},null,null,{"$f":"IFERROR(IF(Viáticos[[#This Row],[Nivel del cargo]]=\"No directivo\",((IF(OR(Viáticos[[#This Row],[Número de días por viático]]=\"\",Viáticos[[#This Row],[Número de personas]]=\"\"),\"\",IFERROR(2*(VLOOKUP(Viáticos[[#This Row],[Destino]],Tabla216[#All],3,0)+VLOOKUP(Viáticos[[#This Row],[Destino]],Tabla216[#All],4,0))+Viáticos[[#This Row],[Número de días por viático]]*(2*VLOOKUP(Viáticos[[#This Row],[Destino]],Tabla216[#All],5,0)+VLOOKUP(Viáticos[[#This Row],[Destino]],Tabla216[#All],6,0)+VLOOKUP(Viáticos[[#This Row],[Destino]],Tabla216[#All],7,0))+(Viáticos[[#This Row],[Número de días por viático]]-1)*(VLOOKUP(Viáticos[[#This Row],[Destino]],Tabla216[#All],8,0)+VLOOKUP(Viáticos[[#This Row],[Destino]],Tabla216[#All],9,0)),\"\"))))*Viáticos[[#This Row],[Número de personas]],(IF(OR(Viáticos[[#This Row],[Número de días por viático]]=\"\",Viáticos[[#This Row],[Número de personas]]=\"\"),\"\",IFERROR(2*(VLOOKUP(Viáticos[[#This Row],[Destino]],Tabla216[#All],3,0)+VLOOKUP(Viáticos[[#This Row],[Destino]],Tabla216[#All],4,0))+Viáticos[[#This Row],[Número de días por viático]]*(2*VLOOKUP(Viáticos[[#This Row],[Destino]],Tabla216[#All],5,0)+VLOOKUP(Viáticos[[#This Row],[Destino]],Tabla216[#All],6,0)+VLOOKUP(Viáticos[[#This Row],[Destino]],Tabla216[#All],7,0))+(Viáticos[[#This Row],[Número de días por viático]]-1)*(VLOOKUP(Viáticos[[#This Row],[Destino]],Tabla216[#All],8,0)+VLOOKUP(Viáticos[[#This Row],[Destino]],Tabla216[#All],9,0)),\"\")))*Viáticos[[#This Row],[Número de personas]]*(1+25%)),\"\")","v":""},null,null,{"$f":"IFERROR(IF(Viáticos[[#This Row],[Viático pactado]]=\"\",((Viáticos[[#This Row],[Valor Viático por viaje]]*(1+Viáticos[[#This Row],[% Administración]]/100))),(Viáticos[[#This Row],[Viático pactado]]*(1+Viáticos[[#This Row],[% Administración]]/100))),\"\")","v":""},null,{"$f":"+IFERROR(Viáticos[[#This Row],[Costo parcial]]*(Viáticos[[#This Row],[% Participación ]]/100),\"\")","v":""}]
[null,null,null,null,null,{"$f":"+IF(Viáticos[[#This Row],[Nivel del cargo]]=\"\",\"\",F138)","v":""},null,null,{"$f":"IFERROR(IF(Viáticos[[#This Row],[Nivel del cargo]]=\"No directivo\",((IF(OR(Viáticos[[#This Row],[Número de días por viático]]=\"\",Viáticos[[#This Row],[Número de personas]]=\"\"),\"\",IFERROR(2*(VLOOKUP(Viáticos[[#This Row],[Destino]],Tabla216[#All],3,0)+VLOOKUP(Viáticos[[#This Row],[Destino]],Tabla216[#All],4,0))+Viáticos[[#This Row],[Número de días por viático]]*(2*VLOOKUP(Viáticos[[#This Row],[Destino]],Tabla216[#All],5,0)+VLOOKUP(Viáticos[[#This Row],[Destino]],Tabla216[#All],6,0)+VLOOKUP(Viáticos[[#This Row],[Destino]],Tabla216[#All],7,0))+(Viáticos[[#This Row],[Número de días por viático]]-1)*(VLOOKUP(Viáticos[[#This Row],[Destino]],Tabla216[#All],8,0)+VLOOKUP(Viáticos[[#This Row],[Destino]],Tabla216[#All],9,0)),\"\"))))*Viáticos[[#This Row],[Número de personas]],(IF(OR(Viáticos[[#This Row],[Número de días por viático]]=\"\",Viáticos[[#This Row],[Número de personas]]=\"\"),\"\",IFERROR(2*(VLOOKUP(Viáticos[[#This Row],[Destino]],Tabla216[#All],3,0)+VLOOKUP(Viáticos[[#This Row],[Destino]],Tabla216[#All],4,0))+Viáticos[[#This Row],[Número de días por viático]]*(2*VLOOKUP(Viáticos[[#This Row],[Destino]],Tabla216[#All],5,0)+VLOOKUP(Viáticos[[#This Row],[Destino]],Tabla216[#All],6,0)+VLOOKUP(Viáticos[[#This Row],[Destino]],Tabla216[#All],7,0))+(Viáticos[[#This Row],[Número de días por viático]]-1)*(VLOOKUP(Viáticos[[#This Row],[Destino]],Tabla216[#All],8,0)+VLOOKUP(Viáticos[[#This Row],[Destino]],Tabla216[#All],9,0)),\"\")))*Viáticos[[#This Row],[Número de personas]]*(1+25%)),\"\")","v":""},null,null,{"$f":"IFERROR(IF(Viáticos[[#This Row],[Viático pactado]]=\"\",((Viáticos[[#This Row],[Valor Viático por viaje]]*(1+Viáticos[[#This Row],[% Administración]]/100))),(Viáticos[[#This Row],[Viático pactado]]*(1+Viáticos[[#This Row],[% Administración]]/100))),\"\")","v":""},null,{"$f":"+IFERROR(Viáticos[[#This Row],[Costo parcial]]*(Viáticos[[#This Row],[% Participación ]]/100),\"\")","v":""}]
[null,null,null,null,null,{"$f":"+IF(Viáticos[[#This Row],[Nivel del cargo]]=\"\",\"\",F139)","v":""},null,null,{"$f":"IFERROR(IF(Viáticos[[#This Row],[Nivel del cargo]]=\"No directivo\",((IF(OR(Viáticos[[#This Row],[Número de días por viático]]=\"\",Viáticos[[#This Row],[Número de personas]]=\"\"),\"\",IFERROR(2*(VLOOKUP(Viáticos[[#This Row],[Destino]],Tabla216[#All],3,0)+VLOOKUP(Viáticos[[#This Row],[Destino]],Tabla216[#All],4,0))+Viáticos[[#This Row],[Número de días por viático]]*(2*VLOOKUP(Viáticos[[#This Row],[Destino]],Tabla216[#All],5,0)+VLOOKUP(Viáticos[[#This Row],[Destino]],Tabla216[#All],6,0)+VLOOKUP(Viáticos[[#This Row],[Destino]],Tabla216[#All],7,0))+(Viáticos[[#This Row],[Número de días por viático]]-1)*(VLOOKUP(Viáticos[[#This Row],[Destino]],Tabla216[#All],8,0)+VLOOKUP(Viáticos[[#This Row],[Destino]],Tabla216[#All],9,0)),\"\"))))*Viáticos[[#This Row],[Número de personas]],(IF(OR(Viáticos[[#This Row],[Número de días por viático]]=\"\",Viáticos[[#This Row],[Número de personas]]=\"\"),\"\",IFERROR(2*(VLOOKUP(Viáticos[[#This Row],[Destino]],Tabla216[#All],3,0)+VLOOKUP(Viáticos[[#This Row],[Destino]],Tabla216[#All],4,0))+Viáticos[[#This Row],[Número de días por viático]]*(2*VLOOKUP(Viáticos[[#This Row],[Destino]],Tabla216[#All],5,0)+VLOOKUP(Viáticos[[#This Row],[Destino]],Tabla216[#All],6,0)+VLOOKUP(Viáticos[[#This Row],[Destino]],Tabla216[#All],7,0))+(Viáticos[[#This Row],[Número de días por viático]]-1)*(VLOOKUP(Viáticos[[#This Row],[Destino]],Tabla216[#All],8,0)+VLOOKUP(Viáticos[[#This Row],[Destino]],Tabla216[#All],9,0)),\"\")))*Viáticos[[#This Row],[Número de personas]]*(1+25%)),\"\")","v":""},null,null,{"$f":"IFERROR(IF(Viáticos[[#This Row],[Viático pactado]]=\"\",((Viáticos[[#This Row],[Valor Viático por viaje]]*(1+Viáticos[[#This Row],[% Administración]]/100))),(Viáticos[[#This Row],[Viático pactado]]*(1+Viáticos[[#This Row],[% Administración]]/100))),\"\")","v":""},null,{"$f":"+IFERROR(Viáticos[[#This Row],[Costo parcial]]*(Viáticos[[#This Row],[% Participación ]]/100),\"\")","v":""}]
[null,null,null,null,null,{"$f":"+IF(Viáticos[[#This Row],[Nivel del cargo]]=\"\",\"\",F140)","v":""},null,null,{"$f":"IFERROR(IF(Viáticos[[#This Row],[Nivel del cargo]]=\"No directivo\",((IF(OR(Viáticos[[#This Row],[Número de días por viático]]=\"\",Viáticos[[#This Row],[Número de personas]]=\"\"),\"\",IFERROR(2*(VLOOKUP(Viáticos[[#This Row],[Destino]],Tabla216[#All],3,0)+VLOOKUP(Viáticos[[#This Row],[Destino]],Tabla216[#All],4,0))+Viáticos[[#This Row],[Número de días por viático]]*(2*VLOOKUP(Viáticos[[#This Row],[Destino]],Tabla216[#All],5,0)+VLOOKUP(Viáticos[[#This Row],[Destino]],Tabla216[#All],6,0)+VLOOKUP(Viáticos[[#This Row],[Destino]],Tabla216[#All],7,0))+(Viáticos[[#This Row],[Número de días por viático]]-1)*(VLOOKUP(Viáticos[[#This Row],[Destino]],Tabla216[#All],8,0)+VLOOKUP(Viáticos[[#This Row],[Destino]],Tabla216[#All],9,0)),\"\"))))*Viáticos[[#This Row],[Número de personas]],(IF(OR(Viáticos[[#This Row],[Número de días por viático]]=\"\",Viáticos[[#This Row],[Número de personas]]=\"\"),\"\",IFERROR(2*(VLOOKUP(Viáticos[[#This Row],[Destino]],Tabla216[#All],3,0)+VLOOKUP(Viáticos[[#This Row],[Destino]],Tabla216[#All],4,0))+Viáticos[[#This Row],[Número de días por viático]]*(2*VLOOKUP(Viáticos[[#This Row],[Destino]],Tabla216[#All],5,0)+VLOOKUP(Viáticos[[#This Row],[Destino]],Tabla216[#All],6,0)+VLOOKUP(Viáticos[[#This Row],[Destino]],Tabla216[#All],7,0))+(Viáticos[[#This Row],[Número de días por viático]]-1)*(VLOOKUP(Viáticos[[#This Row],[Destino]],Tabla216[#All],8,0)+VLOOKUP(Viáticos[[#This Row],[Destino]],Tabla216[#All],9,0)),\"\")))*Viáticos[[#This Row],[Número de personas]]*(1+25%)),\"\")","v":""},null,null,{"$f":"IFERROR(IF(Viáticos[[#This Row],[Viático pactado]]=\"\",((Viáticos[[#This Row],[Valor Viático por viaje]]*(1+Viáticos[[#This Row],[% Administración]]/100))),(Viáticos[[#This Row],[Viático pactado]]*(1+Viáticos[[#This Row],[% Administración]]/100))),\"\")","v":""},null,{"$f":"+IFERROR(Viáticos[[#This Row],[Costo parcial]]*(Viáticos[[#This Row],[% Participación ]]/100),\"\")","v":""}]
[null,null,null,null,null,{"$f":"+IF(Viáticos[[#This Row],[Nivel del cargo]]=\"\",\"\",F141)","v":""},null,null,{"$f":"IFERROR(IF(Viáticos[[#This Row],[Nivel del cargo]]=\"No directivo\",((IF(OR(Viáticos[[#This Row],[Número de días por viático]]=\"\",Viáticos[[#This Row],[Número de personas]]=\"\"),\"\",IFERROR(2*(VLOOKUP(Viáticos[[#This Row],[Destino]],Tabla216[#All],3,0)+VLOOKUP(Viáticos[[#This Row],[Destino]],Tabla216[#All],4,0))+Viáticos[[#This Row],[Número de días por viático]]*(2*VLOOKUP(Viáticos[[#This Row],[Destino]],Tabla216[#All],5,0)+VLOOKUP(Viáticos[[#This Row],[Destino]],Tabla216[#All],6,0)+VLOOKUP(Viáticos[[#This Row],[Destino]],Tabla216[#All],7,0))+(Viáticos[[#This Row],[Número de días por viático]]-1)*(VLOOKUP(Viáticos[[#This Row],[Destino]],Tabla216[#All],8,0)+VLOOKUP(Viáticos[[#This Row],[Destino]],Tabla216[#All],9,0)),\"\"))))*Viáticos[[#This Row],[Número de personas]],(IF(OR(Viáticos[[#This Row],[Número de días por viático]]=\"\",Viáticos[[#This Row],[Número de personas]]=\"\"),\"\",IFERROR(2*(VLOOKUP(Viáticos[[#This Row],[Destino]],Tabla216[#All],3,0)+VLOOKUP(Viáticos[[#This Row],[Destino]],Tabla216[#All],4,0))+Viáticos[[#This Row],[Número de días por viático]]*(2*VLOOKUP(Viáticos[[#This Row],[Destino]],Tabla216[#All],5,0)+VLOOKUP(Viáticos[[#This Row],[Destino]],Tabla216[#All],6,0)+VLOOKUP(Viáticos[[#This Row],[Destino]],Tabla216[#All],7,0))+(Viáticos[[#This Row],[Número de días por viático]]-1)*(VLOOKUP(Viáticos[[#This Row],[Destino]],Tabla216[#All],8,0)+VLOOKUP(Viáticos[[#This Row],[Destino]],Tabla216[#All],9,0)),\"\")))*Viáticos[[#This Row],[Número de personas]]*(1+25%)),\"\")","v":""},null,null,{"$f":"IFERROR(IF(Viáticos[[#This Row],[Viático pactado]]=\"\",((Viáticos[[#This Row],[Valor Viático por viaje]]*(1+Viáticos[[#This Row],[% Administración]]/100))),(Viáticos[[#This Row],[Viático pactado]]*(1+Viáticos[[#This Row],[% Administración]]/100))),\"\")","v":""},null,{"$f":"+IFERROR(Viáticos[[#This Row],[Costo parcial]]*(Viáticos[[#This Row],[% Participación ]]/100),\"\")","v":""}]
[null,null,null,null,null,{"$f":"+IF(Viáticos[[#This Row],[Nivel del cargo]]=\"\",\"\",F142)","v":""},null,null,{"$f":"IFERROR(IF(Viáticos[[#This Row],[Nivel del cargo]]=\"No directivo\",((IF(OR(Viáticos[[#This Row],[Número de días por viático]]=\"\",Viáticos[[#This Row],[Número de personas]]=\"\"),\"\",IFERROR(2*(VLOOKUP(Viáticos[[#This Row],[Destino]],Tabla216[#All],3,0)+VLOOKUP(Viáticos[[#This Row],[Destino]],Tabla216[#All],4,0))+Viáticos[[#This Row],[Número de días por viático]]*(2*VLOOKUP(Viáticos[[#This Row],[Destino]],Tabla216[#All],5,0)+VLOOKUP(Viáticos[[#This Row],[Destino]],Tabla216[#All],6,0)+VLOOKUP(Viáticos[[#This Row],[Destino]],Tabla216[#All],7,0))+(Viáticos[[#This Row],[Número de días por viático]]-1)*(VLOOKUP(Viáticos[[#This Row],[Destino]],Tabla216[#All],8,0)+VLOOKUP(Viáticos[[#This Row],[Destino]],Tabla216[#All],9,0)),\"\"))))*Viáticos[[#This Row],[Número de personas]],(IF(OR(Viáticos[[#This Row],[Número de días por viático]]=\"\",Viáticos[[#This Row],[Número de personas]]=\"\"),\"\",IFERROR(2*(VLOOKUP(Viáticos[[#This Row],[Destino]],Tabla216[#All],3,0)+VLOOKUP(Viáticos[[#This Row],[Destino]],Tabla216[#All],4,0))+Viáticos[[#This Row],[Número de días por viático]]*(2*VLOOKUP(Viáticos[[#This Row],[Destino]],Tabla216[#All],5,0)+VLOOKUP(Viáticos[[#This Row],[Destino]],Tabla216[#All],6,0)+VLOOKUP(Viáticos[[#This Row],[Destino]],Tabla216[#All],7,0))+(Viáticos[[#This Row],[Número de días por viático]]-1)*(VLOOKUP(Viáticos[[#This Row],[Destino]],Tabla216[#All],8,0)+VLOOKUP(Viáticos[[#This Row],[Destino]],Tabla216[#All],9,0)),\"\")))*Viáticos[[#This Row],[Número de personas]]*(1+25%)),\"\")","v":""},null,null,{"$f":"IFERROR(IF(Viáticos[[#This Row],[Viático pactado]]=\"\",((Viáticos[[#This Row],[Valor Viático por viaje]]*(1+Viáticos[[#This Row],[% Administración]]/100))),(Viáticos[[#This Row],[Viático pactado]]*(1+Viáticos[[#This Row],[% Administración]]/100))),\"\")","v":""},null,{"$f":"+IFERROR(Viáticos[[#This Row],[Costo parcial]]*(Viáticos[[#This Row],[% Participación ]]/100),\"\")","v":""}]
[null,null,null,null,null,{"$f":"+IF(Viáticos[[#This Row],[Nivel del cargo]]=\"\",\"\",F143)","v":""},null,null,{"$f":"IFERROR(IF(Viáticos[[#This Row],[Nivel del cargo]]=\"No directivo\",((IF(OR(Viáticos[[#This Row],[Número de días por viático]]=\"\",Viáticos[[#This Row],[Número de personas]]=\"\"),\"\",IFERROR(2*(VLOOKUP(Viáticos[[#This Row],[Destino]],Tabla216[#All],3,0)+VLOOKUP(Viáticos[[#This Row],[Destino]],Tabla216[#All],4,0))+Viáticos[[#This Row],[Número de días por viático]]*(2*VLOOKUP(Viáticos[[#This Row],[Destino]],Tabla216[#All],5,0)+VLOOKUP(Viáticos[[#This Row],[Destino]],Tabla216[#All],6,0)+VLOOKUP(Viáticos[[#This Row],[Destino]],Tabla216[#All],7,0))+(Viáticos[[#This Row],[Número de días por viático]]-1)*(VLOOKUP(Viáticos[[#This Row],[Destino]],Tabla216[#All],8,0)+VLOOKUP(Viáticos[[#This Row],[Destino]],Tabla216[#All],9,0)),\"\"))))*Viáticos[[#This Row],[Número de personas]],(IF(OR(Viáticos[[#This Row],[Número de días por viático]]=\"\",Viáticos[[#This Row],[Número de personas]]=\"\"),\"\",IFERROR(2*(VLOOKUP(Viáticos[[#This Row],[Destino]],Tabla216[#All],3,0)+VLOOKUP(Viáticos[[#This Row],[Destino]],Tabla216[#All],4,0))+Viáticos[[#This Row],[Número de días por viático]]*(2*VLOOKUP(Viáticos[[#This Row],[Destino]],Tabla216[#All],5,0)+VLOOKUP(Viáticos[[#This Row],[Destino]],Tabla216[#All],6,0)+VLOOKUP(Viáticos[[#This Row],[Destino]],Tabla216[#All],7,0))+(Viáticos[[#This Row],[Número de días por viático]]-1)*(VLOOKUP(Viáticos[[#This Row],[Destino]],Tabla216[#All],8,0)+VLOOKUP(Viáticos[[#This Row],[Destino]],Tabla216[#All],9,0)),\"\")))*Viáticos[[#This Row],[Número de personas]]*(1+25%)),\"\")","v":""},null,null,{"$f":"IFERROR(IF(Viáticos[[#This Row],[Viático pactado]]=\"\",((Viáticos[[#This Row],[Valor Viático por viaje]]*(1+Viáticos[[#This Row],[% Administración]]/100))),(Viáticos[[#This Row],[Viático pactado]]*(1+Viáticos[[#This Row],[% Administración]]/100))),\"\")","v":""},null,{"$f":"+IFERROR(Viáticos[[#This Row],[Costo parcial]]*(Viáticos[[#This Row],[% Participación ]]/100),\"\")","v":""}]
[null,null,null,null,null,{"$f":"+IF(Viáticos[[#This Row],[Nivel del cargo]]=\"\",\"\",F144)","v":""},null,null,{"$f":"IFERROR(IF(Viáticos[[#This Row],[Nivel del cargo]]=\"No directivo\",((IF(OR(Viáticos[[#This Row],[Número de días por viático]]=\"\",Viáticos[[#This Row],[Número de personas]]=\"\"),\"\",IFERROR(2*(VLOOKUP(Viáticos[[#This Row],[Destino]],Tabla216[#All],3,0)+VLOOKUP(Viáticos[[#This Row],[Destino]],Tabla216[#All],4,0))+Viáticos[[#This Row],[Número de días por viático]]*(2*VLOOKUP(Viáticos[[#This Row],[Destino]],Tabla216[#All],5,0)+VLOOKUP(Viáticos[[#This Row],[Destino]],Tabla216[#All],6,0)+VLOOKUP(Viáticos[[#This Row],[Destino]],Tabla216[#All],7,0))+(Viáticos[[#This Row],[Número de días por viático]]-1)*(VLOOKUP(Viáticos[[#This Row],[Destino]],Tabla216[#All],8,0)+VLOOKUP(Viáticos[[#This Row],[Destino]],Tabla216[#All],9,0)),\"\"))))*Viáticos[[#This Row],[Número de personas]],(IF(OR(Viáticos[[#This Row],[Número de días por viático]]=\"\",Viáticos[[#This Row],[Número de personas]]=\"\"),\"\",IFERROR(2*(VLOOKUP(Viáticos[[#This Row],[Destino]],Tabla216[#All],3,0)+VLOOKUP(Viáticos[[#This Row],[Destino]],Tabla216[#All],4,0))+Viáticos[[#This Row],[Número de días por viático]]*(2*VLOOKUP(Viáticos[[#This Row],[Destino]],Tabla216[#All],5,0)+VLOOKUP(Viáticos[[#This Row],[Destino]],Tabla216[#All],6,0)+VLOOKUP(Viáticos[[#This Row],[Destino]],Tabla216[#All],7,0))+(Viáticos[[#This Row],[Número de días por viático]]-1)*(VLOOKUP(Viáticos[[#This Row],[Destino]],Tabla216[#All],8,0)+VLOOKUP(Viáticos[[#This Row],[Destino]],Tabla216[#All],9,0)),\"\")))*Viáticos[[#This Row],[Número de personas]]*(1+25%)),\"\")","v":""},null,null,{"$f":"IFERROR(IF(Viáticos[[#This Row],[Viático pactado]]=\"\",((Viáticos[[#This Row],[Valor Viático por viaje]]*(1+Viáticos[[#This Row],[% Administración]]/100))),(Viáticos[[#This Row],[Viático pactado]]*(1+Viáticos[[#This Row],[% Administración]]/100))),\"\")","v":""},null,{"$f":"+IFERROR(Viáticos[[#This Row],[Costo parcial]]*(Viáticos[[#This Row],[% Participación ]]/100),\"\")","v":""}]
[null,null,null,null,null,{"$f":"+IF(Viáticos[[#This Row],[Nivel del cargo]]=\"\",\"\",F145)","v":""},null,null,{"$f":"IFERROR(IF(Viáticos[[#This Row],[Nivel del cargo]]=\"No directivo\",((IF(OR(Viáticos[[#This Row],[Número de días por viático]]=\"\",Viáticos[[#This Row],[Número de personas]]=\"\"),\"\",IFERROR(2*(VLOOKUP(Viáticos[[#This Row],[Destino]],Tabla216[#All],3,0)+VLOOKUP(Viáticos[[#This Row],[Destino]],Tabla216[#All],4,0))+Viáticos[[#This Row],[Número de días por viático]]*(2*VLOOKUP(Viáticos[[#This Row],[Destino]],Tabla216[#All],5,0)+VLOOKUP(Viáticos[[#This Row],[Destino]],Tabla216[#All],6,0)+VLOOKUP(Viáticos[[#This Row],[Destino]],Tabla216[#All],7,0))+(Viáticos[[#This Row],[Número de días por viático]]-1)*(VLOOKUP(Viáticos[[#This Row],[Destino]],Tabla216[#All],8,0)+VLOOKUP(Viáticos[[#This Row],[Destino]],Tabla216[#All],9,0)),\"\"))))*Viáticos[[#This Row],[Número de personas]],(IF(OR(Viáticos[[#This Row],[Número de días por viático]]=\"\",Viáticos[[#This Row],[Número de personas]]=\"\"),\"\",IFERROR(2*(VLOOKUP(Viáticos[[#This Row],[Destino]],Tabla216[#All],3,0)+VLOOKUP(Viáticos[[#This Row],[Destino]],Tabla216[#All],4,0))+Viáticos[[#This Row],[Número de días por viático]]*(2*VLOOKUP(Viáticos[[#This Row],[Destino]],Tabla216[#All],5,0)+VLOOKUP(Viáticos[[#This Row],[Destino]],Tabla216[#All],6,0)+VLOOKUP(Viáticos[[#This Row],[Destino]],Tabla216[#All],7,0))+(Viáticos[[#This Row],[Número de días por viático]]-1)*(VLOOKUP(Viáticos[[#This Row],[Destino]],Tabla216[#All],8,0)+VLOOKUP(Viáticos[[#This Row],[Destino]],Tabla216[#All],9,0)),\"\")))*Viáticos[[#This Row],[Número de personas]]*(1+25%)),\"\")","v":""},null,null,{"$f":"IFERROR(IF(Viáticos[[#This Row],[Viático pactado]]=\"\",((Viáticos[[#This Row],[Valor Viático por viaje]]*(1+Viáticos[[#This Row],[% Administración]]/100))),(Viáticos[[#This Row],[Viático pactado]]*(1+Viáticos[[#This Row],[% Administración]]/100))),\"\")","v":""},null,{"$f":"+IFERROR(Viáticos[[#This Row],[Costo parcial]]*(Viáticos[[#This Row],[% Participación ]]/100),\"\")","v":""}]
[null,null,null,null,null,{"$f":"+IF(Viáticos[[#This Row],[Nivel del cargo]]=\"\",\"\",F146)","v":""},null,null,{"$f":"IFERROR(IF(Viáticos[[#This Row],[Nivel del cargo]]=\"No directivo\",((IF(OR(Viáticos[[#This Row],[Número de días por viático]]=\"\",Viáticos[[#This Row],[Número de personas]]=\"\"),\"\",IFERROR(2*(VLOOKUP(Viáticos[[#This Row],[Destino]],Tabla216[#All],3,0)+VLOOKUP(Viáticos[[#This Row],[Destino]],Tabla216[#All],4,0))+Viáticos[[#This Row],[Número de días por viático]]*(2*VLOOKUP(Viáticos[[#This Row],[Destino]],Tabla216[#All],5,0)+VLOOKUP(Viáticos[[#This Row],[Destino]],Tabla216[#All],6,0)+VLOOKUP(Viáticos[[#This Row],[Destino]],Tabla216[#All],7,0))+(Viáticos[[#This Row],[Número de días por viático]]-1)*(VLOOKUP(Viáticos[[#This Row],[Destino]],Tabla216[#All],8,0)+VLOOKUP(Viáticos[[#This Row],[Destino]],Tabla216[#All],9,0)),\"\"))))*Viáticos[[#This Row],[Número de personas]],(IF(OR(Viáticos[[#This Row],[Número de días por viático]]=\"\",Viáticos[[#This Row],[Número de personas]]=\"\"),\"\",IFERROR(2*(VLOOKUP(Viáticos[[#This Row],[Destino]],Tabla216[#All],3,0)+VLOOKUP(Viáticos[[#This Row],[Destino]],Tabla216[#All],4,0))+Viáticos[[#This Row],[Número de días por viático]]*(2*VLOOKUP(Viáticos[[#This Row],[Destino]],Tabla216[#All],5,0)+VLOOKUP(Viáticos[[#This Row],[Destino]],Tabla216[#All],6,0)+VLOOKUP(Viáticos[[#This Row],[Destino]],Tabla216[#All],7,0))+(Viáticos[[#This Row],[Número de días por viático]]-1)*(VLOOKUP(Viáticos[[#This Row],[Destino]],Tabla216[#All],8,0)+VLOOKUP(Viáticos[[#This Row],[Destino]],Tabla216[#All],9,0)),\"\")))*Viáticos[[#This Row],[Número de personas]]*(1+25%)),\"\")","v":""},null,null,{"$f":"IFERROR(IF(Viáticos[[#This Row],[Viático pactado]]=\"\",((Viáticos[[#This Row],[Valor Viático por viaje]]*(1+Viáticos[[#This Row],[% Administración]]/100))),(Viáticos[[#This Row],[Viático pactado]]*(1+Viáticos[[#This Row],[% Administración]]/100))),\"\")","v":""},null,{"$f":"+IFERROR(Viáticos[[#This Row],[Costo parcial]]*(Viáticos[[#This Row],[% Participación ]]/100),\"\")","v":""}]
[null,null,null,null,null,{"$f":"+IF(Viáticos[[#This Row],[Nivel del cargo]]=\"\",\"\",F147)","v":""},null,null,{"$f":"IFERROR(IF(Viáticos[[#This Row],[Nivel del cargo]]=\"No directivo\",((IF(OR(Viáticos[[#This Row],[Número de días por viático]]=\"\",Viáticos[[#This Row],[Número de personas]]=\"\"),\"\",IFERROR(2*(VLOOKUP(Viáticos[[#This Row],[Destino]],Tabla216[#All],3,0)+VLOOKUP(Viáticos[[#This Row],[Destino]],Tabla216[#All],4,0))+Viáticos[[#This Row],[Número de días por viático]]*(2*VLOOKUP(Viáticos[[#This Row],[Destino]],Tabla216[#All],5,0)+VLOOKUP(Viáticos[[#This Row],[Destino]],Tabla216[#All],6,0)+VLOOKUP(Viáticos[[#This Row],[Destino]],Tabla216[#All],7,0))+(Viáticos[[#This Row],[Número de días por viático]]-1)*(VLOOKUP(Viáticos[[#This Row],[Destino]],Tabla216[#All],8,0)+VLOOKUP(Viáticos[[#This Row],[Destino]],Tabla216[#All],9,0)),\"\"))))*Viáticos[[#This Row],[Número de personas]],(IF(OR(Viáticos[[#This Row],[Número de días por viático]]=\"\",Viáticos[[#This Row],[Número de personas]]=\"\"),\"\",IFERROR(2*(VLOOKUP(Viáticos[[#This Row],[Destino]],Tabla216[#All],3,0)+VLOOKUP(Viáticos[[#This Row],[Destino]],Tabla216[#All],4,0))+Viáticos[[#This Row],[Número de días por viático]]*(2*VLOOKUP(Viáticos[[#This Row],[Destino]],Tabla216[#All],5,0)+VLOOKUP(Viáticos[[#This Row],[Destino]],Tabla216[#All],6,0)+VLOOKUP(Viáticos[[#This Row],[Destino]],Tabla216[#All],7,0))+(Viáticos[[#This Row],[Número de días por viático]]-1)*(VLOOKUP(Viáticos[[#This Row],[Destino]],Tabla216[#All],8,0)+VLOOKUP(Viáticos[[#This Row],[Destino]],Tabla216[#All],9,0)),\"\")))*Viáticos[[#This Row],[Número de personas]]*(1+25%)),\"\")","v":""},null,null,{"$f":"IFERROR(IF(Viáticos[[#This Row],[Viático pactado]]=\"\",((Viáticos[[#This Row],[Valor Viático por viaje]]*(1+Viáticos[[#This Row],[% Administración]]/100))),(Viáticos[[#This Row],[Viático pactado]]*(1+Viáticos[[#This Row],[% Administración]]/100))),\"\")","v":""},null,{"$f":"+IFERROR(Viáticos[[#This Row],[Costo parcial]]*(Viáticos[[#This Row],[% Participación ]]/100),\"\")","v":""}]
[null,null,null,null,null,{"$f":"+IF(Viáticos[[#This Row],[Nivel del cargo]]=\"\",\"\",F148)","v":""},null,null,{"$f":"IFERROR(IF(Viáticos[[#This Row],[Nivel del cargo]]=\"No directivo\",((IF(OR(Viáticos[[#This Row],[Número de días por viático]]=\"\",Viáticos[[#This Row],[Número de personas]]=\"\"),\"\",IFERROR(2*(VLOOKUP(Viáticos[[#This Row],[Destino]],Tabla216[#All],3,0)+VLOOKUP(Viáticos[[#This Row],[Destino]],Tabla216[#All],4,0))+Viáticos[[#This Row],[Número de días por viático]]*(2*VLOOKUP(Viáticos[[#This Row],[Destino]],Tabla216[#All],5,0)+VLOOKUP(Viáticos[[#This Row],[Destino]],Tabla216[#All],6,0)+VLOOKUP(Viáticos[[#This Row],[Destino]],Tabla216[#All],7,0))+(Viáticos[[#This Row],[Número de días por viático]]-1)*(VLOOKUP(Viáticos[[#This Row],[Destino]],Tabla216[#All],8,0)+VLOOKUP(Viáticos[[#This Row],[Destino]],Tabla216[#All],9,0)),\"\"))))*Viáticos[[#This Row],[Número de personas]],(IF(OR(Viáticos[[#This Row],[Número de días por viático]]=\"\",Viáticos[[#This Row],[Número de personas]]=\"\"),\"\",IFERROR(2*(VLOOKUP(Viáticos[[#This Row],[Destino]],Tabla216[#All],3,0)+VLOOKUP(Viáticos[[#This Row],[Destino]],Tabla216[#All],4,0))+Viáticos[[#This Row],[Número de días por viático]]*(2*VLOOKUP(Viáticos[[#This Row],[Destino]],Tabla216[#All],5,0)+VLOOKUP(Viáticos[[#This Row],[Destino]],Tabla216[#All],6,0)+VLOOKUP(Viáticos[[#This Row],[Destino]],Tabla216[#All],7,0))+(Viáticos[[#This Row],[Número de días por viático]]-1)*(VLOOKUP(Viáticos[[#This Row],[Destino]],Tabla216[#All],8,0)+VLOOKUP(Viáticos[[#This Row],[Destino]],Tabla216[#All],9,0)),\"\")))*Viáticos[[#This Row],[Número de personas]]*(1+25%)),\"\")","v":""},null,null,{"$f":"IFERROR(IF(Viáticos[[#This Row],[Viático pactado]]=\"\",((Viáticos[[#This Row],[Valor Viático por viaje]]*(1+Viáticos[[#This Row],[% Administración]]/100))),(Viáticos[[#This Row],[Viático pactado]]*(1+Viáticos[[#This Row],[% Administración]]/100))),\"\")","v":""},null,{"$f":"+IFERROR(Viáticos[[#This Row],[Costo parcial]]*(Viáticos[[#This Row],[% Participación ]]/100),\"\")","v":""}]
[null,null,null,null,null,{"$f":"+IF(Viáticos[[#This Row],[Nivel del cargo]]=\"\",\"\",F149)","v":""},null,null,{"$f":"IFERROR(IF(Viáticos[[#This Row],[Nivel del cargo]]=\"No directivo\",((IF(OR(Viáticos[[#This Row],[Número de días por viático]]=\"\",Viáticos[[#This Row],[Número de personas]]=\"\"),\"\",IFERROR(2*(VLOOKUP(Viáticos[[#This Row],[Destino]],Tabla216[#All],3,0)+VLOOKUP(Viáticos[[#This Row],[Destino]],Tabla216[#All],4,0))+Viáticos[[#This Row],[Número de días por viático]]*(2*VLOOKUP(Viáticos[[#This Row],[Destino]],Tabla216[#All],5,0)+VLOOKUP(Viáticos[[#This Row],[Destino]],Tabla216[#All],6,0)+VLOOKUP(Viáticos[[#This Row],[Destino]],Tabla216[#All],7,0))+(Viáticos[[#This Row],[Número de días por viático]]-1)*(VLOOKUP(Viáticos[[#This Row],[Destino]],Tabla216[#All],8,0)+VLOOKUP(Viáticos[[#This Row],[Destino]],Tabla216[#All],9,0)),\"\"))))*Viáticos[[#This Row],[Número de personas]],(IF(OR(Viáticos[[#This Row],[Número de días por viático]]=\"\",Viáticos[[#This Row],[Número de personas]]=\"\"),\"\",IFERROR(2*(VLOOKUP(Viáticos[[#This Row],[Destino]],Tabla216[#All],3,0)+VLOOKUP(Viáticos[[#This Row],[Destino]],Tabla216[#All],4,0))+Viáticos[[#This Row],[Número de días por viático]]*(2*VLOOKUP(Viáticos[[#This Row],[Destino]],Tabla216[#All],5,0)+VLOOKUP(Viáticos[[#This Row],[Destino]],Tabla216[#All],6,0)+VLOOKUP(Viáticos[[#This Row],[Destino]],Tabla216[#All],7,0))+(Viáticos[[#This Row],[Número de días por viático]]-1)*(VLOOKUP(Viáticos[[#This Row],[Destino]],Tabla216[#All],8,0)+VLOOKUP(Viáticos[[#This Row],[Destino]],Tabla216[#All],9,0)),\"\")))*Viáticos[[#This Row],[Número de personas]]*(1+25%)),\"\")","v":""},null,null,{"$f":"IFERROR(IF(Viáticos[[#This Row],[Viático pactado]]=\"\",((Viáticos[[#This Row],[Valor Viático por viaje]]*(1+Viáticos[[#This Row],[% Administración]]/100))),(Viáticos[[#This Row],[Viático pactado]]*(1+Viáticos[[#This Row],[% Administración]]/100))),\"\")","v":""},null,{"$f":"+IFERROR(Viáticos[[#This Row],[Costo parcial]]*(Viáticos[[#This Row],[% Participación ]]/100),\"\")","v":""}]
[null,null,null,null,null,{"$f":"+IF(Viáticos[[#This Row],[Nivel del cargo]]=\"\",\"\",F150)","v":""},null,null,{"$f":"IFERROR(IF(Viáticos[[#This Row],[Nivel del cargo]]=\"No directivo\",((IF(OR(Viáticos[[#This Row],[Número de días por viático]]=\"\",Viáticos[[#This Row],[Número de personas]]=\"\"),\"\",IFERROR(2*(VLOOKUP(Viáticos[[#This Row],[Destino]],Tabla216[#All],3,0)+VLOOKUP(Viáticos[[#This Row],[Destino]],Tabla216[#All],4,0))+Viáticos[[#This Row],[Número de días por viático]]*(2*VLOOKUP(Viáticos[[#This Row],[Destino]],Tabla216[#All],5,0)+VLOOKUP(Viáticos[[#This Row],[Destino]],Tabla216[#All],6,0)+VLOOKUP(Viáticos[[#This Row],[Destino]],Tabla216[#All],7,0))+(Viáticos[[#This Row],[Número de días por viático]]-1)*(VLOOKUP(Viáticos[[#This Row],[Destino]],Tabla216[#All],8,0)+VLOOKUP(Viáticos[[#This Row],[Destino]],Tabla216[#All],9,0)),\"\"))))*Viáticos[[#This Row],[Número de personas]],(IF(OR(Viáticos[[#This Row],[Número de días por viático]]=\"\",Viáticos[[#This Row],[Número de personas]]=\"\"),\"\",IFERROR(2*(VLOOKUP(Viáticos[[#This Row],[Destino]],Tabla216[#All],3,0)+VLOOKUP(Viáticos[[#This Row],[Destino]],Tabla216[#All],4,0))+Viáticos[[#This Row],[Número de días por viático]]*(2*VLOOKUP(Viáticos[[#This Row],[Destino]],Tabla216[#All],5,0)+VLOOKUP(Viáticos[[#This Row],[Destino]],Tabla216[#All],6,0)+VLOOKUP(Viáticos[[#This Row],[Destino]],Tabla216[#All],7,0))+(Viáticos[[#This Row],[Número de días por viático]]-1)*(VLOOKUP(Viáticos[[#This Row],[Destino]],Tabla216[#All],8,0)+VLOOKUP(Viáticos[[#This Row],[Destino]],Tabla216[#All],9,0)),\"\")))*Viáticos[[#This Row],[Número de personas]]*(1+25%)),\"\")","v":""},null,null,{"$f":"IFERROR(IF(Viáticos[[#This Row],[Viático pactado]]=\"\",((Viáticos[[#This Row],[Valor Viático por viaje]]*(1+Viáticos[[#This Row],[% Administración]]/100))),(Viáticos[[#This Row],[Viático pactado]]*(1+Viáticos[[#This Row],[% Administración]]/100))),\"\")","v":""},null,{"$f":"+IFERROR(Viáticos[[#This Row],[Costo parcial]]*(Viáticos[[#This Row],[% Participación ]]/100),\"\")","v":""}]
[null,null,null,null,null,{"$f":"+IF(Viáticos[[#This Row],[Nivel del cargo]]=\"\",\"\",F151)","v":""},null,null,{"$f":"IFERROR(IF(Viáticos[[#This Row],[Nivel del cargo]]=\"No directivo\",((IF(OR(Viáticos[[#This Row],[Número de días por viático]]=\"\",Viáticos[[#This Row],[Número de personas]]=\"\"),\"\",IFERROR(2*(VLOOKUP(Viáticos[[#This Row],[Destino]],Tabla216[#All],3,0)+VLOOKUP(Viáticos[[#This Row],[Destino]],Tabla216[#All],4,0))+Viáticos[[#This Row],[Número de días por viático]]*(2*VLOOKUP(Viáticos[[#This Row],[Destino]],Tabla216[#All],5,0)+VLOOKUP(Viáticos[[#This Row],[Destino]],Tabla216[#All],6,0)+VLOOKUP(Viáticos[[#This Row],[Destino]],Tabla216[#All],7,0))+(Viáticos[[#This Row],[Número de días por viático]]-1)*(VLOOKUP(Viáticos[[#This Row],[Destino]],Tabla216[#All],8,0)+VLOOKUP(Viáticos[[#This Row],[Destino]],Tabla216[#All],9,0)),\"\"))))*Viáticos[[#This Row],[Número de personas]],(IF(OR(Viáticos[[#This Row],[Número de días por viático]]=\"\",Viáticos[[#This Row],[Número de personas]]=\"\"),\"\",IFERROR(2*(VLOOKUP(Viáticos[[#This Row],[Destino]],Tabla216[#All],3,0)+VLOOKUP(Viáticos[[#This Row],[Destino]],Tabla216[#All],4,0))+Viáticos[[#This Row],[Número de días por viático]]*(2*VLOOKUP(Viáticos[[#This Row],[Destino]],Tabla216[#All],5,0)+VLOOKUP(Viáticos[[#This Row],[Destino]],Tabla216[#All],6,0)+VLOOKUP(Viáticos[[#This Row],[Destino]],Tabla216[#All],7,0))+(Viáticos[[#This Row],[Número de días por viático]]-1)*(VLOOKUP(Viáticos[[#This Row],[Destino]],Tabla216[#All],8,0)+VLOOKUP(Viáticos[[#This Row],[Destino]],Tabla216[#All],9,0)),\"\")))*Viáticos[[#This Row],[Número de personas]]*(1+25%)),\"\")","v":""},null,null,{"$f":"IFERROR(IF(Viáticos[[#This Row],[Viático pactado]]=\"\",((Viáticos[[#This Row],[Valor Viático por viaje]]*(1+Viáticos[[#This Row],[% Administración]]/100))),(Viáticos[[#This Row],[Viático pactado]]*(1+Viáticos[[#This Row],[% Administración]]/100))),\"\")","v":""},null,{"$f":"+IFERROR(Viáticos[[#This Row],[Costo parcial]]*(Viáticos[[#This Row],[% Participación ]]/100),\"\")","v":""}]
[null,null,null,null,null,{"$f":"+IF(Viáticos[[#This Row],[Nivel del cargo]]=\"\",\"\",F152)","v":""},null,null,{"$f":"IFERROR(IF(Viáticos[[#This Row],[Nivel del cargo]]=\"No directivo\",((IF(OR(Viáticos[[#This Row],[Número de días por viático]]=\"\",Viáticos[[#This Row],[Número de personas]]=\"\"),\"\",IFERROR(2*(VLOOKUP(Viáticos[[#This Row],[Destino]],Tabla216[#All],3,0)+VLOOKUP(Viáticos[[#This Row],[Destino]],Tabla216[#All],4,0))+Viáticos[[#This Row],[Número de días por viático]]*(2*VLOOKUP(Viáticos[[#This Row],[Destino]],Tabla216[#All],5,0)+VLOOKUP(Viáticos[[#This Row],[Destino]],Tabla216[#All],6,0)+VLOOKUP(Viáticos[[#This Row],[Destino]],Tabla216[#All],7,0))+(Viáticos[[#This Row],[Número de días por viático]]-1)*(VLOOKUP(Viáticos[[#This Row],[Destino]],Tabla216[#All],8,0)+VLOOKUP(Viáticos[[#This Row],[Destino]],Tabla216[#All],9,0)),\"\"))))*Viáticos[[#This Row],[Número de personas]],(IF(OR(Viáticos[[#This Row],[Número de días por viático]]=\"\",Viáticos[[#This Row],[Número de personas]]=\"\"),\"\",IFERROR(2*(VLOOKUP(Viáticos[[#This Row],[Destino]],Tabla216[#All],3,0)+VLOOKUP(Viáticos[[#This Row],[Destino]],Tabla216[#All],4,0))+Viáticos[[#This Row],[Número de días por viático]]*(2*VLOOKUP(Viáticos[[#This Row],[Destino]],Tabla216[#All],5,0)+VLOOKUP(Viáticos[[#This Row],[Destino]],Tabla216[#All],6,0)+VLOOKUP(Viáticos[[#This Row],[Destino]],Tabla216[#All],7,0))+(Viáticos[[#This Row],[Número de días por viático]]-1)*(VLOOKUP(Viáticos[[#This Row],[Destino]],Tabla216[#All],8,0)+VLOOKUP(Viáticos[[#This Row],[Destino]],Tabla216[#All],9,0)),\"\")))*Viáticos[[#This Row],[Número de personas]]*(1+25%)),\"\")","v":""},null,null,{"$f":"IFERROR(IF(Viáticos[[#This Row],[Viático pactado]]=\"\",((Viáticos[[#This Row],[Valor Viático por viaje]]*(1+Viáticos[[#This Row],[% Administración]]/100))),(Viáticos[[#This Row],[Viático pactado]]*(1+Viáticos[[#This Row],[% Administración]]/100))),\"\")","v":""},null,{"$f":"+IFERROR(Viáticos[[#This Row],[Costo parcial]]*(Viáticos[[#This Row],[% Participación ]]/100),\"\")","v":""}]
[null,null,null,null,null,{"$f":"+IF(Viáticos[[#This Row],[Nivel del cargo]]=\"\",\"\",F153)","v":""},null,null,{"$f":"IFERROR(IF(Viáticos[[#This Row],[Nivel del cargo]]=\"No directivo\",((IF(OR(Viáticos[[#This Row],[Número de días por viático]]=\"\",Viáticos[[#This Row],[Número de personas]]=\"\"),\"\",IFERROR(2*(VLOOKUP(Viáticos[[#This Row],[Destino]],Tabla216[#All],3,0)+VLOOKUP(Viáticos[[#This Row],[Destino]],Tabla216[#All],4,0))+Viáticos[[#This Row],[Número de días por viático]]*(2*VLOOKUP(Viáticos[[#This Row],[Destino]],Tabla216[#All],5,0)+VLOOKUP(Viáticos[[#This Row],[Destino]],Tabla216[#All],6,0)+VLOOKUP(Viáticos[[#This Row],[Destino]],Tabla216[#All],7,0))+(Viáticos[[#This Row],[Número de días por viático]]-1)*(VLOOKUP(Viáticos[[#This Row],[Destino]],Tabla216[#All],8,0)+VLOOKUP(Viáticos[[#This Row],[Destino]],Tabla216[#All],9,0)),\"\"))))*Viáticos[[#This Row],[Número de personas]],(IF(OR(Viáticos[[#This Row],[Número de días por viático]]=\"\",Viáticos[[#This Row],[Número de personas]]=\"\"),\"\",IFERROR(2*(VLOOKUP(Viáticos[[#This Row],[Destino]],Tabla216[#All],3,0)+VLOOKUP(Viáticos[[#This Row],[Destino]],Tabla216[#All],4,0))+Viáticos[[#This Row],[Número de días por viático]]*(2*VLOOKUP(Viáticos[[#This Row],[Destino]],Tabla216[#All],5,0)+VLOOKUP(Viáticos[[#This Row],[Destino]],Tabla216[#All],6,0)+VLOOKUP(Viáticos[[#This Row],[Destino]],Tabla216[#All],7,0))+(Viáticos[[#This Row],[Número de días por viático]]-1)*(VLOOKUP(Viáticos[[#This Row],[Destino]],Tabla216[#All],8,0)+VLOOKUP(Viáticos[[#This Row],[Destino]],Tabla216[#All],9,0)),\"\")))*Viáticos[[#This Row],[Número de personas]]*(1+25%)),\"\")","v":""},null,null,{"$f":"IFERROR(IF(Viáticos[[#This Row],[Viático pactado]]=\"\",((Viáticos[[#This Row],[Valor Viático por viaje]]*(1+Viáticos[[#This Row],[% Administración]]/100))),(Viáticos[[#This Row],[Viático pactado]]*(1+Viáticos[[#This Row],[% Administración]]/100))),\"\")","v":""},null,{"$f":"+IFERROR(Viáticos[[#This Row],[Costo parcial]]*(Viáticos[[#This Row],[% Participación ]]/100),\"\")","v":""}]
[null,null,null,null,null,{"$f":"+IF(Viáticos[[#This Row],[Nivel del cargo]]=\"\",\"\",F154)","v":""},null,null,{"$f":"IFERROR(IF(Viáticos[[#This Row],[Nivel del cargo]]=\"No directivo\",((IF(OR(Viáticos[[#This Row],[Número de días por viático]]=\"\",Viáticos[[#This Row],[Número de personas]]=\"\"),\"\",IFERROR(2*(VLOOKUP(Viáticos[[#This Row],[Destino]],Tabla216[#All],3,0)+VLOOKUP(Viáticos[[#This Row],[Destino]],Tabla216[#All],4,0))+Viáticos[[#This Row],[Número de días por viático]]*(2*VLOOKUP(Viáticos[[#This Row],[Destino]],Tabla216[#All],5,0)+VLOOKUP(Viáticos[[#This Row],[Destino]],Tabla216[#All],6,0)+VLOOKUP(Viáticos[[#This Row],[Destino]],Tabla216[#All],7,0))+(Viáticos[[#This Row],[Número de días por viático]]-1)*(VLOOKUP(Viáticos[[#This Row],[Destino]],Tabla216[#All],8,0)+VLOOKUP(Viáticos[[#This Row],[Destino]],Tabla216[#All],9,0)),\"\"))))*Viáticos[[#This Row],[Número de personas]],(IF(OR(Viáticos[[#This Row],[Número de días por viático]]=\"\",Viáticos[[#This Row],[Número de personas]]=\"\"),\"\",IFERROR(2*(VLOOKUP(Viáticos[[#This Row],[Destino]],Tabla216[#All],3,0)+VLOOKUP(Viáticos[[#This Row],[Destino]],Tabla216[#All],4,0))+Viáticos[[#This Row],[Número de días por viático]]*(2*VLOOKUP(Viáticos[[#This Row],[Destino]],Tabla216[#All],5,0)+VLOOKUP(Viáticos[[#This Row],[Destino]],Tabla216[#All],6,0)+VLOOKUP(Viáticos[[#This Row],[Destino]],Tabla216[#All],7,0))+(Viáticos[[#This Row],[Número de días por viático]]-1)*(VLOOKUP(Viáticos[[#This Row],[Destino]],Tabla216[#All],8,0)+VLOOKUP(Viáticos[[#This Row],[Destino]],Tabla216[#All],9,0)),\"\")))*Viáticos[[#This Row],[Número de personas]]*(1+25%)),\"\")","v":""},null,null,{"$f":"IFERROR(IF(Viáticos[[#This Row],[Viático pactado]]=\"\",((Viáticos[[#This Row],[Valor Viático por viaje]]*(1+Viáticos[[#This Row],[% Administración]]/100))),(Viáticos[[#This Row],[Viático pactado]]*(1+Viáticos[[#This Row],[% Administración]]/100))),\"\")","v":""},null,{"$f":"+IFERROR(Viáticos[[#This Row],[Costo parcial]]*(Viáticos[[#This Row],[% Participación ]]/100),\"\")","v":""}]
[null,null,null,null,null,{"$f":"+IF(Viáticos[[#This Row],[Nivel del cargo]]=\"\",\"\",F155)","v":""},null,null,{"$f":"IFERROR(IF(Viáticos[[#This Row],[Nivel del cargo]]=\"No directivo\",((IF(OR(Viáticos[[#This Row],[Número de días por viático]]=\"\",Viáticos[[#This Row],[Número de personas]]=\"\"),\"\",IFERROR(2*(VLOOKUP(Viáticos[[#This Row],[Destino]],Tabla216[#All],3,0)+VLOOKUP(Viáticos[[#This Row],[Destino]],Tabla216[#All],4,0))+Viáticos[[#This Row],[Número de días por viático]]*(2*VLOOKUP(Viáticos[[#This Row],[Destino]],Tabla216[#All],5,0)+VLOOKUP(Viáticos[[#This Row],[Destino]],Tabla216[#All],6,0)+VLOOKUP(Viáticos[[#This Row],[Destino]],Tabla216[#All],7,0))+(Viáticos[[#This Row],[Número de días por viático]]-1)*(VLOOKUP(Viáticos[[#This Row],[Destino]],Tabla216[#All],8,0)+VLOOKUP(Viáticos[[#This Row],[Destino]],Tabla216[#All],9,0)),\"\"))))*Viáticos[[#This Row],[Número de personas]],(IF(OR(Viáticos[[#This Row],[Número de días por viático]]=\"\",Viáticos[[#This Row],[Número de personas]]=\"\"),\"\",IFERROR(2*(VLOOKUP(Viáticos[[#This Row],[Destino]],Tabla216[#All],3,0)+VLOOKUP(Viáticos[[#This Row],[Destino]],Tabla216[#All],4,0))+Viáticos[[#This Row],[Número de días por viático]]*(2*VLOOKUP(Viáticos[[#This Row],[Destino]],Tabla216[#All],5,0)+VLOOKUP(Viáticos[[#This Row],[Destino]],Tabla216[#All],6,0)+VLOOKUP(Viáticos[[#This Row],[Destino]],Tabla216[#All],7,0))+(Viáticos[[#This Row],[Número de días por viático]]-1)*(VLOOKUP(Viáticos[[#This Row],[Destino]],Tabla216[#All],8,0)+VLOOKUP(Viáticos[[#This Row],[Destino]],Tabla216[#All],9,0)),\"\")))*Viáticos[[#This Row],[Número de personas]]*(1+25%)),\"\")","v":""},null,null,{"$f":"IFERROR(IF(Viáticos[[#This Row],[Viático pactado]]=\"\",((Viáticos[[#This Row],[Valor Viático por viaje]]*(1+Viáticos[[#This Row],[% Administración]]/100))),(Viáticos[[#This Row],[Viático pactado]]*(1+Viáticos[[#This Row],[% Administración]]/100))),\"\")","v":""},null,{"$f":"+IFERROR(Viáticos[[#This Row],[Costo parcial]]*(Viáticos[[#This Row],[% Participación ]]/100),\"\")","v":""}]
[null,null,null,null,null,{"$f":"+IF(Viáticos[[#This Row],[Nivel del cargo]]=\"\",\"\",F156)","v":""},null,null,{"$f":"IFERROR(IF(Viáticos[[#This Row],[Nivel del cargo]]=\"No directivo\",((IF(OR(Viáticos[[#This Row],[Número de días por viático]]=\"\",Viáticos[[#This Row],[Número de personas]]=\"\"),\"\",IFERROR(2*(VLOOKUP(Viáticos[[#This Row],[Destino]],Tabla216[#All],3,0)+VLOOKUP(Viáticos[[#This Row],[Destino]],Tabla216[#All],4,0))+Viáticos[[#This Row],[Número de días por viático]]*(2*VLOOKUP(Viáticos[[#This Row],[Destino]],Tabla216[#All],5,0)+VLOOKUP(Viáticos[[#This Row],[Destino]],Tabla216[#All],6,0)+VLOOKUP(Viáticos[[#This Row],[Destino]],Tabla216[#All],7,0))+(Viáticos[[#This Row],[Número de días por viático]]-1)*(VLOOKUP(Viáticos[[#This Row],[Destino]],Tabla216[#All],8,0)+VLOOKUP(Viáticos[[#This Row],[Destino]],Tabla216[#All],9,0)),\"\"))))*Viáticos[[#This Row],[Número de personas]],(IF(OR(Viáticos[[#This Row],[Número de días por viático]]=\"\",Viáticos[[#This Row],[Número de personas]]=\"\"),\"\",IFERROR(2*(VLOOKUP(Viáticos[[#This Row],[Destino]],Tabla216[#All],3,0)+VLOOKUP(Viáticos[[#This Row],[Destino]],Tabla216[#All],4,0))+Viáticos[[#This Row],[Número de días por viático]]*(2*VLOOKUP(Viáticos[[#This Row],[Destino]],Tabla216[#All],5,0)+VLOOKUP(Viáticos[[#This Row],[Destino]],Tabla216[#All],6,0)+VLOOKUP(Viáticos[[#This Row],[Destino]],Tabla216[#All],7,0))+(Viáticos[[#This Row],[Número de días por viático]]-1)*(VLOOKUP(Viáticos[[#This Row],[Destino]],Tabla216[#All],8,0)+VLOOKUP(Viáticos[[#This Row],[Destino]],Tabla216[#All],9,0)),\"\")))*Viáticos[[#This Row],[Número de personas]]*(1+25%)),\"\")","v":""},null,null,{"$f":"IFERROR(IF(Viáticos[[#This Row],[Viático pactado]]=\"\",((Viáticos[[#This Row],[Valor Viático por viaje]]*(1+Viáticos[[#This Row],[% Administración]]/100))),(Viáticos[[#This Row],[Viático pactado]]*(1+Viáticos[[#This Row],[% Administración]]/100))),\"\")","v":""},null,{"$f":"+IFERROR(Viáticos[[#This Row],[Costo parcial]]*(Viáticos[[#This Row],[% Participación ]]/100),\"\")","v":""}]
[null,null,null,null,null,{"$f":"+IF(Viáticos[[#This Row],[Nivel del cargo]]=\"\",\"\",F157)","v":""},null,null,{"$f":"IFERROR(IF(Viáticos[[#This Row],[Nivel del cargo]]=\"No directivo\",((IF(OR(Viáticos[[#This Row],[Número de días por viático]]=\"\",Viáticos[[#This Row],[Número de personas]]=\"\"),\"\",IFERROR(2*(VLOOKUP(Viáticos[[#This Row],[Destino]],Tabla216[#All],3,0)+VLOOKUP(Viáticos[[#This Row],[Destino]],Tabla216[#All],4,0))+Viáticos[[#This Row],[Número de días por viático]]*(2*VLOOKUP(Viáticos[[#This Row],[Destino]],Tabla216[#All],5,0)+VLOOKUP(Viáticos[[#This Row],[Destino]],Tabla216[#All],6,0)+VLOOKUP(Viáticos[[#This Row],[Destino]],Tabla216[#All],7,0))+(Viáticos[[#This Row],[Número de días por viático]]-1)*(VLOOKUP(Viáticos[[#This Row],[Destino]],Tabla216[#All],8,0)+VLOOKUP(Viáticos[[#This Row],[Destino]],Tabla216[#All],9,0)),\"\"))))*Viáticos[[#This Row],[Número de personas]],(IF(OR(Viáticos[[#This Row],[Número de días por viático]]=\"\",Viáticos[[#This Row],[Número de personas]]=\"\"),\"\",IFERROR(2*(VLOOKUP(Viáticos[[#This Row],[Destino]],Tabla216[#All],3,0)+VLOOKUP(Viáticos[[#This Row],[Destino]],Tabla216[#All],4,0))+Viáticos[[#This Row],[Número de días por viático]]*(2*VLOOKUP(Viáticos[[#This Row],[Destino]],Tabla216[#All],5,0)+VLOOKUP(Viáticos[[#This Row],[Destino]],Tabla216[#All],6,0)+VLOOKUP(Viáticos[[#This Row],[Destino]],Tabla216[#All],7,0))+(Viáticos[[#This Row],[Número de días por viático]]-1)*(VLOOKUP(Viáticos[[#This Row],[Destino]],Tabla216[#All],8,0)+VLOOKUP(Viáticos[[#This Row],[Destino]],Tabla216[#All],9,0)),\"\")))*Viáticos[[#This Row],[Número de personas]]*(1+25%)),\"\")","v":""},null,null,{"$f":"IFERROR(IF(Viáticos[[#This Row],[Viático pactado]]=\"\",((Viáticos[[#This Row],[Valor Viático por viaje]]*(1+Viáticos[[#This Row],[% Administración]]/100))),(Viáticos[[#This Row],[Viático pactado]]*(1+Viáticos[[#This Row],[% Administración]]/100))),\"\")","v":""},null,{"$f":"+IFERROR(Viáticos[[#This Row],[Costo parcial]]*(Viáticos[[#This Row],[% Participación ]]/100),\"\")","v":""}]
[null,null,null,null,null,{"$f":"+IF(Viáticos[[#This Row],[Nivel del cargo]]=\"\",\"\",F158)","v":""},null,null,{"$f":"IFERROR(IF(Viáticos[[#This Row],[Nivel del cargo]]=\"No directivo\",((IF(OR(Viáticos[[#This Row],[Número de días por viático]]=\"\",Viáticos[[#This Row],[Número de personas]]=\"\"),\"\",IFERROR(2*(VLOOKUP(Viáticos[[#This Row],[Destino]],Tabla216[#All],3,0)+VLOOKUP(Viáticos[[#This Row],[Destino]],Tabla216[#All],4,0))+Viáticos[[#This Row],[Número de días por viático]]*(2*VLOOKUP(Viáticos[[#This Row],[Destino]],Tabla216[#All],5,0)+VLOOKUP(Viáticos[[#This Row],[Destino]],Tabla216[#All],6,0)+VLOOKUP(Viáticos[[#This Row],[Destino]],Tabla216[#All],7,0))+(Viáticos[[#This Row],[Número de días por viático]]-1)*(VLOOKUP(Viáticos[[#This Row],[Destino]],Tabla216[#All],8,0)+VLOOKUP(Viáticos[[#This Row],[Destino]],Tabla216[#All],9,0)),\"\"))))*Viáticos[[#This Row],[Número de personas]],(IF(OR(Viáticos[[#This Row],[Número de días por viático]]=\"\",Viáticos[[#This Row],[Número de personas]]=\"\"),\"\",IFERROR(2*(VLOOKUP(Viáticos[[#This Row],[Destino]],Tabla216[#All],3,0)+VLOOKUP(Viáticos[[#This Row],[Destino]],Tabla216[#All],4,0))+Viáticos[[#This Row],[Número de días por viático]]*(2*VLOOKUP(Viáticos[[#This Row],[Destino]],Tabla216[#All],5,0)+VLOOKUP(Viáticos[[#This Row],[Destino]],Tabla216[#All],6,0)+VLOOKUP(Viáticos[[#This Row],[Destino]],Tabla216[#All],7,0))+(Viáticos[[#This Row],[Número de días por viático]]-1)*(VLOOKUP(Viáticos[[#This Row],[Destino]],Tabla216[#All],8,0)+VLOOKUP(Viáticos[[#This Row],[Destino]],Tabla216[#All],9,0)),\"\")))*Viáticos[[#This Row],[Número de personas]]*(1+25%)),\"\")","v":""},null,null,{"$f":"IFERROR(IF(Viáticos[[#This Row],[Viático pactado]]=\"\",((Viáticos[[#This Row],[Valor Viático por viaje]]*(1+Viáticos[[#This Row],[% Administración]]/100))),(Viáticos[[#This Row],[Viático pactado]]*(1+Viáticos[[#This Row],[% Administración]]/100))),\"\")","v":""},null,{"$f":"+IFERROR(Viáticos[[#This Row],[Costo parcial]]*(Viáticos[[#This Row],[% Participación ]]/100),\"\")","v":""}]
[null,null,null,null,null,{"$f":"+IF(Viáticos[[#This Row],[Nivel del cargo]]=\"\",\"\",F159)","v":""},null,null,{"$f":"IFERROR(IF(Viáticos[[#This Row],[Nivel del cargo]]=\"No directivo\",((IF(OR(Viáticos[[#This Row],[Número de días por viático]]=\"\",Viáticos[[#This Row],[Número de personas]]=\"\"),\"\",IFERROR(2*(VLOOKUP(Viáticos[[#This Row],[Destino]],Tabla216[#All],3,0)+VLOOKUP(Viáticos[[#This Row],[Destino]],Tabla216[#All],4,0))+Viáticos[[#This Row],[Número de días por viático]]*(2*VLOOKUP(Viáticos[[#This Row],[Destino]],Tabla216[#All],5,0)+VLOOKUP(Viáticos[[#This Row],[Destino]],Tabla216[#All],6,0)+VLOOKUP(Viáticos[[#This Row],[Destino]],Tabla216[#All],7,0))+(Viáticos[[#This Row],[Número de días por viático]]-1)*(VLOOKUP(Viáticos[[#This Row],[Destino]],Tabla216[#All],8,0)+VLOOKUP(Viáticos[[#This Row],[Destino]],Tabla216[#All],9,0)),\"\"))))*Viáticos[[#This Row],[Número de personas]],(IF(OR(Viáticos[[#This Row],[Número de días por viático]]=\"\",Viáticos[[#This Row],[Número de personas]]=\"\"),\"\",IFERROR(2*(VLOOKUP(Viáticos[[#This Row],[Destino]],Tabla216[#All],3,0)+VLOOKUP(Viáticos[[#This Row],[Destino]],Tabla216[#All],4,0))+Viáticos[[#This Row],[Número de días por viático]]*(2*VLOOKUP(Viáticos[[#This Row],[Destino]],Tabla216[#All],5,0)+VLOOKUP(Viáticos[[#This Row],[Destino]],Tabla216[#All],6,0)+VLOOKUP(Viáticos[[#This Row],[Destino]],Tabla216[#All],7,0))+(Viáticos[[#This Row],[Número de días por viático]]-1)*(VLOOKUP(Viáticos[[#This Row],[Destino]],Tabla216[#All],8,0)+VLOOKUP(Viáticos[[#This Row],[Destino]],Tabla216[#All],9,0)),\"\")))*Viáticos[[#This Row],[Número de personas]]*(1+25%)),\"\")","v":""},null,null,{"$f":"IFERROR(IF(Viáticos[[#This Row],[Viático pactado]]=\"\",((Viáticos[[#This Row],[Valor Viático por viaje]]*(1+Viáticos[[#This Row],[% Administración]]/100))),(Viáticos[[#This Row],[Viático pactado]]*(1+Viáticos[[#This Row],[% Administración]]/100))),\"\")","v":""},null,{"$f":"+IFERROR(Viáticos[[#This Row],[Costo parcial]]*(Viáticos[[#This Row],[% Participación ]]/100),\"\")","v":""}]
[null,null,null,null,null,{"$f":"+IF(Viáticos[[#This Row],[Nivel del cargo]]=\"\",\"\",F160)","v":""},null,null,{"$f":"IFERROR(IF(Viáticos[[#This Row],[Nivel del cargo]]=\"No directivo\",((IF(OR(Viáticos[[#This Row],[Número de días por viático]]=\"\",Viáticos[[#This Row],[Número de personas]]=\"\"),\"\",IFERROR(2*(VLOOKUP(Viáticos[[#This Row],[Destino]],Tabla216[#All],3,0)+VLOOKUP(Viáticos[[#This Row],[Destino]],Tabla216[#All],4,0))+Viáticos[[#This Row],[Número de días por viático]]*(2*VLOOKUP(Viáticos[[#This Row],[Destino]],Tabla216[#All],5,0)+VLOOKUP(Viáticos[[#This Row],[Destino]],Tabla216[#All],6,0)+VLOOKUP(Viáticos[[#This Row],[Destino]],Tabla216[#All],7,0))+(Viáticos[[#This Row],[Número de días por viático]]-1)*(VLOOKUP(Viáticos[[#This Row],[Destino]],Tabla216[#All],8,0)+VLOOKUP(Viáticos[[#This Row],[Destino]],Tabla216[#All],9,0)),\"\"))))*Viáticos[[#This Row],[Número de personas]],(IF(OR(Viáticos[[#This Row],[Número de días por viático]]=\"\",Viáticos[[#This Row],[Número de personas]]=\"\"),\"\",IFERROR(2*(VLOOKUP(Viáticos[[#This Row],[Destino]],Tabla216[#All],3,0)+VLOOKUP(Viáticos[[#This Row],[Destino]],Tabla216[#All],4,0))+Viáticos[[#This Row],[Número de días por viático]]*(2*VLOOKUP(Viáticos[[#This Row],[Destino]],Tabla216[#All],5,0)+VLOOKUP(Viáticos[[#This Row],[Destino]],Tabla216[#All],6,0)+VLOOKUP(Viáticos[[#This Row],[Destino]],Tabla216[#All],7,0))+(Viáticos[[#This Row],[Número de días por viático]]-1)*(VLOOKUP(Viáticos[[#This Row],[Destino]],Tabla216[#All],8,0)+VLOOKUP(Viáticos[[#This Row],[Destino]],Tabla216[#All],9,0)),\"\")))*Viáticos[[#This Row],[Número de personas]]*(1+25%)),\"\")","v":""},null,null,{"$f":"IFERROR(IF(Viáticos[[#This Row],[Viático pactado]]=\"\",((Viáticos[[#This Row],[Valor Viático por viaje]]*(1+Viáticos[[#This Row],[% Administración]]/100))),(Viáticos[[#This Row],[Viático pactado]]*(1+Viáticos[[#This Row],[% Administración]]/100))),\"\")","v":""},null,{"$f":"+IFERROR(Viáticos[[#This Row],[Costo parcial]]*(Viáticos[[#This Row],[% Participación ]]/100),\"\")","v":""}]
[null,null,null,null,null,{"$f":"+IF(Viáticos[[#This Row],[Nivel del cargo]]=\"\",\"\",F161)","v":""},null,null,{"$f":"IFERROR(IF(Viáticos[[#This Row],[Nivel del cargo]]=\"No directivo\",((IF(OR(Viáticos[[#This Row],[Número de días por viático]]=\"\",Viáticos[[#This Row],[Número de personas]]=\"\"),\"\",IFERROR(2*(VLOOKUP(Viáticos[[#This Row],[Destino]],Tabla216[#All],3,0)+VLOOKUP(Viáticos[[#This Row],[Destino]],Tabla216[#All],4,0))+Viáticos[[#This Row],[Número de días por viático]]*(2*VLOOKUP(Viáticos[[#This Row],[Destino]],Tabla216[#All],5,0)+VLOOKUP(Viáticos[[#This Row],[Destino]],Tabla216[#All],6,0)+VLOOKUP(Viáticos[[#This Row],[Destino]],Tabla216[#All],7,0))+(Viáticos[[#This Row],[Número de días por viático]]-1)*(VLOOKUP(Viáticos[[#This Row],[Destino]],Tabla216[#All],8,0)+VLOOKUP(Viáticos[[#This Row],[Destino]],Tabla216[#All],9,0)),\"\"))))*Viáticos[[#This Row],[Número de personas]],(IF(OR(Viáticos[[#This Row],[Número de días por viático]]=\"\",Viáticos[[#This Row],[Número de personas]]=\"\"),\"\",IFERROR(2*(VLOOKUP(Viáticos[[#This Row],[Destino]],Tabla216[#All],3,0)+VLOOKUP(Viáticos[[#This Row],[Destino]],Tabla216[#All],4,0))+Viáticos[[#This Row],[Número de días por viático]]*(2*VLOOKUP(Viáticos[[#This Row],[Destino]],Tabla216[#All],5,0)+VLOOKUP(Viáticos[[#This Row],[Destino]],Tabla216[#All],6,0)+VLOOKUP(Viáticos[[#This Row],[Destino]],Tabla216[#All],7,0))+(Viáticos[[#This Row],[Número de días por viático]]-1)*(VLOOKUP(Viáticos[[#This Row],[Destino]],Tabla216[#All],8,0)+VLOOKUP(Viáticos[[#This Row],[Destino]],Tabla216[#All],9,0)),\"\")))*Viáticos[[#This Row],[Número de personas]]*(1+25%)),\"\")","v":""},null,null,{"$f":"IFERROR(IF(Viáticos[[#This Row],[Viático pactado]]=\"\",((Viáticos[[#This Row],[Valor Viático por viaje]]*(1+Viáticos[[#This Row],[% Administración]]/100))),(Viáticos[[#This Row],[Viático pactado]]*(1+Viáticos[[#This Row],[% Administración]]/100))),\"\")","v":""},null,{"$f":"+IFERROR(Viáticos[[#This Row],[Costo parcial]]*(Viáticos[[#This Row],[% Participación ]]/100),\"\")","v":""}]
[null,null,null,null,null,{"$f":"+IF(Viáticos[[#This Row],[Nivel del cargo]]=\"\",\"\",F162)","v":""},null,null,{"$f":"IFERROR(IF(Viáticos[[#This Row],[Nivel del cargo]]=\"No directivo\",((IF(OR(Viáticos[[#This Row],[Número de días por viático]]=\"\",Viáticos[[#This Row],[Número de personas]]=\"\"),\"\",IFERROR(2*(VLOOKUP(Viáticos[[#This Row],[Destino]],Tabla216[#All],3,0)+VLOOKUP(Viáticos[[#This Row],[Destino]],Tabla216[#All],4,0))+Viáticos[[#This Row],[Número de días por viático]]*(2*VLOOKUP(Viáticos[[#This Row],[Destino]],Tabla216[#All],5,0)+VLOOKUP(Viáticos[[#This Row],[Destino]],Tabla216[#All],6,0)+VLOOKUP(Viáticos[[#This Row],[Destino]],Tabla216[#All],7,0))+(Viáticos[[#This Row],[Número de días por viático]]-1)*(VLOOKUP(Viáticos[[#This Row],[Destino]],Tabla216[#All],8,0)+VLOOKUP(Viáticos[[#This Row],[Destino]],Tabla216[#All],9,0)),\"\"))))*Viáticos[[#This Row],[Número de personas]],(IF(OR(Viáticos[[#This Row],[Número de días por viático]]=\"\",Viáticos[[#This Row],[Número de personas]]=\"\"),\"\",IFERROR(2*(VLOOKUP(Viáticos[[#This Row],[Destino]],Tabla216[#All],3,0)+VLOOKUP(Viáticos[[#This Row],[Destino]],Tabla216[#All],4,0))+Viáticos[[#This Row],[Número de días por viático]]*(2*VLOOKUP(Viáticos[[#This Row],[Destino]],Tabla216[#All],5,0)+VLOOKUP(Viáticos[[#This Row],[Destino]],Tabla216[#All],6,0)+VLOOKUP(Viáticos[[#This Row],[Destino]],Tabla216[#All],7,0))+(Viáticos[[#This Row],[Número de días por viático]]-1)*(VLOOKUP(Viáticos[[#This Row],[Destino]],Tabla216[#All],8,0)+VLOOKUP(Viáticos[[#This Row],[Destino]],Tabla216[#All],9,0)),\"\")))*Viáticos[[#This Row],[Número de personas]]*(1+25%)),\"\")","v":""},null,null,{"$f":"IFERROR(IF(Viáticos[[#This Row],[Viático pactado]]=\"\",((Viáticos[[#This Row],[Valor Viático por viaje]]*(1+Viáticos[[#This Row],[% Administración]]/100))),(Viáticos[[#This Row],[Viático pactado]]*(1+Viáticos[[#This Row],[% Administración]]/100))),\"\")","v":""},null,{"$f":"+IFERROR(Viáticos[[#This Row],[Costo parcial]]*(Viáticos[[#This Row],[% Participación ]]/100),\"\")","v":""}]
[null,null,null,null,null,{"$f":"+IF(Viáticos[[#This Row],[Nivel del cargo]]=\"\",\"\",F163)","v":""},null,null,{"$f":"IFERROR(IF(Viáticos[[#This Row],[Nivel del cargo]]=\"No directivo\",((IF(OR(Viáticos[[#This Row],[Número de días por viático]]=\"\",Viáticos[[#This Row],[Número de personas]]=\"\"),\"\",IFERROR(2*(VLOOKUP(Viáticos[[#This Row],[Destino]],Tabla216[#All],3,0)+VLOOKUP(Viáticos[[#This Row],[Destino]],Tabla216[#All],4,0))+Viáticos[[#This Row],[Número de días por viático]]*(2*VLOOKUP(Viáticos[[#This Row],[Destino]],Tabla216[#All],5,0)+VLOOKUP(Viáticos[[#This Row],[Destino]],Tabla216[#All],6,0)+VLOOKUP(Viáticos[[#This Row],[Destino]],Tabla216[#All],7,0))+(Viáticos[[#This Row],[Número de días por viático]]-1)*(VLOOKUP(Viáticos[[#This Row],[Destino]],Tabla216[#All],8,0)+VLOOKUP(Viáticos[[#This Row],[Destino]],Tabla216[#All],9,0)),\"\"))))*Viáticos[[#This Row],[Número de personas]],(IF(OR(Viáticos[[#This Row],[Número de días por viático]]=\"\",Viáticos[[#This Row],[Número de personas]]=\"\"),\"\",IFERROR(2*(VLOOKUP(Viáticos[[#This Row],[Destino]],Tabla216[#All],3,0)+VLOOKUP(Viáticos[[#This Row],[Destino]],Tabla216[#All],4,0))+Viáticos[[#This Row],[Número de días por viático]]*(2*VLOOKUP(Viáticos[[#This Row],[Destino]],Tabla216[#All],5,0)+VLOOKUP(Viáticos[[#This Row],[Destino]],Tabla216[#All],6,0)+VLOOKUP(Viáticos[[#This Row],[Destino]],Tabla216[#All],7,0))+(Viáticos[[#This Row],[Número de días por viático]]-1)*(VLOOKUP(Viáticos[[#This Row],[Destino]],Tabla216[#All],8,0)+VLOOKUP(Viáticos[[#This Row],[Destino]],Tabla216[#All],9,0)),\"\")))*Viáticos[[#This Row],[Número de personas]]*(1+25%)),\"\")","v":""},null,null,{"$f":"IFERROR(IF(Viáticos[[#This Row],[Viático pactado]]=\"\",((Viáticos[[#This Row],[Valor Viático por viaje]]*(1+Viáticos[[#This Row],[% Administración]]/100))),(Viáticos[[#This Row],[Viático pactado]]*(1+Viáticos[[#This Row],[% Administración]]/100))),\"\")","v":""},null,{"$f":"+IFERROR(Viáticos[[#This Row],[Costo parcial]]*(Viáticos[[#This Row],[% Participación ]]/100),\"\")","v":""}]
[null,null,null,null,null,{"$f":"+IF(Viáticos[[#This Row],[Nivel del cargo]]=\"\",\"\",F164)","v":""},null,null,{"$f":"IFERROR(IF(Viáticos[[#This Row],[Nivel del cargo]]=\"No directivo\",((IF(OR(Viáticos[[#This Row],[Número de días por viático]]=\"\",Viáticos[[#This Row],[Número de personas]]=\"\"),\"\",IFERROR(2*(VLOOKUP(Viáticos[[#This Row],[Destino]],Tabla216[#All],3,0)+VLOOKUP(Viáticos[[#This Row],[Destino]],Tabla216[#All],4,0))+Viáticos[[#This Row],[Número de días por viático]]*(2*VLOOKUP(Viáticos[[#This Row],[Destino]],Tabla216[#All],5,0)+VLOOKUP(Viáticos[[#This Row],[Destino]],Tabla216[#All],6,0)+VLOOKUP(Viáticos[[#This Row],[Destino]],Tabla216[#All],7,0))+(Viáticos[[#This Row],[Número de días por viático]]-1)*(VLOOKUP(Viáticos[[#This Row],[Destino]],Tabla216[#All],8,0)+VLOOKUP(Viáticos[[#This Row],[Destino]],Tabla216[#All],9,0)),\"\"))))*Viáticos[[#This Row],[Número de personas]],(IF(OR(Viáticos[[#This Row],[Número de días por viático]]=\"\",Viáticos[[#This Row],[Número de personas]]=\"\"),\"\",IFERROR(2*(VLOOKUP(Viáticos[[#This Row],[Destino]],Tabla216[#All],3,0)+VLOOKUP(Viáticos[[#This Row],[Destino]],Tabla216[#All],4,0))+Viáticos[[#This Row],[Número de días por viático]]*(2*VLOOKUP(Viáticos[[#This Row],[Destino]],Tabla216[#All],5,0)+VLOOKUP(Viáticos[[#This Row],[Destino]],Tabla216[#All],6,0)+VLOOKUP(Viáticos[[#This Row],[Destino]],Tabla216[#All],7,0))+(Viáticos[[#This Row],[Número de días por viático]]-1)*(VLOOKUP(Viáticos[[#This Row],[Destino]],Tabla216[#All],8,0)+VLOOKUP(Viáticos[[#This Row],[Destino]],Tabla216[#All],9,0)),\"\")))*Viáticos[[#This Row],[Número de personas]]*(1+25%)),\"\")","v":""},null,null,{"$f":"IFERROR(IF(Viáticos[[#This Row],[Viático pactado]]=\"\",((Viáticos[[#This Row],[Valor Viático por viaje]]*(1+Viáticos[[#This Row],[% Administración]]/100))),(Viáticos[[#This Row],[Viático pactado]]*(1+Viáticos[[#This Row],[% Administración]]/100))),\"\")","v":""},null,{"$f":"+IFERROR(Viáticos[[#This Row],[Costo parcial]]*(Viáticos[[#This Row],[% Participación ]]/100),\"\")","v":""}]
[null,null,null,null,null,{"$f":"+IF(Viáticos[[#This Row],[Nivel del cargo]]=\"\",\"\",F165)","v":""},null,null,{"$f":"IFERROR(IF(Viáticos[[#This Row],[Nivel del cargo]]=\"No directivo\",((IF(OR(Viáticos[[#This Row],[Número de días por viático]]=\"\",Viáticos[[#This Row],[Número de personas]]=\"\"),\"\",IFERROR(2*(VLOOKUP(Viáticos[[#This Row],[Destino]],Tabla216[#All],3,0)+VLOOKUP(Viáticos[[#This Row],[Destino]],Tabla216[#All],4,0))+Viáticos[[#This Row],[Número de días por viático]]*(2*VLOOKUP(Viáticos[[#This Row],[Destino]],Tabla216[#All],5,0)+VLOOKUP(Viáticos[[#This Row],[Destino]],Tabla216[#All],6,0)+VLOOKUP(Viáticos[[#This Row],[Destino]],Tabla216[#All],7,0))+(Viáticos[[#This Row],[Número de días por viático]]-1)*(VLOOKUP(Viáticos[[#This Row],[Destino]],Tabla216[#All],8,0)+VLOOKUP(Viáticos[[#This Row],[Destino]],Tabla216[#All],9,0)),\"\"))))*Viáticos[[#This Row],[Número de personas]],(IF(OR(Viáticos[[#This Row],[Número de días por viático]]=\"\",Viáticos[[#This Row],[Número de personas]]=\"\"),\"\",IFERROR(2*(VLOOKUP(Viáticos[[#This Row],[Destino]],Tabla216[#All],3,0)+VLOOKUP(Viáticos[[#This Row],[Destino]],Tabla216[#All],4,0))+Viáticos[[#This Row],[Número de días por viático]]*(2*VLOOKUP(Viáticos[[#This Row],[Destino]],Tabla216[#All],5,0)+VLOOKUP(Viáticos[[#This Row],[Destino]],Tabla216[#All],6,0)+VLOOKUP(Viáticos[[#This Row],[Destino]],Tabla216[#All],7,0))+(Viáticos[[#This Row],[Número de días por viático]]-1)*(VLOOKUP(Viáticos[[#This Row],[Destino]],Tabla216[#All],8,0)+VLOOKUP(Viáticos[[#This Row],[Destino]],Tabla216[#All],9,0)),\"\")))*Viáticos[[#This Row],[Número de personas]]*(1+25%)),\"\")","v":""},null,null,{"$f":"IFERROR(IF(Viáticos[[#This Row],[Viático pactado]]=\"\",((Viáticos[[#This Row],[Valor Viático por viaje]]*(1+Viáticos[[#This Row],[% Administración]]/100))),(Viáticos[[#This Row],[Viático pactado]]*(1+Viáticos[[#This Row],[% Administración]]/100))),\"\")","v":""},null,{"$f":"+IFERROR(Viáticos[[#This Row],[Costo parcial]]*(Viáticos[[#This Row],[% Participación ]]/100),\"\")","v":""}]
[null,null,null,null,null,{"$f":"+IF(Viáticos[[#This Row],[Nivel del cargo]]=\"\",\"\",F166)","v":""},null,null,{"$f":"IFERROR(IF(Viáticos[[#This Row],[Nivel del cargo]]=\"No directivo\",((IF(OR(Viáticos[[#This Row],[Número de días por viático]]=\"\",Viáticos[[#This Row],[Número de personas]]=\"\"),\"\",IFERROR(2*(VLOOKUP(Viáticos[[#This Row],[Destino]],Tabla216[#All],3,0)+VLOOKUP(Viáticos[[#This Row],[Destino]],Tabla216[#All],4,0))+Viáticos[[#This Row],[Número de días por viático]]*(2*VLOOKUP(Viáticos[[#This Row],[Destino]],Tabla216[#All],5,0)+VLOOKUP(Viáticos[[#This Row],[Destino]],Tabla216[#All],6,0)+VLOOKUP(Viáticos[[#This Row],[Destino]],Tabla216[#All],7,0))+(Viáticos[[#This Row],[Número de días por viático]]-1)*(VLOOKUP(Viáticos[[#This Row],[Destino]],Tabla216[#All],8,0)+VLOOKUP(Viáticos[[#This Row],[Destino]],Tabla216[#All],9,0)),\"\"))))*Viáticos[[#This Row],[Número de personas]],(IF(OR(Viáticos[[#This Row],[Número de días por viático]]=\"\",Viáticos[[#This Row],[Número de personas]]=\"\"),\"\",IFERROR(2*(VLOOKUP(Viáticos[[#This Row],[Destino]],Tabla216[#All],3,0)+VLOOKUP(Viáticos[[#This Row],[Destino]],Tabla216[#All],4,0))+Viáticos[[#This Row],[Número de días por viático]]*(2*VLOOKUP(Viáticos[[#This Row],[Destino]],Tabla216[#All],5,0)+VLOOKUP(Viáticos[[#This Row],[Destino]],Tabla216[#All],6,0)+VLOOKUP(Viáticos[[#This Row],[Destino]],Tabla216[#All],7,0))+(Viáticos[[#This Row],[Número de días por viático]]-1)*(VLOOKUP(Viáticos[[#This Row],[Destino]],Tabla216[#All],8,0)+VLOOKUP(Viáticos[[#This Row],[Destino]],Tabla216[#All],9,0)),\"\")))*Viáticos[[#This Row],[Número de personas]]*(1+25%)),\"\")","v":""},null,null,{"$f":"IFERROR(IF(Viáticos[[#This Row],[Viático pactado]]=\"\",((Viáticos[[#This Row],[Valor Viático por viaje]]*(1+Viáticos[[#This Row],[% Administración]]/100))),(Viáticos[[#This Row],[Viático pactado]]*(1+Viáticos[[#This Row],[% Administración]]/100))),\"\")","v":""},null,{"$f":"+IFERROR(Viáticos[[#This Row],[Costo parcial]]*(Viáticos[[#This Row],[% Participación ]]/100),\"\")","v":""}]
[null,null,null,null,null,{"$f":"+IF(Viáticos[[#This Row],[Nivel del cargo]]=\"\",\"\",F167)","v":""},null,null,{"$f":"IFERROR(IF(Viáticos[[#This Row],[Nivel del cargo]]=\"No directivo\",((IF(OR(Viáticos[[#This Row],[Número de días por viático]]=\"\",Viáticos[[#This Row],[Número de personas]]=\"\"),\"\",IFERROR(2*(VLOOKUP(Viáticos[[#This Row],[Destino]],Tabla216[#All],3,0)+VLOOKUP(Viáticos[[#This Row],[Destino]],Tabla216[#All],4,0))+Viáticos[[#This Row],[Número de días por viático]]*(2*VLOOKUP(Viáticos[[#This Row],[Destino]],Tabla216[#All],5,0)+VLOOKUP(Viáticos[[#This Row],[Destino]],Tabla216[#All],6,0)+VLOOKUP(Viáticos[[#This Row],[Destino]],Tabla216[#All],7,0))+(Viáticos[[#This Row],[Número de días por viático]]-1)*(VLOOKUP(Viáticos[[#This Row],[Destino]],Tabla216[#All],8,0)+VLOOKUP(Viáticos[[#This Row],[Destino]],Tabla216[#All],9,0)),\"\"))))*Viáticos[[#This Row],[Número de personas]],(IF(OR(Viáticos[[#This Row],[Número de días por viático]]=\"\",Viáticos[[#This Row],[Número de personas]]=\"\"),\"\",IFERROR(2*(VLOOKUP(Viáticos[[#This Row],[Destino]],Tabla216[#All],3,0)+VLOOKUP(Viáticos[[#This Row],[Destino]],Tabla216[#All],4,0))+Viáticos[[#This Row],[Número de días por viático]]*(2*VLOOKUP(Viáticos[[#This Row],[Destino]],Tabla216[#All],5,0)+VLOOKUP(Viáticos[[#This Row],[Destino]],Tabla216[#All],6,0)+VLOOKUP(Viáticos[[#This Row],[Destino]],Tabla216[#All],7,0))+(Viáticos[[#This Row],[Número de días por viático]]-1)*(VLOOKUP(Viáticos[[#This Row],[Destino]],Tabla216[#All],8,0)+VLOOKUP(Viáticos[[#This Row],[Destino]],Tabla216[#All],9,0)),\"\")))*Viáticos[[#This Row],[Número de personas]]*(1+25%)),\"\")","v":""},null,null,{"$f":"IFERROR(IF(Viáticos[[#This Row],[Viático pactado]]=\"\",((Viáticos[[#This Row],[Valor Viático por viaje]]*(1+Viáticos[[#This Row],[% Administración]]/100))),(Viáticos[[#This Row],[Viático pactado]]*(1+Viáticos[[#This Row],[% Administración]]/100))),\"\")","v":""},null,{"$f":"+IFERROR(Viáticos[[#This Row],[Costo parcial]]*(Viáticos[[#This Row],[% Participación ]]/100),\"\")","v":""}]
[null,null,null,null,null,{"$f":"+IF(Viáticos[[#This Row],[Nivel del cargo]]=\"\",\"\",F168)","v":""},null,null,{"$f":"IFERROR(IF(Viáticos[[#This Row],[Nivel del cargo]]=\"No directivo\",((IF(OR(Viáticos[[#This Row],[Número de días por viático]]=\"\",Viáticos[[#This Row],[Número de personas]]=\"\"),\"\",IFERROR(2*(VLOOKUP(Viáticos[[#This Row],[Destino]],Tabla216[#All],3,0)+VLOOKUP(Viáticos[[#This Row],[Destino]],Tabla216[#All],4,0))+Viáticos[[#This Row],[Número de días por viático]]*(2*VLOOKUP(Viáticos[[#This Row],[Destino]],Tabla216[#All],5,0)+VLOOKUP(Viáticos[[#This Row],[Destino]],Tabla216[#All],6,0)+VLOOKUP(Viáticos[[#This Row],[Destino]],Tabla216[#All],7,0))+(Viáticos[[#This Row],[Número de días por viático]]-1)*(VLOOKUP(Viáticos[[#This Row],[Destino]],Tabla216[#All],8,0)+VLOOKUP(Viáticos[[#This Row],[Destino]],Tabla216[#All],9,0)),\"\"))))*Viáticos[[#This Row],[Número de personas]],(IF(OR(Viáticos[[#This Row],[Número de días por viático]]=\"\",Viáticos[[#This Row],[Número de personas]]=\"\"),\"\",IFERROR(2*(VLOOKUP(Viáticos[[#This Row],[Destino]],Tabla216[#All],3,0)+VLOOKUP(Viáticos[[#This Row],[Destino]],Tabla216[#All],4,0))+Viáticos[[#This Row],[Número de días por viático]]*(2*VLOOKUP(Viáticos[[#This Row],[Destino]],Tabla216[#All],5,0)+VLOOKUP(Viáticos[[#This Row],[Destino]],Tabla216[#All],6,0)+VLOOKUP(Viáticos[[#This Row],[Destino]],Tabla216[#All],7,0))+(Viáticos[[#This Row],[Número de días por viático]]-1)*(VLOOKUP(Viáticos[[#This Row],[Destino]],Tabla216[#All],8,0)+VLOOKUP(Viáticos[[#This Row],[Destino]],Tabla216[#All],9,0)),\"\")))*Viáticos[[#This Row],[Número de personas]]*(1+25%)),\"\")","v":""},null,null,{"$f":"IFERROR(IF(Viáticos[[#This Row],[Viático pactado]]=\"\",((Viáticos[[#This Row],[Valor Viático por viaje]]*(1+Viáticos[[#This Row],[% Administración]]/100))),(Viáticos[[#This Row],[Viático pactado]]*(1+Viáticos[[#This Row],[% Administración]]/100))),\"\")","v":""},null,{"$f":"+IFERROR(Viáticos[[#This Row],[Costo parcial]]*(Viáticos[[#This Row],[% Participación ]]/100),\"\")","v":""}]
[null,null,null,null,null,{"$f":"+IF(Viáticos[[#This Row],[Nivel del cargo]]=\"\",\"\",F169)","v":""},null,null,{"$f":"IFERROR(IF(Viáticos[[#This Row],[Nivel del cargo]]=\"No directivo\",((IF(OR(Viáticos[[#This Row],[Número de días por viático]]=\"\",Viáticos[[#This Row],[Número de personas]]=\"\"),\"\",IFERROR(2*(VLOOKUP(Viáticos[[#This Row],[Destino]],Tabla216[#All],3,0)+VLOOKUP(Viáticos[[#This Row],[Destino]],Tabla216[#All],4,0))+Viáticos[[#This Row],[Número de días por viático]]*(2*VLOOKUP(Viáticos[[#This Row],[Destino]],Tabla216[#All],5,0)+VLOOKUP(Viáticos[[#This Row],[Destino]],Tabla216[#All],6,0)+VLOOKUP(Viáticos[[#This Row],[Destino]],Tabla216[#All],7,0))+(Viáticos[[#This Row],[Número de días por viático]]-1)*(VLOOKUP(Viáticos[[#This Row],[Destino]],Tabla216[#All],8,0)+VLOOKUP(Viáticos[[#This Row],[Destino]],Tabla216[#All],9,0)),\"\"))))*Viáticos[[#This Row],[Número de personas]],(IF(OR(Viáticos[[#This Row],[Número de días por viático]]=\"\",Viáticos[[#This Row],[Número de personas]]=\"\"),\"\",IFERROR(2*(VLOOKUP(Viáticos[[#This Row],[Destino]],Tabla216[#All],3,0)+VLOOKUP(Viáticos[[#This Row],[Destino]],Tabla216[#All],4,0))+Viáticos[[#This Row],[Número de días por viático]]*(2*VLOOKUP(Viáticos[[#This Row],[Destino]],Tabla216[#All],5,0)+VLOOKUP(Viáticos[[#This Row],[Destino]],Tabla216[#All],6,0)+VLOOKUP(Viáticos[[#This Row],[Destino]],Tabla216[#All],7,0))+(Viáticos[[#This Row],[Número de días por viático]]-1)*(VLOOKUP(Viáticos[[#This Row],[Destino]],Tabla216[#All],8,0)+VLOOKUP(Viáticos[[#This Row],[Destino]],Tabla216[#All],9,0)),\"\")))*Viáticos[[#This Row],[Número de personas]]*(1+25%)),\"\")","v":""},null,null,{"$f":"IFERROR(IF(Viáticos[[#This Row],[Viático pactado]]=\"\",((Viáticos[[#This Row],[Valor Viático por viaje]]*(1+Viáticos[[#This Row],[% Administración]]/100))),(Viáticos[[#This Row],[Viático pactado]]*(1+Viáticos[[#This Row],[% Administración]]/100))),\"\")","v":""},null,{"$f":"+IFERROR(Viáticos[[#This Row],[Costo parcial]]*(Viáticos[[#This Row],[% Participación ]]/100),\"\")","v":""}]
[null,null,null,null,null,{"$f":"+IF(Viáticos[[#This Row],[Nivel del cargo]]=\"\",\"\",F170)","v":""},null,null,{"$f":"IFERROR(IF(Viáticos[[#This Row],[Nivel del cargo]]=\"No directivo\",((IF(OR(Viáticos[[#This Row],[Número de días por viático]]=\"\",Viáticos[[#This Row],[Número de personas]]=\"\"),\"\",IFERROR(2*(VLOOKUP(Viáticos[[#This Row],[Destino]],Tabla216[#All],3,0)+VLOOKUP(Viáticos[[#This Row],[Destino]],Tabla216[#All],4,0))+Viáticos[[#This Row],[Número de días por viático]]*(2*VLOOKUP(Viáticos[[#This Row],[Destino]],Tabla216[#All],5,0)+VLOOKUP(Viáticos[[#This Row],[Destino]],Tabla216[#All],6,0)+VLOOKUP(Viáticos[[#This Row],[Destino]],Tabla216[#All],7,0))+(Viáticos[[#This Row],[Número de días por viático]]-1)*(VLOOKUP(Viáticos[[#This Row],[Destino]],Tabla216[#All],8,0)+VLOOKUP(Viáticos[[#This Row],[Destino]],Tabla216[#All],9,0)),\"\"))))*Viáticos[[#This Row],[Número de personas]],(IF(OR(Viáticos[[#This Row],[Número de días por viático]]=\"\",Viáticos[[#This Row],[Número de personas]]=\"\"),\"\",IFERROR(2*(VLOOKUP(Viáticos[[#This Row],[Destino]],Tabla216[#All],3,0)+VLOOKUP(Viáticos[[#This Row],[Destino]],Tabla216[#All],4,0))+Viáticos[[#This Row],[Número de días por viático]]*(2*VLOOKUP(Viáticos[[#This Row],[Destino]],Tabla216[#All],5,0)+VLOOKUP(Viáticos[[#This Row],[Destino]],Tabla216[#All],6,0)+VLOOKUP(Viáticos[[#This Row],[Destino]],Tabla216[#All],7,0))+(Viáticos[[#This Row],[Número de días por viático]]-1)*(VLOOKUP(Viáticos[[#This Row],[Destino]],Tabla216[#All],8,0)+VLOOKUP(Viáticos[[#This Row],[Destino]],Tabla216[#All],9,0)),\"\")))*Viáticos[[#This Row],[Número de personas]]*(1+25%)),\"\")","v":""},null,null,{"$f":"IFERROR(IF(Viáticos[[#This Row],[Viático pactado]]=\"\",((Viáticos[[#This Row],[Valor Viático por viaje]]*(1+Viáticos[[#This Row],[% Administración]]/100))),(Viáticos[[#This Row],[Viático pactado]]*(1+Viáticos[[#This Row],[% Administración]]/100))),\"\")","v":""},null,{"$f":"+IFERROR(Viáticos[[#This Row],[Costo parcial]]*(Viáticos[[#This Row],[% Participación ]]/100),\"\")","v":""}]
[null,null,null,null,null,{"$f":"+IF(Viáticos[[#This Row],[Nivel del cargo]]=\"\",\"\",F171)","v":""},null,null,{"$f":"IFERROR(IF(Viáticos[[#This Row],[Nivel del cargo]]=\"No directivo\",((IF(OR(Viáticos[[#This Row],[Número de días por viático]]=\"\",Viáticos[[#This Row],[Número de personas]]=\"\"),\"\",IFERROR(2*(VLOOKUP(Viáticos[[#This Row],[Destino]],Tabla216[#All],3,0)+VLOOKUP(Viáticos[[#This Row],[Destino]],Tabla216[#All],4,0))+Viáticos[[#This Row],[Número de días por viático]]*(2*VLOOKUP(Viáticos[[#This Row],[Destino]],Tabla216[#All],5,0)+VLOOKUP(Viáticos[[#This Row],[Destino]],Tabla216[#All],6,0)+VLOOKUP(Viáticos[[#This Row],[Destino]],Tabla216[#All],7,0))+(Viáticos[[#This Row],[Número de días por viático]]-1)*(VLOOKUP(Viáticos[[#This Row],[Destino]],Tabla216[#All],8,0)+VLOOKUP(Viáticos[[#This Row],[Destino]],Tabla216[#All],9,0)),\"\"))))*Viáticos[[#This Row],[Número de personas]],(IF(OR(Viáticos[[#This Row],[Número de días por viático]]=\"\",Viáticos[[#This Row],[Número de personas]]=\"\"),\"\",IFERROR(2*(VLOOKUP(Viáticos[[#This Row],[Destino]],Tabla216[#All],3,0)+VLOOKUP(Viáticos[[#This Row],[Destino]],Tabla216[#All],4,0))+Viáticos[[#This Row],[Número de días por viático]]*(2*VLOOKUP(Viáticos[[#This Row],[Destino]],Tabla216[#All],5,0)+VLOOKUP(Viáticos[[#This Row],[Destino]],Tabla216[#All],6,0)+VLOOKUP(Viáticos[[#This Row],[Destino]],Tabla216[#All],7,0))+(Viáticos[[#This Row],[Número de días por viático]]-1)*(VLOOKUP(Viáticos[[#This Row],[Destino]],Tabla216[#All],8,0)+VLOOKUP(Viáticos[[#This Row],[Destino]],Tabla216[#All],9,0)),\"\")))*Viáticos[[#This Row],[Número de personas]]*(1+25%)),\"\")","v":""},null,null,{"$f":"IFERROR(IF(Viáticos[[#This Row],[Viático pactado]]=\"\",((Viáticos[[#This Row],[Valor Viático por viaje]]*(1+Viáticos[[#This Row],[% Administración]]/100))),(Viáticos[[#This Row],[Viático pactado]]*(1+Viáticos[[#This Row],[% Administración]]/100))),\"\")","v":""},null,{"$f":"+IFERROR(Viáticos[[#This Row],[Costo parcial]]*(Viáticos[[#This Row],[% Participación ]]/100),\"\")","v":""}]
[null,null,null,null,null,{"$f":"+IF(Viáticos[[#This Row],[Nivel del cargo]]=\"\",\"\",F172)","v":""},null,null,{"$f":"IFERROR(IF(Viáticos[[#This Row],[Nivel del cargo]]=\"No directivo\",((IF(OR(Viáticos[[#This Row],[Número de días por viático]]=\"\",Viáticos[[#This Row],[Número de personas]]=\"\"),\"\",IFERROR(2*(VLOOKUP(Viáticos[[#This Row],[Destino]],Tabla216[#All],3,0)+VLOOKUP(Viáticos[[#This Row],[Destino]],Tabla216[#All],4,0))+Viáticos[[#This Row],[Número de días por viático]]*(2*VLOOKUP(Viáticos[[#This Row],[Destino]],Tabla216[#All],5,0)+VLOOKUP(Viáticos[[#This Row],[Destino]],Tabla216[#All],6,0)+VLOOKUP(Viáticos[[#This Row],[Destino]],Tabla216[#All],7,0))+(Viáticos[[#This Row],[Número de días por viático]]-1)*(VLOOKUP(Viáticos[[#This Row],[Destino]],Tabla216[#All],8,0)+VLOOKUP(Viáticos[[#This Row],[Destino]],Tabla216[#All],9,0)),\"\"))))*Viáticos[[#This Row],[Número de personas]],(IF(OR(Viáticos[[#This Row],[Número de días por viático]]=\"\",Viáticos[[#This Row],[Número de personas]]=\"\"),\"\",IFERROR(2*(VLOOKUP(Viáticos[[#This Row],[Destino]],Tabla216[#All],3,0)+VLOOKUP(Viáticos[[#This Row],[Destino]],Tabla216[#All],4,0))+Viáticos[[#This Row],[Número de días por viático]]*(2*VLOOKUP(Viáticos[[#This Row],[Destino]],Tabla216[#All],5,0)+VLOOKUP(Viáticos[[#This Row],[Destino]],Tabla216[#All],6,0)+VLOOKUP(Viáticos[[#This Row],[Destino]],Tabla216[#All],7,0))+(Viáticos[[#This Row],[Número de días por viático]]-1)*(VLOOKUP(Viáticos[[#This Row],[Destino]],Tabla216[#All],8,0)+VLOOKUP(Viáticos[[#This Row],[Destino]],Tabla216[#All],9,0)),\"\")))*Viáticos[[#This Row],[Número de personas]]*(1+25%)),\"\")","v":""},null,null,{"$f":"IFERROR(IF(Viáticos[[#This Row],[Viático pactado]]=\"\",((Viáticos[[#This Row],[Valor Viático por viaje]]*(1+Viáticos[[#This Row],[% Administración]]/100))),(Viáticos[[#This Row],[Viático pactado]]*(1+Viáticos[[#This Row],[% Administración]]/100))),\"\")","v":""},null,{"$f":"+IFERROR(Viáticos[[#This Row],[Costo parcial]]*(Viáticos[[#This Row],[% Participación ]]/100),\"\")","v":""}]
[null,null,null,null,null,{"$f":"+IF(Viáticos[[#This Row],[Nivel del cargo]]=\"\",\"\",F173)","v":""},null,null,{"$f":"IFERROR(IF(Viáticos[[#This Row],[Nivel del cargo]]=\"No directivo\",((IF(OR(Viáticos[[#This Row],[Número de días por viático]]=\"\",Viáticos[[#This Row],[Número de personas]]=\"\"),\"\",IFERROR(2*(VLOOKUP(Viáticos[[#This Row],[Destino]],Tabla216[#All],3,0)+VLOOKUP(Viáticos[[#This Row],[Destino]],Tabla216[#All],4,0))+Viáticos[[#This Row],[Número de días por viático]]*(2*VLOOKUP(Viáticos[[#This Row],[Destino]],Tabla216[#All],5,0)+VLOOKUP(Viáticos[[#This Row],[Destino]],Tabla216[#All],6,0)+VLOOKUP(Viáticos[[#This Row],[Destino]],Tabla216[#All],7,0))+(Viáticos[[#This Row],[Número de días por viático]]-1)*(VLOOKUP(Viáticos[[#This Row],[Destino]],Tabla216[#All],8,0)+VLOOKUP(Viáticos[[#This Row],[Destino]],Tabla216[#All],9,0)),\"\"))))*Viáticos[[#This Row],[Número de personas]],(IF(OR(Viáticos[[#This Row],[Número de días por viático]]=\"\",Viáticos[[#This Row],[Número de personas]]=\"\"),\"\",IFERROR(2*(VLOOKUP(Viáticos[[#This Row],[Destino]],Tabla216[#All],3,0)+VLOOKUP(Viáticos[[#This Row],[Destino]],Tabla216[#All],4,0))+Viáticos[[#This Row],[Número de días por viático]]*(2*VLOOKUP(Viáticos[[#This Row],[Destino]],Tabla216[#All],5,0)+VLOOKUP(Viáticos[[#This Row],[Destino]],Tabla216[#All],6,0)+VLOOKUP(Viáticos[[#This Row],[Destino]],Tabla216[#All],7,0))+(Viáticos[[#This Row],[Número de días por viático]]-1)*(VLOOKUP(Viáticos[[#This Row],[Destino]],Tabla216[#All],8,0)+VLOOKUP(Viáticos[[#This Row],[Destino]],Tabla216[#All],9,0)),\"\")))*Viáticos[[#This Row],[Número de personas]]*(1+25%)),\"\")","v":""},null,null,{"$f":"IFERROR(IF(Viáticos[[#This Row],[Viático pactado]]=\"\",((Viáticos[[#This Row],[Valor Viático por viaje]]*(1+Viáticos[[#This Row],[% Administración]]/100))),(Viáticos[[#This Row],[Viático pactado]]*(1+Viáticos[[#This Row],[% Administración]]/100))),\"\")","v":""},null,{"$f":"+IFERROR(Viáticos[[#This Row],[Costo parcial]]*(Viáticos[[#This Row],[% Participación ]]/100),\"\")","v":""}]
[null,null,null,null,null,{"$f":"+IF(Viáticos[[#This Row],[Nivel del cargo]]=\"\",\"\",F174)","v":""},null,null,{"$f":"IFERROR(IF(Viáticos[[#This Row],[Nivel del cargo]]=\"No directivo\",((IF(OR(Viáticos[[#This Row],[Número de días por viático]]=\"\",Viáticos[[#This Row],[Número de personas]]=\"\"),\"\",IFERROR(2*(VLOOKUP(Viáticos[[#This Row],[Destino]],Tabla216[#All],3,0)+VLOOKUP(Viáticos[[#This Row],[Destino]],Tabla216[#All],4,0))+Viáticos[[#This Row],[Número de días por viático]]*(2*VLOOKUP(Viáticos[[#This Row],[Destino]],Tabla216[#All],5,0)+VLOOKUP(Viáticos[[#This Row],[Destino]],Tabla216[#All],6,0)+VLOOKUP(Viáticos[[#This Row],[Destino]],Tabla216[#All],7,0))+(Viáticos[[#This Row],[Número de días por viático]]-1)*(VLOOKUP(Viáticos[[#This Row],[Destino]],Tabla216[#All],8,0)+VLOOKUP(Viáticos[[#This Row],[Destino]],Tabla216[#All],9,0)),\"\"))))*Viáticos[[#This Row],[Número de personas]],(IF(OR(Viáticos[[#This Row],[Número de días por viático]]=\"\",Viáticos[[#This Row],[Número de personas]]=\"\"),\"\",IFERROR(2*(VLOOKUP(Viáticos[[#This Row],[Destino]],Tabla216[#All],3,0)+VLOOKUP(Viáticos[[#This Row],[Destino]],Tabla216[#All],4,0))+Viáticos[[#This Row],[Número de días por viático]]*(2*VLOOKUP(Viáticos[[#This Row],[Destino]],Tabla216[#All],5,0)+VLOOKUP(Viáticos[[#This Row],[Destino]],Tabla216[#All],6,0)+VLOOKUP(Viáticos[[#This Row],[Destino]],Tabla216[#All],7,0))+(Viáticos[[#This Row],[Número de días por viático]]-1)*(VLOOKUP(Viáticos[[#This Row],[Destino]],Tabla216[#All],8,0)+VLOOKUP(Viáticos[[#This Row],[Destino]],Tabla216[#All],9,0)),\"\")))*Viáticos[[#This Row],[Número de personas]]*(1+25%)),\"\")","v":""},null,null,{"$f":"IFERROR(IF(Viáticos[[#This Row],[Viático pactado]]=\"\",((Viáticos[[#This Row],[Valor Viático por viaje]]*(1+Viáticos[[#This Row],[% Administración]]/100))),(Viáticos[[#This Row],[Viático pactado]]*(1+Viáticos[[#This Row],[% Administración]]/100))),\"\")","v":""},null,{"$f":"+IFERROR(Viáticos[[#This Row],[Costo parcial]]*(Viáticos[[#This Row],[% Participación ]]/100),\"\")","v":""}]
[null,null,null,null,null,{"$f":"+IF(Viáticos[[#This Row],[Nivel del cargo]]=\"\",\"\",F175)","v":""},null,null,{"$f":"IFERROR(IF(Viáticos[[#This Row],[Nivel del cargo]]=\"No directivo\",((IF(OR(Viáticos[[#This Row],[Número de días por viático]]=\"\",Viáticos[[#This Row],[Número de personas]]=\"\"),\"\",IFERROR(2*(VLOOKUP(Viáticos[[#This Row],[Destino]],Tabla216[#All],3,0)+VLOOKUP(Viáticos[[#This Row],[Destino]],Tabla216[#All],4,0))+Viáticos[[#This Row],[Número de días por viático]]*(2*VLOOKUP(Viáticos[[#This Row],[Destino]],Tabla216[#All],5,0)+VLOOKUP(Viáticos[[#This Row],[Destino]],Tabla216[#All],6,0)+VLOOKUP(Viáticos[[#This Row],[Destino]],Tabla216[#All],7,0))+(Viáticos[[#This Row],[Número de días por viático]]-1)*(VLOOKUP(Viáticos[[#This Row],[Destino]],Tabla216[#All],8,0)+VLOOKUP(Viáticos[[#This Row],[Destino]],Tabla216[#All],9,0)),\"\"))))*Viáticos[[#This Row],[Número de personas]],(IF(OR(Viáticos[[#This Row],[Número de días por viático]]=\"\",Viáticos[[#This Row],[Número de personas]]=\"\"),\"\",IFERROR(2*(VLOOKUP(Viáticos[[#This Row],[Destino]],Tabla216[#All],3,0)+VLOOKUP(Viáticos[[#This Row],[Destino]],Tabla216[#All],4,0))+Viáticos[[#This Row],[Número de días por viático]]*(2*VLOOKUP(Viáticos[[#This Row],[Destino]],Tabla216[#All],5,0)+VLOOKUP(Viáticos[[#This Row],[Destino]],Tabla216[#All],6,0)+VLOOKUP(Viáticos[[#This Row],[Destino]],Tabla216[#All],7,0))+(Viáticos[[#This Row],[Número de días por viático]]-1)*(VLOOKUP(Viáticos[[#This Row],[Destino]],Tabla216[#All],8,0)+VLOOKUP(Viáticos[[#This Row],[Destino]],Tabla216[#All],9,0)),\"\")))*Viáticos[[#This Row],[Número de personas]]*(1+25%)),\"\")","v":""},null,null,{"$f":"IFERROR(IF(Viáticos[[#This Row],[Viático pactado]]=\"\",((Viáticos[[#This Row],[Valor Viático por viaje]]*(1+Viáticos[[#This Row],[% Administración]]/100))),(Viáticos[[#This Row],[Viático pactado]]*(1+Viáticos[[#This Row],[% Administración]]/100))),\"\")","v":""},null,{"$f":"+IFERROR(Viáticos[[#This Row],[Costo parcial]]*(Viáticos[[#This Row],[% Participación ]]/100),\"\")","v":""}]
[null,null,null,null,null,{"$f":"+IF(Viáticos[[#This Row],[Nivel del cargo]]=\"\",\"\",F176)","v":""},null,null,{"$f":"IFERROR(IF(Viáticos[[#This Row],[Nivel del cargo]]=\"No directivo\",((IF(OR(Viáticos[[#This Row],[Número de días por viático]]=\"\",Viáticos[[#This Row],[Número de personas]]=\"\"),\"\",IFERROR(2*(VLOOKUP(Viáticos[[#This Row],[Destino]],Tabla216[#All],3,0)+VLOOKUP(Viáticos[[#This Row],[Destino]],Tabla216[#All],4,0))+Viáticos[[#This Row],[Número de días por viático]]*(2*VLOOKUP(Viáticos[[#This Row],[Destino]],Tabla216[#All],5,0)+VLOOKUP(Viáticos[[#This Row],[Destino]],Tabla216[#All],6,0)+VLOOKUP(Viáticos[[#This Row],[Destino]],Tabla216[#All],7,0))+(Viáticos[[#This Row],[Número de días por viático]]-1)*(VLOOKUP(Viáticos[[#This Row],[Destino]],Tabla216[#All],8,0)+VLOOKUP(Viáticos[[#This Row],[Destino]],Tabla216[#All],9,0)),\"\"))))*Viáticos[[#This Row],[Número de personas]],(IF(OR(Viáticos[[#This Row],[Número de días por viático]]=\"\",Viáticos[[#This Row],[Número de personas]]=\"\"),\"\",IFERROR(2*(VLOOKUP(Viáticos[[#This Row],[Destino]],Tabla216[#All],3,0)+VLOOKUP(Viáticos[[#This Row],[Destino]],Tabla216[#All],4,0))+Viáticos[[#This Row],[Número de días por viático]]*(2*VLOOKUP(Viáticos[[#This Row],[Destino]],Tabla216[#All],5,0)+VLOOKUP(Viáticos[[#This Row],[Destino]],Tabla216[#All],6,0)+VLOOKUP(Viáticos[[#This Row],[Destino]],Tabla216[#All],7,0))+(Viáticos[[#This Row],[Número de días por viático]]-1)*(VLOOKUP(Viáticos[[#This Row],[Destino]],Tabla216[#All],8,0)+VLOOKUP(Viáticos[[#This Row],[Destino]],Tabla216[#All],9,0)),\"\")))*Viáticos[[#This Row],[Número de personas]]*(1+25%)),\"\")","v":""},null,null,{"$f":"IFERROR(IF(Viáticos[[#This Row],[Viático pactado]]=\"\",((Viáticos[[#This Row],[Valor Viático por viaje]]*(1+Viáticos[[#This Row],[% Administración]]/100))),(Viáticos[[#This Row],[Viático pactado]]*(1+Viáticos[[#This Row],[% Administración]]/100))),\"\")","v":""},null,{"$f":"+IFERROR(Viáticos[[#This Row],[Costo parcial]]*(Viáticos[[#This Row],[% Participación ]]/100),\"\")","v":""}]
[null,null,null,null,null,{"$f":"+IF(Viáticos[[#This Row],[Nivel del cargo]]=\"\",\"\",F177)","v":""},null,null,{"$f":"IFERROR(IF(Viáticos[[#This Row],[Nivel del cargo]]=\"No directivo\",((IF(OR(Viáticos[[#This Row],[Número de días por viático]]=\"\",Viáticos[[#This Row],[Número de personas]]=\"\"),\"\",IFERROR(2*(VLOOKUP(Viáticos[[#This Row],[Destino]],Tabla216[#All],3,0)+VLOOKUP(Viáticos[[#This Row],[Destino]],Tabla216[#All],4,0))+Viáticos[[#This Row],[Número de días por viático]]*(2*VLOOKUP(Viáticos[[#This Row],[Destino]],Tabla216[#All],5,0)+VLOOKUP(Viáticos[[#This Row],[Destino]],Tabla216[#All],6,0)+VLOOKUP(Viáticos[[#This Row],[Destino]],Tabla216[#All],7,0))+(Viáticos[[#This Row],[Número de días por viático]]-1)*(VLOOKUP(Viáticos[[#This Row],[Destino]],Tabla216[#All],8,0)+VLOOKUP(Viáticos[[#This Row],[Destino]],Tabla216[#All],9,0)),\"\"))))*Viáticos[[#This Row],[Número de personas]],(IF(OR(Viáticos[[#This Row],[Número de días por viático]]=\"\",Viáticos[[#This Row],[Número de personas]]=\"\"),\"\",IFERROR(2*(VLOOKUP(Viáticos[[#This Row],[Destino]],Tabla216[#All],3,0)+VLOOKUP(Viáticos[[#This Row],[Destino]],Tabla216[#All],4,0))+Viáticos[[#This Row],[Número de días por viático]]*(2*VLOOKUP(Viáticos[[#This Row],[Destino]],Tabla216[#All],5,0)+VLOOKUP(Viáticos[[#This Row],[Destino]],Tabla216[#All],6,0)+VLOOKUP(Viáticos[[#This Row],[Destino]],Tabla216[#All],7,0))+(Viáticos[[#This Row],[Número de días por viático]]-1)*(VLOOKUP(Viáticos[[#This Row],[Destino]],Tabla216[#All],8,0)+VLOOKUP(Viáticos[[#This Row],[Destino]],Tabla216[#All],9,0)),\"\")))*Viáticos[[#This Row],[Número de personas]]*(1+25%)),\"\")","v":""},null,null,{"$f":"IFERROR(IF(Viáticos[[#This Row],[Viático pactado]]=\"\",((Viáticos[[#This Row],[Valor Viático por viaje]]*(1+Viáticos[[#This Row],[% Administración]]/100))),(Viáticos[[#This Row],[Viático pactado]]*(1+Viáticos[[#This Row],[% Administración]]/100))),\"\")","v":""},null,{"$f":"+IFERROR(Viáticos[[#This Row],[Costo parcial]]*(Viáticos[[#This Row],[% Participación ]]/100),\"\")","v":""}]
[null,null,null,null,null,{"$f":"+IF(Viáticos[[#This Row],[Nivel del cargo]]=\"\",\"\",F178)","v":""},null,null,{"$f":"IFERROR(IF(Viáticos[[#This Row],[Nivel del cargo]]=\"No directivo\",((IF(OR(Viáticos[[#This Row],[Número de días por viático]]=\"\",Viáticos[[#This Row],[Número de personas]]=\"\"),\"\",IFERROR(2*(VLOOKUP(Viáticos[[#This Row],[Destino]],Tabla216[#All],3,0)+VLOOKUP(Viáticos[[#This Row],[Destino]],Tabla216[#All],4,0))+Viáticos[[#This Row],[Número de días por viático]]*(2*VLOOKUP(Viáticos[[#This Row],[Destino]],Tabla216[#All],5,0)+VLOOKUP(Viáticos[[#This Row],[Destino]],Tabla216[#All],6,0)+VLOOKUP(Viáticos[[#This Row],[Destino]],Tabla216[#All],7,0))+(Viáticos[[#This Row],[Número de días por viático]]-1)*(VLOOKUP(Viáticos[[#This Row],[Destino]],Tabla216[#All],8,0)+VLOOKUP(Viáticos[[#This Row],[Destino]],Tabla216[#All],9,0)),\"\"))))*Viáticos[[#This Row],[Número de personas]],(IF(OR(Viáticos[[#This Row],[Número de días por viático]]=\"\",Viáticos[[#This Row],[Número de personas]]=\"\"),\"\",IFERROR(2*(VLOOKUP(Viáticos[[#This Row],[Destino]],Tabla216[#All],3,0)+VLOOKUP(Viáticos[[#This Row],[Destino]],Tabla216[#All],4,0))+Viáticos[[#This Row],[Número de días por viático]]*(2*VLOOKUP(Viáticos[[#This Row],[Destino]],Tabla216[#All],5,0)+VLOOKUP(Viáticos[[#This Row],[Destino]],Tabla216[#All],6,0)+VLOOKUP(Viáticos[[#This Row],[Destino]],Tabla216[#All],7,0))+(Viáticos[[#This Row],[Número de días por viático]]-1)*(VLOOKUP(Viáticos[[#This Row],[Destino]],Tabla216[#All],8,0)+VLOOKUP(Viáticos[[#This Row],[Destino]],Tabla216[#All],9,0)),\"\")))*Viáticos[[#This Row],[Número de personas]]*(1+25%)),\"\")","v":""},null,null,{"$f":"IFERROR(IF(Viáticos[[#This Row],[Viático pactado]]=\"\",((Viáticos[[#This Row],[Valor Viático por viaje]]*(1+Viáticos[[#This Row],[% Administración]]/100))),(Viáticos[[#This Row],[Viático pactado]]*(1+Viáticos[[#This Row],[% Administración]]/100))),\"\")","v":""},null,{"$f":"+IFERROR(Viáticos[[#This Row],[Costo parcial]]*(Viáticos[[#This Row],[% Participación ]]/100),\"\")","v":""}]
[null,null,null,null,null,{"$f":"+IF(Viáticos[[#This Row],[Nivel del cargo]]=\"\",\"\",F179)","v":""},null,null,{"$f":"IFERROR(IF(Viáticos[[#This Row],[Nivel del cargo]]=\"No directivo\",((IF(OR(Viáticos[[#This Row],[Número de días por viático]]=\"\",Viáticos[[#This Row],[Número de personas]]=\"\"),\"\",IFERROR(2*(VLOOKUP(Viáticos[[#This Row],[Destino]],Tabla216[#All],3,0)+VLOOKUP(Viáticos[[#This Row],[Destino]],Tabla216[#All],4,0))+Viáticos[[#This Row],[Número de días por viático]]*(2*VLOOKUP(Viáticos[[#This Row],[Destino]],Tabla216[#All],5,0)+VLOOKUP(Viáticos[[#This Row],[Destino]],Tabla216[#All],6,0)+VLOOKUP(Viáticos[[#This Row],[Destino]],Tabla216[#All],7,0))+(Viáticos[[#This Row],[Número de días por viático]]-1)*(VLOOKUP(Viáticos[[#This Row],[Destino]],Tabla216[#All],8,0)+VLOOKUP(Viáticos[[#This Row],[Destino]],Tabla216[#All],9,0)),\"\"))))*Viáticos[[#This Row],[Número de personas]],(IF(OR(Viáticos[[#This Row],[Número de días por viático]]=\"\",Viáticos[[#This Row],[Número de personas]]=\"\"),\"\",IFERROR(2*(VLOOKUP(Viáticos[[#This Row],[Destino]],Tabla216[#All],3,0)+VLOOKUP(Viáticos[[#This Row],[Destino]],Tabla216[#All],4,0))+Viáticos[[#This Row],[Número de días por viático]]*(2*VLOOKUP(Viáticos[[#This Row],[Destino]],Tabla216[#All],5,0)+VLOOKUP(Viáticos[[#This Row],[Destino]],Tabla216[#All],6,0)+VLOOKUP(Viáticos[[#This Row],[Destino]],Tabla216[#All],7,0))+(Viáticos[[#This Row],[Número de días por viático]]-1)*(VLOOKUP(Viáticos[[#This Row],[Destino]],Tabla216[#All],8,0)+VLOOKUP(Viáticos[[#This Row],[Destino]],Tabla216[#All],9,0)),\"\")))*Viáticos[[#This Row],[Número de personas]]*(1+25%)),\"\")","v":""},null,null,{"$f":"IFERROR(IF(Viáticos[[#This Row],[Viático pactado]]=\"\",((Viáticos[[#This Row],[Valor Viático por viaje]]*(1+Viáticos[[#This Row],[% Administración]]/100))),(Viáticos[[#This Row],[Viático pactado]]*(1+Viáticos[[#This Row],[% Administración]]/100))),\"\")","v":""},null,{"$f":"+IFERROR(Viáticos[[#This Row],[Costo parcial]]*(Viáticos[[#This Row],[% Participación ]]/100),\"\")","v":""}]
[null,null,null,null,null,{"$f":"+IF(Viáticos[[#This Row],[Nivel del cargo]]=\"\",\"\",F180)","v":""},null,null,{"$f":"IFERROR(IF(Viáticos[[#This Row],[Nivel del cargo]]=\"No directivo\",((IF(OR(Viáticos[[#This Row],[Número de días por viático]]=\"\",Viáticos[[#This Row],[Número de personas]]=\"\"),\"\",IFERROR(2*(VLOOKUP(Viáticos[[#This Row],[Destino]],Tabla216[#All],3,0)+VLOOKUP(Viáticos[[#This Row],[Destino]],Tabla216[#All],4,0))+Viáticos[[#This Row],[Número de días por viático]]*(2*VLOOKUP(Viáticos[[#This Row],[Destino]],Tabla216[#All],5,0)+VLOOKUP(Viáticos[[#This Row],[Destino]],Tabla216[#All],6,0)+VLOOKUP(Viáticos[[#This Row],[Destino]],Tabla216[#All],7,0))+(Viáticos[[#This Row],[Número de días por viático]]-1)*(VLOOKUP(Viáticos[[#This Row],[Destino]],Tabla216[#All],8,0)+VLOOKUP(Viáticos[[#This Row],[Destino]],Tabla216[#All],9,0)),\"\"))))*Viáticos[[#This Row],[Número de personas]],(IF(OR(Viáticos[[#This Row],[Número de días por viático]]=\"\",Viáticos[[#This Row],[Número de personas]]=\"\"),\"\",IFERROR(2*(VLOOKUP(Viáticos[[#This Row],[Destino]],Tabla216[#All],3,0)+VLOOKUP(Viáticos[[#This Row],[Destino]],Tabla216[#All],4,0))+Viáticos[[#This Row],[Número de días por viático]]*(2*VLOOKUP(Viáticos[[#This Row],[Destino]],Tabla216[#All],5,0)+VLOOKUP(Viáticos[[#This Row],[Destino]],Tabla216[#All],6,0)+VLOOKUP(Viáticos[[#This Row],[Destino]],Tabla216[#All],7,0))+(Viáticos[[#This Row],[Número de días por viático]]-1)*(VLOOKUP(Viáticos[[#This Row],[Destino]],Tabla216[#All],8,0)+VLOOKUP(Viáticos[[#This Row],[Destino]],Tabla216[#All],9,0)),\"\")))*Viáticos[[#This Row],[Número de personas]]*(1+25%)),\"\")","v":""},null,null,{"$f":"IFERROR(IF(Viáticos[[#This Row],[Viático pactado]]=\"\",((Viáticos[[#This Row],[Valor Viático por viaje]]*(1+Viáticos[[#This Row],[% Administración]]/100))),(Viáticos[[#This Row],[Viático pactado]]*(1+Viáticos[[#This Row],[% Administración]]/100))),\"\")","v":""},null,{"$f":"+IFERROR(Viáticos[[#This Row],[Costo parcial]]*(Viáticos[[#This Row],[% Participación ]]/100),\"\")","v":""}]
[null,null,null,null,null,{"$f":"+IF(Viáticos[[#This Row],[Nivel del cargo]]=\"\",\"\",F181)","v":""},null,null,{"$f":"IFERROR(IF(Viáticos[[#This Row],[Nivel del cargo]]=\"No directivo\",((IF(OR(Viáticos[[#This Row],[Número de días por viático]]=\"\",Viáticos[[#This Row],[Número de personas]]=\"\"),\"\",IFERROR(2*(VLOOKUP(Viáticos[[#This Row],[Destino]],Tabla216[#All],3,0)+VLOOKUP(Viáticos[[#This Row],[Destino]],Tabla216[#All],4,0))+Viáticos[[#This Row],[Número de días por viático]]*(2*VLOOKUP(Viáticos[[#This Row],[Destino]],Tabla216[#All],5,0)+VLOOKUP(Viáticos[[#This Row],[Destino]],Tabla216[#All],6,0)+VLOOKUP(Viáticos[[#This Row],[Destino]],Tabla216[#All],7,0))+(Viáticos[[#This Row],[Número de días por viático]]-1)*(VLOOKUP(Viáticos[[#This Row],[Destino]],Tabla216[#All],8,0)+VLOOKUP(Viáticos[[#This Row],[Destino]],Tabla216[#All],9,0)),\"\"))))*Viáticos[[#This Row],[Número de personas]],(IF(OR(Viáticos[[#This Row],[Número de días por viático]]=\"\",Viáticos[[#This Row],[Número de personas]]=\"\"),\"\",IFERROR(2*(VLOOKUP(Viáticos[[#This Row],[Destino]],Tabla216[#All],3,0)+VLOOKUP(Viáticos[[#This Row],[Destino]],Tabla216[#All],4,0))+Viáticos[[#This Row],[Número de días por viático]]*(2*VLOOKUP(Viáticos[[#This Row],[Destino]],Tabla216[#All],5,0)+VLOOKUP(Viáticos[[#This Row],[Destino]],Tabla216[#All],6,0)+VLOOKUP(Viáticos[[#This Row],[Destino]],Tabla216[#All],7,0))+(Viáticos[[#This Row],[Número de días por viático]]-1)*(VLOOKUP(Viáticos[[#This Row],[Destino]],Tabla216[#All],8,0)+VLOOKUP(Viáticos[[#This Row],[Destino]],Tabla216[#All],9,0)),\"\")))*Viáticos[[#This Row],[Número de personas]]*(1+25%)),\"\")","v":""},null,null,{"$f":"IFERROR(IF(Viáticos[[#This Row],[Viático pactado]]=\"\",((Viáticos[[#This Row],[Valor Viático por viaje]]*(1+Viáticos[[#This Row],[% Administración]]/100))),(Viáticos[[#This Row],[Viático pactado]]*(1+Viáticos[[#This Row],[% Administración]]/100))),\"\")","v":""},null,{"$f":"+IFERROR(Viáticos[[#This Row],[Costo parcial]]*(Viáticos[[#This Row],[% Participación ]]/100),\"\")","v":""}]
[null,null,null,null,null,{"$f":"+IF(Viáticos[[#This Row],[Nivel del cargo]]=\"\",\"\",F182)","v":""},null,null,{"$f":"IFERROR(IF(Viáticos[[#This Row],[Nivel del cargo]]=\"No directivo\",((IF(OR(Viáticos[[#This Row],[Número de días por viático]]=\"\",Viáticos[[#This Row],[Número de personas]]=\"\"),\"\",IFERROR(2*(VLOOKUP(Viáticos[[#This Row],[Destino]],Tabla216[#All],3,0)+VLOOKUP(Viáticos[[#This Row],[Destino]],Tabla216[#All],4,0))+Viáticos[[#This Row],[Número de días por viático]]*(2*VLOOKUP(Viáticos[[#This Row],[Destino]],Tabla216[#All],5,0)+VLOOKUP(Viáticos[[#This Row],[Destino]],Tabla216[#All],6,0)+VLOOKUP(Viáticos[[#This Row],[Destino]],Tabla216[#All],7,0))+(Viáticos[[#This Row],[Número de días por viático]]-1)*(VLOOKUP(Viáticos[[#This Row],[Destino]],Tabla216[#All],8,0)+VLOOKUP(Viáticos[[#This Row],[Destino]],Tabla216[#All],9,0)),\"\"))))*Viáticos[[#This Row],[Número de personas]],(IF(OR(Viáticos[[#This Row],[Número de días por viático]]=\"\",Viáticos[[#This Row],[Número de personas]]=\"\"),\"\",IFERROR(2*(VLOOKUP(Viáticos[[#This Row],[Destino]],Tabla216[#All],3,0)+VLOOKUP(Viáticos[[#This Row],[Destino]],Tabla216[#All],4,0))+Viáticos[[#This Row],[Número de días por viático]]*(2*VLOOKUP(Viáticos[[#This Row],[Destino]],Tabla216[#All],5,0)+VLOOKUP(Viáticos[[#This Row],[Destino]],Tabla216[#All],6,0)+VLOOKUP(Viáticos[[#This Row],[Destino]],Tabla216[#All],7,0))+(Viáticos[[#This Row],[Número de días por viático]]-1)*(VLOOKUP(Viáticos[[#This Row],[Destino]],Tabla216[#All],8,0)+VLOOKUP(Viáticos[[#This Row],[Destino]],Tabla216[#All],9,0)),\"\")))*Viáticos[[#This Row],[Número de personas]]*(1+25%)),\"\")","v":""},null,null,{"$f":"IFERROR(IF(Viáticos[[#This Row],[Viático pactado]]=\"\",((Viáticos[[#This Row],[Valor Viático por viaje]]*(1+Viáticos[[#This Row],[% Administración]]/100))),(Viáticos[[#This Row],[Viático pactado]]*(1+Viáticos[[#This Row],[% Administración]]/100))),\"\")","v":""},null,{"$f":"+IFERROR(Viáticos[[#This Row],[Costo parcial]]*(Viáticos[[#This Row],[% Participación ]]/100),\"\")","v":""}]
[null,null,null,null,null,{"$f":"+IF(Viáticos[[#This Row],[Nivel del cargo]]=\"\",\"\",F183)","v":""},null,null,{"$f":"IFERROR(IF(Viáticos[[#This Row],[Nivel del cargo]]=\"No directivo\",((IF(OR(Viáticos[[#This Row],[Número de días por viático]]=\"\",Viáticos[[#This Row],[Número de personas]]=\"\"),\"\",IFERROR(2*(VLOOKUP(Viáticos[[#This Row],[Destino]],Tabla216[#All],3,0)+VLOOKUP(Viáticos[[#This Row],[Destino]],Tabla216[#All],4,0))+Viáticos[[#This Row],[Número de días por viático]]*(2*VLOOKUP(Viáticos[[#This Row],[Destino]],Tabla216[#All],5,0)+VLOOKUP(Viáticos[[#This Row],[Destino]],Tabla216[#All],6,0)+VLOOKUP(Viáticos[[#This Row],[Destino]],Tabla216[#All],7,0))+(Viáticos[[#This Row],[Número de días por viático]]-1)*(VLOOKUP(Viáticos[[#This Row],[Destino]],Tabla216[#All],8,0)+VLOOKUP(Viáticos[[#This Row],[Destino]],Tabla216[#All],9,0)),\"\"))))*Viáticos[[#This Row],[Número de personas]],(IF(OR(Viáticos[[#This Row],[Número de días por viático]]=\"\",Viáticos[[#This Row],[Número de personas]]=\"\"),\"\",IFERROR(2*(VLOOKUP(Viáticos[[#This Row],[Destino]],Tabla216[#All],3,0)+VLOOKUP(Viáticos[[#This Row],[Destino]],Tabla216[#All],4,0))+Viáticos[[#This Row],[Número de días por viático]]*(2*VLOOKUP(Viáticos[[#This Row],[Destino]],Tabla216[#All],5,0)+VLOOKUP(Viáticos[[#This Row],[Destino]],Tabla216[#All],6,0)+VLOOKUP(Viáticos[[#This Row],[Destino]],Tabla216[#All],7,0))+(Viáticos[[#This Row],[Número de días por viático]]-1)*(VLOOKUP(Viáticos[[#This Row],[Destino]],Tabla216[#All],8,0)+VLOOKUP(Viáticos[[#This Row],[Destino]],Tabla216[#All],9,0)),\"\")))*Viáticos[[#This Row],[Número de personas]]*(1+25%)),\"\")","v":""},null,null,{"$f":"IFERROR(IF(Viáticos[[#This Row],[Viático pactado]]=\"\",((Viáticos[[#This Row],[Valor Viático por viaje]]*(1+Viáticos[[#This Row],[% Administración]]/100))),(Viáticos[[#This Row],[Viático pactado]]*(1+Viáticos[[#This Row],[% Administración]]/100))),\"\")","v":""},null,{"$f":"+IFERROR(Viáticos[[#This Row],[Costo parcial]]*(Viáticos[[#This Row],[% Participación ]]/100),\"\")","v":""}]
[null,null,null,null,null,{"$f":"+IF(Viáticos[[#This Row],[Nivel del cargo]]=\"\",\"\",F184)","v":""},null,null,{"$f":"IFERROR(IF(Viáticos[[#This Row],[Nivel del cargo]]=\"No directivo\",((IF(OR(Viáticos[[#This Row],[Número de días por viático]]=\"\",Viáticos[[#This Row],[Número de personas]]=\"\"),\"\",IFERROR(2*(VLOOKUP(Viáticos[[#This Row],[Destino]],Tabla216[#All],3,0)+VLOOKUP(Viáticos[[#This Row],[Destino]],Tabla216[#All],4,0))+Viáticos[[#This Row],[Número de días por viático]]*(2*VLOOKUP(Viáticos[[#This Row],[Destino]],Tabla216[#All],5,0)+VLOOKUP(Viáticos[[#This Row],[Destino]],Tabla216[#All],6,0)+VLOOKUP(Viáticos[[#This Row],[Destino]],Tabla216[#All],7,0))+(Viáticos[[#This Row],[Número de días por viático]]-1)*(VLOOKUP(Viáticos[[#This Row],[Destino]],Tabla216[#All],8,0)+VLOOKUP(Viáticos[[#This Row],[Destino]],Tabla216[#All],9,0)),\"\"))))*Viáticos[[#This Row],[Número de personas]],(IF(OR(Viáticos[[#This Row],[Número de días por viático]]=\"\",Viáticos[[#This Row],[Número de personas]]=\"\"),\"\",IFERROR(2*(VLOOKUP(Viáticos[[#This Row],[Destino]],Tabla216[#All],3,0)+VLOOKUP(Viáticos[[#This Row],[Destino]],Tabla216[#All],4,0))+Viáticos[[#This Row],[Número de días por viático]]*(2*VLOOKUP(Viáticos[[#This Row],[Destino]],Tabla216[#All],5,0)+VLOOKUP(Viáticos[[#This Row],[Destino]],Tabla216[#All],6,0)+VLOOKUP(Viáticos[[#This Row],[Destino]],Tabla216[#All],7,0))+(Viáticos[[#This Row],[Número de días por viático]]-1)*(VLOOKUP(Viáticos[[#This Row],[Destino]],Tabla216[#All],8,0)+VLOOKUP(Viáticos[[#This Row],[Destino]],Tabla216[#All],9,0)),\"\")))*Viáticos[[#This Row],[Número de personas]]*(1+25%)),\"\")","v":""},null,null,{"$f":"IFERROR(IF(Viáticos[[#This Row],[Viático pactado]]=\"\",((Viáticos[[#This Row],[Valor Viático por viaje]]*(1+Viáticos[[#This Row],[% Administración]]/100))),(Viáticos[[#This Row],[Viático pactado]]*(1+Viáticos[[#This Row],[% Administración]]/100))),\"\")","v":""},null,{"$f":"+IFERROR(Viáticos[[#This Row],[Costo parcial]]*(Viáticos[[#This Row],[% Participación ]]/100),\"\")","v":""}]
[null,null,null,null,null,{"$f":"+IF(Viáticos[[#This Row],[Nivel del cargo]]=\"\",\"\",F185)","v":""},null,null,{"$f":"IFERROR(IF(Viáticos[[#This Row],[Nivel del cargo]]=\"No directivo\",((IF(OR(Viáticos[[#This Row],[Número de días por viático]]=\"\",Viáticos[[#This Row],[Número de personas]]=\"\"),\"\",IFERROR(2*(VLOOKUP(Viáticos[[#This Row],[Destino]],Tabla216[#All],3,0)+VLOOKUP(Viáticos[[#This Row],[Destino]],Tabla216[#All],4,0))+Viáticos[[#This Row],[Número de días por viático]]*(2*VLOOKUP(Viáticos[[#This Row],[Destino]],Tabla216[#All],5,0)+VLOOKUP(Viáticos[[#This Row],[Destino]],Tabla216[#All],6,0)+VLOOKUP(Viáticos[[#This Row],[Destino]],Tabla216[#All],7,0))+(Viáticos[[#This Row],[Número de días por viático]]-1)*(VLOOKUP(Viáticos[[#This Row],[Destino]],Tabla216[#All],8,0)+VLOOKUP(Viáticos[[#This Row],[Destino]],Tabla216[#All],9,0)),\"\"))))*Viáticos[[#This Row],[Número de personas]],(IF(OR(Viáticos[[#This Row],[Número de días por viático]]=\"\",Viáticos[[#This Row],[Número de personas]]=\"\"),\"\",IFERROR(2*(VLOOKUP(Viáticos[[#This Row],[Destino]],Tabla216[#All],3,0)+VLOOKUP(Viáticos[[#This Row],[Destino]],Tabla216[#All],4,0))+Viáticos[[#This Row],[Número de días por viático]]*(2*VLOOKUP(Viáticos[[#This Row],[Destino]],Tabla216[#All],5,0)+VLOOKUP(Viáticos[[#This Row],[Destino]],Tabla216[#All],6,0)+VLOOKUP(Viáticos[[#This Row],[Destino]],Tabla216[#All],7,0))+(Viáticos[[#This Row],[Número de días por viático]]-1)*(VLOOKUP(Viáticos[[#This Row],[Destino]],Tabla216[#All],8,0)+VLOOKUP(Viáticos[[#This Row],[Destino]],Tabla216[#All],9,0)),\"\")))*Viáticos[[#This Row],[Número de personas]]*(1+25%)),\"\")","v":""},null,null,{"$f":"IFERROR(IF(Viáticos[[#This Row],[Viático pactado]]=\"\",((Viáticos[[#This Row],[Valor Viático por viaje]]*(1+Viáticos[[#This Row],[% Administración]]/100))),(Viáticos[[#This Row],[Viático pactado]]*(1+Viáticos[[#This Row],[% Administración]]/100))),\"\")","v":""},null,{"$f":"+IFERROR(Viáticos[[#This Row],[Costo parcial]]*(Viáticos[[#This Row],[% Participación ]]/100),\"\")","v":""}]
[null,null,null,null,null,{"$f":"+IF(Viáticos[[#This Row],[Nivel del cargo]]=\"\",\"\",F186)","v":""},null,null,{"$f":"IFERROR(IF(Viáticos[[#This Row],[Nivel del cargo]]=\"No directivo\",((IF(OR(Viáticos[[#This Row],[Número de días por viático]]=\"\",Viáticos[[#This Row],[Número de personas]]=\"\"),\"\",IFERROR(2*(VLOOKUP(Viáticos[[#This Row],[Destino]],Tabla216[#All],3,0)+VLOOKUP(Viáticos[[#This Row],[Destino]],Tabla216[#All],4,0))+Viáticos[[#This Row],[Número de días por viático]]*(2*VLOOKUP(Viáticos[[#This Row],[Destino]],Tabla216[#All],5,0)+VLOOKUP(Viáticos[[#This Row],[Destino]],Tabla216[#All],6,0)+VLOOKUP(Viáticos[[#This Row],[Destino]],Tabla216[#All],7,0))+(Viáticos[[#This Row],[Número de días por viático]]-1)*(VLOOKUP(Viáticos[[#This Row],[Destino]],Tabla216[#All],8,0)+VLOOKUP(Viáticos[[#This Row],[Destino]],Tabla216[#All],9,0)),\"\"))))*Viáticos[[#This Row],[Número de personas]],(IF(OR(Viáticos[[#This Row],[Número de días por viático]]=\"\",Viáticos[[#This Row],[Número de personas]]=\"\"),\"\",IFERROR(2*(VLOOKUP(Viáticos[[#This Row],[Destino]],Tabla216[#All],3,0)+VLOOKUP(Viáticos[[#This Row],[Destino]],Tabla216[#All],4,0))+Viáticos[[#This Row],[Número de días por viático]]*(2*VLOOKUP(Viáticos[[#This Row],[Destino]],Tabla216[#All],5,0)+VLOOKUP(Viáticos[[#This Row],[Destino]],Tabla216[#All],6,0)+VLOOKUP(Viáticos[[#This Row],[Destino]],Tabla216[#All],7,0))+(Viáticos[[#This Row],[Número de días por viático]]-1)*(VLOOKUP(Viáticos[[#This Row],[Destino]],Tabla216[#All],8,0)+VLOOKUP(Viáticos[[#This Row],[Destino]],Tabla216[#All],9,0)),\"\")))*Viáticos[[#This Row],[Número de personas]]*(1+25%)),\"\")","v":""},null,null,{"$f":"IFERROR(IF(Viáticos[[#This Row],[Viático pactado]]=\"\",((Viáticos[[#This Row],[Valor Viático por viaje]]*(1+Viáticos[[#This Row],[% Administración]]/100))),(Viáticos[[#This Row],[Viático pactado]]*(1+Viáticos[[#This Row],[% Administración]]/100))),\"\")","v":""},null,{"$f":"+IFERROR(Viáticos[[#This Row],[Costo parcial]]*(Viáticos[[#This Row],[% Participación ]]/100),\"\")","v":""}]
[null,null,null,null,null,{"$f":"+IF(Viáticos[[#This Row],[Nivel del cargo]]=\"\",\"\",F187)","v":""},null,null,{"$f":"IFERROR(IF(Viáticos[[#This Row],[Nivel del cargo]]=\"No directivo\",((IF(OR(Viáticos[[#This Row],[Número de días por viático]]=\"\",Viáticos[[#This Row],[Número de personas]]=\"\"),\"\",IFERROR(2*(VLOOKUP(Viáticos[[#This Row],[Destino]],Tabla216[#All],3,0)+VLOOKUP(Viáticos[[#This Row],[Destino]],Tabla216[#All],4,0))+Viáticos[[#This Row],[Número de días por viático]]*(2*VLOOKUP(Viáticos[[#This Row],[Destino]],Tabla216[#All],5,0)+VLOOKUP(Viáticos[[#This Row],[Destino]],Tabla216[#All],6,0)+VLOOKUP(Viáticos[[#This Row],[Destino]],Tabla216[#All],7,0))+(Viáticos[[#This Row],[Número de días por viático]]-1)*(VLOOKUP(Viáticos[[#This Row],[Destino]],Tabla216[#All],8,0)+VLOOKUP(Viáticos[[#This Row],[Destino]],Tabla216[#All],9,0)),\"\"))))*Viáticos[[#This Row],[Número de personas]],(IF(OR(Viáticos[[#This Row],[Número de días por viático]]=\"\",Viáticos[[#This Row],[Número de personas]]=\"\"),\"\",IFERROR(2*(VLOOKUP(Viáticos[[#This Row],[Destino]],Tabla216[#All],3,0)+VLOOKUP(Viáticos[[#This Row],[Destino]],Tabla216[#All],4,0))+Viáticos[[#This Row],[Número de días por viático]]*(2*VLOOKUP(Viáticos[[#This Row],[Destino]],Tabla216[#All],5,0)+VLOOKUP(Viáticos[[#This Row],[Destino]],Tabla216[#All],6,0)+VLOOKUP(Viáticos[[#This Row],[Destino]],Tabla216[#All],7,0))+(Viáticos[[#This Row],[Número de días por viático]]-1)*(VLOOKUP(Viáticos[[#This Row],[Destino]],Tabla216[#All],8,0)+VLOOKUP(Viáticos[[#This Row],[Destino]],Tabla216[#All],9,0)),\"\")))*Viáticos[[#This Row],[Número de personas]]*(1+25%)),\"\")","v":""},null,null,{"$f":"IFERROR(IF(Viáticos[[#This Row],[Viático pactado]]=\"\",((Viáticos[[#This Row],[Valor Viático por viaje]]*(1+Viáticos[[#This Row],[% Administración]]/100))),(Viáticos[[#This Row],[Viático pactado]]*(1+Viáticos[[#This Row],[% Administración]]/100))),\"\")","v":""},null,{"$f":"+IFERROR(Viáticos[[#This Row],[Costo parcial]]*(Viáticos[[#This Row],[% Participación ]]/100),\"\")","v":""}]
[null,null,null,null,null,{"$f":"+IF(Viáticos[[#This Row],[Nivel del cargo]]=\"\",\"\",F188)","v":""},null,null,{"$f":"IFERROR(IF(Viáticos[[#This Row],[Nivel del cargo]]=\"No directivo\",((IF(OR(Viáticos[[#This Row],[Número de días por viático]]=\"\",Viáticos[[#This Row],[Número de personas]]=\"\"),\"\",IFERROR(2*(VLOOKUP(Viáticos[[#This Row],[Destino]],Tabla216[#All],3,0)+VLOOKUP(Viáticos[[#This Row],[Destino]],Tabla216[#All],4,0))+Viáticos[[#This Row],[Número de días por viático]]*(2*VLOOKUP(Viáticos[[#This Row],[Destino]],Tabla216[#All],5,0)+VLOOKUP(Viáticos[[#This Row],[Destino]],Tabla216[#All],6,0)+VLOOKUP(Viáticos[[#This Row],[Destino]],Tabla216[#All],7,0))+(Viáticos[[#This Row],[Número de días por viático]]-1)*(VLOOKUP(Viáticos[[#This Row],[Destino]],Tabla216[#All],8,0)+VLOOKUP(Viáticos[[#This Row],[Destino]],Tabla216[#All],9,0)),\"\"))))*Viáticos[[#This Row],[Número de personas]],(IF(OR(Viáticos[[#This Row],[Número de días por viático]]=\"\",Viáticos[[#This Row],[Número de personas]]=\"\"),\"\",IFERROR(2*(VLOOKUP(Viáticos[[#This Row],[Destino]],Tabla216[#All],3,0)+VLOOKUP(Viáticos[[#This Row],[Destino]],Tabla216[#All],4,0))+Viáticos[[#This Row],[Número de días por viático]]*(2*VLOOKUP(Viáticos[[#This Row],[Destino]],Tabla216[#All],5,0)+VLOOKUP(Viáticos[[#This Row],[Destino]],Tabla216[#All],6,0)+VLOOKUP(Viáticos[[#This Row],[Destino]],Tabla216[#All],7,0))+(Viáticos[[#This Row],[Número de días por viático]]-1)*(VLOOKUP(Viáticos[[#This Row],[Destino]],Tabla216[#All],8,0)+VLOOKUP(Viáticos[[#This Row],[Destino]],Tabla216[#All],9,0)),\"\")))*Viáticos[[#This Row],[Número de personas]]*(1+25%)),\"\")","v":""},null,null,{"$f":"IFERROR(IF(Viáticos[[#This Row],[Viático pactado]]=\"\",((Viáticos[[#This Row],[Valor Viático por viaje]]*(1+Viáticos[[#This Row],[% Administración]]/100))),(Viáticos[[#This Row],[Viático pactado]]*(1+Viáticos[[#This Row],[% Administración]]/100))),\"\")","v":""},null,{"$f":"+IFERROR(Viáticos[[#This Row],[Costo parcial]]*(Viáticos[[#This Row],[% Participación ]]/100),\"\")","v":""}]
[null,null,null,null,null,{"$f":"+IF(Viáticos[[#This Row],[Nivel del cargo]]=\"\",\"\",F189)","v":""},null,null,{"$f":"IFERROR(IF(Viáticos[[#This Row],[Nivel del cargo]]=\"No directivo\",((IF(OR(Viáticos[[#This Row],[Número de días por viático]]=\"\",Viáticos[[#This Row],[Número de personas]]=\"\"),\"\",IFERROR(2*(VLOOKUP(Viáticos[[#This Row],[Destino]],Tabla216[#All],3,0)+VLOOKUP(Viáticos[[#This Row],[Destino]],Tabla216[#All],4,0))+Viáticos[[#This Row],[Número de días por viático]]*(2*VLOOKUP(Viáticos[[#This Row],[Destino]],Tabla216[#All],5,0)+VLOOKUP(Viáticos[[#This Row],[Destino]],Tabla216[#All],6,0)+VLOOKUP(Viáticos[[#This Row],[Destino]],Tabla216[#All],7,0))+(Viáticos[[#This Row],[Número de días por viático]]-1)*(VLOOKUP(Viáticos[[#This Row],[Destino]],Tabla216[#All],8,0)+VLOOKUP(Viáticos[[#This Row],[Destino]],Tabla216[#All],9,0)),\"\"))))*Viáticos[[#This Row],[Número de personas]],(IF(OR(Viáticos[[#This Row],[Número de días por viático]]=\"\",Viáticos[[#This Row],[Número de personas]]=\"\"),\"\",IFERROR(2*(VLOOKUP(Viáticos[[#This Row],[Destino]],Tabla216[#All],3,0)+VLOOKUP(Viáticos[[#This Row],[Destino]],Tabla216[#All],4,0))+Viáticos[[#This Row],[Número de días por viático]]*(2*VLOOKUP(Viáticos[[#This Row],[Destino]],Tabla216[#All],5,0)+VLOOKUP(Viáticos[[#This Row],[Destino]],Tabla216[#All],6,0)+VLOOKUP(Viáticos[[#This Row],[Destino]],Tabla216[#All],7,0))+(Viáticos[[#This Row],[Número de días por viático]]-1)*(VLOOKUP(Viáticos[[#This Row],[Destino]],Tabla216[#All],8,0)+VLOOKUP(Viáticos[[#This Row],[Destino]],Tabla216[#All],9,0)),\"\")))*Viáticos[[#This Row],[Número de personas]]*(1+25%)),\"\")","v":""},null,null,{"$f":"IFERROR(IF(Viáticos[[#This Row],[Viático pactado]]=\"\",((Viáticos[[#This Row],[Valor Viático por viaje]]*(1+Viáticos[[#This Row],[% Administración]]/100))),(Viáticos[[#This Row],[Viático pactado]]*(1+Viáticos[[#This Row],[% Administración]]/100))),\"\")","v":""},null,{"$f":"+IFERROR(Viáticos[[#This Row],[Costo parcial]]*(Viáticos[[#This Row],[% Participación ]]/100),\"\")","v":""}]
[null,null,null,null,null,{"$f":"+IF(Viáticos[[#This Row],[Nivel del cargo]]=\"\",\"\",F190)","v":""},null,null,{"$f":"IFERROR(IF(Viáticos[[#This Row],[Nivel del cargo]]=\"No directivo\",((IF(OR(Viáticos[[#This Row],[Número de días por viático]]=\"\",Viáticos[[#This Row],[Número de personas]]=\"\"),\"\",IFERROR(2*(VLOOKUP(Viáticos[[#This Row],[Destino]],Tabla216[#All],3,0)+VLOOKUP(Viáticos[[#This Row],[Destino]],Tabla216[#All],4,0))+Viáticos[[#This Row],[Número de días por viático]]*(2*VLOOKUP(Viáticos[[#This Row],[Destino]],Tabla216[#All],5,0)+VLOOKUP(Viáticos[[#This Row],[Destino]],Tabla216[#All],6,0)+VLOOKUP(Viáticos[[#This Row],[Destino]],Tabla216[#All],7,0))+(Viáticos[[#This Row],[Número de días por viático]]-1)*(VLOOKUP(Viáticos[[#This Row],[Destino]],Tabla216[#All],8,0)+VLOOKUP(Viáticos[[#This Row],[Destino]],Tabla216[#All],9,0)),\"\"))))*Viáticos[[#This Row],[Número de personas]],(IF(OR(Viáticos[[#This Row],[Número de días por viático]]=\"\",Viáticos[[#This Row],[Número de personas]]=\"\"),\"\",IFERROR(2*(VLOOKUP(Viáticos[[#This Row],[Destino]],Tabla216[#All],3,0)+VLOOKUP(Viáticos[[#This Row],[Destino]],Tabla216[#All],4,0))+Viáticos[[#This Row],[Número de días por viático]]*(2*VLOOKUP(Viáticos[[#This Row],[Destino]],Tabla216[#All],5,0)+VLOOKUP(Viáticos[[#This Row],[Destino]],Tabla216[#All],6,0)+VLOOKUP(Viáticos[[#This Row],[Destino]],Tabla216[#All],7,0))+(Viáticos[[#This Row],[Número de días por viático]]-1)*(VLOOKUP(Viáticos[[#This Row],[Destino]],Tabla216[#All],8,0)+VLOOKUP(Viáticos[[#This Row],[Destino]],Tabla216[#All],9,0)),\"\")))*Viáticos[[#This Row],[Número de personas]]*(1+25%)),\"\")","v":""},null,null,{"$f":"IFERROR(IF(Viáticos[[#This Row],[Viático pactado]]=\"\",((Viáticos[[#This Row],[Valor Viático por viaje]]*(1+Viáticos[[#This Row],[% Administración]]/100))),(Viáticos[[#This Row],[Viático pactado]]*(1+Viáticos[[#This Row],[% Administración]]/100))),\"\")","v":""},null,{"$f":"+IFERROR(Viáticos[[#This Row],[Costo parcial]]*(Viáticos[[#This Row],[% Participación ]]/100),\"\")","v":""}]
[null,null,null,null,null,{"$f":"+IF(Viáticos[[#This Row],[Nivel del cargo]]=\"\",\"\",F191)","v":""},null,null,{"$f":"IFERROR(IF(Viáticos[[#This Row],[Nivel del cargo]]=\"No directivo\",((IF(OR(Viáticos[[#This Row],[Número de días por viático]]=\"\",Viáticos[[#This Row],[Número de personas]]=\"\"),\"\",IFERROR(2*(VLOOKUP(Viáticos[[#This Row],[Destino]],Tabla216[#All],3,0)+VLOOKUP(Viáticos[[#This Row],[Destino]],Tabla216[#All],4,0))+Viáticos[[#This Row],[Número de días por viático]]*(2*VLOOKUP(Viáticos[[#This Row],[Destino]],Tabla216[#All],5,0)+VLOOKUP(Viáticos[[#This Row],[Destino]],Tabla216[#All],6,0)+VLOOKUP(Viáticos[[#This Row],[Destino]],Tabla216[#All],7,0))+(Viáticos[[#This Row],[Número de días por viático]]-1)*(VLOOKUP(Viáticos[[#This Row],[Destino]],Tabla216[#All],8,0)+VLOOKUP(Viáticos[[#This Row],[Destino]],Tabla216[#All],9,0)),\"\"))))*Viáticos[[#This Row],[Número de personas]],(IF(OR(Viáticos[[#This Row],[Número de días por viático]]=\"\",Viáticos[[#This Row],[Número de personas]]=\"\"),\"\",IFERROR(2*(VLOOKUP(Viáticos[[#This Row],[Destino]],Tabla216[#All],3,0)+VLOOKUP(Viáticos[[#This Row],[Destino]],Tabla216[#All],4,0))+Viáticos[[#This Row],[Número de días por viático]]*(2*VLOOKUP(Viáticos[[#This Row],[Destino]],Tabla216[#All],5,0)+VLOOKUP(Viáticos[[#This Row],[Destino]],Tabla216[#All],6,0)+VLOOKUP(Viáticos[[#This Row],[Destino]],Tabla216[#All],7,0))+(Viáticos[[#This Row],[Número de días por viático]]-1)*(VLOOKUP(Viáticos[[#This Row],[Destino]],Tabla216[#All],8,0)+VLOOKUP(Viáticos[[#This Row],[Destino]],Tabla216[#All],9,0)),\"\")))*Viáticos[[#This Row],[Número de personas]]*(1+25%)),\"\")","v":""},null,null,{"$f":"IFERROR(IF(Viáticos[[#This Row],[Viático pactado]]=\"\",((Viáticos[[#This Row],[Valor Viático por viaje]]*(1+Viáticos[[#This Row],[% Administración]]/100))),(Viáticos[[#This Row],[Viático pactado]]*(1+Viáticos[[#This Row],[% Administración]]/100))),\"\")","v":""},null,{"$f":"+IFERROR(Viáticos[[#This Row],[Costo parcial]]*(Viáticos[[#This Row],[% Participación ]]/100),\"\")","v":""}]
[null,null,null,null,null,{"$f":"+IF(Viáticos[[#This Row],[Nivel del cargo]]=\"\",\"\",F192)","v":""},null,null,{"$f":"IFERROR(IF(Viáticos[[#This Row],[Nivel del cargo]]=\"No directivo\",((IF(OR(Viáticos[[#This Row],[Número de días por viático]]=\"\",Viáticos[[#This Row],[Número de personas]]=\"\"),\"\",IFERROR(2*(VLOOKUP(Viáticos[[#This Row],[Destino]],Tabla216[#All],3,0)+VLOOKUP(Viáticos[[#This Row],[Destino]],Tabla216[#All],4,0))+Viáticos[[#This Row],[Número de días por viático]]*(2*VLOOKUP(Viáticos[[#This Row],[Destino]],Tabla216[#All],5,0)+VLOOKUP(Viáticos[[#This Row],[Destino]],Tabla216[#All],6,0)+VLOOKUP(Viáticos[[#This Row],[Destino]],Tabla216[#All],7,0))+(Viáticos[[#This Row],[Número de días por viático]]-1)*(VLOOKUP(Viáticos[[#This Row],[Destino]],Tabla216[#All],8,0)+VLOOKUP(Viáticos[[#This Row],[Destino]],Tabla216[#All],9,0)),\"\"))))*Viáticos[[#This Row],[Número de personas]],(IF(OR(Viáticos[[#This Row],[Número de días por viático]]=\"\",Viáticos[[#This Row],[Número de personas]]=\"\"),\"\",IFERROR(2*(VLOOKUP(Viáticos[[#This Row],[Destino]],Tabla216[#All],3,0)+VLOOKUP(Viáticos[[#This Row],[Destino]],Tabla216[#All],4,0))+Viáticos[[#This Row],[Número de días por viático]]*(2*VLOOKUP(Viáticos[[#This Row],[Destino]],Tabla216[#All],5,0)+VLOOKUP(Viáticos[[#This Row],[Destino]],Tabla216[#All],6,0)+VLOOKUP(Viáticos[[#This Row],[Destino]],Tabla216[#All],7,0))+(Viáticos[[#This Row],[Número de días por viático]]-1)*(VLOOKUP(Viáticos[[#This Row],[Destino]],Tabla216[#All],8,0)+VLOOKUP(Viáticos[[#This Row],[Destino]],Tabla216[#All],9,0)),\"\")))*Viáticos[[#This Row],[Número de personas]]*(1+25%)),\"\")","v":""},null,null,{"$f":"IFERROR(IF(Viáticos[[#This Row],[Viático pactado]]=\"\",((Viáticos[[#This Row],[Valor Viático por viaje]]*(1+Viáticos[[#This Row],[% Administración]]/100))),(Viáticos[[#This Row],[Viático pactado]]*(1+Viáticos[[#This Row],[% Administración]]/100))),\"\")","v":""},null,{"$f":"+IFERROR(Viáticos[[#This Row],[Costo parcial]]*(Viáticos[[#This Row],[% Participación ]]/100),\"\")","v":""}]
[null,null,null,null,null,{"$f":"+IF(Viáticos[[#This Row],[Nivel del cargo]]=\"\",\"\",F193)","v":""},null,null,{"$f":"IFERROR(IF(Viáticos[[#This Row],[Nivel del cargo]]=\"No directivo\",((IF(OR(Viáticos[[#This Row],[Número de días por viático]]=\"\",Viáticos[[#This Row],[Número de personas]]=\"\"),\"\",IFERROR(2*(VLOOKUP(Viáticos[[#This Row],[Destino]],Tabla216[#All],3,0)+VLOOKUP(Viáticos[[#This Row],[Destino]],Tabla216[#All],4,0))+Viáticos[[#This Row],[Número de días por viático]]*(2*VLOOKUP(Viáticos[[#This Row],[Destino]],Tabla216[#All],5,0)+VLOOKUP(Viáticos[[#This Row],[Destino]],Tabla216[#All],6,0)+VLOOKUP(Viáticos[[#This Row],[Destino]],Tabla216[#All],7,0))+(Viáticos[[#This Row],[Número de días por viático]]-1)*(VLOOKUP(Viáticos[[#This Row],[Destino]],Tabla216[#All],8,0)+VLOOKUP(Viáticos[[#This Row],[Destino]],Tabla216[#All],9,0)),\"\"))))*Viáticos[[#This Row],[Número de personas]],(IF(OR(Viáticos[[#This Row],[Número de días por viático]]=\"\",Viáticos[[#This Row],[Número de personas]]=\"\"),\"\",IFERROR(2*(VLOOKUP(Viáticos[[#This Row],[Destino]],Tabla216[#All],3,0)+VLOOKUP(Viáticos[[#This Row],[Destino]],Tabla216[#All],4,0))+Viáticos[[#This Row],[Número de días por viático]]*(2*VLOOKUP(Viáticos[[#This Row],[Destino]],Tabla216[#All],5,0)+VLOOKUP(Viáticos[[#This Row],[Destino]],Tabla216[#All],6,0)+VLOOKUP(Viáticos[[#This Row],[Destino]],Tabla216[#All],7,0))+(Viáticos[[#This Row],[Número de días por viático]]-1)*(VLOOKUP(Viáticos[[#This Row],[Destino]],Tabla216[#All],8,0)+VLOOKUP(Viáticos[[#This Row],[Destino]],Tabla216[#All],9,0)),\"\")))*Viáticos[[#This Row],[Número de personas]]*(1+25%)),\"\")","v":""},null,null,{"$f":"IFERROR(IF(Viáticos[[#This Row],[Viático pactado]]=\"\",((Viáticos[[#This Row],[Valor Viático por viaje]]*(1+Viáticos[[#This Row],[% Administración]]/100))),(Viáticos[[#This Row],[Viático pactado]]*(1+Viáticos[[#This Row],[% Administración]]/100))),\"\")","v":""},null,{"$f":"+IFERROR(Viáticos[[#This Row],[Costo parcial]]*(Viáticos[[#This Row],[% Participación ]]/100),\"\")","v":""}]
[null,null,null,null,null,{"$f":"+IF(Viáticos[[#This Row],[Nivel del cargo]]=\"\",\"\",F194)","v":""},null,null,{"$f":"IFERROR(IF(Viáticos[[#This Row],[Nivel del cargo]]=\"No directivo\",((IF(OR(Viáticos[[#This Row],[Número de días por viático]]=\"\",Viáticos[[#This Row],[Número de personas]]=\"\"),\"\",IFERROR(2*(VLOOKUP(Viáticos[[#This Row],[Destino]],Tabla216[#All],3,0)+VLOOKUP(Viáticos[[#This Row],[Destino]],Tabla216[#All],4,0))+Viáticos[[#This Row],[Número de días por viático]]*(2*VLOOKUP(Viáticos[[#This Row],[Destino]],Tabla216[#All],5,0)+VLOOKUP(Viáticos[[#This Row],[Destino]],Tabla216[#All],6,0)+VLOOKUP(Viáticos[[#This Row],[Destino]],Tabla216[#All],7,0))+(Viáticos[[#This Row],[Número de días por viático]]-1)*(VLOOKUP(Viáticos[[#This Row],[Destino]],Tabla216[#All],8,0)+VLOOKUP(Viáticos[[#This Row],[Destino]],Tabla216[#All],9,0)),\"\"))))*Viáticos[[#This Row],[Número de personas]],(IF(OR(Viáticos[[#This Row],[Número de días por viático]]=\"\",Viáticos[[#This Row],[Número de personas]]=\"\"),\"\",IFERROR(2*(VLOOKUP(Viáticos[[#This Row],[Destino]],Tabla216[#All],3,0)+VLOOKUP(Viáticos[[#This Row],[Destino]],Tabla216[#All],4,0))+Viáticos[[#This Row],[Número de días por viático]]*(2*VLOOKUP(Viáticos[[#This Row],[Destino]],Tabla216[#All],5,0)+VLOOKUP(Viáticos[[#This Row],[Destino]],Tabla216[#All],6,0)+VLOOKUP(Viáticos[[#This Row],[Destino]],Tabla216[#All],7,0))+(Viáticos[[#This Row],[Número de días por viático]]-1)*(VLOOKUP(Viáticos[[#This Row],[Destino]],Tabla216[#All],8,0)+VLOOKUP(Viáticos[[#This Row],[Destino]],Tabla216[#All],9,0)),\"\")))*Viáticos[[#This Row],[Número de personas]]*(1+25%)),\"\")","v":""},null,null,{"$f":"IFERROR(IF(Viáticos[[#This Row],[Viático pactado]]=\"\",((Viáticos[[#This Row],[Valor Viático por viaje]]*(1+Viáticos[[#This Row],[% Administración]]/100))),(Viáticos[[#This Row],[Viático pactado]]*(1+Viáticos[[#This Row],[% Administración]]/100))),\"\")","v":""},null,{"$f":"+IFERROR(Viáticos[[#This Row],[Costo parcial]]*(Viáticos[[#This Row],[% Participación ]]/100),\"\")","v":""}]
[null,null,null,null,null,{"$f":"+IF(Viáticos[[#This Row],[Nivel del cargo]]=\"\",\"\",F195)","v":""},null,null,{"$f":"IFERROR(IF(Viáticos[[#This Row],[Nivel del cargo]]=\"No directivo\",((IF(OR(Viáticos[[#This Row],[Número de días por viático]]=\"\",Viáticos[[#This Row],[Número de personas]]=\"\"),\"\",IFERROR(2*(VLOOKUP(Viáticos[[#This Row],[Destino]],Tabla216[#All],3,0)+VLOOKUP(Viáticos[[#This Row],[Destino]],Tabla216[#All],4,0))+Viáticos[[#This Row],[Número de días por viático]]*(2*VLOOKUP(Viáticos[[#This Row],[Destino]],Tabla216[#All],5,0)+VLOOKUP(Viáticos[[#This Row],[Destino]],Tabla216[#All],6,0)+VLOOKUP(Viáticos[[#This Row],[Destino]],Tabla216[#All],7,0))+(Viáticos[[#This Row],[Número de días por viático]]-1)*(VLOOKUP(Viáticos[[#This Row],[Destino]],Tabla216[#All],8,0)+VLOOKUP(Viáticos[[#This Row],[Destino]],Tabla216[#All],9,0)),\"\"))))*Viáticos[[#This Row],[Número de personas]],(IF(OR(Viáticos[[#This Row],[Número de días por viático]]=\"\",Viáticos[[#This Row],[Número de personas]]=\"\"),\"\",IFERROR(2*(VLOOKUP(Viáticos[[#This Row],[Destino]],Tabla216[#All],3,0)+VLOOKUP(Viáticos[[#This Row],[Destino]],Tabla216[#All],4,0))+Viáticos[[#This Row],[Número de días por viático]]*(2*VLOOKUP(Viáticos[[#This Row],[Destino]],Tabla216[#All],5,0)+VLOOKUP(Viáticos[[#This Row],[Destino]],Tabla216[#All],6,0)+VLOOKUP(Viáticos[[#This Row],[Destino]],Tabla216[#All],7,0))+(Viáticos[[#This Row],[Número de días por viático]]-1)*(VLOOKUP(Viáticos[[#This Row],[Destino]],Tabla216[#All],8,0)+VLOOKUP(Viáticos[[#This Row],[Destino]],Tabla216[#All],9,0)),\"\")))*Viáticos[[#This Row],[Número de personas]]*(1+25%)),\"\")","v":""},null,null,{"$f":"IFERROR(IF(Viáticos[[#This Row],[Viático pactado]]=\"\",((Viáticos[[#This Row],[Valor Viático por viaje]]*(1+Viáticos[[#This Row],[% Administración]]/100))),(Viáticos[[#This Row],[Viático pactado]]*(1+Viáticos[[#This Row],[% Administración]]/100))),\"\")","v":""},null,{"$f":"+IFERROR(Viáticos[[#This Row],[Costo parcial]]*(Viáticos[[#This Row],[% Participación ]]/100),\"\")","v":""}]
[null,null,null,null,null,{"$f":"+IF(Viáticos[[#This Row],[Nivel del cargo]]=\"\",\"\",F196)","v":""},null,null,{"$f":"IFERROR(IF(Viáticos[[#This Row],[Nivel del cargo]]=\"No directivo\",((IF(OR(Viáticos[[#This Row],[Número de días por viático]]=\"\",Viáticos[[#This Row],[Número de personas]]=\"\"),\"\",IFERROR(2*(VLOOKUP(Viáticos[[#This Row],[Destino]],Tabla216[#All],3,0)+VLOOKUP(Viáticos[[#This Row],[Destino]],Tabla216[#All],4,0))+Viáticos[[#This Row],[Número de días por viático]]*(2*VLOOKUP(Viáticos[[#This Row],[Destino]],Tabla216[#All],5,0)+VLOOKUP(Viáticos[[#This Row],[Destino]],Tabla216[#All],6,0)+VLOOKUP(Viáticos[[#This Row],[Destino]],Tabla216[#All],7,0))+(Viáticos[[#This Row],[Número de días por viático]]-1)*(VLOOKUP(Viáticos[[#This Row],[Destino]],Tabla216[#All],8,0)+VLOOKUP(Viáticos[[#This Row],[Destino]],Tabla216[#All],9,0)),\"\"))))*Viáticos[[#This Row],[Número de personas]],(IF(OR(Viáticos[[#This Row],[Número de días por viático]]=\"\",Viáticos[[#This Row],[Número de personas]]=\"\"),\"\",IFERROR(2*(VLOOKUP(Viáticos[[#This Row],[Destino]],Tabla216[#All],3,0)+VLOOKUP(Viáticos[[#This Row],[Destino]],Tabla216[#All],4,0))+Viáticos[[#This Row],[Número de días por viático]]*(2*VLOOKUP(Viáticos[[#This Row],[Destino]],Tabla216[#All],5,0)+VLOOKUP(Viáticos[[#This Row],[Destino]],Tabla216[#All],6,0)+VLOOKUP(Viáticos[[#This Row],[Destino]],Tabla216[#All],7,0))+(Viáticos[[#This Row],[Número de días por viático]]-1)*(VLOOKUP(Viáticos[[#This Row],[Destino]],Tabla216[#All],8,0)+VLOOKUP(Viáticos[[#This Row],[Destino]],Tabla216[#All],9,0)),\"\")))*Viáticos[[#This Row],[Número de personas]]*(1+25%)),\"\")","v":""},null,null,{"$f":"IFERROR(IF(Viáticos[[#This Row],[Viático pactado]]=\"\",((Viáticos[[#This Row],[Valor Viático por viaje]]*(1+Viáticos[[#This Row],[% Administración]]/100))),(Viáticos[[#This Row],[Viático pactado]]*(1+Viáticos[[#This Row],[% Administración]]/100))),\"\")","v":""},null,{"$f":"+IFERROR(Viáticos[[#This Row],[Costo parcial]]*(Viáticos[[#This Row],[% Participación ]]/100),\"\")","v":""}]
[null,null,null,null,null,{"$f":"+IF(Viáticos[[#This Row],[Nivel del cargo]]=\"\",\"\",F197)","v":""},null,null,{"$f":"IFERROR(IF(Viáticos[[#This Row],[Nivel del cargo]]=\"No directivo\",((IF(OR(Viáticos[[#This Row],[Número de días por viático]]=\"\",Viáticos[[#This Row],[Número de personas]]=\"\"),\"\",IFERROR(2*(VLOOKUP(Viáticos[[#This Row],[Destino]],Tabla216[#All],3,0)+VLOOKUP(Viáticos[[#This Row],[Destino]],Tabla216[#All],4,0))+Viáticos[[#This Row],[Número de días por viático]]*(2*VLOOKUP(Viáticos[[#This Row],[Destino]],Tabla216[#All],5,0)+VLOOKUP(Viáticos[[#This Row],[Destino]],Tabla216[#All],6,0)+VLOOKUP(Viáticos[[#This Row],[Destino]],Tabla216[#All],7,0))+(Viáticos[[#This Row],[Número de días por viático]]-1)*(VLOOKUP(Viáticos[[#This Row],[Destino]],Tabla216[#All],8,0)+VLOOKUP(Viáticos[[#This Row],[Destino]],Tabla216[#All],9,0)),\"\"))))*Viáticos[[#This Row],[Número de personas]],(IF(OR(Viáticos[[#This Row],[Número de días por viático]]=\"\",Viáticos[[#This Row],[Número de personas]]=\"\"),\"\",IFERROR(2*(VLOOKUP(Viáticos[[#This Row],[Destino]],Tabla216[#All],3,0)+VLOOKUP(Viáticos[[#This Row],[Destino]],Tabla216[#All],4,0))+Viáticos[[#This Row],[Número de días por viático]]*(2*VLOOKUP(Viáticos[[#This Row],[Destino]],Tabla216[#All],5,0)+VLOOKUP(Viáticos[[#This Row],[Destino]],Tabla216[#All],6,0)+VLOOKUP(Viáticos[[#This Row],[Destino]],Tabla216[#All],7,0))+(Viáticos[[#This Row],[Número de días por viático]]-1)*(VLOOKUP(Viáticos[[#This Row],[Destino]],Tabla216[#All],8,0)+VLOOKUP(Viáticos[[#This Row],[Destino]],Tabla216[#All],9,0)),\"\")))*Viáticos[[#This Row],[Número de personas]]*(1+25%)),\"\")","v":""},null,null,{"$f":"IFERROR(IF(Viáticos[[#This Row],[Viático pactado]]=\"\",((Viáticos[[#This Row],[Valor Viático por viaje]]*(1+Viáticos[[#This Row],[% Administración]]/100))),(Viáticos[[#This Row],[Viático pactado]]*(1+Viáticos[[#This Row],[% Administración]]/100))),\"\")","v":""},null,{"$f":"+IFERROR(Viáticos[[#This Row],[Costo parcial]]*(Viáticos[[#This Row],[% Participación ]]/100),\"\")","v":""}]
[null,null,null,null,null,{"$f":"+IF(Viáticos[[#This Row],[Nivel del cargo]]=\"\",\"\",F198)","v":""},null,null,{"$f":"IFERROR(IF(Viáticos[[#This Row],[Nivel del cargo]]=\"No directivo\",((IF(OR(Viáticos[[#This Row],[Número de días por viático]]=\"\",Viáticos[[#This Row],[Número de personas]]=\"\"),\"\",IFERROR(2*(VLOOKUP(Viáticos[[#This Row],[Destino]],Tabla216[#All],3,0)+VLOOKUP(Viáticos[[#This Row],[Destino]],Tabla216[#All],4,0))+Viáticos[[#This Row],[Número de días por viático]]*(2*VLOOKUP(Viáticos[[#This Row],[Destino]],Tabla216[#All],5,0)+VLOOKUP(Viáticos[[#This Row],[Destino]],Tabla216[#All],6,0)+VLOOKUP(Viáticos[[#This Row],[Destino]],Tabla216[#All],7,0))+(Viáticos[[#This Row],[Número de días por viático]]-1)*(VLOOKUP(Viáticos[[#This Row],[Destino]],Tabla216[#All],8,0)+VLOOKUP(Viáticos[[#This Row],[Destino]],Tabla216[#All],9,0)),\"\"))))*Viáticos[[#This Row],[Número de personas]],(IF(OR(Viáticos[[#This Row],[Número de días por viático]]=\"\",Viáticos[[#This Row],[Número de personas]]=\"\"),\"\",IFERROR(2*(VLOOKUP(Viáticos[[#This Row],[Destino]],Tabla216[#All],3,0)+VLOOKUP(Viáticos[[#This Row],[Destino]],Tabla216[#All],4,0))+Viáticos[[#This Row],[Número de días por viático]]*(2*VLOOKUP(Viáticos[[#This Row],[Destino]],Tabla216[#All],5,0)+VLOOKUP(Viáticos[[#This Row],[Destino]],Tabla216[#All],6,0)+VLOOKUP(Viáticos[[#This Row],[Destino]],Tabla216[#All],7,0))+(Viáticos[[#This Row],[Número de días por viático]]-1)*(VLOOKUP(Viáticos[[#This Row],[Destino]],Tabla216[#All],8,0)+VLOOKUP(Viáticos[[#This Row],[Destino]],Tabla216[#All],9,0)),\"\")))*Viáticos[[#This Row],[Número de personas]]*(1+25%)),\"\")","v":""},null,null,{"$f":"IFERROR(IF(Viáticos[[#This Row],[Viático pactado]]=\"\",((Viáticos[[#This Row],[Valor Viático por viaje]]*(1+Viáticos[[#This Row],[% Administración]]/100))),(Viáticos[[#This Row],[Viático pactado]]*(1+Viáticos[[#This Row],[% Administración]]/100))),\"\")","v":""},null,{"$f":"+IFERROR(Viáticos[[#This Row],[Costo parcial]]*(Viáticos[[#This Row],[% Participación ]]/100),\"\")","v":""}]
[null,null,null,null,null,{"$f":"+IF(Viáticos[[#This Row],[Nivel del cargo]]=\"\",\"\",F199)","v":""},null,null,{"$f":"IFERROR(IF(Viáticos[[#This Row],[Nivel del cargo]]=\"No directivo\",((IF(OR(Viáticos[[#This Row],[Número de días por viático]]=\"\",Viáticos[[#This Row],[Número de personas]]=\"\"),\"\",IFERROR(2*(VLOOKUP(Viáticos[[#This Row],[Destino]],Tabla216[#All],3,0)+VLOOKUP(Viáticos[[#This Row],[Destino]],Tabla216[#All],4,0))+Viáticos[[#This Row],[Número de días por viático]]*(2*VLOOKUP(Viáticos[[#This Row],[Destino]],Tabla216[#All],5,0)+VLOOKUP(Viáticos[[#This Row],[Destino]],Tabla216[#All],6,0)+VLOOKUP(Viáticos[[#This Row],[Destino]],Tabla216[#All],7,0))+(Viáticos[[#This Row],[Número de días por viático]]-1)*(VLOOKUP(Viáticos[[#This Row],[Destino]],Tabla216[#All],8,0)+VLOOKUP(Viáticos[[#This Row],[Destino]],Tabla216[#All],9,0)),\"\"))))*Viáticos[[#This Row],[Número de personas]],(IF(OR(Viáticos[[#This Row],[Número de días por viático]]=\"\",Viáticos[[#This Row],[Número de personas]]=\"\"),\"\",IFERROR(2*(VLOOKUP(Viáticos[[#This Row],[Destino]],Tabla216[#All],3,0)+VLOOKUP(Viáticos[[#This Row],[Destino]],Tabla216[#All],4,0))+Viáticos[[#This Row],[Número de días por viático]]*(2*VLOOKUP(Viáticos[[#This Row],[Destino]],Tabla216[#All],5,0)+VLOOKUP(Viáticos[[#This Row],[Destino]],Tabla216[#All],6,0)+VLOOKUP(Viáticos[[#This Row],[Destino]],Tabla216[#All],7,0))+(Viáticos[[#This Row],[Número de días por viático]]-1)*(VLOOKUP(Viáticos[[#This Row],[Destino]],Tabla216[#All],8,0)+VLOOKUP(Viáticos[[#This Row],[Destino]],Tabla216[#All],9,0)),\"\")))*Viáticos[[#This Row],[Número de personas]]*(1+25%)),\"\")","v":""},null,null,{"$f":"IFERROR(IF(Viáticos[[#This Row],[Viático pactado]]=\"\",((Viáticos[[#This Row],[Valor Viático por viaje]]*(1+Viáticos[[#This Row],[% Administración]]/100))),(Viáticos[[#This Row],[Viático pactado]]*(1+Viáticos[[#This Row],[% Administración]]/100))),\"\")","v":""},null,{"$f":"+IFERROR(Viáticos[[#This Row],[Costo parcial]]*(Viáticos[[#This Row],[% Participación ]]/100),\"\")","v":""}]
[null,null,null,null,null,{"$f":"+IF(Viáticos[[#This Row],[Nivel del cargo]]=\"\",\"\",F200)","v":""},null,null,{"$f":"IFERROR(IF(Viáticos[[#This Row],[Nivel del cargo]]=\"No directivo\",((IF(OR(Viáticos[[#This Row],[Número de días por viático]]=\"\",Viáticos[[#This Row],[Número de personas]]=\"\"),\"\",IFERROR(2*(VLOOKUP(Viáticos[[#This Row],[Destino]],Tabla216[#All],3,0)+VLOOKUP(Viáticos[[#This Row],[Destino]],Tabla216[#All],4,0))+Viáticos[[#This Row],[Número de días por viático]]*(2*VLOOKUP(Viáticos[[#This Row],[Destino]],Tabla216[#All],5,0)+VLOOKUP(Viáticos[[#This Row],[Destino]],Tabla216[#All],6,0)+VLOOKUP(Viáticos[[#This Row],[Destino]],Tabla216[#All],7,0))+(Viáticos[[#This Row],[Número de días por viático]]-1)*(VLOOKUP(Viáticos[[#This Row],[Destino]],Tabla216[#All],8,0)+VLOOKUP(Viáticos[[#This Row],[Destino]],Tabla216[#All],9,0)),\"\"))))*Viáticos[[#This Row],[Número de personas]],(IF(OR(Viáticos[[#This Row],[Número de días por viático]]=\"\",Viáticos[[#This Row],[Número de personas]]=\"\"),\"\",IFERROR(2*(VLOOKUP(Viáticos[[#This Row],[Destino]],Tabla216[#All],3,0)+VLOOKUP(Viáticos[[#This Row],[Destino]],Tabla216[#All],4,0))+Viáticos[[#This Row],[Número de días por viático]]*(2*VLOOKUP(Viáticos[[#This Row],[Destino]],Tabla216[#All],5,0)+VLOOKUP(Viáticos[[#This Row],[Destino]],Tabla216[#All],6,0)+VLOOKUP(Viáticos[[#This Row],[Destino]],Tabla216[#All],7,0))+(Viáticos[[#This Row],[Número de días por viático]]-1)*(VLOOKUP(Viáticos[[#This Row],[Destino]],Tabla216[#All],8,0)+VLOOKUP(Viáticos[[#This Row],[Destino]],Tabla216[#All],9,0)),\"\")))*Viáticos[[#This Row],[Número de personas]]*(1+25%)),\"\")","v":""},null,null,{"$f":"IFERROR(IF(Viáticos[[#This Row],[Viático pactado]]=\"\",((Viáticos[[#This Row],[Valor Viático por viaje]]*(1+Viáticos[[#This Row],[% Administración]]/100))),(Viáticos[[#This Row],[Viático pactado]]*(1+Viáticos[[#This Row],[% Administración]]/100))),\"\")","v":""},null,{"$f":"+IFERROR(Viáticos[[#This Row],[Costo parcial]]*(Viáticos[[#This Row],[% Participación ]]/100),\"\")","v":""}]

{"sheet":"Tiquetes","index":18,"n_rows":50,"n_cols":12,"rows_kept":50,"cut":false,"hidden":false,"merged":[]}
["Financiador","Fase","Descripción","Tipo destino","Valor tiquete Referencia\n (ida y regreso)","Valor Tiquete (ida y regreso)","% Administración","Número viajes (ida y regreso)","Número de personas","Costo parcial","% Participación","Costo"]
[null,null,null,null,{"$f":"+IFERROR(VLOOKUP(Tiquetes[[#This Row],[Tipo destino]],Tabla213[#All],2,0),\"\")","v":""},null,null,null,null,{"$f":"IFERROR(IF(Tiquetes[[#This Row],[Valor Tiquete (ida y regreso)]]=\"\",Tiquetes[[#This Row],[Valor tiquete Referencia\n (ida y regreso)]]*(1+Tiquetes[[#This Row],[% Administración]])*Tiquetes[[#This Row],[Número de personas]]*Tiquetes[[#This Row],[Número viajes (ida y regreso)]],(Tiquetes[[#This Row],[Valor Tiquete (ida y regreso)]]*(1+Tiquetes[[#This Row],[% Administración]])*Tiquetes[[#This Row],[Número de personas]]*Tiquetes[[#This Row],[Número viajes (ida y regreso)]])),\"\")","v":""},null,{"$f":"+IFERROR(Tiquetes[[#This Row],[Costo parcial]]*Tiquetes[[#This Row],[% Participación]]/100,\"\")","v":""}]
[null,null,null,null,{"$f":"+IFERROR(VLOOKUP(Tiquetes[[#This Row],[Tipo destino]],Tabla213[#All],2,0),\"\")","v":""},null,null,null,null,{"$f":"IFERROR(IF(Tiquetes[[#This Row],[Valor Tiquete (ida y regreso)]]=\"\",Tiquetes[[#This Row],[Valor tiquete Referencia\n (ida y regreso)]]*(1+Tiquetes[[#This Row],[% Administración]])*Tiquetes[[#This Row],[Número de personas]]*Tiquetes[[#This Row],[Número viajes (ida y regreso)]],(Tiquetes[[#This Row],[Valor Tiquete (ida y regreso)]]*(1+Tiquetes[[#This Row],[% Administración]])*Tiquetes[[#This Row],[Número de personas]]*Tiquetes[[#This Row],[Número viajes (ida y regreso)]])),\"\")","v":""},null,{"$f":"+IFERROR(Tiquetes[[#This Row],[Costo parcial]]*Tiquetes[[#This Row],[% Participación]]/100,\"\")","v":""}]
[null,null,null,null,{"$f":"+IFERROR(VLOOKUP(Tiquetes[[#This Row],[Tipo destino]],Tabla213[#All],2,0),\"\")","v":""},null,null,null,null,{"$f":"IFERROR(IF(Tiquetes[[#This Row],[Valor Tiquete (ida y regreso)]]=\"\",Tiquetes[[#This Row],[Valor tiquete Referencia\n (ida y regreso)]]*(1+Tiquetes[[#This Row],[% Administración]])*Tiquetes[[#This Row],[Número de personas]]*Tiquetes[[#This Row],[Número viajes (ida y regreso)]],(Tiquetes[[#This Row],[Valor Tiquete (ida y regreso)]]*(1+Tiquetes[[#This Row],[% Administración]])*Tiquetes[[#This Row],[Número de personas]]*Tiquetes[[#This Row],[Número viajes (ida y regreso)]])),\"\")","v":""},null,{"$f":"+IFERROR(Tiquetes[[#This Row],[Costo parcial]]*Tiquetes[[#This Row],[% Participación]]/100,\"\")","v":""}]
[null,null,null,null,{"$f":"+IFERROR(VLOOKUP(Tiquetes[[#This Row],[Tipo destino]],Tabla213[#All],2,0),\"\")","v":""},null,null,null,null,{"$f":"IFERROR(IF(Tiquetes[[#This Row],[Valor Tiquete (ida y regreso)]]=\"\",Tiquetes[[#This Row],[Valor tiquete Referencia\n (ida y regreso)]]*(1+Tiquetes[[#This Row],[% Administración]])*Tiquetes[[#This Row],[Número de personas]]*Tiquetes[[#This Row],[Número viajes (ida y regreso)]],(Tiquetes[[#This Row],[Valor Tiquete (ida y regreso)]]*(1+Tiquetes[[#This Row],[% Administración]])*Tiquetes[[#This Row],[Número de personas]]*Tiquetes[[#This Row],[Número viajes (ida y regreso)]])),\"\")","v":""},null,{"$f":"+IFERROR(Tiquetes[[#This Row],[Costo parcial]]*Tiquetes[[#This Row],[% Participación]]/100,\"\")","v":""}]
[null,null,null,null,{"$f":"+IFERROR(VLOOKUP(Tiquetes[[#This Row],[Tipo destino]],Tabla213[#All],2,0),\"\")","v":""},null,null,null,null,{"$f":"IFERROR(IF(Tiquetes[[#This Row],[Valor Tiquete (ida y regreso)]]=\"\",Tiquetes[[#This Row],[Valor tiquete Referencia\n (ida y regreso)]]*(1+Tiquetes[[#This Row],[% Administración]])*Tiquetes[[#This Row],[Número de personas]]*Tiquetes[[#This Row],[Número viajes (ida y regreso)]],(Tiquetes[[#This Row],[Valor Tiquete (ida y regreso)]]*(1+Tiquetes[[#This Row],[% Administración]])*Tiquetes[[#This Row],[Número de personas]]*Tiquetes[[#This Row],[Número viajes (ida y regreso)]])),\"\")","v":""},null,{"$f":"+IFERROR(Tiquetes[[#This Row],[Costo parcial]]*Tiquetes[[#This Row],[% Participación]]/100,\"\")","v":""}]
[null,null,null,null,{"$f":"+IFERROR(VLOOKUP(Tiquetes[[#This Row],[Tipo destino]],Tabla213[#All],2,0),\"\")","v":""},null,null,null,null,{"$f":"IFERROR(IF(Tiquetes[[#This Row],[Valor Tiquete (ida y regreso)]]=\"\",Tiquetes[[#This Row],[Valor tiquete Referencia\n (ida y regreso)]]*(1+Tiquetes[[#This Row],[% Administración]])*Tiquetes[[#This Row],[Número de personas]]*Tiquetes[[#This Row],[Número viajes (ida y regreso)]],(Tiquetes[[#This Row],[Valor Tiquete (ida y regreso)]]*(1+Tiquetes[[#This Row],[% Administración]])*Tiquetes[[#This Row],[Número de personas]]*Tiquetes[[#This Row],[Número viajes (ida y regreso)]])),\"\")","v":""},null,{"$f":"+IFERROR(Tiquetes[[#This Row],[Costo parcial]]*Tiquetes[[#This Row],[% Participación]]/100,\"\")","v":""}]
[null,null,null,null,{"$f":"+IFERROR(VLOOKUP(Tiquetes[[#This Row],[Tipo destino]],Tabla213[#All],2,0),\"\")","v":""},null,null,null,null,{"$f":"IFERROR(IF(Tiquetes[[#This Row],[Valor Tiquete (ida y regreso)]]=\"\",Tiquetes[[#This Row],[Valor tiquete Referencia\n (ida y regreso)]]*(1+Tiquetes[[#This Row],[% Administración]])*Tiquetes[[#This Row],[Número de personas]]*Tiquetes[[#This Row],[Número viajes (ida y regreso)]],(Tiquetes[[#This Row],[Valor Tiquete (ida y regreso)]]*(1+Tiquetes[[#This Row],[% Administración]])*Tiquetes[[#This Row],[Número de personas]]*Tiquetes[[#This Row],[Número viajes (ida y regreso)]])),\"\")","v":""},null,{"$f":"+IFERROR(Tiquetes[[#This Row],[Costo parcial]]*Tiquetes[[#This Row],[% Participación]]/100,\"\")","v":""}]
[null,null,null,null,{"$f":"+IFERROR(VLOOKUP(Tiquetes[[#This Row],[Tipo destino]],Tabla213[#All],2,0),\"\")","v":""},null,null,null,null,{"$f":"IFERROR(IF(Tiquetes[[#This Row],[Valor Tiquete (ida y regreso)]]=\"\",Tiquetes[[#This Row],[Valor tiquete Referencia\n (ida y regreso)]]*(1+Tiquetes[[#This Row],[% Administración]])*Tiquetes[[#This Row],[Número de personas]]*Tiquetes[[#This Row],[Número viajes (ida y regreso)]],(Tiquetes[[#This Row],[Valor Tiquete (ida y regreso)]]*(1+Tiquetes[[#This Row],[% Administración]])*Tiquetes[[#This Row],[Número de personas]]*Tiquetes[[#This Row],[Número viajes (ida y regreso)]])),\"\")","v":""},null,{"$f":"+IFERROR(Tiquetes[[#This Row],[Costo parcial]]*Tiquetes[[#This Row],[% Participación]]/100,\"\")","v":""}]
[null,null,null,null,{"$f":"+IFERROR(VLOOKUP(Tiquetes[[#This Row],[Tipo destino]],Tabla213[#All],2,0),\"\")","v":""},null,null,null,null,{"$f":"IFERROR(IF(Tiquetes[[#This Row],[Valor Tiquete (ida y regreso)]]=\"\",Tiquetes[[#This Row],[Valor tiquete Referencia\n (ida y regreso)]]*(1+Tiquetes[[#This Row],[% Administración]])*Tiquetes[[#This Row],[Número de personas]]*Tiquetes[[#This Row],[Número viajes (ida y regreso)]],(Tiquetes[[#This Row],[Valor Tiquete (ida y regreso)]]*(1+Tiquetes[[#This Row],[% Administración]])*Tiquetes[[#This Row],[Número de personas]]*Tiquetes[[#This Row],[Número viajes (ida y regreso)]])),\"\")","v":""},null,{"$f":"+IFERROR(Tiquetes[[#This Row],[Costo parcial]]*Tiquetes[[#This Row],[% Participación]]/100,\"\")","v":""}]
[null,null,null,null,{"$f":"+IFERROR(VLOOKUP(Tiquetes[[#This Row],[Tipo destino]],Tabla213[#All],2,0),\"\")","v":""},null,null,null,null,{"$f":"IFERROR(IF(Tiquetes[[#This Row],[Valor Tiquete (ida y regreso)]]=\"\",Tiquetes[[#This Row],[Valor tiquete Referencia\n (ida y regreso)]]*(1+Tiquetes[[#This Row],[% Administración]])*Tiquetes[[#This Row],[Número de personas]]*Tiquetes[[#This Row],[Número viajes (ida y regreso)]],(Tiquetes[[#This Row],[Valor Tiquete (ida y regreso)]]*(1+Tiquetes[[#This Row],[% Administración]])*Tiquetes[[#This Row],[Número de personas]]*Tiquetes[[#This Row],[Número viajes (ida y regreso)]])),\"\")","v":""},null,{"$f":"+IFERROR(Tiquetes[[#This Row],[Costo parcial]]*Tiquetes[[#This Row],[% Participación]]/100,\"\")","v":""}]
[null,null,null,null,{"$f":"+IFERROR(VLOOKUP(Tiquetes[[#This Row],[Tipo destino]],Tabla213[#All],2,0),\"\")","v":""},null,null,null,null,{"$f":"IFERROR(IF(Tiquetes[[#This Row],[Valor Tiquete (ida y regreso)]]=\"\",Tiquetes[[#This Row],[Valor tiquete Referencia\n (ida y regreso)]]*(1+Tiquetes[[#This Row],[% Administración]])*Tiquetes[[#This Row],[Número de personas]]*Tiquetes[[#This Row],[Número viajes (ida y regreso)]],(Tiquetes[[#This Row],[Valor Tiquete (ida y regreso)]]*(1+Tiquetes[[#This Row],[% Administración]])*Tiquetes[[#This Row],[Número de personas]]*Tiquetes[[#This Row],[Número viajes (ida y regreso)]])),\"\")","v":""},null,{"$f":"+IFERROR(Tiquetes[[#This Row],[Costo parcial]]*Tiquetes[[#This Row],[% Participación]]/100,\"\")","v":""}]
[null,null,null,null,{"$f":"+IFERROR(VLOOKUP(Tiquetes[[#This Row],[Tipo destino]],Tabla213[#All],2,0),\"\")","v":""},null,null,null,null,{"$f":"IFERROR(IF(Tiquetes[[#This Row],[Valor Tiquete (ida y regreso)]]=\"\",Tiquetes[[#This Row],[Valor tiquete Referencia\n (ida y regreso)]]*(1+Tiquetes[[#This Row],[% Administración]])*Tiquetes[[#This Row],[Número de personas]]*Tiquetes[[#This Row],[Número viajes (ida y regreso)]],(Tiquetes[[#This Row],[Valor Tiquete (ida y regreso)]]*(1+Tiquetes[[#This Row],[% Administración]])*Tiquetes[[#This Row],[Número de personas]]*Tiquetes[[#This Row],[Número viajes (ida y regreso)]])),\"\")","v":""},null,{"$f":"+IFERROR(Tiquetes[[#This Row],[Costo parcial]]*Tiquetes[[#This Row],[% Participación]]/100,\"\")","v":""}]
[null,null,null,null,{"$f":"+IFERROR(VLOOKUP(Tiquetes[[#This Row],[Tipo destino]],Tabla213[#All],2,0),\"\")","v":""},null,null,null,null,{"$f":"IFERROR(IF(Tiquetes[[#This Row],[Valor Tiquete (ida y regreso)]]=\"\",Tiquetes[[#This Row],[Valor tiquete Referencia\n (ida y regreso)]]*(1+Tiquetes[[#This Row],[% Administración]])*Tiquetes[[#This Row],[Número de personas]]*Tiquetes[[#This Row],[Número viajes (ida y regreso)]],(Tiquetes[[#This Row],[Valor Tiquete (ida y regreso)]]*(1+Tiquetes[[#This Row],[% Administración]])*Tiquetes[[#This Row],[Número de personas]]*Tiquetes[[#This Row],[Número viajes (ida y regreso)]])),\"\")","v":""},null,{"$f":"+IFERROR(Tiquetes[[#This Row],[Costo parcial]]*Tiquetes[[#This Row],[% Participación]]/100,\"\")","v":""}]
[null,null,null,null,{"$f":"+IFERROR(VLOOKUP(Tiquetes[[#This Row],[Tipo destino]],Tabla213[#All],2,0),\"\")","v":""},null,null,null,null,{"$f":"IFERROR(IF(Tiquetes[[#This Row],[Valor Tiquete (ida y regreso)]]=\"\",Tiquetes[[#This Row],[Valor tiquete Referencia\n (ida y regreso)]]*(1+Tiquetes[[#This Row],[% Administración]])*Tiquetes[[#This Row],[Número de personas]]*Tiquetes[[#This Row],[Número viajes (ida y regreso)]],(Tiquetes[[#This Row],[Valor Tiquete (ida y regreso)]]*(1+Tiquetes[[#This Row],[% Administración]])*Tiquetes[[#This Row],[Número de personas]]*Tiquetes[[#This Row],[Número viajes (ida y regreso)]])),\"\")","v":""},null,{"$f":"+IFERROR(Tiquetes[[#This Row],[Costo parcial]]*Tiquetes[[#This Row],[% Participación]]/100,\"\")","v":""}]
[null,null,null,null,{"$f":"+IFERROR(VLOOKUP(Tiquetes[[#This Row],[Tipo destino]],Tabla213[#All],2,0),\"\")","v":""},null,null,null,null,{"$f":"IFERROR(IF(Tiquetes[[#This Row],[Valor Tiquete (ida y regreso)]]=\"\",Tiquetes[[#This Row],[Valor tiquete Referencia\n (ida y regreso)]]*(1+Tiquetes[[#This Row],[% Administración]])*Tiquetes[[#This Row],[Número de personas]]*Tiquetes[[#This Row],[Número viajes (ida y regreso)]],(Tiquetes[[#This Row],[Valor Tiquete (ida y regreso)]]*(1+Tiquetes[[#This Row],[% Administración]])*Tiquetes[[#This Row],[Número de personas]]*Tiquetes[[#This Row],[Número viajes (ida y regreso)]])),\"\")","v":""},null,{"$f":"+IFERROR(Tiquetes[[#This Row],[Costo parcial]]*Tiquetes[[#This Row],[% Participación]]/100,\"\")","v":""}]
[null,null,null,null,{"$f":"+IFERROR(VLOOKUP(Tiquetes[[#This Row],[Tipo destino]],Tabla213[#All],2,0),\"\")","v":""},null,null,null,null,{"$f":"IFERROR(IF(Tiquetes[[#This Row],[Valor Tiquete (ida y regreso)]]=\"\",Tiquetes[[#This Row],[Valor tiquete Referencia\n (ida y regreso)]]*(1+Tiquetes[[#This Row],[% Administración]])*Tiquetes[[#This Row],[Número de personas]]*Tiquetes[[#This Row],[Número viajes (ida y regreso)]],(Tiquetes[[#This Row],[Valor Tiquete (ida y regreso)]]*(1+Tiquetes[[#This Row],[% Administración]])*Tiquetes[[#This Row],[Número de personas]]*Tiquetes[[#This Row],[Número viajes (ida y regreso)]])),\"\")","v":""},null,{"$f":"+IFERROR(Tiquetes[[#This Row],[Costo parcial]]*Tiquetes[[#This Row],[% Participación]]/100,\"\")","v":""}]
[null,null,null,null,{"$f":"+IFERROR(VLOOKUP(Tiquetes[[#This Row],[Tipo destino]],Tabla213[#All],2,0),\"\")","v":""},null,null,null,null,{"$f":"IFERROR(IF(Tiquetes[[#This Row],[Valor Tiquete (ida y regreso)]]=\"\",Tiquetes[[#This Row],[Valor tiquete Referencia\n (ida y regreso)]]*(1+Tiquetes[[#This Row],[% Administración]])*Tiquetes[[#This Row],[Número de personas]]*Tiquetes[[#This Row],[Número viajes (ida y regreso)]],(Tiquetes[[#This Row],[Valor Tiquete (ida y regreso)]]*(1+Tiquetes[[#This Row],[% Administración]])*Tiquetes[[#This Row],[Número de personas]]*Tiquetes[[#This Row],[Número viajes (ida y regreso)]])),\"\")","v":""},null,{"$f":"+IFERROR(Tiquetes[[#This Row],[Costo parcial]]*Tiquetes[[#This Row],[% Participación]]/100,\"\")","v":""}]
[null,null,null,null,{"$f":"+IFERROR(VLOOKUP(Tiquetes[[#This Row],[Tipo destino]],Tabla213[#All],2,0),\"\")","v":""},null,null,null,null,{"$f":"IFERROR(IF(Tiquetes[[#This Row],[Valor Tiquete (ida y regreso)]]=\"\",Tiquetes[[#This Row],[Valor tiquete Referencia\n (ida y regreso)]]*(1+Tiquetes[[#This Row],[% Administración]])*Tiquetes[[#This Row],[Número de personas]]*Tiquetes[[#This Row],[Número viajes (ida y regreso)]],(Tiquetes[[#This Row],[Valor Tiquete (ida y regreso)]]*(1+Tiquetes[[#This Row],[% Administración]])*Tiquetes[[#This Row],[Número de personas]]*Tiquetes[[#This Row],[Número viajes (ida y regreso)]])),\"\")","v":""},null,{"$f":"+IFERROR(Tiquetes[[#This Row],[Costo parcial]]*Tiquetes[[#This Row],[% Participación]]/100,\"\")","v":""}]
[null,null,null,null,{"$f":"+IFERROR(VLOOKUP(Tiquetes[[#This Row],[Tipo destino]],Tabla213[#All],2,0),\"\")","v":""},null,null,null,null,{"$f":"IFERROR(IF(Tiquetes[[#This Row],[Valor Tiquete (ida y regreso)]]=\"\",Tiquetes[[#This Row],[Valor tiquete Referencia\n (ida y regreso)]]*(1+Tiquetes[[#This Row],[% Administración]])*Tiquetes[[#This Row],[Número de personas]]*Tiquetes[[#This Row],[Número viajes (ida y regreso)]],(Tiquetes[[#This Row],[Valor Tiquete (ida y regreso)]]*(1+Tiquetes[[#This Row],[% Administración]])*Tiquetes[[#This Row],[Número de personas]]*Tiquetes[[#This Row],[Número viajes (ida y regreso)]])),\"\")","v":""},null,{"$f":"+IFERROR(Tiquetes[[#This Row],[Costo parcial]]*Tiquetes[[#This Row],[% Participación]]/100,\"\")","v":""}]
[null,null,null,null,{"$f":"+IFERROR(VLOOKUP(Tiquetes[[#This Row],[Tipo destino]],Tabla213[#All],2,0),\"\")","v":""},null,null,null,null,{"$f":"IFERROR(IF(Tiquetes[[#This Row],[Valor Tiquete (ida y regreso)]]=\"\",Tiquetes[[#This Row],[Valor tiquete Referencia\n (ida y regreso)]]*(1+Tiquetes[[#This Row],[% Administración]])*Tiquetes[[#This Row],[Número de personas]]*Tiquetes[[#This Row],[Número viajes (ida y regreso)]],(Tiquetes[[#This Row],[Valor Tiquete (ida y regreso)]]*(1+Tiquetes[[#This Row],[% Administración]])*Tiquetes[[#This Row],[Número de personas]]*Tiquetes[[#This Row],[Número viajes (ida y regreso)]])),\"\")","v":""},null,{"$f":"+IFERROR(Tiquetes[[#This Row],[Costo parcial]]*Tiquetes[[#This Row],[% Participación]]/100,\"\")","v":""}]
[null,null,null,null,{"$f":"+IFERROR(VLOOKUP(Tiquetes[[#This Row],[Tipo destino]],Tabla213[#All],2,0),\"\")","v":""},null,null,null,null,{"$f":"IFERROR(IF(Tiquetes[[#This Row],[Valor Tiquete (ida y regreso)]]=\"\",Tiquetes[[#This Row],[Valor tiquete Referencia\n (ida y regreso)]]*(1+Tiquetes[[#This Row],[% Administración]])*Tiquetes[[#This Row],[Número de personas]]*Tiquetes[[#This Row],[Número viajes (ida y regreso)]],(Tiquetes[[#This Row],[Valor Tiquete (ida y regreso)]]*(1+Tiquetes[[#This Row],[% Administración]])*Tiquetes[[#This Row],[Número de personas]]*Tiquetes[[#This Row],[Número viajes (ida y regreso)]])),\"\")","v":""},null,{"$f":"+IFERROR(Tiquetes[[#This Row],[Costo parcial]]*Tiquetes[[#This Row],[% Participación]]/100,\"\")","v":""}]
[null,null,null,null,{"$f":"+IFERROR(VLOOKUP(Tiquetes[[#This Row],[Tipo destino]],Tabla213[#All],2,0),\"\")","v":""},null,null,null,null,{"$f":"IFERROR(IF(Tiquetes[[#This Row],[Valor Tiquete (ida y regreso)]]=\"\",Tiquetes[[#This Row],[Valor tiquete Referencia\n (ida y regreso)]]*(1+Tiquetes[[#This Row],[% Administración]])*Tiquetes[[#This Row],[Número de personas]]*Tiquetes[[#This Row],[Número viajes (ida y regreso)]],(Tiquetes[[#This Row],[Valor Tiquete (ida y regreso)]]*(1+Tiquetes[[#This Row],[% Administración]])*Tiquetes[[#This Row],[Número de personas]]*Tiquetes[[#This Row],[Número viajes (ida y regreso)]])),\"\")","v":""},null,{"$f":"+IFERROR(Tiquetes[[#This Row],[Costo parcial]]*Tiquetes[[#This Row],[% Participación]]/100,\"\")","v":""}]
[null,null,null,null,{"$f":"+IFERROR(VLOOKUP(Tiquetes[[#This Row],[Tipo destino]],Tabla213[#All],2,0),\"\")","v":""},null,null,null,null,{"$f":"IFERROR(IF(Tiquetes[[#This Row],[Valor Tiquete (ida y regreso)]]=\"\",Tiquetes[[#This Row],[Valor tiquete Referencia\n (ida y regreso)]]*(1+Tiquetes[[#This Row],[% Administración]])*Tiquetes[[#This Row],[Número de personas]]*Tiquetes[[#This Row],[Número viajes (ida y regreso)]],(Tiquetes[[#This Row],[Valor Tiquete (ida y regreso)]]*(1+Tiquetes[[#This Row],[% Administración]])*Tiquetes[[#This Row],[Número de personas]]*Tiquetes[[#This Row],[Número viajes (ida y regreso)]])),\"\")","v":""},null,{"$f":"+IFERROR(Tiquetes[[#This Row],[Costo parcial]]*Tiquetes[[#This Row],[% Participación]]/100,\"\")","v":""}]
[null,null,null,null,{"$f":"+IFERROR(VLOOKUP(Tiquetes[[#This Row],[Tipo destino]],Tabla213[#All],2,0),\"\")","v":""},null,null,null,null,{"$f":"IFERROR(IF(Tiquetes[[#This Row],[Valor Tiquete (ida y regreso)]]=\"\",Tiquetes[[#This Row],[Valor tiquete Referencia\n (ida y regreso)]]*(1+Tiquetes[[#This Row],[% Administración]])*Tiquetes[[#This Row],[Número de personas]]*Tiquetes[[#This Row],[Número viajes (ida y regreso)]],(Tiquetes[[#This Row],[Valor Tiquete (ida y regreso)]]*(1+Tiquetes[[#This Row],[% Administración]])*Tiquetes[[#This Row],[Número de personas]]*Tiquetes[[#This Row],[Número viajes (ida y regreso)]])),\"\")","v":""},null,{"$f":"+IFERROR(Tiquetes[[#This Row],[Costo parcial]]*Tiquetes[[#This Row],[% Participación]]/100,\"\")","v":""}]
[null,null,null,null,{"$f":"+IFERROR(VLOOKUP(Tiquetes[[#This Row],[Tipo destino]],Tabla213[#All],2,0),\"\")","v":""},null,null,null,null,{"$f":"IFERROR(IF(Tiquetes[[#This Row],[Valor Tiquete (ida y regreso)]]=\"\",Tiquetes[[#This Row],[Valor tiquete Referencia\n (ida y regreso)]]*(1+Tiquetes[[#This Row],[% Administración]])*Tiquetes[[#This Row],[Número de personas]]*Tiquetes[[#This Row],[Número viajes (ida y regreso)]],(Tiquetes[[#This Row],[Valor Tiquete (ida y regreso)]]*(1+Tiquetes[[#This Row],[% Administración]])*Tiquetes[[#This Row],[Número de personas]]*Tiquetes[[#This Row],[Número viajes (ida y regreso)]])),\"\")","v":""},null,{"$f":"+IFERROR(Tiquetes[[#This Row],[Costo parcial]]*Tiquetes[[#This Row],[% Participación]]/100,\"\")","v":""}]
[null,null,null,null,{"$f":"+IFERROR(VLOOKUP(Tiquetes[[#This Row],[Tipo destino]],Tabla213[#All],2,0),\"\")","v":""},null,null,null,null,{"$f":"IFERROR(IF(Tiquetes[[#This Row],[Valor Tiquete (ida y regreso)]]=\"\",Tiquetes[[#This Row],[Valor tiquete Referencia\n (ida y regreso)]]*(1+Tiquetes[[#This Row],[% Administración]])*Tiquetes[[#This Row],[Número de personas]]*Tiquetes[[#This Row],[Número viajes (ida y regreso)]],(Tiquetes[[#This Row],[Valor Tiquete (ida y regreso)]]*(1+Tiquetes[[#This Row],[% Administración]])*Tiquetes[[#This Row],[Número de personas]]*Tiquetes[[#This Row],[Número viajes (ida y regreso)]])),\"\")","v":""},null,{"$f":"+IFERROR(Tiquetes[[#This Row],[Costo parcial]]*Tiquetes[[#This Row],[% Participación]]/100,\"\")","v":""}]
[null,null,null,null,{"$f":"+IFERROR(VLOOKUP(Tiquetes[[#This Row],[Tipo destino]],Tabla213[#All],2,0),\"\")","v":""},null,null,null,null,{"$f":"IFERROR(IF(Tiquetes[[#This Row],[Valor Tiquete (ida y regreso)]]=\"\",Tiquetes[[#This Row],[Valor tiquete Referencia\n (ida y regreso)]]*(1+Tiquetes[[#This Row],[% Administración]])*Tiquetes[[#This Row],[Número de personas]]*Tiquetes[[#This Row],[Número viajes (ida y regreso)]],(Tiquetes[[#This Row],[Valor Tiquete (ida y regreso)]]*(1+Tiquetes[[#This Row],[% Administración]])*Tiquetes[[#This Row],[Número de personas]]*Tiquetes[[#This Row],[Número viajes (ida y regreso)]])),\"\")","v":""},null,{"$f":"+IFERROR(Tiquetes[[#This Row],[Costo parcial]]*Tiquetes[[#This Row],[% Participación]]/100,\"\")","v":""}]
[null,null,null,null,{"$f":"+IFERROR(VLOOKUP(Tiquetes[[#This Row],[Tipo destino]],Tabla213[#All],2,0),\"\")","v":""},null,null,null,null,{"$f":"IFERROR(IF(Tiquetes[[#This Row],[Valor Tiquete (ida y regreso)]]=\"\",Tiquetes[[#This Row],[Valor tiquete Referencia\n (ida y regreso)]]*(1+Tiquetes[[#This Row],[% Administración]])*Tiquetes[[#This Row],[Número de personas]]*Tiquetes[[#This Row],[Número viajes (ida y regreso)]],(Tiquetes[[#This Row],[Valor Tiquete (ida y regreso)]]*(1+Tiquetes[[#This Row],[% Administración]])*Tiquetes[[#This Row],[Número de personas]]*Tiquetes[[#This Row],[Número viajes (ida y regreso)]])),\"\")","v":""},null,{"$f":"+IFERROR(Tiquetes[[#This Row],[Costo parcial]]*Tiquetes[[#This Row],[% Participación]]/100,\"\")","v":""}]
[null,null,null,null,{"$f":"+IFERROR(VLOOKUP(Tiquetes[[#This Row],[Tipo destino]],Tabla213[#All],2,0),\"\")","v":""},null,null,null,null,{"$f":"IFERROR(IF(Tiquetes[[#This Row],[Valor Tiquete (ida y regreso)]]=\"\",Tiquetes[[#This Row],[Valor tiquete Referencia\n (ida y regreso)]]*(1+Tiquetes[[#This Row],[% Administración]])*Tiquetes[[#This Row],[Número de personas]]*Tiquetes[[#This Row],[Número viajes (ida y regreso)]],(Tiquetes[[#This Row],[Valor Tiquete (ida y regreso)]]*(1+Tiquetes[[#This Row],[% Administración]])*Tiquetes[[#This Row],[Número de personas]]*Tiquetes[[#This Row],[Número viajes (ida y regreso)]])),\"\")","v":""},null,{"$f":"+IFERROR(Tiquetes[[#This Row],[Costo parcial]]*Tiquetes[[#This Row],[% Participación]]/100,\"\")","v":""}]
[null,null,null,null,{"$f":"+IFERROR(VLOOKUP(Tiquetes[[#This Row],[Tipo destino]],Tabla213[#All],2,0),\"\")","v":""},null,null,null,null,{"$f":"IFERROR(IF(Tiquetes[[#This Row],[Valor Tiquete (ida y regreso)]]=\"\",Tiquetes[[#This Row],[Valor tiquete Referencia\n (ida y regreso)]]*(1+Tiquetes[[#This Row],[% Administración]])*Tiquetes[[#This Row],[Número de personas]]*Tiquetes[[#This Row],[Número viajes (ida y regreso)]],(Tiquetes[[#This Row],[Valor Tiquete (ida y regreso)]]*(1+Tiquetes[[#This Row],[% Administración]])*Tiquetes[[#This Row],[Número de personas]]*Tiquetes[[#This Row],[Número viajes (ida y regreso)]])),\"\")","v":""},null,{"$f":"+IFERROR(Tiquetes[[#This Row],[Costo parcial]]*Tiquetes[[#This Row],[% Participación]]/100,\"\")","v":""}]
[null,null,null,null,{"$f":"+IFERROR(VLOOKUP(Tiquetes[[#This Row],[Tipo destino]],Tabla213[#All],2,0),\"\")","v":""},null,null,null,null,{"$f":"IFERROR(IF(Tiquetes[[#This Row],[Valor Tiquete (ida y regreso)]]=\"\",Tiquetes[[#This Row],[Valor tiquete Referencia\n (ida y regreso)]]*(1+Tiquetes[[#This Row],[% Administración]])*Tiquetes[[#This Row],[Número de personas]]*Tiquetes[[#This Row],[Número viajes (ida y regreso)]],(Tiquetes[[#This Row],[Valor Tiquete (ida y regreso)]]*(1+Tiquetes[[#This Row],[% Administración]])*Tiquetes[[#This Row],[Número de personas]]*Tiquetes[[#This Row],[Número viajes (ida y regreso)]])),\"\")","v":""},null,{"$f":"+IFERROR(Tiquetes[[#This Row],[Costo parcial]]*Tiquetes[[#This Row],[% Participación]]/100,\"\")","v":""}]
[null,null,null,null,{"$f":"+IFERROR(VLOOKUP(Tiquetes[[#This Row],[Tipo destino]],Tabla213[#All],2,0),\"\")","v":""},null,null,null,null,{"$f":"IFERROR(IF(Tiquetes[[#This Row],[Valor Tiquete (ida y regreso)]]=\"\",Tiquetes[[#This Row],[Valor tiquete Referencia\n (ida y regreso)]]*(1+Tiquetes[[#This Row],[% Administración]])*Tiquetes[[#This Row],[Número de personas]]*Tiquetes[[#This Row],[Número viajes (ida y regreso)]],(Tiquetes[[#This Row],[Valor Tiquete (ida y regreso)]]*(1+Tiquetes[[#This Row],[% Administración]])*Tiquetes[[#This Row],[Número de personas]]*Tiquetes[[#This Row],[Número viajes (ida y regreso)]])),\"\")","v":""},null,{"$f":"+IFERROR(Tiquetes[[#This Row],[Costo parcial]]*Tiquetes[[#This Row],[% Participación]]/100,\"\")","v":""}]
[null,null,null,null,{"$f":"+IFERROR(VLOOKUP(Tiquetes[[#This Row],[Tipo destino]],Tabla213[#All],2,0),\"\")","v":""},null,null,null,null,{"$f":"IFERROR(IF(Tiquetes[[#This Row],[Valor Tiquete (ida y regreso)]]=\"\",Tiquetes[[#This Row],[Valor tiquete Referencia\n (ida y regreso)]]*(1+Tiquetes[[#This Row],[% Administración]])*Tiquetes[[#This Row],[Número de personas]]*Tiquetes[[#This Row],[Número viajes (ida y regreso)]],(Tiquetes[[#This Row],[Valor Tiquete (ida y regreso)]]*(1+Tiquetes[[#This Row],[% Administración]])*Tiquetes[[#This Row],[Número de personas]]*Tiquetes[[#This Row],[Número viajes (ida y regreso)]])),\"\")","v":""},null,{"$f":"+IFERROR(Tiquetes[[#This Row],[Costo parcial]]*Tiquetes[[#This Row],[% Participación]]/100,\"\")","v":""}]
[null,null,null,null,{"$f":"+IFERROR(VLOOKUP(Tiquetes[[#This Row],[Tipo destino]],Tabla213[#All],2,0),\"\")","v":""},null,null,null,null,{"$f":"IFERROR(IF(Tiquetes[[#This Row],[Valor Tiquete (ida y regreso)]]=\"\",Tiquetes[[#This Row],[Valor tiquete Referencia\n (ida y regreso)]]*(1+Tiquetes[[#This Row],[% Administración]])*Tiquetes[[#This Row],[Número de personas]]*Tiquetes[[#This Row],[Número viajes (ida y regreso)]],(Tiquetes[[#This Row],[Valor Tiquete (ida y regreso)]]*(1+Tiquetes[[#This Row],[% Administración]])*Tiquetes[[#This Row],[Número de personas]]*Tiquetes[[#This Row],[Número viajes (ida y regreso)]])),\"\")","v":""},null,{"$f":"+IFERROR(Tiquetes[[#This Row],[Costo parcial]]*Tiquetes[[#This Row],[% Participación]]/100,\"\")","v":""}]
[null,null,null,null,{"$f":"+IFERROR(VLOOKUP(Tiquetes[[#This Row],[Tipo destino]],Tabla213[#All],2,0),\"\")","v":""},null,null,null,null,{"$f":"IFERROR(IF(Tiquetes[[#This Row],[Valor Tiquete (ida y regreso)]]=\"\",Tiquetes[[#This Row],[Valor tiquete Referencia\n (ida y regreso)]]*(1+Tiquetes[[#This Row],[% Administración]])*Tiquetes[[#This Row],[Número de personas]]*Tiquetes[[#This Row],[Número viajes (ida y regreso)]],(Tiquetes[[#This Row],[Valor Tiquete (ida y regreso)]]*(1+Tiquetes[[#This Row],[% Administración]])*Tiquetes[[#This Row],[Número de personas]]*Tiquetes[[#This Row],[Número viajes (ida y regreso)]])),\"\")","v":""},null,{"$f":"+IFERROR(Tiquetes[[#This Row],[Costo parcial]]*Tiquetes[[#This Row],[% Participación]]/100,\"\")","v":""}]
[null,null,null,null,{"$f":"+IFERROR(VLOOKUP(Tiquetes[[#This Row],[Tipo destino]],Tabla213[#All],2,0),\"\")","v":""},null,null,null,null,{"$f":"IFERROR(IF(Tiquetes[[#This Row],[Valor Tiquete (ida y regreso)]]=\"\",Tiquetes[[#This Row],[Valor tiquete Referencia\n (ida y regreso)]]*(1+Tiquetes[[#This Row],[% Administración]])*Tiquetes[[#This Row],[Número de personas]]*Tiquetes[[#This Row],[Número viajes (ida y regreso)]],(Tiquetes[[#This Row],[Valor Tiquete (ida y regreso)]]*(1+Tiquetes[[#This Row],[% Administración]])*Tiquetes[[#This Row],[Número de personas]]*Tiquetes[[#This Row],[Número viajes (ida y regreso)]])),\"\")","v":""},null,{"$f":"+IFERROR(Tiquetes[[#This Row],[Costo parcial]]*Tiquetes[[#This Row],[% Participación]]/100,\"\")","v":""}]
[null,null,null,null,{"$f":"+IFERROR(VLOOKUP(Tiquetes[[#This Row],[Tipo destino]],Tabla213[#All],2,0),\"\")","v":""},null,null,null,null,{"$f":"IFERROR(IF(Tiquetes[[#This Row],[Valor Tiquete (ida y regreso)]]=\"\",Tiquetes[[#This Row],[Valor tiquete Referencia\n (ida y regreso)]]*(1+Tiquetes[[#This Row],[% Administración]])*Tiquetes[[#This Row],[Número de personas]]*Tiquetes[[#This Row],[Número viajes (ida y regreso)]],(Tiquetes[[#This Row],[Valor Tiquete (ida y regreso)]]*(1+Tiquetes[[#This Row],[% Administración]])*Tiquetes[[#This Row],[Número de personas]]*Tiquetes[[#This Row],[Número viajes (ida y regreso)]])),\"\")","v":""},null,{"$f":"+IFERROR(Tiquetes[[#This Row],[Costo parcial]]*Tiquetes[[#This Row],[% Participación]]/100,\"\")","v":""}]
[null,null,null,null,{"$f":"+IFERROR(VLOOKUP(Tiquetes[[#This Row],[Tipo destino]],Tabla213[#All],2,0),\"\")","v":""},null,null,null,null,{"$f":"IFERROR(IF(Tiquetes[[#This Row],[Valor Tiquete (ida y regreso)]]=\"\",Tiquetes[[#This Row],[Valor tiquete Referencia\n (ida y regreso)]]*(1+Tiquetes[[#This Row],[% Administración]])*Tiquetes[[#This Row],[Número de personas]]*Tiquetes[[#This Row],[Número viajes (ida y regreso)]],(Tiquetes[[#This Row],[Valor Tiquete (ida y regreso)]]*(1+Tiquetes[[#This Row],[% Administración]])*Tiquetes[[#This Row],[Número de personas]]*Tiquetes[[#This Row],[Número viajes (ida y regreso)]])),\"\")","v":""},null,{"$f":"+IFERROR(Tiquetes[[#This Row],[Costo parcial]]*Tiquetes[[#This Row],[% Participación]]/100,\"\")","v":""}]
[null,null,null,null,{"$f":"+IFERROR(VLOOKUP(Tiquetes[[#This Row],[Tipo destino]],Tabla213[#All],2,0),\"\")","v":""},null,null,null,null,{"$f":"IFERROR(IF(Tiquetes[[#This Row],[Valor Tiquete (ida y regreso)]]=\"\",Tiquetes[[#This Row],[Valor tiquete Referencia\n (ida y regreso)]]*(1+Tiquetes[[#This Row],[% Administración]])*Tiquetes[[#This Row],[Número de personas]]*Tiquetes[[#This Row],[Número viajes (ida y regreso)]],(Tiquetes[[#This Row],[Valor Tiquete (ida y regreso)]]*(1+Tiquetes[[#This Row],[% Administración]])*Tiquetes[[#This Row],[Número de personas]]*Tiquetes[[#This Row],[Número viajes (ida y regreso)]])),\"\")","v":""},null,{"$f":"+IFERROR(Tiquetes[[#This Row],[Costo parcial]]*Tiquetes[[#This Row],[% Participación]]/100,\"\")","v":""}]
[null,null,null,null,{"$f":"+IFERROR(VLOOKUP(Tiquetes[[#This Row],[Tipo destino]],Tabla213[#All],2,0),\"\")","v":""},null,null,null,null,{"$f":"IFERROR(IF(Tiquetes[[#This Row],[Valor Tiquete (ida y regreso)]]=\"\",Tiquetes[[#This Row],[Valor tiquete Referencia\n (ida y regreso)]]*(1+Tiquetes[[#This Row],[% Administración]])*Tiquetes[[#This Row],[Número de personas]]*Tiquetes[[#This Row],[Número viajes (ida y regreso)]],(Tiquetes[[#This Row],[Valor Tiquete (ida y regreso)]]*(1+Tiquetes[[#This Row],[% Administración]])*Tiquetes[[#This Row],[Número de personas]]*Tiquetes[[#This Row],[Número viajes (ida y regreso)]])),\"\")","v":""},null,{"$f":"+IFERROR(Tiquetes[[#This Row],[Costo parcial]]*Tiquetes[[#This Row],[% Participación]]/100,\"\")","v":""}]
[null,null,null,null,{"$f":"+IFERROR(VLOOKUP(Tiquetes[[#This Row],[Tipo destino]],Tabla213[#All],2,0),\"\")","v":""},null,null,null,null,{"$f":"IFERROR(IF(Tiquetes[[#This Row],[Valor Tiquete (ida y regreso)]]=\"\",Tiquetes[[#This Row],[Valor tiquete Referencia\n (ida y regreso)]]*(1+Tiquetes[[#This Row],[% Administración]])*Tiquetes[[#This Row],[Número de personas]]*Tiquetes[[#This Row],[Número viajes (ida y regreso)]],(Tiquetes[[#This Row],[Valor Tiquete (ida y regreso)]]*(1+Tiquetes[[#This Row],[% Administración]])*Tiquetes[[#This Row],[Número de personas]]*Tiquetes[[#This Row],[Número viajes (ida y regreso)]])),\"\")","v":""},null,{"$f":"+IFERROR(Tiquetes[[#This Row],[Costo parcial]]*Tiquetes[[#This Row],[% Participación]]/100,\"\")","v":""}]
[null,null,null,null,{"$f":"+IFERROR(VLOOKUP(Tiquetes[[#This Row],[Tipo destino]],Tabla213[#All],2,0),\"\")","v":""},null,null,null,null,{"$f":"IFERROR(IF(Tiquetes[[#This Row],[Valor Tiquete (ida y regreso)]]=\"\",Tiquetes[[#This Row],[Valor tiquete Referencia\n (ida y regreso)]]*(1+Tiquetes[[#This Row],[% Administración]])*Tiquetes[[#This Row],[Número de personas]]*Tiquetes[[#This Row],[Número viajes (ida y regreso)]],(Tiquetes[[#This Row],[Valor Tiquete (ida y regreso)]]*(1+Tiquetes[[#This Row],[% Administración]])*Tiquetes[[#This Row],[Número de personas]]*Tiquetes[[#This Row],[Número viajes (ida y regreso)]])),\"\")","v":""},null,{"$f":"+IFERROR(Tiquetes[[#This Row],[Costo parcial]]*Tiquetes[[#This Row],[% Participación]]/100,\"\")","v":""}]
[null,null,null,null,{"$f":"+IFERROR(VLOOKUP(Tiquetes[[#This Row],[Tipo destino]],Tabla213[#All],2,0),\"\")","v":""},null,null,null,null,{"$f":"IFERROR(IF(Tiquetes[[#This Row],[Valor Tiquete (ida y regreso)]]=\"\",Tiquetes[[#This Row],[Valor tiquete Referencia\n (ida y regreso)]]*(1+Tiquetes[[#This Row],[% Administración]])*Tiquetes[[#This Row],[Número de personas]]*Tiquetes[[#This Row],[Número viajes (ida y regreso)]],(Tiquetes[[#This Row],[Valor Tiquete (ida y regreso)]]*(1+Tiquetes[[#This Row],[% Administración]])*Tiquetes[[#This Row],[Número de personas]]*Tiquetes[[#This Row],[Número viajes (ida y regreso)]])),\"\")","v":""},null,{"$f":"+IFERROR(Tiquetes[[#This Row],[Costo parcial]]*Tiquetes[[#This Row],[% Participación]]/100,\"\")","v":""}]
[null,null,null,null,{"$f":"+IFERROR(VLOOKUP(Tiquetes[[#This Row],[Tipo destino]],Tabla213[#All],2,0),\"\")","v":""},null,null,null,null,{"$f":"IFERROR(IF(Tiquetes[[#This Row],[Valor Tiquete (ida y regreso)]]=\"\",Tiquetes[[#This Row],[Valor tiquete Referencia\n (ida y regreso)]]*(1+Tiquetes[[#This Row],[% Administración]])*Tiquetes[[#This Row],[Número de personas]]*Tiquetes[[#This Row],[Número viajes (ida y regreso)]],(Tiquetes[[#This Row],[Valor Tiquete (ida y regreso)]]*(1+Tiquetes[[#This Row],[% Administración]])*Tiquetes[[#This Row],[Número de personas]]*Tiquetes[[#This Row],[Número viajes (ida y regreso)]])),\"\")","v":""},null,{"$f":"+IFERROR(Tiquetes[[#This Row],[Costo parcial]]*Tiquetes[[#This Row],[% Participación]]/100,\"\")","v":""}]
[null,null,null,null,{"$f":"+IFERROR(VLOOKUP(Tiquetes[[#This Row],[Tipo destino]],Tabla213[#All],2,0),\"\")","v":""},null,null,null,null,{"$f":"IFERROR(IF(Tiquetes[[#This Row],[Valor Tiquete (ida y regreso)]]=\"\",Tiquetes[[#This Row],[Valor tiquete Referencia\n (ida y regreso)]]*(1+Tiquetes[[#This Row],[% Administración]])*Tiquetes[[#This Row],[Número de personas]]*Tiquetes[[#This Row],[Número viajes (ida y regreso)]],(Tiquetes[[#This Row],[Valor Tiquete (ida y regreso)]]*(1+Tiquetes[[#This Row],[% Administración]])*Tiquetes[[#This Row],[Número de personas]]*Tiquetes[[#This Row],[Número viajes (ida y regreso)]])),\"\")","v":""},null,{"$f":"+IFERROR(Tiquetes[[#This Row],[Costo parcial]]*Tiquetes[[#This Row],[% Participación]]/100,\"\")","v":""}]
[null,null,null,null,{"$f":"+IFERROR(VLOOKUP(Tiquetes[[#This Row],[Tipo destino]],Tabla213[#All],2,0),\"\")","v":""},null,null,null,null,{"$f":"IFERROR(IF(Tiquetes[[#This Row],[Valor Tiquete (ida y regreso)]]=\"\",Tiquetes[[#This Row],[Valor tiquete Referencia\n (ida y regreso)]]*(1+Tiquetes[[#This Row],[% Administración]])*Tiquetes[[#This Row],[Número de personas]]*Tiquetes[[#This Row],[Número viajes (ida y regreso)]],(Tiquetes[[#This Row],[Valor Tiquete (ida y regreso)]]*(1+Tiquetes[[#This Row],[% Administración]])*Tiquetes[[#This Row],[Número de personas]]*Tiquetes[[#This Row],[Número viajes (ida y regreso)]])),\"\")","v":""},null,{"$f":"+IFERROR(Tiquetes[[#This Row],[Costo parcial]]*Tiquetes[[#This Row],[% Participación]]/100,\"\")","v":""}]
[null,null,null,null,{"$f":"+IFERROR(VLOOKUP(Tiquetes[[#This Row],[Tipo destino]],Tabla213[#All],2,0),\"\")","v":""},null,null,null,null,{"$f":"IFERROR(IF(Tiquetes[[#This Row],[Valor Tiquete (ida y regreso)]]=\"\",Tiquetes[[#This Row],[Valor tiquete Referencia\n (ida y regreso)]]*(1+Tiquetes[[#This Row],[% Administración]])*Tiquetes[[#This Row],[Número de personas]]*Tiquetes[[#This Row],[Número viajes (ida y regreso)]],(Tiquetes[[#This Row],[Valor Tiquete (ida y regreso)]]*(1+Tiquetes[[#This Row],[% Administración]])*Tiquetes[[#This Row],[Número de personas]]*Tiquetes[[#This Row],[Número viajes (ida y regreso)]])),\"\")","v":""},null,{"$f":"+IFERROR(Tiquetes[[#This Row],[Costo parcial]]*Tiquetes[[#This Row],[% Participación]]/100,\"\")","v":""}]
[null,null,null,null,{"$f":"+IFERROR(VLOOKUP(Tiquetes[[#This Row],[Tipo destino]],Tabla213[#All],2,0),\"\")","v":""},null,null,null,null,{"$f":"IFERROR(IF(Tiquetes[[#This Row],[Valor Tiquete (ida y regreso)]]=\"\",Tiquetes[[#This Row],[Valor tiquete Referencia\n (ida y regreso)]]*(1+Tiquetes[[#This Row],[% Administración]])*Tiquetes[[#This Row],[Número de personas]]*Tiquetes[[#This Row],[Número viajes (ida y regreso)]],(Tiquetes[[#This Row],[Valor Tiquete (ida y regreso)]]*(1+Tiquetes[[#This Row],[% Administración]])*Tiquetes[[#This Row],[Número de personas]]*Tiquetes[[#This Row],[Número viajes (ida y regreso)]])),\"\")","v":""},null,{"$f":"+IFERROR(Tiquetes[[#This Row],[Costo parcial]]*Tiquetes[[#This Row],[% Participación]]/100,\"\")","v":""}]
[null,null,null,null,{"$f":"+IFERROR(VLOOKUP(Tiquetes[[#This Row],[Tipo destino]],Tabla213[#All],2,0),\"\")","v":""},null,null,null,null,{"$f":"IFERROR(IF(Tiquetes[[#This Row],[Valor Tiquete (ida y regreso)]]=\"\",Tiquetes[[#This Row],[Valor tiquete Referencia\n (ida y regreso)]]*(1+Tiquetes[[#This Row],[% Administración]])*Tiquetes[[#This Row],[Número de personas]]*Tiquetes[[#This Row],[Número viajes (ida y regreso)]],(Tiquetes[[#This Row],[Valor Tiquete (ida y regreso)]]*(1+Tiquetes[[#This Row],[% Administración]])*Tiquetes[[#This Row],[Número de personas]]*Tiquetes[[#This Row],[Número viajes (ida y regreso)]])),\"\")","v":""},null,{"$f":"+IFERROR(Tiquetes[[#This Row],[Costo parcial]]*Tiquetes[[#This Row],[% Participación]]/100,\"\")","v":""}]

{"sheet":"Materiales","index":19,"n_rows":50,"n_cols":9,"rows_kept":50,"cut":false,"hidden":false,"merged":[]}
["Financiador","Fase","Material","Descripción","Valor Material","% Administración","Costo parcial","% Participación","Costo"]
[null,null,null,null,null,null,{"$f":"+IFERROR((Materiales[[#This Row],[Valor Material]]*(1+Materiales[[#This Row],[% Administración]])),\"\")","v":0},null,{"$f":"+IFERROR(Materiales[[#This Row],[Costo parcial]]*Materiales[[#This Row],[% Participación]]/100,\"\")","v":0}]
[null,null,null,null,null,null,{"$f":"+IFERROR((Materiales[[#This Row],[Valor Material]]*(1+Materiales[[#This Row],[% Administración]])),\"\")","v":0},null,{"$f":"+IFERROR(Materiales[[#This Row],[Costo parcial]]*Materiales[[#This Row],[% Participación]]/100,\"\")","v":0}]
[null,null,null,null,null,null,{"$f":"+IFERROR((Materiales[[#This Row],[Valor Material]]*(1+Materiales[[#This Row],[% Administración]])),\"\")","v":0},null,{"$f":"+IFERROR(Materiales[[#This Row],[Costo parcial]]*Materiales[[#This Row],[% Participación]]/100,\"\")","v":0}]
[null,null,null,null,null,null,{"$f":"+IFERROR((Materiales[[#This Row],[Valor Material]]*(1+Materiales[[#This Row],[% Administración]])),\"\")","v":0},null,{"$f":"+IFERROR(Materiales[[#This Row],[Costo parcial]]*Materiales[[#This Row],[% Participación]]/100,\"\")","v":0}]
[null,null,null,null,null,null,{"$f":"+IFERROR((Materiales[[#This Row],[Valor Material]]*(1+Materiales[[#This Row],[% Administración]])),\"\")","v":0},null,{"$f":"+IFERROR(Materiales[[#This Row],[Costo parcial]]*Materiales[[#This Row],[% Participación]]/100,\"\")","v":0}]
[null,null,null,null,null,null,{"$f":"+IFERROR((Materiales[[#This Row],[Valor Material]]*(1+Materiales[[#This Row],[% Administración]])),\"\")","v":0},null,{"$f":"+IFERROR(Materiales[[#This Row],[Costo parcial]]*Materiales[[#This Row],[% Participación]]/100,\"\")","v":0}]
[null,null,null,null,null,null,{"$f":"+IFERROR((Materiales[[#This Row],[Valor Material]]*(1+Materiales[[#This Row],[% Administración]])),\"\")","v":0},null,{"$f":"+IFERROR(Materiales[[#This Row],[Costo parcial]]*Materiales[[#This Row],[% Participación]]/100,\"\")","v":0}]
[null,null,null,null,null,null,{"$f":"+IFERROR((Materiales[[#This Row],[Valor Material]]*(1+Materiales[[#This Row],[% Administración]])),\"\")","v":0},null,{"$f":"+IFERROR(Materiales[[#This Row],[Costo parcial]]*Materiales[[#This Row],[% Participación]]/100,\"\")","v":0}]
[null,null,null,null,null,null,{"$f":"+IFERROR((Materiales[[#This Row],[Valor Material]]*(1+Materiales[[#This Row],[% Administración]])),\"\")","v":0},null,{"$f":"+IFERROR(Materiales[[#This Row],[Costo parcial]]*Materiales[[#This Row],[% Participación]]/100,\"\")","v":0}]
[null,null,null,null,null,null,{"$f":"+IFERROR((Materiales[[#This Row],[Valor Material]]*(1+Materiales[[#This Row],[% Administración]])),\"\")","v":0},null,{"$f":"+IFERROR(Materiales[[#This Row],[Costo parcial]]*Materiales[[#This Row],[% Participación]]/100,\"\")","v":0}]
[null,null,null,null,null,null,{"$f":"+IFERROR((Materiales[[#This Row],[Valor Material]]*(1+Materiales[[#This Row],[% Administración]])),\"\")","v":0},null,{"$f":"+IFERROR(Materiales[[#This Row],[Costo parcial]]*Materiales[[#This Row],[% Participación]]/100,\"\")","v":0}]
[null,null,null,null,null,null,{"$f":"+IFERROR((Materiales[[#This Row],[Valor Material]]*(1+Materiales[[#This Row],[% Administración]])),\"\")","v":0},null,{"$f":"+IFERROR(Materiales[[#This Row],[Costo parcial]]*Materiales[[#This Row],[% Participación]]/100,\"\")","v":0}]
[null,null,null,null,null,null,{"$f":"+IFERROR((Materiales[[#This Row],[Valor Material]]*(1+Materiales[[#This Row],[% Administración]])),\"\")","v":0},null,{"$f":"+IFERROR(Materiales[[#This Row],[Costo parcial]]*Materiales[[#This Row],[% Participación]]/100,\"\")","v":0}]
[null,null,null,null,null,null,{"$f":"+IFERROR((Materiales[[#This Row],[Valor Material]]*(1+Materiales[[#This Row],[% Administración]])),\"\")","v":0},null,{"$f":"+IFERROR(Materiales[[#This Row],[Costo parcial]]*Materiales[[#This Row],[% Participación]]/100,\"\")","v":0}]
[null,null,null,null,null,null,{"$f":"+IFERROR((Materiales[[#This Row],[Valor Material]]*(1+Materiales[[#This Row],[% Administración]])),\"\")","v":0},null,{"$f":"+IFERROR(Materiales[[#This Row],[Costo parcial]]*Materiales[[#This Row],[% Participación]]/100,\"\")","v":0}]
[null,null,null,null,null,null,{"$f":"+IFERROR((Materiales[[#This Row],[Valor Material]]*(1+Materiales[[#This Row],[% Administración]])),\"\")","v":0},null,{"$f":"+IFERROR(Materiales[[#This Row],[Costo parcial]]*Materiales[[#This Row],[% Participación]]/100,\"\")","v":0}]
[null,null,null,null,null,null,{"$f":"+IFERROR((Materiales[[#This Row],[Valor Material]]*(1+Materiales[[#This Row],[% Administración]])),\"\")","v":0},null,{"$f":"+IFERROR(Materiales[[#This Row],[Costo parcial]]*Materiales[[#This Row],[% Participación]]/100,\"\")","v":0}]
[null,null,null,null,null,null,{"$f":"+IFERROR((Materiales[[#This Row],[Valor Material]]*(1+Materiales[[#This Row],[% Administración]])),\"\")","v":0},null,{"$f":"+IFERROR(Materiales[[#This Row],[Costo parcial]]*Materiales[[#This Row],[% Participación]]/100,\"\")","v":0}]
[null,null,null,null,null,null,{"$f":"+IFERROR((Materiales[[#This Row],[Valor Material]]*(1+Materiales[[#This Row],[% Administración]])),\"\")","v":0},null,{"$f":"+IFERROR(Materiales[[#This Row],[Costo parcial]]*Materiales[[#This Row],[% Participación]]/100,\"\")","v":0}]
[null,null,null,null,null,null,{"$f":"+IFERROR((Materiales[[#This Row],[Valor Material]]*(1+Materiales[[#This Row],[% Administración]])),\"\")","v":0},null,{"$f":"+IFERROR(Materiales[[#This Row],[Costo parcial]]*Materiales[[#This Row],[% Participación]]/100,\"\")","v":0}]
[null,null,null,null,null,null,{"$f":"+IFERROR((Materiales[[#This Row],[Valor Material]]*(1+Materiales[[#This Row],[% Administración]])),\"\")","v":0},null,{"$f":"+IFERROR(Materiales[[#This Row],[Costo parcial]]*Materiales[[#This Row],[% Participación]]/100,\"\")","v":0}]
[null,null,null,null,null,null,{"$f":"+IFERROR((Materiales[[#This Row],[Valor Material]]*(1+Materiales[[#This Row],[% Administración]])),\"\")","v":0},null,{"$f":"+IFERROR(Materiales[[#This Row],[Costo parcial]]*Materiales[[#This Row],[% Participación]]/100,\"\")","v":0}]
[null,null,null,null,null,null,{"$f":"+IFERROR((Materiales[[#This Row],[Valor Material]]*(1+Materiales[[#This Row],[% Administración]])),\"\")","v":0},null,{"$f":"+IFERROR(Materiales[[#This Row],[Costo parcial]]*Materiales[[#This Row],[% Participación]]/100,\"\")","v":0}]
[null,null,null,null,null,null,{"$f":"+IFERROR((Materiales[[#This Row],[Valor Material]]*(1+Materiales[[#This Row],[% Administración]])),\"\")","v":0},null,{"$f":"+IFERROR(Materiales[[#This Row],[Costo parcial]]*Materiales[[#This Row],[% Participación]]/100,\"\")","v":0}]
[null,null,null,null,null,null,{"$f":"+IFERROR((Materiales[[#This Row],[Valor Material]]*(1+Materiales[[#This Row],[% Administración]])),\"\")","v":0},null,{"$f":"+IFERROR(Materiales[[#This Row],[Costo parcial]]*Materiales[[#This Row],[% Participación]]/100,\"\")","v":0}]
[null,null,null,null,null,null,{"$f":"+IFERROR((Materiales[[#This Row],[Valor Material]]*(1+Materiales[[#This Row],[% Administración]])),\"\")","v":0},null,{"$f":"+IFERROR(Materiales[[#This Row],[Costo parcial]]*Materiales[[#This Row],[% Participación]]/100,\"\")","v":0}]
[null,null,null,null,null,null,{"$f":"+IFERROR((Materiales[[#This Row],[Valor Material]]*(1+Materiales[[#This Row],[% Administración]])),\"\")","v":0},null,{"$f":"+IFERROR(Materiales[[#This Row],[Costo parcial]]*Materiales[[#This Row],[% Participación]]/100,\"\")","v":0}]
[null,null,null,null,null,null,{"$f":"+IFERROR((Materiales[[#This Row],[Valor Material]]*(1+Materiales[[#This Row],[% Administración]])),\"\")","v":0},null,{"$f":"+IFERROR(Materiales[[#This Row],[Costo parcial]]*Materiales[[#This Row],[% Participación]]/100,\"\")","v":0}]
[null,null,null,null,null,null,{"$f":"+IFERROR((Materiales[[#This Row],[Valor Material]]*(1+Materiales[[#This Row],[% Administración]])),\"\")","v":0},null,{"$f":"+IFERROR(Materiales[[#This Row],[Costo parcial]]*Materiales[[#This Row],[% Participación]]/100,\"\")","v":0}]
[null,null,null,null,null,null,{"$f":"+IFERROR((Materiales[[#This Row],[Valor Material]]*(1+Materiales[[#This Row],[% Administración]])),\"\")","v":0},null,{"$f":"+IFERROR(Materiales[[#This Row],[Costo parcial]]*Materiales[[#This Row],[% Participación]]/100,\"\")","v":0}]
[null,null,null,null,null,null,{"$f":"+IFERROR((Materiales[[#This Row],[Valor Material]]*(1+Materiales[[#This Row],[% Administración]])),\"\")","v":0},null,{"$f":"+IFERROR(Materiales[[#This Row],[Costo parcial]]*Materiales[[#This Row],[% Participación]]/100,\"\")","v":0}]
[null,null,null,null,null,null,{"$f":"+IFERROR((Materiales[[#This Row],[Valor Material]]*(1+Materiales[[#This Row],[% Administración]])),\"\")","v":0},null,{"$f":"+IFERROR(Materiales[[#This Row],[Costo parcial]]*Materiales[[#This Row],[% Participación]]/100,\"\")","v":0}]
[null,null,null,null,null,null,{"$f":"+IFERROR((Materiales[[#This Row],[Valor Material]]*(1+Materiales[[#This Row],[% Administración]])),\"\")","v":0},null,{"$f":"+IFERROR(Materiales[[#This Row],[Costo parcial]]*Materiales[[#This Row],[% Participación]]/100,\"\")","v":0}]
[null,null,null,null,null,null,{"$f":"+IFERROR((Materiales[[#This Row],[Valor Material]]*(1+Materiales[[#This Row],[% Administración]])),\"\")","v":0},null,{"$f":"+IFERROR(Materiales[[#This Row],[Costo parcial]]*Materiales[[#This Row],[% Participación]]/100,\"\")","v":0}]
[null,null,null,null,null,null,{"$f":"+IFERROR((Materiales[[#This Row],[Valor Material]]*(1+Materiales[[#This Row],[% Administración]])),\"\")","v":0},null,{"$f":"+IFERROR(Materiales[[#This Row],[Costo parcial]]*Materiales[[#This Row],[% Participación]]/100,\"\")","v":0}]
[null,null,null,null,null,null,{"$f":"+IFERROR((Materiales[[#This Row],[Valor Material]]*(1+Materiales[[#This Row],[% Administración]])),\"\")","v":0},null,{"$f":"+IFERROR(Materiales[[#This Row],[Costo parcial]]*Materiales[[#This Row],[% Participación]]/100,\"\")","v":0}]
[null,null,null,null,null,null,{"$f":"+IFERROR((Materiales[[#This Row],[Valor Material]]*(1+Materiales[[#This Row],[% Administración]])),\"\")","v":0},null,{"$f":"+IFERROR(Materiales[[#This Row],[Costo parcial]]*Materiales[[#This Row],[% Participación]]/100,\"\")","v":0}]
[null,null,null,null,null,null,{"$f":"+IFERROR((Materiales[[#This Row],[Valor Material]]*(1+Materiales[[#This Row],[% Administración]])),\"\")","v":0},null,{"$f":"+IFERROR(Materiales[[#This Row],[Costo parcial]]*Materiales[[#This Row],[% Participación]]/100,\"\")","v":0}]
[null,null,null,null,null,null,{"$f":"+IFERROR((Materiales[[#This Row],[Valor Material]]*(1+Materiales[[#This Row],[% Administración]])),\"\")","v":0},null,{"$f":"+IFERROR(Materiales[[#This Row],[Costo parcial]]*Materiales[[#This Row],[% Participación]]/100,\"\")","v":0}]
[null,null,null,null,null,null,{"$f":"+IFERROR((Materiales[[#This Row],[Valor Material]]*(1+Materiales[[#This Row],[% Administración]])),\"\")","v":0},null,{"$f":"+IFERROR(Materiales[[#This Row],[Costo parcial]]*Materiales[[#This Row],[% Participación]]/100,\"\")","v":0}]
[null,null,null,null,null,null,{"$f":"+IFERROR((Materiales[[#This Row],[Valor Material]]*(1+Materiales[[#This Row],[% Administración]])),\"\")","v":0},null,{"$f":"+IFERROR(Materiales[[#This Row],[Costo parcial]]*Materiales[[#This Row],[% Participación]]/100,\"\")","v":0}]
[null,null,null,null,null,null,{"$f":"+IFERROR((Materiales[[#This Row],[Valor Material]]*(1+Materiales[[#This Row],[% Administración]])),\"\")","v":0},null,{"$f":"+IFERROR(Materiales[[#This Row],[Costo parcial]]*Materiales[[#This Row],[% Participación]]/100,\"\")","v":0}]
[null,null,null,null,null,null,{"$f":"+IFERROR((Materiales[[#This Row],[Valor Material]]*(1+Materiales[[#This Row],[% Administración]])),\"\")","v":0},null,{"$f":"+IFERROR(Materiales[[#This Row],[Costo parcial]]*Materiales[[#This Row],[% Participación]]/100,\"\")","v":0}]
[null,null,null,null,null,null,{"$f":"+IFERROR((Materiales[[#This Row],[Valor Material]]*(1+Materiales[[#This Row],[% Administración]])),\"\")","v":0},null,{"$f":"+IFERROR(Materiales[[#This Row],[Costo parcial]]*Materiales[[#This Row],[% Participación]]/100,\"\")","v":0}]
[null,null,null,null,null,null,{"$f":"+IFERROR((Materiales[[#This Row],[Valor Material]]*(1+Materiales[[#This Row],[% Administración]])),\"\")","v":0},null,{"$f":"+IFERROR(Materiales[[#This Row],[Costo parcial]]*Materiales[[#This Row],[% Participación]]/100,\"\")","v":0}]
[null,null,null,null,null,null,{"$f":"+IFERROR((Materiales[[#This Row],[Valor Material]]*(1+Materiales[[#This Row],[% Administración]])),\"\")","v":0},null,{"$f":"+IFERROR(Materiales[[#This Row],[Costo parcial]]*Materiales[[#This Row],[% Participación]]/100,\"\")","v":0}]
[null,null,null,null,null,null,{"$f":"+IFERROR((Materiales[[#This Row],[Valor Material]]*(1+Materiales[[#This Row],[% Administración]])),\"\")","v":0},null,{"$f":"+IFERROR(Materiales[[#This Row],[Costo parcial]]*Materiales[[#This Row],[% Participación]]/100,\"\")","v":0}]
[null,null,null,null,null,null,{"$f":"+IFERROR((Materiales[[#This Row],[Valor Material]]*(1+Materiales[[#This Row],[% Administración]])),\"\")","v":0},null,{"$f":"+IFERROR(Materiales[[#This Row],[Costo parcial]]*Materiales[[#This Row],[% Participación]]/100,\"\")","v":0}]
[null,null,null,null,null,null,{"$f":"+IFERROR((Materiales[[#This Row],[Valor Material]]*(1+Materiales[[#This Row],[% Administración]])),\"\")","v":0},null,{"$f":"+IFERROR(Materiales[[#This Row],[Costo parcial]]*Materiales[[#This Row],[% Participación]]/100,\"\")","v":0}]

{"sheet":"Equipos","index":20,"n_rows":50,"n_cols":16,"rows_kept":50,"cut":false,"hidden":false,"merged":[]}
["Financiador","Fase","Equipo","Tiempo depreciación","Descripción","Comprado?","Valor Equipo","% Administración","Equipo con administración","Unidad de Tiempo","Costo unidad de tiempo","Cantidad de Tiempo","Cantidad de Equipos","Costo parcial2","% Participación","Costo"]
[null,null,null,{"$f":"+IFERROR(VLOOKUP(Equipos[[#This Row],[Equipo]],Tabla212[#All],2,0),\"\")","v":""},null,null,null,null,{"$f":"+IFERROR((Equipos[[#This Row],[Valor Equipo]]*(1+Equipos[[#This Row],[% Administración]])),\"\")","v":0},null,{"$f":"IFERROR(IF(Equipos[[#This Row],[Comprado?]]=\"SI\",Equipos[[#This Row],[Equipo con administración]],(Equipos[[#This Row],[Equipo con administración]]/(Equipos[[#This Row],[Tiempo depreciación]]*12)/(VLOOKUP(Equipos[[#This Row],[Unidad de Tiempo]],Tabla210[],2,0)))),\"\")","v":""},null,null,{"$f":"IFERROR(IF((IF(Equipos[[#This Row],[Comprado?]]=\"SI\",Equipos[[#This Row],[Equipo con administración]]*Equipos[[#This Row],[Cantidad de Equipos]],((Equipos[[#This Row],[Costo unidad de tiempo]]*Equipos[[#This Row],[Cantidad de Tiempo]]))))>Equipos[[#This Row],[Equipo con administración]],Equipos[[#This Row],[Equipo con administración]]*Equipos[[#This Row],[Cantidad de Equipos]],(IF(Equipos[[#This Row],[Comprado?]]=\"SI\",Equipos[[#This Row],[Equipo con administración]]*Equipos[[#This Row],[Cantidad de Equipos]],((Equipos[[#This Row],[Costo unidad de tiempo]])*Equipos[[#This Row],[Cantidad de Tiempo]]*Equipos[[#This Row],[Cantidad de Equipos]])))),\"\")","v":""},null,{"$f":"+IFERROR(Equipos[[#This Row],[Costo parcial2]]*Equipos[[#This Row],[% Participación]]/100,\"\")","v":""}]
[null,null,null,{"$f":"+IFERROR(VLOOKUP(Equipos[[#This Row],[Equipo]],Tabla212[#All],2,0),\"\")","v":""},null,null,null,null,{"$f":"+IFERROR((Equipos[[#This Row],[Valor Equipo]]*(1+Equipos[[#This Row],[% Administración]])),\"\")","v":0},null,{"$f":"IFERROR(IF(Equipos[[#This Row],[Comprado?]]=\"SI\",Equipos[[#This Row],[Equipo con administración]],(Equipos[[#This Row],[Equipo con administración]]/(Equipos[[#This Row],[Tiempo depreciación]]*12)/(VLOOKUP(Equipos[[#This Row],[Unidad de Tiempo]],Tabla210[],2,0)))),\"\")","v":""},null,null,{"$f":"IFERROR(IF((IF(Equipos[[#This Row],[Comprado?]]=\"SI\",Equipos[[#This Row],[Equipo con administración]]*Equipos[[#This Row],[Cantidad de Equipos]],((Equipos[[#This Row],[Costo unidad de tiempo]]*Equipos[[#This Row],[Cantidad de Tiempo]]))))>Equipos[[#This Row],[Equipo con administración]],Equipos[[#This Row],[Equipo con administración]]*Equipos[[#This Row],[Cantidad de Equipos]],(IF(Equipos[[#This Row],[Comprado?]]=\"SI\",Equipos[[#This Row],[Equipo con administración]]*Equipos[[#This Row],[Cantidad de Equipos]],((Equipos[[#This Row],[Costo unidad de tiempo]])*Equipos[[#This Row],[Cantidad de Tiempo]]*Equipos[[#This Row],[Cantidad de Equipos]])))),\"\")","v":""},null,{"$f":"+IFERROR(Equipos[[#This Row],[Costo parcial2]]*Equipos[[#This Row],[% Participación]]/100,\"\")","v":""}]
[null,null,null,{"$f":"+IFERROR(VLOOKUP(Equipos[[#This Row],[Equipo]],Tabla212[#All],2,0),\"\")","v":""},null,null,null,null,{"$f":"+IFERROR((Equipos[[#This Row],[Valor Equipo]]*(1+Equipos[[#This Row],[% Administración]])),\"\")","v":0},null,{"$f":"IFERROR(IF(Equipos[[#This Row],[Comprado?]]=\"SI\",Equipos[[#This Row],[Equipo con administración]],(Equipos[[#This Row],[Equipo con administración]]/(Equipos[[#This Row],[Tiempo depreciación]]*12)/(VLOOKUP(Equipos[[#This Row],[Unidad de Tiempo]],Tabla210[],2,0)))),\"\")","v":""},null,null,{"$f":"IFERROR(IF((IF(Equipos[[#This Row],[Comprado?]]=\"SI\",Equipos[[#This Row],[Equipo con administración]]*Equipos[[#This Row],[Cantidad de Equipos]],((Equipos[[#This Row],[Costo unidad de tiempo]]*Equipos[[#This Row],[Cantidad de Tiempo]]))))>Equipos[[#This Row],[Equipo con administración]],Equipos[[#This Row],[Equipo con administración]]*Equipos[[#This Row],[Cantidad de Equipos]],(IF(Equipos[[#This Row],[Comprado?]]=\"SI\",Equipos[[#This Row],[Equipo con administración]]*Equipos[[#This Row],[Cantidad de Equipos]],((Equipos[[#This Row],[Costo unidad de tiempo]])*Equipos[[#This Row],[Cantidad de Tiempo]]*Equipos[[#This Row],[Cantidad de Equipos]])))),\"\")","v":""},null,{"$f":"+IFERROR(Equipos[[#This Row],[Costo parcial2]]*Equipos[[#This Row],[% Participación]]/100,\"\")","v":""}]
[null,null,null,{"$f":"+IFERROR(VLOOKUP(Equipos[[#This Row],[Equipo]],Tabla212[#All],2,0),\"\")","v":""},null,null,null,null,{"$f":"+IFERROR((Equipos[[#This Row],[Valor Equipo]]*(1+Equipos[[#This Row],[% Administración]])),\"\")","v":0},null,{"$f":"IFERROR(IF(Equipos[[#This Row],[Comprado?]]=\"SI\",Equipos[[#This Row],[Equipo con administración]],(Equipos[[#This Row],[Equipo con administración]]/(Equipos[[#This Row],[Tiempo depreciación]]*12)/(VLOOKUP(Equipos[[#This Row],[Unidad de Tiempo]],Tabla210[],2,0)))),\"\")","v":""},null,null,{"$f":"IFERROR(IF((IF(Equipos[[#This Row],[Comprado?]]=\"SI\",Equipos[[#This Row],[Equipo con administración]]*Equipos[[#This Row],[Cantidad de Equipos]],((Equipos[[#This Row],[Costo unidad de tiempo]]*Equipos[[#This Row],[Cantidad de Tiempo]]))))>Equipos[[#This Row],[Equipo con administración]],Equipos[[#This Row],[Equipo con administración]]*Equipos[[#This Row],[Cantidad de Equipos]],(IF(Equipos[[#This Row],[Comprado?]]=\"SI\",Equipos[[#This Row],[Equipo con administración]]*Equipos[[#This Row],[Cantidad de Equipos]],((Equipos[[#This Row],[Costo unidad de tiempo]])*Equipos[[#This Row],[Cantidad de Tiempo]]*Equipos[[#This Row],[Cantidad de Equipos]])))),\"\")","v":""},null,{"$f":"+IFERROR(Equipos[[#This Row],[Costo parcial2]]*Equipos[[#This Row],[% Participación]]/100,\"\")","v":""}]
[null,null,null,{"$f":"+IFERROR(VLOOKUP(Equipos[[#This Row],[Equipo]],Tabla212[#All],2,0),\"\")","v":""},null,null,null,null,{"$f":"+IFERROR((Equipos[[#This Row],[Valor Equipo]]*(1+Equipos[[#This Row],[% Administración]])),\"\")","v":0},null,{"$f":"IFERROR(IF(Equipos[[#This Row],[Comprado?]]=\"SI\",Equipos[[#This Row],[Equipo con administración]],(Equipos[[#This Row],[Equipo con administración]]/(Equipos[[#This Row],[Tiempo depreciación]]*12)/(VLOOKUP(Equipos[[#This Row],[Unidad de Tiempo]],Tabla210[],2,0)))),\"\")","v":""},null,null,{"$f":"IFERROR(IF((IF(Equipos[[#This Row],[Comprado?]]=\"SI\",Equipos[[#This Row],[Equipo con administración]]*Equipos[[#This Row],[Cantidad de Equipos]],((Equipos[[#This Row],[Costo unidad de tiempo]]*Equipos[[#This Row],[Cantidad de Tiempo]]))))>Equipos[[#This Row],[Equipo con administración]],Equipos[[#This Row],[Equipo con administración]]*Equipos[[#This Row],[Cantidad de Equipos]],(IF(Equipos[[#This Row],[Comprado?]]=\"SI\",Equipos[[#This Row],[Equipo con administración]]*Equipos[[#This Row],[Cantidad de Equipos]],((Equipos[[#This Row],[Costo unidad de tiempo]])*Equipos[[#This Row],[Cantidad de Tiempo]]*Equipos[[#This Row],[Cantidad de Equipos]])))),\"\")","v":""},null,{"$f":"+IFERROR(Equipos[[#This Row],[Costo parcial2]]*Equipos[[#This Row],[% Participación]]/100,\"\")","v":""}]
[null,null,null,{"$f":"+IFERROR(VLOOKUP(Equipos[[#This Row],[Equipo]],Tabla212[#All],2,0),\"\")","v":""},null,null,null,null,{"$f":"+IFERROR((Equipos[[#This Row],[Valor Equipo]]*(1+Equipos[[#This Row],[% Administración]])),\"\")","v":0},null,{"$f":"IFERROR(IF(Equipos[[#This Row],[Comprado?]]=\"SI\",Equipos[[#This Row],[Equipo con administración]],(Equipos[[#This Row],[Equipo con administración]]/(Equipos[[#This Row],[Tiempo depreciación]]*12)/(VLOOKUP(Equipos[[#This Row],[Unidad de Tiempo]],Tabla210[],2,0)))),\"\")","v":""},null,null,{"$f":"IFERROR(IF((IF(Equipos[[#This Row],[Comprado?]]=\"SI\",Equipos[[#This Row],[Equipo con administración]]*Equipos[[#This Row],[Cantidad de Equipos]],((Equipos[[#This Row],[Costo unidad de tiempo]]*Equipos[[#This Row],[Cantidad de Tiempo]]))))>Equipos[[#This Row],[Equipo con administración]],Equipos[[#This Row],[Equipo con administración]]*Equipos[[#This Row],[Cantidad de Equipos]],(IF(Equipos[[#This Row],[Comprado?]]=\"SI\",Equipos[[#This Row],[Equipo con administración]]*Equipos[[#This Row],[Cantidad de Equipos]],((Equipos[[#This Row],[Costo unidad de tiempo]])*Equipos[[#This Row],[Cantidad de Tiempo]]*Equipos[[#This Row],[Cantidad de Equipos]])))),\"\")","v":""},null,{"$f":"+IFERROR(Equipos[[#This Row],[Costo parcial2]]*Equipos[[#This Row],[% Participación]]/100,\"\")","v":""}]
[null,null,null,{"$f":"+IFERROR(VLOOKUP(Equipos[[#This Row],[Equipo]],Tabla212[#All],2,0),\"\")","v":""},null,null,null,null,{"$f":"+IFERROR((Equipos[[#This Row],[Valor Equipo]]*(1+Equipos[[#This Row],[% Administración]])),\"\")","v":0},null,{"$f":"IFERROR(IF(Equipos[[#This Row],[Comprado?]]=\"SI\",Equipos[[#This Row],[Equipo con administración]],(Equipos[[#This Row],[Equipo con administración]]/(Equipos[[#This Row],[Tiempo depreciación]]*12)/(VLOOKUP(Equipos[[#This Row],[Unidad de Tiempo]],Tabla210[],2,0)))),\"\")","v":""},null,null,{"$f":"IFERROR(IF((IF(Equipos[[#This Row],[Comprado?]]=\"SI\",Equipos[[#This Row],[Equipo con administración]]*Equipos[[#This Row],[Cantidad de Equipos]],((Equipos[[#This Row],[Costo unidad de tiempo]]*Equipos[[#This Row],[Cantidad de Tiempo]]))))>Equipos[[#This Row],[Equipo con administración]],Equipos[[#This Row],[Equipo con administración]]*Equipos[[#This Row],[Cantidad de Equipos]],(IF(Equipos[[#This Row],[Comprado?]]=\"SI\",Equipos[[#This Row],[Equipo con administración]]*Equipos[[#This Row],[Cantidad de Equipos]],((Equipos[[#This Row],[Costo unidad de tiempo]])*Equipos[[#This Row],[Cantidad de Tiempo]]*Equipos[[#This Row],[Cantidad de Equipos]])))),\"\")","v":""},null,{"$f":"+IFERROR(Equipos[[#This Row],[Costo parcial2]]*Equipos[[#This Row],[% Participación]]/100,\"\")","v":""}]
[null,null,null,{"$f":"+IFERROR(VLOOKUP(Equipos[[#This Row],[Equipo]],Tabla212[#All],2,0),\"\")","v":""},null,null,null,null,{"$f":"+IFERROR((Equipos[[#This Row],[Valor Equipo]]*(1+Equipos[[#This Row],[% Administración]])),\"\")","v":0},null,{"$f":"IFERROR(IF(Equipos[[#This Row],[Comprado?]]=\"SI\",Equipos[[#This Row],[Equipo con administración]],(Equipos[[#This Row],[Equipo con administración]]/(Equipos[[#This Row],[Tiempo depreciación]]*12)/(VLOOKUP(Equipos[[#This Row],[Unidad de Tiempo]],Tabla210[],2,0)))),\"\")","v":""},null,null,{"$f":"IFERROR(IF((IF(Equipos[[#This Row],[Comprado?]]=\"SI\",Equipos[[#This Row],[Equipo con administración]]*Equipos[[#This Row],[Cantidad de Equipos]],((Equipos[[#This Row],[Costo unidad de tiempo]]*Equipos[[#This Row],[Cantidad de Tiempo]]))))>Equipos[[#This Row],[Equipo con administración]],Equipos[[#This Row],[Equipo con administración]]*Equipos[[#This Row],[Cantidad de Equipos]],(IF(Equipos[[#This Row],[Comprado?]]=\"SI\",Equipos[[#This Row],[Equipo con administración]]*Equipos[[#This Row],[Cantidad de Equipos]],((Equipos[[#This Row],[Costo unidad de tiempo]])*Equipos[[#This Row],[Cantidad de Tiempo]]*Equipos[[#This Row],[Cantidad de Equipos]])))),\"\")","v":""},null,{"$f":"+IFERROR(Equipos[[#This Row],[Costo parcial2]]*Equipos[[#This Row],[% Participación]]/100,\"\")","v":""}]
[null,null,null,{"$f":"+IFERROR(VLOOKUP(Equipos[[#This Row],[Equipo]],Tabla212[#All],2,0),\"\")","v":""},null,null,null,null,{"$f":"+IFERROR((Equipos[[#This Row],[Valor Equipo]]*(1+Equipos[[#This Row],[% Administración]])),\"\")","v":0},null,{"$f":"IFERROR(IF(Equipos[[#This Row],[Comprado?]]=\"SI\",Equipos[[#This Row],[Equipo con administración]],(Equipos[[#This Row],[Equipo con administración]]/(Equipos[[#This Row],[Tiempo depreciación]]*12)/(VLOOKUP(Equipos[[#This Row],[Unidad de Tiempo]],Tabla210[],2,0)))),\"\")","v":""},null,null,{"$f":"IFERROR(IF((IF(Equipos[[#This Row],[Comprado?]]=\"SI\",Equipos[[#This Row],[Equipo con administración]]*Equipos[[#This Row],[Cantidad de Equipos]],((Equipos[[#This Row],[Costo unidad de tiempo]]*Equipos[[#This Row],[Cantidad de Tiempo]]))))>Equipos[[#This Row],[Equipo con administración]],Equipos[[#This Row],[Equipo con administración]]*Equipos[[#This Row],[Cantidad de Equipos]],(IF(Equipos[[#This Row],[Comprado?]]=\"SI\",Equipos[[#This Row],[Equipo con administración]]*Equipos[[#This Row],[Cantidad de Equipos]],((Equipos[[#This Row],[Costo unidad de tiempo]])*Equipos[[#This Row],[Cantidad de Tiempo]]*Equipos[[#This Row],[Cantidad de Equipos]])))),\"\")","v":""},null,{"$f":"+IFERROR(Equipos[[#This Row],[Costo parcial2]]*Equipos[[#This Row],[% Participación]]/100,\"\")","v":""}]
[null,null,null,{"$f":"+IFERROR(VLOOKUP(Equipos[[#This Row],[Equipo]],Tabla212[#All],2,0),\"\")","v":""},null,null,null,null,{"$f":"+IFERROR((Equipos[[#This Row],[Valor Equipo]]*(1+Equipos[[#This Row],[% Administración]])),\"\")","v":0},null,{"$f":"IFERROR(IF(Equipos[[#This Row],[Comprado?]]=\"SI\",Equipos[[#This Row],[Equipo con administración]],(Equipos[[#This Row],[Equipo con administración]]/(Equipos[[#This Row],[Tiempo depreciación]]*12)/(VLOOKUP(Equipos[[#This Row],[Unidad de Tiempo]],Tabla210[],2,0)))),\"\")","v":""},null,null,{"$f":"IFERROR(IF((IF(Equipos[[#This Row],[Comprado?]]=\"SI\",Equipos[[#This Row],[Equipo con administración]]*Equipos[[#This Row],[Cantidad de Equipos]],((Equipos[[#This Row],[Costo unidad de tiempo]]*Equipos[[#This Row],[Cantidad de Tiempo]]))))>Equipos[[#This Row],[Equipo con administración]],Equipos[[#This Row],[Equipo con administración]]*Equipos[[#This Row],[Cantidad de Equipos]],(IF(Equipos[[#This Row],[Comprado?]]=\"SI\",Equipos[[#This Row],[Equipo con administración]]*Equipos[[#This Row],[Cantidad de Equipos]],((Equipos[[#This Row],[Costo unidad de tiempo]])*Equipos[[#This Row],[Cantidad de Tiempo]]*Equipos[[#This Row],[Cantidad de Equipos]])))),\"\")","v":""},null,{"$f":"+IFERROR(Equipos[[#This Row],[Costo parcial2]]*Equipos[[#This Row],[% Participación]]/100,\"\")","v":""}]
[null,null,null,{"$f":"+IFERROR(VLOOKUP(Equipos[[#This Row],[Equipo]],Tabla212[#All],2,0),\"\")","v":""},null,null,null,null,{"$f":"+IFERROR((Equipos[[#This Row],[Valor Equipo]]*(1+Equipos[[#This Row],[% Administración]])),\"\")","v":0},null,{"$f":"IFERROR(IF(Equipos[[#This Row],[Comprado?]]=\"SI\",Equipos[[#This Row],[Equipo con administración]],(Equipos[[#This Row],[Equipo con administración]]/(Equipos[[#This Row],[Tiempo depreciación]]*12)/(VLOOKUP(Equipos[[#This Row],[Unidad de Tiempo]],Tabla210[],2,0)))),\"\")","v":""},null,null,{"$f":"IFERROR(IF((IF(Equipos[[#This Row],[Comprado?]]=\"SI\",Equipos[[#This Row],[Equipo con administración]]*Equipos[[#This Row],[Cantidad de Equipos]],((Equipos[[#This Row],[Costo unidad de tiempo]]*Equipos[[#This Row],[Cantidad de Tiempo]]))))>Equipos[[#This Row],[Equipo con administración]],Equipos[[#This Row],[Equipo con administración]]*Equipos[[#This Row],[Cantidad de Equipos]],(IF(Equipos[[#This Row],[Comprado?]]=\"SI\",Equipos[[#This Row],[Equipo con administración]]*Equipos[[#This Row],[Cantidad de Equipos]],((Equipos[[#This Row],[Costo unidad de tiempo]])*Equipos[[#This Row],[Cantidad de Tiempo]]*Equipos[[#This Row],[Cantidad de Equipos]])))),\"\")","v":""},null,{"$f":"+IFERROR(Equipos[[#This Row],[Costo parcial2]]*Equipos[[#This Row],[% Participación]]/100,\"\")","v":""}]
[null,null,null,{"$f":"+IFERROR(VLOOKUP(Equipos[[#This Row],[Equipo]],Tabla212[#All],2,0),\"\")","v":""},null,null,null,null,{"$f":"+IFERROR((Equipos[[#This Row],[Valor Equipo]]*(1+Equipos[[#This Row],[% Administración]])),\"\")","v":0},null,{"$f":"IFERROR(IF(Equipos[[#This Row],[Comprado?]]=\"SI\",Equipos[[#This Row],[Equipo con administración]],(Equipos[[#This Row],[Equipo con administración]]/(Equipos[[#This Row],[Tiempo depreciación]]*12)/(VLOOKUP(Equipos[[#This Row],[Unidad de Tiempo]],Tabla210[],2,0)))),\"\")","v":""},null,null,{"$f":"IFERROR(IF((IF(Equipos[[#This Row],[Comprado?]]=\"SI\",Equipos[[#This Row],[Equipo con administración]]*Equipos[[#This Row],[Cantidad de Equipos]],((Equipos[[#This Row],[Costo unidad de tiempo]]*Equipos[[#This Row],[Cantidad de Tiempo]]))))>Equipos[[#This Row],[Equipo con administración]],Equipos[[#This Row],[Equipo con administración]]*Equipos[[#This Row],[Cantidad de Equipos]],(IF(Equipos[[#This Row],[Comprado?]]=\"SI\",Equipos[[#This Row],[Equipo con administración]]*Equipos[[#This Row],[Cantidad de Equipos]],((Equipos[[#This Row],[Costo unidad de tiempo]])*Equipos[[#This Row],[Cantidad de Tiempo]]*Equipos[[#This Row],[Cantidad de Equipos]])))),\"\")","v":""},null,{"$f":"+IFERROR(Equipos[[#This Row],[Costo parcial2]]*Equipos[[#This Row],[% Participación]]/100,\"\")","v":""}]
[null,null,null,{"$f":"+IFERROR(VLOOKUP(Equipos[[#This Row],[Equipo]],Tabla212[#All],2,0),\"\")","v":""},null,null,null,null,{"$f":"+IFERROR((Equipos[[#This Row],[Valor Equipo]]*(1+Equipos[[#This Row],[% Administración]])),\"\")","v":0},null,{"$f":"IFERROR(IF(Equipos[[#This Row],[Comprado?]]=\"SI\",Equipos[[#This Row],[Equipo con administración]],(Equipos[[#This Row],[Equipo con administración]]/(Equipos[[#This Row],[Tiempo depreciación]]*12)/(VLOOKUP(Equipos[[#This Row],[Unidad de Tiempo]],Tabla210[],2,0)))),\"\")","v":""},null,null,{"$f":"IFERROR(IF((IF(Equipos[[#This Row],[Comprado?]]=\"SI\",Equipos[[#This Row],[Equipo con administración]]*Equipos[[#This Row],[Cantidad de Equipos]],((Equipos[[#This Row],[Costo unidad de tiempo]]*Equipos[[#This Row],[Cantidad de Tiempo]]))))>Equipos[[#This Row],[Equipo con administración]],Equipos[[#This Row],[Equipo con administración]]*Equipos[[#This Row],[Cantidad de Equipos]],(IF(Equipos[[#This Row],[Comprado?]]=\"SI\",Equipos[[#This Row],[Equipo con administración]]*Equipos[[#This Row],[Cantidad de Equipos]],((Equipos[[#This Row],[Costo unidad de tiempo]])*Equipos[[#This Row],[Cantidad de Tiempo]]*Equipos[[#This Row],[Cantidad de Equipos]])))),\"\")","v":""},null,{"$f":"+IFERROR(Equipos[[#This Row],[Costo parcial2]]*Equipos[[#This Row],[% Participación]]/100,\"\")","v":""}]
[null,null,null,{"$f":"+IFERROR(VLOOKUP(Equipos[[#This Row],[Equipo]],Tabla212[#All],2,0),\"\")","v":""},null,null,null,null,{"$f":"+IFERROR((Equipos[[#This Row],[Valor Equipo]]*(1+Equipos[[#This Row],[% Administración]])),\"\")","v":0},null,{"$f":"IFERROR(IF(Equipos[[#This Row],[Comprado?]]=\"SI\",Equipos[[#This Row],[Equipo con administración]],(Equipos[[#This Row],[Equipo con administración]]/(Equipos[[#This Row],[Tiempo depreciación]]*12)/(VLOOKUP(Equipos[[#This Row],[Unidad de Tiempo]],Tabla210[],2,0)))),\"\")","v":""},null,null,{"$f":"IFERROR(IF((IF(Equipos[[#This Row],[Comprado?]]=\"SI\",Equipos[[#This Row],[Equipo con administración]]*Equipos[[#This Row],[Cantidad de Equipos]],((Equipos[[#This Row],[Costo unidad de tiempo]]*Equipos[[#This Row],[Cantidad de Tiempo]]))))>Equipos[[#This Row],[Equipo con administración]],Equipos[[#This Row],[Equipo con administración]]*Equipos[[#This Row],[Cantidad de Equipos]],(IF(Equipos[[#This Row],[Comprado?]]=\"SI\",Equipos[[#This Row],[Equipo con administración]]*Equipos[[#This Row],[Cantidad de Equipos]],((Equipos[[#This Row],[Costo unidad de tiempo]])*Equipos[[#This Row],[Cantidad de Tiempo]]*Equipos[[#This Row],[Cantidad de Equipos]])))),\"\")","v":""},null,{"$f":"+IFERROR(Equipos[[#This Row],[Costo parcial2]]*Equipos[[#This Row],[% Participación]]/100,\"\")","v":""}]
[null,null,null,{"$f":"+IFERROR(VLOOKUP(Equipos[[#This Row],[Equipo]],Tabla212[#All],2,0),\"\")","v":""},null,null,null,null,{"$f":"+IFERROR((Equipos[[#This Row],[Valor Equipo]]*(1+Equipos[[#This Row],[% Administración]])),\"\")","v":0},null,{"$f":"IFERROR(IF(Equipos[[#This Row],[Comprado?]]=\"SI\",Equipos[[#This Row],[Equipo con administración]],(Equipos[[#This Row],[Equipo con administración]]/(Equipos[[#This Row],[Tiempo depreciación]]*12)/(VLOOKUP(Equipos[[#This Row],[Unidad de Tiempo]],Tabla210[],2,0)))),\"\")","v":""},null,null,{"$f":"IFERROR(IF((IF(Equipos[[#This Row],[Comprado?]]=\"SI\",Equipos[[#This Row],[Equipo con administración]]*Equipos[[#This Row],[Cantidad de Equipos]],((Equipos[[#This Row],[Costo unidad de tiempo]]*Equipos[[#This Row],[Cantidad de Tiempo]]))))>Equipos[[#This Row],[Equipo con administración]],Equipos[[#This Row],[Equipo con administración]]*Equipos[[#This Row],[Cantidad de Equipos]],(IF(Equipos[[#This Row],[Comprado?]]=\"SI\",Equipos[[#This Row],[Equipo con administración]]*Equipos[[#This Row],[Cantidad de Equipos]],((Equipos[[#This Row],[Costo unidad de tiempo]])*Equipos[[#This Row],[Cantidad de Tiempo]]*Equipos[[#This Row],[Cantidad de Equipos]])))),\"\")","v":""},null,{"$f":"+IFERROR(Equipos[[#This Row],[Costo parcial2]]*Equipos[[#This Row],[% Participación]]/100,\"\")","v":""}]
[null,null,null,{"$f":"+IFERROR(VLOOKUP(Equipos[[#This Row],[Equipo]],Tabla212[#All],2,0),\"\")","v":""},null,null,null,null,{"$f":"+IFERROR((Equipos[[#This Row],[Valor Equipo]]*(1+Equipos[[#This Row],[% Administración]])),\"\")","v":0},null,{"$f":"IFERROR(IF(Equipos[[#This Row],[Comprado?]]=\"SI\",Equipos[[#This Row],[Equipo con administración]],(Equipos[[#This Row],[Equipo con administración]]/(Equipos[[#This Row],[Tiempo depreciación]]*12)/(VLOOKUP(Equipos[[#This Row],[Unidad de Tiempo]],Tabla210[],2,0)))),\"\")","v":""},null,null,{"$f":"IFERROR(IF((IF(Equipos[[#This Row],[Comprado?]]=\"SI\",Equipos[[#This Row],[Equipo con administración]]*Equipos[[#This Row],[Cantidad de Equipos]],((Equipos[[#This Row],[Costo unidad de tiempo]]*Equipos[[#This Row],[Cantidad de Tiempo]]))))>Equipos[[#This Row],[Equipo con administración]],Equipos[[#This Row],[Equipo con administración]]*Equipos[[#This Row],[Cantidad de Equipos]],(IF(Equipos[[#This Row],[Comprado?]]=\"SI\",Equipos[[#This Row],[Equipo con administración]]*Equipos[[#This Row],[Cantidad de Equipos]],((Equipos[[#This Row],[Costo unidad de tiempo]])*Equipos[[#This Row],[Cantidad de Tiempo]]*Equipos[[#This Row],[Cantidad de Equipos]])))),\"\")","v":""},null,{"$f":"+IFERROR(Equipos[[#This Row],[Costo parcial2]]*Equipos[[#This Row],[% Participación]]/100,\"\")","v":""}]
[null,null,null,{"$f":"+IFERROR(VLOOKUP(Equipos[[#This Row],[Equipo]],Tabla212[#All],2,0),\"\")","v":""},null,null,null,null,{"$f":"+IFERROR((Equipos[[#This Row],[Valor Equipo]]*(1+Equipos[[#This Row],[% Administración]])),\"\")","v":0},null,{"$f":"IFERROR(IF(Equipos[[#This Row],[Comprado?]]=\"SI\",Equipos[[#This Row],[Equipo con administración]],(Equipos[[#This Row],[Equipo con administración]]/(Equipos[[#This Row],[Tiempo depreciación]]*12)/(VLOOKUP(Equipos[[#This Row],[Unidad de Tiempo]],Tabla210[],2,0)))),\"\")","v":""},null,null,{"$f":"IFERROR(IF((IF(Equipos[[#This Row],[Comprado?]]=\"SI\",Equipos[[#This Row],[Equipo con administración]]*Equipos[[#This Row],[Cantidad de Equipos]],((Equipos[[#This Row],[Costo unidad de tiempo]]*Equipos[[#This Row],[Cantidad de Tiempo]]))))>Equipos[[#This Row],[Equipo con administración]],Equipos[[#This Row],[Equipo con administración]]*Equipos[[#This Row],[Cantidad de Equipos]],(IF(Equipos[[#This Row],[Comprado?]]=\"SI\",Equipos[[#This Row],[Equipo con administración]]*Equipos[[#This Row],[Cantidad de Equipos]],((Equipos[[#This Row],[Costo unidad de tiempo]])*Equipos[[#This Row],[Cantidad de Tiempo]]*Equipos[[#This Row],[Cantidad de Equipos]])))),\"\")","v":""},null,{"$f":"+IFERROR(Equipos[[#This Row],[Costo parcial2]]*Equipos[[#This Row],[% Participación]]/100,\"\")","v":""}]
[null,null,null,{"$f":"+IFERROR(VLOOKUP(Equipos[[#This Row],[Equipo]],Tabla212[#All],2,0),\"\")","v":""},null,null,null,null,{"$f":"+IFERROR((Equipos[[#This Row],[Valor Equipo]]*(1+Equipos[[#This Row],[% Administración]])),\"\")","v":0},null,{"$f":"IFERROR(IF(Equipos[[#This Row],[Comprado?]]=\"SI\",Equipos[[#This Row],[Equipo con administración]],(Equipos[[#This Row],[Equipo con administración]]/(Equipos[[#This Row],[Tiempo depreciación]]*12)/(VLOOKUP(Equipos[[#This Row],[Unidad de Tiempo]],Tabla210[],2,0)))),\"\")","v":""},null,null,{"$f":"IFERROR(IF((IF(Equipos[[#This Row],[Comprado?]]=\"SI\",Equipos[[#This Row],[Equipo con administración]]*Equipos[[#This Row],[Cantidad de Equipos]],((Equipos[[#This Row],[Costo unidad de tiempo]]*Equipos[[#This Row],[Cantidad de Tiempo]]))))>Equipos[[#This Row],[Equipo con administración]],Equipos[[#This Row],[Equipo con administración]]*Equipos[[#This Row],[Cantidad de Equipos]],(IF(Equipos[[#This Row],[Comprado?]]=\"SI\",Equipos[[#This Row],[Equipo con administración]]*Equipos[[#This Row],[Cantidad de Equipos]],((Equipos[[#This Row],[Costo unidad de tiempo]])*Equipos[[#This Row],[Cantidad de Tiempo]]*Equipos[[#This Row],[Cantidad de Equipos]])))),\"\")","v":""},null,{"$f":"+IFERROR(Equipos[[#This Row],[Costo parcial2]]*Equipos[[#This Row],[% Participación]]/100,\"\")","v":""}]
[null,null,null,{"$f":"+IFERROR(VLOOKUP(Equipos[[#This Row],[Equipo]],Tabla212[#All],2,0),\"\")","v":""},null,null,null,null,{"$f":"+IFERROR((Equipos[[#This Row],[Valor Equipo]]*(1+Equipos[[#This Row],[% Administración]])),\"\")","v":0},null,{"$f":"IFERROR(IF(Equipos[[#This Row],[Comprado?]]=\"SI\",Equipos[[#This Row],[Equipo con administración]],(Equipos[[#This Row],[Equipo con administración]]/(Equipos[[#This Row],[Tiempo depreciación]]*12)/(VLOOKUP(Equipos[[#This Row],[Unidad de Tiempo]],Tabla210[],2,0)))),\"\")","v":""},null,null,{"$f":"IFERROR(IF((IF(Equipos[[#This Row],[Comprado?]]=\"SI\",Equipos[[#This Row],[Equipo con administración]]*Equipos[[#This Row],[Cantidad de Equipos]],((Equipos[[#This Row],[Costo unidad de tiempo]]*Equipos[[#This Row],[Cantidad de Tiempo]]))))>Equipos[[#This Row],[Equipo con administración]],Equipos[[#This Row],[Equipo con administración]]*Equipos[[#This Row],[Cantidad de Equipos]],(IF(Equipos[[#This Row],[Comprado?]]=\"SI\",Equipos[[#This Row],[Equipo con administración]]*Equipos[[#This Row],[Cantidad de Equipos]],((Equipos[[#This Row],[Costo unidad de tiempo]])*Equipos[[#This Row],[Cantidad de Tiempo]]*Equipos[[#This Row],[Cantidad de Equipos]])))),\"\")","v":""},null,{"$f":"+IFERROR(Equipos[[#This Row],[Costo parcial2]]*Equipos[[#This Row],[% Participación]]/100,\"\")","v":""}]
[null,null,null,{"$f":"+IFERROR(VLOOKUP(Equipos[[#This Row],[Equipo]],Tabla212[#All],2,0),\"\")","v":""},null,null,null,null,{"$f":"+IFERROR((Equipos[[#This Row],[Valor Equipo]]*(1+Equipos[[#This Row],[% Administración]])),\"\")","v":0},null,{"$f":"IFERROR(IF(Equipos[[#This Row],[Comprado?]]=\"SI\",Equipos[[#This Row],[Equipo con administración]],(Equipos[[#This Row],[Equipo con administración]]/(Equipos[[#This Row],[Tiempo depreciación]]*12)/(VLOOKUP(Equipos[[#This Row],[Unidad de Tiempo]],Tabla210[],2,0)))),\"\")","v":""},null,null,{"$f":"IFERROR(IF((IF(Equipos[[#This Row],[Comprado?]]=\"SI\",Equipos[[#This Row],[Equipo con administración]]*Equipos[[#This Row],[Cantidad de Equipos]],((Equipos[[#This Row],[Costo unidad de tiempo]]*Equipos[[#This Row],[Cantidad de Tiempo]]))))>Equipos[[#This Row],[Equipo con administración]],Equipos[[#This Row],[Equipo con administración]]*Equipos[[#This Row],[Cantidad de Equipos]],(IF(Equipos[[#This Row],[Comprado?]]=\"SI\",Equipos[[#This Row],[Equipo con administración]]*Equipos[[#This Row],[Cantidad de Equipos]],((Equipos[[#This Row],[Costo unidad de tiempo]])*Equipos[[#This Row],[Cantidad de Tiempo]]*Equipos[[#This Row],[Cantidad de Equipos]])))),\"\")","v":""},null,{"$f":"+IFERROR(Equipos[[#This Row],[Costo parcial2]]*Equipos[[#This Row],[% Participación]]/100,\"\")","v":""}]
[null,null,null,{"$f":"+IFERROR(VLOOKUP(Equipos[[#This Row],[Equipo]],Tabla212[#All],2,0),\"\")","v":""},null,null,null,null,{"$f":"+IFERROR((Equipos[[#This Row],[Valor Equipo]]*(1+Equipos[[#This Row],[% Administración]])),\"\")","v":0},null,{"$f":"IFERROR(IF(Equipos[[#This Row],[Comprado?]]=\"SI\",Equipos[[#This Row],[Equipo con administración]],(Equipos[[#This Row],[Equipo con administración]]/(Equipos[[#This Row],[Tiempo depreciación]]*12)/(VLOOKUP(Equipos[[#This Row],[Unidad de Tiempo]],Tabla210[],2,0)))),\"\")","v":""},null,null,{"$f":"IFERROR(IF((IF(Equipos[[#This Row],[Comprado?]]=\"SI\",Equipos[[#This Row],[Equipo con administración]]*Equipos[[#This Row],[Cantidad de Equipos]],((Equipos[[#This Row],[Costo unidad de tiempo]]*Equipos[[#This Row],[Cantidad de Tiempo]]))))>Equipos[[#This Row],[Equipo con administración]],Equipos[[#This Row],[Equipo con administración]]*Equipos[[#This Row],[Cantidad de Equipos]],(IF(Equipos[[#This Row],[Comprado?]]=\"SI\",Equipos[[#This Row],[Equipo con administración]]*Equipos[[#This Row],[Cantidad de Equipos]],((Equipos[[#This Row],[Costo unidad de tiempo]])*Equipos[[#This Row],[Cantidad de Tiempo]]*Equipos[[#This Row],[Cantidad de Equipos]])))),\"\")","v":""},null,{"$f":"+IFERROR(Equipos[[#This Row],[Costo parcial2]]*Equipos[[#This Row],[% Participación]]/100,\"\")","v":""}]
[null,null,null,{"$f":"+IFERROR(VLOOKUP(Equipos[[#This Row],[Equipo]],Tabla212[#All],2,0),\"\")","v":""},null,null,null,null,{"$f":"+IFERROR((Equipos[[#This Row],[Valor Equipo]]*(1+Equipos[[#This Row],[% Administración]])),\"\")","v":0},null,{"$f":"IFERROR(IF(Equipos[[#This Row],[Comprado?]]=\"SI\",Equipos[[#This Row],[Equipo con administración]],(Equipos[[#This Row],[Equipo con administración]]/(Equipos[[#This Row],[Tiempo depreciación]]*12)/(VLOOKUP(Equipos[[#This Row],[Unidad de Tiempo]],Tabla210[],2,0)))),\"\")","v":""},null,null,{"$f":"IFERROR(IF((IF(Equipos[[#This Row],[Comprado?]]=\"SI\",Equipos[[#This Row],[Equipo con administración]]*Equipos[[#This Row],[Cantidad de Equipos]],((Equipos[[#This Row],[Costo unidad de tiempo]]*Equipos[[#This Row],[Cantidad de Tiempo]]))))>Equipos[[#This Row],[Equipo con administración]],Equipos[[#This Row],[Equipo con administración]]*Equipos[[#This Row],[Cantidad de Equipos]],(IF(Equipos[[#This Row],[Comprado?]]=\"SI\",Equipos[[#This Row],[Equipo con administración]]*Equipos[[#This Row],[Cantidad de Equipos]],((Equipos[[#This Row],[Costo unidad de tiempo]])*Equipos[[#This Row],[Cantidad de Tiempo]]*Equipos[[#This Row],[Cantidad de Equipos]])))),\"\")","v":""},null,{"$f":"+IFERROR(Equipos[[#This Row],[Costo parcial2]]*Equipos[[#This Row],[% Participación]]/100,\"\")","v":""}]
[null,null,null,{"$f":"+IFERROR(VLOOKUP(Equipos[[#This Row],[Equipo]],Tabla212[#All],2,0),\"\")","v":""},null,null,null,null,{"$f":"+IFERROR((Equipos[[#This Row],[Valor Equipo]]*(1+Equipos[[#This Row],[% Administración]])),\"\")","v":0},null,{"$f":"IFERROR(IF(Equipos[[#This Row],[Comprado?]]=\"SI\",Equipos[[#This Row],[Equipo con administración]],(Equipos[[#This Row],[Equipo con administración]]/(Equipos[[#This Row],[Tiempo depreciación]]*12)/(VLOOKUP(Equipos[[#This Row],[Unidad de Tiempo]],Tabla210[],2,0)))),\"\")","v":""},null,null,{"$f":"IFERROR(IF((IF(Equipos[[#This Row],[Comprado?]]=\"SI\",Equipos[[#This Row],[Equipo con administración]]*Equipos[[#This Row],[Cantidad de Equipos]],((Equipos[[#This Row],[Costo unidad de tiempo]]*Equipos[[#This Row],[Cantidad de Tiempo]]))))>Equipos[[#This Row],[Equipo con administración]],Equipos[[#This Row],[Equipo con administración]]*Equipos[[#This Row],[Cantidad de Equipos]],(IF(Equipos[[#This Row],[Comprado?]]=\"SI\",Equipos[[#This Row],[Equipo con administración]]*Equipos[[#This Row],[Cantidad de Equipos]],((Equipos[[#This Row],[Costo unidad de tiempo]])*Equipos[[#This Row],[Cantidad de Tiempo]]*Equipos[[#This Row],[Cantidad de Equipos]])))),\"\")","v":""},null,{"$f":"+IFERROR(Equipos[[#This Row],[Costo parcial2]]*Equipos[[#This Row],[% Participación]]/100,\"\")","v":""}]
[null,null,null,{"$f":"+IFERROR(VLOOKUP(Equipos[[#This Row],[Equipo]],Tabla212[#All],2,0),\"\")","v":""},null,null,null,null,{"$f":"+IFERROR((Equipos[[#This Row],[Valor Equipo]]*(1+Equipos[[#This Row],[% Administración]])),\"\")","v":0},null,{"$f":"IFERROR(IF(Equipos[[#This Row],[Comprado?]]=\"SI\",Equipos[[#This Row],[Equipo con administración]],(Equipos[[#This Row],[Equipo con administración]]/(Equipos[[#This Row],[Tiempo depreciación]]*12)/(VLOOKUP(Equipos[[#This Row],[Unidad de Tiempo]],Tabla210[],2,0)))),\"\")","v":""},null,null,{"$f":"IFERROR(IF((IF(Equipos[[#This Row],[Comprado?]]=\"SI\",Equipos[[#This Row],[Equipo con administración]]*Equipos[[#This Row],[Cantidad de Equipos]],((Equipos[[#This Row],[Costo unidad de tiempo]]*Equipos[[#This Row],[Cantidad de Tiempo]]))))>Equipos[[#This Row],[Equipo con administración]],Equipos[[#This Row],[Equipo con administración]]*Equipos[[#This Row],[Cantidad de Equipos]],(IF(Equipos[[#This Row],[Comprado?]]=\"SI\",Equipos[[#This Row],[Equipo con administración]]*Equipos[[#This Row],[Cantidad de Equipos]],((Equipos[[#This Row],[Costo unidad de tiempo]])*Equipos[[#This Row],[Cantidad de Tiempo]]*Equipos[[#This Row],[Cantidad de Equipos]])))),\"\")","v":""},null,{"$f":"+IFERROR(Equipos[[#This Row],[Costo parcial2]]*Equipos[[#This Row],[% Participación]]/100,\"\")","v":""}]
[null,null,null,{"$f":"+IFERROR(VLOOKUP(Equipos[[#This Row],[Equipo]],Tabla212[#All],2,0),\"\")","v":""},null,null,null,null,{"$f":"+IFERROR((Equipos[[#This Row],[Valor Equipo]]*(1+Equipos[[#This Row],[% Administración]])),\"\")","v":0},null,{"$f":"IFERROR(IF(Equipos[[#This Row],[Comprado?]]=\"SI\",Equipos[[#This Row],[Equipo con administración]],(Equipos[[#This Row],[Equipo con administración]]/(Equipos[[#This Row],[Tiempo depreciación]]*12)/(VLOOKUP(Equipos[[#This Row],[Unidad de Tiempo]],Tabla210[],2,0)))),\"\")","v":""},null,null,{"$f":"IFERROR(IF((IF(Equipos[[#This Row],[Comprado?]]=\"SI\",Equipos[[#This Row],[Equipo con administración]]*Equipos[[#This Row],[Cantidad de Equipos]],((Equipos[[#This Row],[Costo unidad de tiempo]]*Equipos[[#This Row],[Cantidad de Tiempo]]))))>Equipos[[#This Row],[Equipo con administración]],Equipos[[#This Row],[Equipo con administración]]*Equipos[[#This Row],[Cantidad de Equipos]],(IF(Equipos[[#This Row],[Comprado?]]=\"SI\",Equipos[[#This Row],[Equipo con administración]]*Equipos[[#This Row],[Cantidad de Equipos]],((Equipos[[#This Row],[Costo unidad de tiempo]])*Equipos[[#This Row],[Cantidad de Tiempo]]*Equipos[[#This Row],[Cantidad de Equipos]])))),\"\")","v":""},null,{"$f":"+IFERROR(Equipos[[#This Row],[Costo parcial2]]*Equipos[[#This Row],[% Participación]]/100,\"\")","v":""}]
[null,null,null,{"$f":"+IFERROR(VLOOKUP(Equipos[[#This Row],[Equipo]],Tabla212[#All],2,0),\"\")","v":""},null,null,null,null,{"$f":"+IFERROR((Equipos[[#This Row],[Valor Equipo]]*(1+Equipos[[#This Row],[% Administración]])),\"\")","v":0},null,{"$f":"IFERROR(IF(Equipos[[#This Row],[Comprado?]]=\"SI\",Equipos[[#This Row],[Equipo con administración]],(Equipos[[#This Row],[Equipo con administración]]/(Equipos[[#This Row],[Tiempo depreciación]]*12)/(VLOOKUP(Equipos[[#This Row],[Unidad de Tiempo]],Tabla210[],2,0)))),\"\")","v":""},null,null,{"$f":"IFERROR(IF((IF(Equipos[[#This Row],[Comprado?]]=\"SI\",Equipos[[#This Row],[Equipo con administración]]*Equipos[[#This Row],[Cantidad de Equipos]],((Equipos[[#This Row],[Costo unidad de tiempo]]*Equipos[[#This Row],[Cantidad de Tiempo]]))))>Equipos[[#This Row],[Equipo con administración]],Equipos[[#This Row],[Equipo con administración]]*Equipos[[#This Row],[Cantidad de Equipos]],(IF(Equipos[[#This Row],[Comprado?]]=\"SI\",Equipos[[#This Row],[Equipo con administración]]*Equipos[[#This Row],[Cantidad de Equipos]],((Equipos[[#This Row],[Costo unidad de tiempo]])*Equipos[[#This Row],[Cantidad de Tiempo]]*Equipos[[#This Row],[Cantidad de Equipos]])))),\"\")","v":""},null,{"$f":"+IFERROR(Equipos[[#This Row],[Costo parcial2]]*Equipos[[#This Row],[% Participación]]/100,\"\")","v":""}]
[null,null,null,{"$f":"+IFERROR(VLOOKUP(Equipos[[#This Row],[Equipo]],Tabla212[#All],2,0),\"\")","v":""},null,null,null,null,{"$f":"+IFERROR((Equipos[[#This Row],[Valor Equipo]]*(1+Equipos[[#This Row],[% Administración]])),\"\")","v":0},null,{"$f":"IFERROR(IF(Equipos[[#This Row],[Comprado?]]=\"SI\",Equipos[[#This Row],[Equipo con administración]],(Equipos[[#This Row],[Equipo con administración]]/(Equipos[[#This Row],[Tiempo depreciación]]*12)/(VLOOKUP(Equipos[[#This Row],[Unidad de Tiempo]],Tabla210[],2,0)))),\"\")","v":""},null,null,{"$f":"IFERROR(IF((IF(Equipos[[#This Row],[Comprado?]]=\"SI\",Equipos[[#This Row],[Equipo con administración]]*Equipos[[#This Row],[Cantidad de Equipos]],((Equipos[[#This Row],[Costo unidad de tiempo]]*Equipos[[#This Row],[Cantidad de Tiempo]]))))>Equipos[[#This Row],[Equipo con administración]],Equipos[[#This Row],[Equipo con administración]]*Equipos[[#This Row],[Cantidad de Equipos]],(IF(Equipos[[#This Row],[Comprado?]]=\"SI\",Equipos[[#This Row],[Equipo con administración]]*Equipos[[#This Row],[Cantidad de Equipos]],((Equipos[[#This Row],[Costo unidad de tiempo]])*Equipos[[#This Row],[Cantidad de Tiempo]]*Equipos[[#This Row],[Cantidad de Equipos]])))),\"\")","v":""},null,{"$f":"+IFERROR(Equipos[[#This Row],[Costo parcial2]]*Equipos[[#This Row],[% Participación]]/100,\"\")","v":""}]
[null,null,null,{"$f":"+IFERROR(VLOOKUP(Equipos[[#This Row],[Equipo]],Tabla212[#All],2,0),\"\")","v":""},null,null,null,null,{"$f":"+IFERROR((Equipos[[#This Row],[Valor Equipo]]*(1+Equipos[[#This Row],[% Administración]])),\"\")","v":0},null,{"$f":"IFERROR(IF(Equipos[[#This Row],[Comprado?]]=\"SI\",Equipos[[#This Row],[Equipo con administración]],(Equipos[[#This Row],[Equipo con administración]]/(Equipos[[#This Row],[Tiempo depreciación]]*12)/(VLOOKUP(Equipos[[#This Row],[Unidad de Tiempo]],Tabla210[],2,0)))),\"\")","v":""},null,null,{"$f":"IFERROR(IF((IF(Equipos[[#This Row],[Comprado?]]=\"SI\",Equipos[[#This Row],[Equipo con administración]]*Equipos[[#This Row],[Cantidad de Equipos]],((Equipos[[#This Row],[Costo unidad de tiempo]]*Equipos[[#This Row],[Cantidad de Tiempo]]))))>Equipos[[#This Row],[Equipo con administración]],Equipos[[#This Row],[Equipo con administración]]*Equipos[[#This Row],[Cantidad de Equipos]],(IF(Equipos[[#This Row],[Comprado?]]=\"SI\",Equipos[[#This Row],[Equipo con administración]]*Equipos[[#This Row],[Cantidad de Equipos]],((Equipos[[#This Row],[Costo unidad de tiempo]])*Equipos[[#This Row],[Cantidad de Tiempo]]*Equipos[[#This Row],[Cantidad de Equipos]])))),\"\")","v":""},null,{"$f":"+IFERROR(Equipos[[#This Row],[Costo parcial2]]*Equipos[[#This Row],[% Participación]]/100,\"\")","v":""}]
[null,null,null,{"$f":"+IFERROR(VLOOKUP(Equipos[[#This Row],[Equipo]],Tabla212[#All],2,0),\"\")","v":""},null,null,null,null,{"$f":"+IFERROR((Equipos[[#This Row],[Valor Equipo]]*(1+Equipos[[#This Row],[% Administración]])),\"\")","v":0},null,{"$f":"IFERROR(IF(Equipos[[#This Row],[Comprado?]]=\"SI\",Equipos[[#This Row],[Equipo con administración]],(Equipos[[#This Row],[Equipo con administración]]/(Equipos[[#This Row],[Tiempo depreciación]]*12)/(VLOOKUP(Equipos[[#This Row],[Unidad de Tiempo]],Tabla210[],2,0)))),\"\")","v":""},null,null,{"$f":"IFERROR(IF((IF(Equipos[[#This Row],[Comprado?]]=\"SI\",Equipos[[#This Row],[Equipo con administración]]*Equipos[[#This Row],[Cantidad de Equipos]],((Equipos[[#This Row],[Costo unidad de tiempo]]*Equipos[[#This Row],[Cantidad de Tiempo]]))))>Equipos[[#This Row],[Equipo con administración]],Equipos[[#This Row],[Equipo con administración]]*Equipos[[#This Row],[Cantidad de Equipos]],(IF(Equipos[[#This Row],[Comprado?]]=\"SI\",Equipos[[#This Row],[Equipo con administración]]*Equipos[[#This Row],[Cantidad de Equipos]],((Equipos[[#This Row],[Costo unidad de tiempo]])*Equipos[[#This Row],[Cantidad de Tiempo]]*Equipos[[#This Row],[Cantidad de Equipos]])))),\"\")","v":""},null,{"$f":"+IFERROR(Equipos[[#This Row],[Costo parcial2]]*Equipos[[#This Row],[% Participación]]/100,\"\")","v":""}]
[null,null,null,{"$f":"+IFERROR(VLOOKUP(Equipos[[#This Row],[Equipo]],Tabla212[#All],2,0),\"\")","v":""},null,null,null,null,{"$f":"+IFERROR((Equipos[[#This Row],[Valor Equipo]]*(1+Equipos[[#This Row],[% Administración]])),\"\")","v":0},null,{"$f":"IFERROR(IF(Equipos[[#This Row],[Comprado?]]=\"SI\",Equipos[[#This Row],[Equipo con administración]],(Equipos[[#This Row],[Equipo con administración]]/(Equipos[[#This Row],[Tiempo depreciación]]*12)/(VLOOKUP(Equipos[[#This Row],[Unidad de Tiempo]],Tabla210[],2,0)))),\"\")","v":""},null,null,{"$f":"IFERROR(IF((IF(Equipos[[#This Row],[Comprado?]]=\"SI\",Equipos[[#This Row],[Equipo con administración]]*Equipos[[#This Row],[Cantidad de Equipos]],((Equipos[[#This Row],[Costo unidad de tiempo]]*Equipos[[#This Row],[Cantidad de Tiempo]]))))>Equipos[[#This Row],[Equipo con administración]],Equipos[[#This Row],[Equipo con administración]]*Equipos[[#This Row],[Cantidad de Equipos]],(IF(Equipos[[#This Row],[Comprado?]]=\"SI\",Equipos[[#This Row],[Equipo con administración]]*Equipos[[#This Row],[Cantidad de Equipos]],((Equipos[[#This Row],[Costo unidad de tiempo]])*Equipos[[#This Row],[Cantidad de Tiempo]]*Equipos[[#This Row],[Cantidad de Equipos]])))),\"\")","v":""},null,{"$f":"+IFERROR(Equipos[[#This Row],[Costo parcial2]]*Equipos[[#This Row],[% Participación]]/100,\"\")","v":""}]
[null,null,null,{"$f":"+IFERROR(VLOOKUP(Equipos[[#This Row],[Equipo]],Tabla212[#All],2,0),\"\")","v":""},null,null,null,null,{"$f":"+IFERROR((Equipos[[#This Row],[Valor Equipo]]*(1+Equipos[[#This Row],[% Administración]])),\"\")","v":0},null,{"$f":"IFERROR(IF(Equipos[[#This Row],[Comprado?]]=\"SI\",Equipos[[#This Row],[Equipo con administración]],(Equipos[[#This Row],[Equipo con administración]]/(Equipos[[#This Row],[Tiempo depreciación]]*12)/(VLOOKUP(Equipos[[#This Row],[Unidad de Tiempo]],Tabla210[],2,0)))),\"\")","v":""},null,null,{"$f":"IFERROR(IF((IF(Equipos[[#This Row],[Comprado?]]=\"SI\",Equipos[[#This Row],[Equipo con administración]]*Equipos[[#This Row],[Cantidad de Equipos]],((Equipos[[#This Row],[Costo unidad de tiempo]]*Equipos[[#This Row],[Cantidad de Tiempo]]))))>Equipos[[#This Row],[Equipo con administración]],Equipos[[#This Row],[Equipo con administración]]*Equipos[[#This Row],[Cantidad de Equipos]],(IF(Equipos[[#This Row],[Comprado?]]=\"SI\",Equipos[[#This Row],[Equipo con administración]]*Equipos[[#This Row],[Cantidad de Equipos]],((Equipos[[#This Row],[Costo unidad de tiempo]])*Equipos[[#This Row],[Cantidad de Tiempo]]*Equipos[[#This Row],[Cantidad de Equipos]])))),\"\")","v":""},null,{"$f":"+IFERROR(Equipos[[#This Row],[Costo parcial2]]*Equipos[[#This Row],[% Participación]]/100,\"\")","v":""}]
[null,null,null,{"$f":"+IFERROR(VLOOKUP(Equipos[[#This Row],[Equipo]],Tabla212[#All],2,0),\"\")","v":""},null,null,null,null,{"$f":"+IFERROR((Equipos[[#This Row],[Valor Equipo]]*(1+Equipos[[#This Row],[% Administración]])),\"\")","v":0},null,{"$f":"IFERROR(IF(Equipos[[#This Row],[Comprado?]]=\"SI\",Equipos[[#This Row],[Equipo con administración]],(Equipos[[#This Row],[Equipo con administración]]/(Equipos[[#This Row],[Tiempo depreciación]]*12)/(VLOOKUP(Equipos[[#This Row],[Unidad de Tiempo]],Tabla210[],2,0)))),\"\")","v":""},null,null,{"$f":"IFERROR(IF((IF(Equipos[[#This Row],[Comprado?]]=\"SI\",Equipos[[#This Row],[Equipo con administración]]*Equipos[[#This Row],[Cantidad de Equipos]],((Equipos[[#This Row],[Costo unidad de tiempo]]*Equipos[[#This Row],[Cantidad de Tiempo]]))))>Equipos[[#This Row],[Equipo con administración]],Equipos[[#This Row],[Equipo con administración]]*Equipos[[#This Row],[Cantidad de Equipos]],(IF(Equipos[[#This Row],[Comprado?]]=\"SI\",Equipos[[#This Row],[Equipo con administración]]*Equipos[[#This Row],[Cantidad de Equipos]],((Equipos[[#This Row],[Costo unidad de tiempo]])*Equipos[[#This Row],[Cantidad de Tiempo]]*Equipos[[#This Row],[Cantidad de Equipos]])))),\"\")","v":""},null,{"$f":"+IFERROR(Equipos[[#This Row],[Costo parcial2]]*Equipos[[#This Row],[% Participación]]/100,\"\")","v":""}]
[null,null,null,{"$f":"+IFERROR(VLOOKUP(Equipos[[#This Row],[Equipo]],Tabla212[#All],2,0),\"\")","v":""},null,null,null,null,{"$f":"+IFERROR((Equipos[[#This Row],[Valor Equipo]]*(1+Equipos[[#This Row],[% Administración]])),\"\")","v":0},null,{"$f":"IFERROR(IF(Equipos[[#This Row],[Comprado?]]=\"SI\",Equipos[[#This Row],[Equipo con administración]],(Equipos[[#This Row],[Equipo con administración]]/(Equipos[[#This Row],[Tiempo depreciación]]*12)/(VLOOKUP(Equipos[[#This Row],[Unidad de Tiempo]],Tabla210[],2,0)))),\"\")","v":""},null,null,{"$f":"IFERROR(IF((IF(Equipos[[#This Row],[Comprado?]]=\"SI\",Equipos[[#This Row],[Equipo con administración]]*Equipos[[#This Row],[Cantidad de Equipos]],((Equipos[[#This Row],[Costo unidad de tiempo]]*Equipos[[#This Row],[Cantidad de Tiempo]]))))>Equipos[[#This Row],[Equipo con administración]],Equipos[[#This Row],[Equipo con administración]]*Equipos[[#This Row],[Cantidad de Equipos]],(IF(Equipos[[#This Row],[Comprado?]]=\"SI\",Equipos[[#This Row],[Equipo con administración]]*Equipos[[#This Row],[Cantidad de Equipos]],((Equipos[[#This Row],[Costo unidad de tiempo]])*Equipos[[#This Row],[Cantidad de Tiempo]]*Equipos[[#This Row],[Cantidad de Equipos]])))),\"\")","v":""},null,{"$f":"+IFERROR(Equipos[[#This Row],[Costo parcial2]]*Equipos[[#This Row],[% Participación]]/100,\"\")","v":""}]
[null,null,null,{"$f":"+IFERROR(VLOOKUP(Equipos[[#This Row],[Equipo]],Tabla212[#All],2,0),\"\")","v":""},null,null,null,null,{"$f":"+IFERROR((Equipos[[#This Row],[Valor Equipo]]*(1+Equipos[[#This Row],[% Administración]])),\"\")","v":0},null,{"$f":"IFERROR(IF(Equipos[[#This Row],[Comprado?]]=\"SI\",Equipos[[#This Row],[Equipo con administración]],(Equipos[[#This Row],[Equipo con administración]]/(Equipos[[#This Row],[Tiempo depreciación]]*12)/(VLOOKUP(Equipos[[#This Row],[Unidad de Tiempo]],Tabla210[],2,0)))),\"\")","v":""},null,null,{"$f":"IFERROR(IF((IF(Equipos[[#This Row],[Comprado?]]=\"SI\",Equipos[[#This Row],[Equipo con administración]]*Equipos[[#This Row],[Cantidad de Equipos]],((Equipos[[#This Row],[Costo unidad de tiempo]]*Equipos[[#This Row],[Cantidad de Tiempo]]))))>Equipos[[#This Row],[Equipo con administración]],Equipos[[#This Row],[Equipo con administración]]*Equipos[[#This Row],[Cantidad de Equipos]],(IF(Equipos[[#This Row],[Comprado?]]=\"SI\",Equipos[[#This Row],[Equipo con administración]]*Equipos[[#This Row],[Cantidad de Equipos]],((Equipos[[#This Row],[Costo unidad de tiempo]])*Equipos[[#This Row],[Cantidad de Tiempo]]*Equipos[[#This Row],[Cantidad de Equipos]])))),\"\")","v":""},null,{"$f":"+IFERROR(Equipos[[#This Row],[Costo parcial2]]*Equipos[[#This Row],[% Participación]]/100,\"\")","v":""}]
[null,null,null,{"$f":"+IFERROR(VLOOKUP(Equipos[[#This Row],[Equipo]],Tabla212[#All],2,0),\"\")","v":""},null,null,null,null,{"$f":"+IFERROR((Equipos[[#This Row],[Valor Equipo]]*(1+Equipos[[#This Row],[% Administración]])),\"\")","v":0},null,{"$f":"IFERROR(IF(Equipos[[#This Row],[Comprado?]]=\"SI\",Equipos[[#This Row],[Equipo con administración]],(Equipos[[#This Row],[Equipo con administración]]/(Equipos[[#This Row],[Tiempo depreciación]]*12)/(VLOOKUP(Equipos[[#This Row],[Unidad de Tiempo]],Tabla210[],2,0)))),\"\")","v":""},null,null,{"$f":"IFERROR(IF((IF(Equipos[[#This Row],[Comprado?]]=\"SI\",Equipos[[#This Row],[Equipo con administración]]*Equipos[[#This Row],[Cantidad de Equipos]],((Equipos[[#This Row],[Costo unidad de tiempo]]*Equipos[[#This Row],[Cantidad de Tiempo]]))))>Equipos[[#This Row],[Equipo con administración]],Equipos[[#This Row],[Equipo con administración]]*Equipos[[#This Row],[Cantidad de Equipos]],(IF(Equipos[[#This Row],[Comprado?]]=\"SI\",Equipos[[#This Row],[Equipo con administración]]*Equipos[[#This Row],[Cantidad de Equipos]],((Equipos[[#This Row],[Costo unidad de tiempo]])*Equipos[[#This Row],[Cantidad de Tiempo]]*Equipos[[#This Row],[Cantidad de Equipos]])))),\"\")","v":""},null,{"$f":"+IFERROR(Equipos[[#This Row],[Costo parcial2]]*Equipos[[#This Row],[% Participación]]/100,\"\")","v":""}]
[null,null,null,{"$f":"+IFERROR(VLOOKUP(Equipos[[#This Row],[Equipo]],Tabla212[#All],2,0),\"\")","v":""},null,null,null,null,{"$f":"+IFERROR((Equipos[[#This Row],[Valor Equipo]]*(1+Equipos[[#This Row],[% Administración]])),\"\")","v":0},null,{"$f":"IFERROR(IF(Equipos[[#This Row],[Comprado?]]=\"SI\",Equipos[[#This Row],[Equipo con administración]],(Equipos[[#This Row],[Equipo con administración]]/(Equipos[[#This Row],[Tiempo depreciación]]*12)/(VLOOKUP(Equipos[[#This Row],[Unidad de Tiempo]],Tabla210[],2,0)))),\"\")","v":""},null,null,{"$f":"IFERROR(IF((IF(Equipos[[#This Row],[Comprado?]]=\"SI\",Equipos[[#This Row],[Equipo con administración]]*Equipos[[#This Row],[Cantidad de Equipos]],((Equipos[[#This Row],[Costo unidad de tiempo]]*Equipos[[#This Row],[Cantidad de Tiempo]]))))>Equipos[[#This Row],[Equipo con administración]],Equipos[[#This Row],[Equipo con administración]]*Equipos[[#This Row],[Cantidad de Equipos]],(IF(Equipos[[#This Row],[Comprado?]]=\"SI\",Equipos[[#This Row],[Equipo con administración]]*Equipos[[#This Row],[Cantidad de Equipos]],((Equipos[[#This Row],[Costo unidad de tiempo]])*Equipos[[#This Row],[Cantidad de Tiempo]]*Equipos[[#This Row],[Cantidad de Equipos]])))),\"\")","v":""},null,{"$f":"+IFERROR(Equipos[[#This Row],[Costo parcial2]]*Equipos[[#This Row],[% Participación]]/100,\"\")","v":""}]
[null,null,null,{"$f":"+IFERROR(VLOOKUP(Equipos[[#This Row],[Equipo]],Tabla212[#All],2,0),\"\")","v":""},null,null,null,null,{"$f":"+IFERROR((Equipos[[#This Row],[Valor Equipo]]*(1+Equipos[[#This Row],[% Administración]])),\"\")","v":0},null,{"$f":"IFERROR(IF(Equipos[[#This Row],[Comprado?]]=\"SI\",Equipos[[#This Row],[Equipo con administración]],(Equipos[[#This Row],[Equipo con administración]]/(Equipos[[#This Row],[Tiempo depreciación]]*12)/(VLOOKUP(Equipos[[#This Row],[Unidad de Tiempo]],Tabla210[],2,0)))),\"\")","v":""},null,null,{"$f":"IFERROR(IF((IF(Equipos[[#This Row],[Comprado?]]=\"SI\",Equipos[[#This Row],[Equipo con administración]]*Equipos[[#This Row],[Cantidad de Equipos]],((Equipos[[#This Row],[Costo unidad de tiempo]]*Equipos[[#This Row],[Cantidad de Tiempo]]))))>Equipos[[#This Row],[Equipo con administración]],Equipos[[#This Row],[Equipo con administración]]*Equipos[[#This Row],[Cantidad de Equipos]],(IF(Equipos[[#This Row],[Comprado?]]=\"SI\",Equipos[[#This Row],[Equipo con administración]]*Equipos[[#This Row],[Cantidad de Equipos]],((Equipos[[#This Row],[Costo unidad de tiempo]])*Equipos[[#This Row],[Cantidad de Tiempo]]*Equipos[[#This Row],[Cantidad de Equipos]])))),\"\")","v":""},null,{"$f":"+IFERROR(Equipos[[#This Row],[Costo parcial2]]*Equipos[[#This Row],[% Participación]]/100,\"\")","v":""}]
[null,null,null,{"$f":"+IFERROR(VLOOKUP(Equipos[[#This Row],[Equipo]],Tabla212[#All],2,0),\"\")","v":""},null,null,null,null,{"$f":"+IFERROR((Equipos[[#This Row],[Valor Equipo]]*(1+Equipos[[#This Row],[% Administración]])),\"\")","v":0},null,{"$f":"IFERROR(IF(Equipos[[#This Row],[Comprado?]]=\"SI\",Equipos[[#This Row],[Equipo con administración]],(Equipos[[#This Row],[Equipo con administración]]/(Equipos[[#This Row],[Tiempo depreciación]]*12)/(VLOOKUP(Equipos[[#This Row],[Unidad de Tiempo]],Tabla210[],2,0)))),\"\")","v":""},null,null,{"$f":"IFERROR(IF((IF(Equipos[[#This Row],[Comprado?]]=\"SI\",Equipos[[#This Row],[Equipo con administración]]*Equipos[[#This Row],[Cantidad de Equipos]],((Equipos[[#This Row],[Costo unidad de tiempo]]*Equipos[[#This Row],[Cantidad de Tiempo]]))))>Equipos[[#This Row],[Equipo con administración]],Equipos[[#This Row],[Equipo con administración]]*Equipos[[#This Row],[Cantidad de Equipos]],(IF(Equipos[[#This Row],[Comprado?]]=\"SI\",Equipos[[#This Row],[Equipo con administración]]*Equipos[[#This Row],[Cantidad de Equipos]],((Equipos[[#This Row],[Costo unidad de tiempo]])*Equipos[[#This Row],[Cantidad de Tiempo]]*Equipos[[#This Row],[Cantidad de Equipos]])))),\"\")","v":""},null,{"$f":"+IFERROR(Equipos[[#This Row],[Costo parcial2]]*Equipos[[#This Row],[% Participación]]/100,\"\")","v":""}]
[null,null,null,{"$f":"+IFERROR(VLOOKUP(Equipos[[#This Row],[Equipo]],Tabla212[#All],2,0),\"\")","v":""},null,null,null,null,{"$f":"+IFERROR((Equipos[[#This Row],[Valor Equipo]]*(1+Equipos[[#This Row],[% Administración]])),\"\")","v":0},null,{"$f":"IFERROR(IF(Equipos[[#This Row],[Comprado?]]=\"SI\",Equipos[[#This Row],[Equipo con administración]],(Equipos[[#This Row],[Equipo con administración]]/(Equipos[[#This Row],[Tiempo depreciación]]*12)/(VLOOKUP(Equipos[[#This Row],[Unidad de Tiempo]],Tabla210[],2,0)))),\"\")","v":""},null,null,{"$f":"IFERROR(IF((IF(Equipos[[#This Row],[Comprado?]]=\"SI\",Equipos[[#This Row],[Equipo con administración]]*Equipos[[#This Row],[Cantidad de Equipos]],((Equipos[[#This Row],[Costo unidad de tiempo]]*Equipos[[#This Row],[Cantidad de Tiempo]]))))>Equipos[[#This Row],[Equipo con administración]],Equipos[[#This Row],[Equipo con administración]]*Equipos[[#This Row],[Cantidad de Equipos]],(IF(Equipos[[#This Row],[Comprado?]]=\"SI\",Equipos[[#This Row],[Equipo con administración]]*Equipos[[#This Row],[Cantidad de Equipos]],((Equipos[[#This Row],[Costo unidad de tiempo]])*Equipos[[#This Row],[Cantidad de Tiempo]]*Equipos[[#This Row],[Cantidad de Equipos]])))),\"\")","v":""},null,{"$f":"+IFERROR(Equipos[[#This Row],[Costo parcial2]]*Equipos[[#This Row],[% Participación]]/100,\"\")","v":""}]
[null,null,null,{"$f":"+IFERROR(VLOOKUP(Equipos[[#This Row],[Equipo]],Tabla212[#All],2,0),\"\")","v":""},null,null,null,null,{"$f":"+IFERROR((Equipos[[#This Row],[Valor Equipo]]*(1+Equipos[[#This Row],[% Administración]])),\"\")","v":0},null,{"$f":"IFERROR(IF(Equipos[[#This Row],[Comprado?]]=\"SI\",Equipos[[#This Row],[Equipo con administración]],(Equipos[[#This Row],[Equipo con administración]]/(Equipos[[#This Row],[Tiempo depreciación]]*12)/(VLOOKUP(Equipos[[#This Row],[Unidad de Tiempo]],Tabla210[],2,0)))),\"\")","v":""},null,null,{"$f":"IFERROR(IF((IF(Equipos[[#This Row],[Comprado?]]=\"SI\",Equipos[[#This Row],[Equipo con administración]]*Equipos[[#This Row],[Cantidad de Equipos]],((Equipos[[#This Row],[Costo unidad de tiempo]]*Equipos[[#This Row],[Cantidad de Tiempo]]))))>Equipos[[#This Row],[Equipo con administración]],Equipos[[#This Row],[Equipo con administración]]*Equipos[[#This Row],[Cantidad de Equipos]],(IF(Equipos[[#This Row],[Comprado?]]=\"SI\",Equipos[[#This Row],[Equipo con administración]]*Equipos[[#This Row],[Cantidad de Equipos]],((Equipos[[#This Row],[Costo unidad de tiempo]])*Equipos[[#This Row],[Cantidad de Tiempo]]*Equipos[[#This Row],[Cantidad de Equipos]])))),\"\")","v":""},null,{"$f":"+IFERROR(Equipos[[#This Row],[Costo parcial2]]*Equipos[[#This Row],[% Participación]]/100,\"\")","v":""}]
[null,null,null,{"$f":"+IFERROR(VLOOKUP(Equipos[[#This Row],[Equipo]],Tabla212[#All],2,0),\"\")","v":""},null,null,null,null,{"$f":"+IFERROR((Equipos[[#This Row],[Valor Equipo]]*(1+Equipos[[#This Row],[% Administración]])),\"\")","v":0},null,{"$f":"IFERROR(IF(Equipos[[#This Row],[Comprado?]]=\"SI\",Equipos[[#This Row],[Equipo con administración]],(Equipos[[#This Row],[Equipo con administración]]/(Equipos[[#This Row],[Tiempo depreciación]]*12)/(VLOOKUP(Equipos[[#This Row],[Unidad de Tiempo]],Tabla210[],2,0)))),\"\")","v":""},null,null,{"$f":"IFERROR(IF((IF(Equipos[[#This Row],[Comprado?]]=\"SI\",Equipos[[#This Row],[Equipo con administración]]*Equipos[[#This Row],[Cantidad de Equipos]],((Equipos[[#This Row],[Costo unidad de tiempo]]*Equipos[[#This Row],[Cantidad de Tiempo]]))))>Equipos[[#This Row],[Equipo con administración]],Equipos[[#This Row],[Equipo con administración]]*Equipos[[#This Row],[Cantidad de Equipos]],(IF(Equipos[[#This Row],[Comprado?]]=\"SI\",Equipos[[#This Row],[Equipo con administración]]*Equipos[[#This Row],[Cantidad de Equipos]],((Equipos[[#This Row],[Costo unidad de tiempo]])*Equipos[[#This Row],[Cantidad de Tiempo]]*Equipos[[#This Row],[Cantidad de Equipos]])))),\"\")","v":""},null,{"$f":"+IFERROR(Equipos[[#This Row],[Costo parcial2]]*Equipos[[#This Row],[% Participación]]/100,\"\")","v":""}]
[null,null,null,{"$f":"+IFERROR(VLOOKUP(Equipos[[#This Row],[Equipo]],Tabla212[#All],2,0),\"\")","v":""},null,null,null,null,{"$f":"+IFERROR((Equipos[[#This Row],[Valor Equipo]]*(1+Equipos[[#This Row],[% Administración]])),\"\")","v":0},null,{"$f":"IFERROR(IF(Equipos[[#This Row],[Comprado?]]=\"SI\",Equipos[[#This Row],[Equipo con administración]],(Equipos[[#This Row],[Equipo con administración]]/(Equipos[[#This Row],[Tiempo depreciación]]*12)/(VLOOKUP(Equipos[[#This Row],[Unidad de Tiempo]],Tabla210[],2,0)))),\"\")","v":""},null,null,{"$f":"IFERROR(IF((IF(Equipos[[#This Row],[Comprado?]]=\"SI\",Equipos[[#This Row],[Equipo con administración]]*Equipos[[#This Row],[Cantidad de Equipos]],((Equipos[[#This Row],[Costo unidad de tiempo]]*Equipos[[#This Row],[Cantidad de Tiempo]]))))>Equipos[[#This Row],[Equipo con administración]],Equipos[[#This Row],[Equipo con administración]]*Equipos[[#This Row],[Cantidad de Equipos]],(IF(Equipos[[#This Row],[Comprado?]]=\"SI\",Equipos[[#This Row],[Equipo con administración]]*Equipos[[#This Row],[Cantidad de Equipos]],((Equipos[[#This Row],[Costo unidad de tiempo]])*Equipos[[#This Row],[Cantidad de Tiempo]]*Equipos[[#This Row],[Cantidad de Equipos]])))),\"\")","v":""},null,{"$f":"+IFERROR(Equipos[[#This Row],[Costo parcial2]]*Equipos[[#This Row],[% Participación]]/100,\"\")","v":""}]
[null,null,null,{"$f":"+IFERROR(VLOOKUP(Equipos[[#This Row],[Equipo]],Tabla212[#All],2,0),\"\")","v":""},null,null,null,null,{"$f":"+IFERROR((Equipos[[#This Row],[Valor Equipo]]*(1+Equipos[[#This Row],[% Administración]])),\"\")","v":0},null,{"$f":"IFERROR(IF(Equipos[[#This Row],[Comprado?]]=\"SI\",Equipos[[#This Row],[Equipo con administración]],(Equipos[[#This Row],[Equipo con administración]]/(Equipos[[#This Row],[Tiempo depreciación]]*12)/(VLOOKUP(Equipos[[#This Row],[Unidad de Tiempo]],Tabla210[],2,0)))),\"\")","v":""},null,null,{"$f":"IFERROR(IF((IF(Equipos[[#This Row],[Comprado?]]=\"SI\",Equipos[[#This Row],[Equipo con administración]]*Equipos[[#This Row],[Cantidad de Equipos]],((Equipos[[#This Row],[Costo unidad de tiempo]]*Equipos[[#This Row],[Cantidad de Tiempo]]))))>Equipos[[#This Row],[Equipo con administración]],Equipos[[#This Row],[Equipo con administración]]*Equipos[[#This Row],[Cantidad de Equipos]],(IF(Equipos[[#This Row],[Comprado?]]=\"SI\",Equipos[[#This Row],[Equipo con administración]]*Equipos[[#This Row],[Cantidad de Equipos]],((Equipos[[#This Row],[Costo unidad de tiempo]])*Equipos[[#This Row],[Cantidad de Tiempo]]*Equipos[[#This Row],[Cantidad de Equipos]])))),\"\")","v":""},null,{"$f":"+IFERROR(Equipos[[#This Row],[Costo parcial2]]*Equipos[[#This Row],[% Participación]]/100,\"\")","v":""}]
[null,null,null,{"$f":"+IFERROR(VLOOKUP(Equipos[[#This Row],[Equipo]],Tabla212[#All],2,0),\"\")","v":""},null,null,null,null,{"$f":"+IFERROR((Equipos[[#This Row],[Valor Equipo]]*(1+Equipos[[#This Row],[% Administración]])),\"\")","v":0},null,{"$f":"IFERROR(IF(Equipos[[#This Row],[Comprado?]]=\"SI\",Equipos[[#This Row],[Equipo con administración]],(Equipos[[#This Row],[Equipo con administración]]/(Equipos[[#This Row],[Tiempo depreciación]]*12)/(VLOOKUP(Equipos[[#This Row],[Unidad de Tiempo]],Tabla210[],2,0)))),\"\")","v":""},null,null,{"$f":"IFERROR(IF((IF(Equipos[[#This Row],[Comprado?]]=\"SI\",Equipos[[#This Row],[Equipo con administración]]*Equipos[[#This Row],[Cantidad de Equipos]],((Equipos[[#This Row],[Costo unidad de tiempo]]*Equipos[[#This Row],[Cantidad de Tiempo]]))))>Equipos[[#This Row],[Equipo con administración]],Equipos[[#This Row],[Equipo con administración]]*Equipos[[#This Row],[Cantidad de Equipos]],(IF(Equipos[[#This Row],[Comprado?]]=\"SI\",Equipos[[#This Row],[Equipo con administración]]*Equipos[[#This Row],[Cantidad de Equipos]],((Equipos[[#This Row],[Costo unidad de tiempo]])*Equipos[[#This Row],[Cantidad de Tiempo]]*Equipos[[#This Row],[Cantidad de Equipos]])))),\"\")","v":""},null,{"$f":"+IFERROR(Equipos[[#This Row],[Costo parcial2]]*Equipos[[#This Row],[% Participación]]/100,\"\")","v":""}]
[null,null,null,{"$f":"+IFERROR(VLOOKUP(Equipos[[#This Row],[Equipo]],Tabla212[#All],2,0),\"\")","v":""},null,null,null,null,{"$f":"+IFERROR((Equipos[[#This Row],[Valor Equipo]]*(1+Equipos[[#This Row],[% Administración]])),\"\")","v":0},null,{"$f":"IFERROR(IF(Equipos[[#This Row],[Comprado?]]=\"SI\",Equipos[[#This Row],[Equipo con administración]],(Equipos[[#This Row],[Equipo con administración]]/(Equipos[[#This Row],[Tiempo depreciación]]*12)/(VLOOKUP(Equipos[[#This Row],[Unidad de Tiempo]],Tabla210[],2,0)))),\"\")","v":""},null,null,{"$f":"IFERROR(IF((IF(Equipos[[#This Row],[Comprado?]]=\"SI\",Equipos[[#This Row],[Equipo con administración]]*Equipos[[#This Row],[Cantidad de Equipos]],((Equipos[[#This Row],[Costo unidad de tiempo]]*Equipos[[#This Row],[Cantidad de Tiempo]]))))>Equipos[[#This Row],[Equipo con administración]],Equipos[[#This Row],[Equipo con administración]]*Equipos[[#This Row],[Cantidad de Equipos]],(IF(Equipos[[#This Row],[Comprado?]]=\"SI\",Equipos[[#This Row],[Equipo con administración]]*Equipos[[#This Row],[Cantidad de Equipos]],((Equipos[[#This Row],[Costo unidad de tiempo]])*Equipos[[#This Row],[Cantidad de Tiempo]]*Equipos[[#This Row],[Cantidad de Equipos]])))),\"\")","v":""},null,{"$f":"+IFERROR(Equipos[[#This Row],[Costo parcial2]]*Equipos[[#This Row],[% Participación]]/100,\"\")","v":""}]
[null,null,null,{"$f":"+IFERROR(VLOOKUP(Equipos[[#This Row],[Equipo]],Tabla212[#All],2,0),\"\")","v":""},null,null,null,null,{"$f":"+IFERROR((Equipos[[#This Row],[Valor Equipo]]*(1+Equipos[[#This Row],[% Administración]])),\"\")","v":0},null,{"$f":"IFERROR(IF(Equipos[[#This Row],[Comprado?]]=\"SI\",Equipos[[#This Row],[Equipo con administración]],(Equipos[[#This Row],[Equipo con administración]]/(Equipos[[#This Row],[Tiempo depreciación]]*12)/(VLOOKUP(Equipos[[#This Row],[Unidad de Tiempo]],Tabla210[],2,0)))),\"\")","v":""},null,null,{"$f":"IFERROR(IF((IF(Equipos[[#This Row],[Comprado?]]=\"SI\",Equipos[[#This Row],[Equipo con administración]]*Equipos[[#This Row],[Cantidad de Equipos]],((Equipos[[#This Row],[Costo unidad de tiempo]]*Equipos[[#This Row],[Cantidad de Tiempo]]))))>Equipos[[#This Row],[Equipo con administración]],Equipos[[#This Row],[Equipo con administración]]*Equipos[[#This Row],[Cantidad de Equipos]],(IF(Equipos[[#This Row],[Comprado?]]=\"SI\",Equipos[[#This Row],[Equipo con administración]]*Equipos[[#This Row],[Cantidad de Equipos]],((Equipos[[#This Row],[Costo unidad de tiempo]])*Equipos[[#This Row],[Cantidad de Tiempo]]*Equipos[[#This Row],[Cantidad de Equipos]])))),\"\")","v":""},null,{"$f":"+IFERROR(Equipos[[#This Row],[Costo parcial2]]*Equipos[[#This Row],[% Participación]]/100,\"\")","v":""}]
[null,null,null,{"$f":"+IFERROR(VLOOKUP(Equipos[[#This Row],[Equipo]],Tabla212[#All],2,0),\"\")","v":""},null,null,null,null,{"$f":"+IFERROR((Equipos[[#This Row],[Valor Equipo]]*(1+Equipos[[#This Row],[% Administración]])),\"\")","v":0},null,{"$f":"IFERROR(IF(Equipos[[#This Row],[Comprado?]]=\"SI\",Equipos[[#This Row],[Equipo con administración]],(Equipos[[#This Row],[Equipo con administración]]/(Equipos[[#This Row],[Tiempo depreciación]]*12)/(VLOOKUP(Equipos[[#This Row],[Unidad de Tiempo]],Tabla210[],2,0)))),\"\")","v":""},null,null,{"$f":"IFERROR(IF((IF(Equipos[[#This Row],[Comprado?]]=\"SI\",Equipos[[#This Row],[Equipo con administración]]*Equipos[[#This Row],[Cantidad de Equipos]],((Equipos[[#This Row],[Costo unidad de tiempo]]*Equipos[[#This Row],[Cantidad de Tiempo]]))))>Equipos[[#This Row],[Equipo con administración]],Equipos[[#This Row],[Equipo con administración]]*Equipos[[#This Row],[Cantidad de Equipos]],(IF(Equipos[[#This Row],[Comprado?]]=\"SI\",Equipos[[#This Row],[Equipo con administración]]*Equipos[[#This Row],[Cantidad de Equipos]],((Equipos[[#This Row],[Costo unidad de tiempo]])*Equipos[[#This Row],[Cantidad de Tiempo]]*Equipos[[#This Row],[Cantidad de Equipos]])))),\"\")","v":""},null,{"$f":"+IFERROR(Equipos[[#This Row],[Costo parcial2]]*Equipos[[#This Row],[% Participación]]/100,\"\")","v":""}]
[null,null,null,{"$f":"+IFERROR(VLOOKUP(Equipos[[#This Row],[Equipo]],Tabla212[#All],2,0),\"\")","v":""},null,null,null,null,{"$f":"+IFERROR((Equipos[[#This Row],[Valor Equipo]]*(1+Equipos[[#This Row],[% Administración]])),\"\")","v":0},null,{"$f":"IFERROR(IF(Equipos[[#This Row],[Comprado?]]=\"SI\",Equipos[[#This Row],[Equipo con administración]],(Equipos[[#This Row],[Equipo con administración]]/(Equipos[[#This Row],[Tiempo depreciación]]*12)/(VLOOKUP(Equipos[[#This Row],[Unidad de Tiempo]],Tabla210[],2,0)))),\"\")","v":""},null,null,{"$f":"IFERROR(IF((IF(Equipos[[#This Row],[Comprado?]]=\"SI\",Equipos[[#This Row],[Equipo con administración]]*Equipos[[#This Row],[Cantidad de Equipos]],((Equipos[[#This Row],[Costo unidad de tiempo]]*Equipos[[#This Row],[Cantidad de Tiempo]]))))>Equipos[[#This Row],[Equipo con administración]],Equipos[[#This Row],[Equipo con administración]]*Equipos[[#This Row],[Cantidad de Equipos]],(IF(Equipos[[#This Row],[Comprado?]]=\"SI\",Equipos[[#This Row],[Equipo con administración]]*Equipos[[#This Row],[Cantidad de Equipos]],((Equipos[[#This Row],[Costo unidad de tiempo]])*Equipos[[#This Row],[Cantidad de Tiempo]]*Equipos[[#This Row],[Cantidad de Equipos]])))),\"\")","v":""},null,{"$f":"+IFERROR(Equipos[[#This Row],[Costo parcial2]]*Equipos[[#This Row],[% Participación]]/100,\"\")","v":""}]
[null,null,null,{"$f":"+IFERROR(VLOOKUP(Equipos[[#This Row],[Equipo]],Tabla212[#All],2,0),\"\")","v":""},null,null,null,null,{"$f":"+IFERROR((Equipos[[#This Row],[Valor Equipo]]*(1+Equipos[[#This Row],[% Administración]])),\"\")","v":0},null,{"$f":"IFERROR(IF(Equipos[[#This Row],[Comprado?]]=\"SI\",Equipos[[#This Row],[Equipo con administración]],(Equipos[[#This Row],[Equipo con administración]]/(Equipos[[#This Row],[Tiempo depreciación]]*12)/(VLOOKUP(Equipos[[#This Row],[Unidad de Tiempo]],Tabla210[],2,0)))),\"\")","v":""},null,null,{"$f":"IFERROR(IF((IF(Equipos[[#This Row],[Comprado?]]=\"SI\",Equipos[[#This Row],[Equipo con administración]]*Equipos[[#This Row],[Cantidad de Equipos]],((Equipos[[#This Row],[Costo unidad de tiempo]]*Equipos[[#This Row],[Cantidad de Tiempo]]))))>Equipos[[#This Row],[Equipo con administración]],Equipos[[#This Row],[Equipo con administración]]*Equipos[[#This Row],[Cantidad de Equipos]],(IF(Equipos[[#This Row],[Comprado?]]=\"SI\",Equipos[[#This Row],[Equipo con administración]]*Equipos[[#This Row],[Cantidad de Equipos]],((Equipos[[#This Row],[Costo unidad de tiempo]])*Equipos[[#This Row],[Cantidad de Tiempo]]*Equipos[[#This Row],[Cantidad de Equipos]])))),\"\")","v":""},null,{"$f":"+IFERROR(Equipos[[#This Row],[Costo parcial2]]*Equipos[[#This Row],[% Participación]]/100,\"\")","v":""}]

{"sheet":"Espacios","index":21,"n_rows":50,"n_cols":14,"rows_kept":50,"cut":false,"hidden":false,"merged":[]}
["Financiador","Fase","Destinación","Espacio","Descripción","Valor Espacio  ","Unidad de Tiempo","% Administración","Espacio con administración","Cantidad de Tiempo","Cantidad de Espacios","Costo parcial2","% Participación","Costo"]
[null,null,null,null,null,{"$f":"IFERROR((VLOOKUP(Espacios[[#This Row],[Espacio]],Tabla214[#All],MATCH(Espacios[[#This Row],[Destinación]],Tabla214[#Headers],0),FALSE)),\"\")","v":""},{"$f":"+IF(Espacios[[#This Row],[Destinación]]<>\"\",IF(Espacios[[#This Row],[Destinación]]<>\"Espacios_Canon_Mensual\",\"Día\",\"Mes\"),\"\")","v":""},null,{"$f":"+IFERROR((Espacios[[#This Row],[Valor Espacio  ]]*(1+Espacios[[#This Row],[% Administración]])),\"\")","v":""},null,null,{"$f":"IFERROR((Espacios[[#This Row],[Espacio con administración]]*Espacios[[#This Row],[Cantidad de Tiempo]]*Espacios[[#This Row],[Cantidad de Espacios]]),\"\")","v":""},null,{"$f":"+IFERROR(Espacios[[#This Row],[Costo parcial2]]*Espacios[[#This Row],[% Participación]]/100,\"\")","v":""}]
[null,null,null,null,null,{"$f":"IFERROR((VLOOKUP(Espacios[[#This Row],[Espacio]],Tabla214[#All],MATCH(Espacios[[#This Row],[Destinación]],Tabla214[#Headers],0),FALSE)),\"\")","v":""},{"$f":"+IF(Espacios[[#This Row],[Destinación]]<>\"\",IF(Espacios[[#This Row],[Destinación]]<>\"Espacios_Canon_Mensual\",\"Día\",\"Mes\"),\"\")","v":""},null,{"$f":"+IFERROR((Espacios[[#This Row],[Valor Espacio  ]]*(1+Espacios[[#This Row],[% Administración]])),\"\")","v":""},null,null,{"$f":"IFERROR((Espacios[[#This Row],[Espacio con administración]]*Espacios[[#This Row],[Cantidad de Tiempo]]*Espacios[[#This Row],[Cantidad de Espacios]]),\"\")","v":""},null,{"$f":"+IFERROR(Espacios[[#This Row],[Costo parcial2]]*Espacios[[#This Row],[% Participación]]/100,\"\")","v":""}]
[null,null,null,null,null,{"$f":"IFERROR((VLOOKUP(Espacios[[#This Row],[Espacio]],Tabla214[#All],MATCH(Espacios[[#This Row],[Destinación]],Tabla214[#Headers],0),FALSE)),\"\")","v":""},{"$f":"+IF(Espacios[[#This Row],[Destinación]]<>\"\",IF(Espacios[[#This Row],[Destinación]]<>\"Espacios_Canon_Mensual\",\"Día\",\"Mes\"),\"\")","v":""},null,{"$f":"+IFERROR((Espacios[[#This Row],[Valor Espacio  ]]*(1+Espacios[[#This Row],[% Administración]])),\"\")","v":""},null,null,{"$f":"IFERROR((Espacios[[#This Row],[Espacio con administración]]*Espacios[[#This Row],[Cantidad de Tiempo]]*Espacios[[#This Row],[Cantidad de Espacios]]),\"\")","v":""},null,{"$f":"+IFERROR(Espacios[[#This Row],[Costo parcial2]]*Espacios[[#This Row],[% Participación]]/100,\"\")","v":""}]
[null,null,null,null,null,{"$f":"IFERROR((VLOOKUP(Espacios[[#This Row],[Espacio]],Tabla214[#All],MATCH(Espacios[[#This Row],[Destinación]],Tabla214[#Headers],0),FALSE)),\"\")","v":""},{"$f":"+IF(Espacios[[#This Row],[Destinación]]<>\"\",IF(Espacios[[#This Row],[Destinación]]<>\"Espacios_Canon_Mensual\",\"Día\",\"Mes\"),\"\")","v":""},null,{"$f":"+IFERROR((Espacios[[#This Row],[Valor Espacio  ]]*(1+Espacios[[#This Row],[% Administración]])),\"\")","v":""},null,null,{"$f":"IFERROR((Espacios[[#This Row],[Espacio con administración]]*Espacios[[#This Row],[Cantidad de Tiempo]]*Espacios[[#This Row],[Cantidad de Espacios]]),\"\")","v":""},null,{"$f":"+IFERROR(Espacios[[#This Row],[Costo parcial2]]*Espacios[[#This Row],[% Participación]]/100,\"\")","v":""}]
[null,null,null,null,null,{"$f":"IFERROR((VLOOKUP(Espacios[[#This Row],[Espacio]],Tabla214[#All],MATCH(Espacios[[#This Row],[Destinación]],Tabla214[#Headers],0),FALSE)),\"\")","v":""},{"$f":"+IF(Espacios[[#This Row],[Destinación]]<>\"\",IF(Espacios[[#This Row],[Destinación]]<>\"Espacios_Canon_Mensual\",\"Día\",\"Mes\"),\"\")","v":""},null,{"$f":"+IFERROR((Espacios[[#This Row],[Valor Espacio  ]]*(1+Espacios[[#This Row],[% Administración]])),\"\")","v":""},null,null,{"$f":"IFERROR((Espacios[[#This Row],[Espacio con administración]]*Espacios[[#This Row],[Cantidad de Tiempo]]*Espacios[[#This Row],[Cantidad de Espacios]]),\"\")","v":""},null,{"$f":"+IFERROR(Espacios[[#This Row],[Costo parcial2]]*Espacios[[#This Row],[% Participación]]/100,\"\")","v":""}]
[null,null,null,null,null,{"$f":"IFERROR((VLOOKUP(Espacios[[#This Row],[Espacio]],Tabla214[#All],MATCH(Espacios[[#This Row],[Destinación]],Tabla214[#Headers],0),FALSE)),\"\")","v":""},{"$f":"+IF(Espacios[[#This Row],[Destinación]]<>\"\",IF(Espacios[[#This Row],[Destinación]]<>\"Espacios_Canon_Mensual\",\"Día\",\"Mes\"),\"\")","v":""},null,{"$f":"+IFERROR((Espacios[[#This Row],[Valor Espacio  ]]*(1+Espacios[[#This Row],[% Administración]])),\"\")","v":""},null,null,{"$f":"IFERROR((Espacios[[#This Row],[Espacio con administración]]*Espacios[[#This Row],[Cantidad de Tiempo]]*Espacios[[#This Row],[Cantidad de Espacios]]),\"\")","v":""},null,{"$f":"+IFERROR(Espacios[[#This Row],[Costo parcial2]]*Espacios[[#This Row],[% Participación]]/100,\"\")","v":""}]
[null,null,null,null,null,{"$f":"IFERROR((VLOOKUP(Espacios[[#This Row],[Espacio]],Tabla214[#All],MATCH(Espacios[[#This Row],[Destinación]],Tabla214[#Headers],0),FALSE)),\"\")","v":""},{"$f":"+IF(Espacios[[#This Row],[Destinación]]<>\"\",IF(Espacios[[#This Row],[Destinación]]<>\"Espacios_Canon_Mensual\",\"Día\",\"Mes\"),\"\")","v":""},null,{"$f":"+IFERROR((Espacios[[#This Row],[Valor Espacio  ]]*(1+Espacios[[#This Row],[% Administración]])),\"\")","v":""},null,null,{"$f":"IFERROR((Espacios[[#This Row],[Espacio con administración]]*Espacios[[#This Row],[Cantidad de Tiempo]]*Espacios[[#This Row],[Cantidad de Espacios]]),\"\")","v":""},null,{"$f":"+IFERROR(Espacios[[#This Row],[Costo parcial2]]*Espacios[[#This Row],[% Participación]]/100,\"\")","v":""}]
[null,null,null,null,null,{"$f":"IFERROR((VLOOKUP(Espacios[[#This Row],[Espacio]],Tabla214[#All],MATCH(Espacios[[#This Row],[Destinación]],Tabla214[#Headers],0),FALSE)),\"\")","v":""},{"$f":"+IF(Espacios[[#This Row],[Destinación]]<>\"\",IF(Espacios[[#This Row],[Destinación]]<>\"Espacios_Canon_Mensual\",\"Día\",\"Mes\"),\"\")","v":""},null,{"$f":"+IFERROR((Espacios[[#This Row],[Valor Espacio  ]]*(1+Espacios[[#This Row],[% Administración]])),\"\")","v":""},null,null,{"$f":"IFERROR((Espacios[[#This Row],[Espacio con administración]]*Espacios[[#This Row],[Cantidad de Tiempo]]*Espacios[[#This Row],[Cantidad de Espacios]]),\"\")","v":""},null,{"$f":"+IFERROR(Espacios[[#This Row],[Costo parcial2]]*Espacios[[#This Row],[% Participación]]/100,\"\")","v":""}]
[null,null,null,null,null,{"$f":"IFERROR((VLOOKUP(Espacios[[#This Row],[Espacio]],Tabla214[#All],MATCH(Espacios[[#This Row],[Destinación]],Tabla214[#Headers],0),FALSE)),\"\")","v":""},{"$f":"+IF(Espacios[[#This Row],[Destinación]]<>\"\",IF(Espacios[[#This Row],[Destinación]]<>\"Espacios_Canon_Mensual\",\"Día\",\"Mes\"),\"\")","v":""},null,{"$f":"+IFERROR((Espacios[[#This Row],[Valor Espacio  ]]*(1+Espacios[[#This Row],[% Administración]])),\"\")","v":""},null,null,{"$f":"IFERROR((Espacios[[#This Row],[Espacio con administración]]*Espacios[[#This Row],[Cantidad de Tiempo]]*Espacios[[#This Row],[Cantidad de Espacios]]),\"\")","v":""},null,{"$f":"+IFERROR(Espacios[[#This Row],[Costo parcial2]]*Espacios[[#This Row],[% Participación]]/100,\"\")","v":""}]
[null,null,null,null,null,{"$f":"IFERROR((VLOOKUP(Espacios[[#This Row],[Espacio]],Tabla214[#All],MATCH(Espacios[[#This Row],[Destinación]],Tabla214[#Headers],0),FALSE)),\"\")","v":""},{"$f":"+IF(Espacios[[#This Row],[Destinación]]<>\"\",IF(Espacios[[#This Row],[Destinación]]<>\"Espacios_Canon_Mensual\",\"Día\",\"Mes\"),\"\")","v":""},null,{"$f":"+IFERROR((Espacios[[#This Row],[Valor Espacio  ]]*(1+Espacios[[#This Row],[% Administración]])),\"\")","v":""},null,null,{"$f":"IFERROR((Espacios[[#This Row],[Espacio con administración]]*Espacios[[#This Row],[Cantidad de Tiempo]]*Espacios[[#This Row],[Cantidad de Espacios]]),\"\")","v":""},null,{"$f":"+IFERROR(Espacios[[#This Row],[Costo parcial2]]*Espacios[[#This Row],[% Participación]]/100,\"\")","v":""}]
[null,null,null,null,null,{"$f":"IFERROR((VLOOKUP(Espacios[[#This Row],[Espacio]],Tabla214[#All],MATCH(Espacios[[#This Row],[Destinación]],Tabla214[#Headers],0),FALSE)),\"\")","v":""},{"$f":"+IF(Espacios[[#This Row],[Destinación]]<>\"\",IF(Espacios[[#This Row],[Destinación]]<>\"Espacios_Canon_Mensual\",\"Día\",\"Mes\"),\"\")","v":""},null,{"$f":"+IFERROR((Espacios[[#This Row],[Valor Espacio  ]]*(1+Espacios[[#This Row],[% Administración]])),\"\")","v":""},null,null,{"$f":"IFERROR((Espacios[[#This Row],[Espacio con administración]]*Espacios[[#This Row],[Cantidad de Tiempo]]*Espacios[[#This Row],[Cantidad de Espacios]]),\"\")","v":""},null,{"$f":"+IFERROR(Espacios[[#This Row],[Costo parcial2]]*Espacios[[#This Row],[% Participación]]/100,\"\")","v":""}]
[null,null,null,null,null,{"$f":"IFERROR((VLOOKUP(Espacios[[#This Row],[Espacio]],Tabla214[#All],MATCH(Espacios[[#This Row],[Destinación]],Tabla214[#Headers],0),FALSE)),\"\")","v":""},{"$f":"+IF(Espacios[[#This Row],[Destinación]]<>\"\",IF(Espacios[[#This Row],[Destinación]]<>\"Espacios_Canon_Mensual\",\"Día\",\"Mes\"),\"\")","v":""},null,{"$f":"+IFERROR((Espacios[[#This Row],[Valor Espacio  ]]*(1+Espacios[[#This Row],[% Administración]])),\"\")","v":""},null,null,{"$f":"IFERROR((Espacios[[#This Row],[Espacio con administración]]*Espacios[[#This Row],[Cantidad de Tiempo]]*Espacios[[#This Row],[Cantidad de Espacios]]),\"\")","v":""},null,{"$f":"+IFERROR(Espacios[[#This Row],[Costo parcial2]]*Espacios[[#This Row],[% Participación]]/100,\"\")","v":""}]
[null,null,null,null,null,{"$f":"IFERROR((VLOOKUP(Espacios[[#This Row],[Espacio]],Tabla214[#All],MATCH(Espacios[[#This Row],[Destinación]],Tabla214[#Headers],0),FALSE)),\"\")","v":""},{"$f":"+IF(Espacios[[#This Row],[Destinación]]<>\"\",IF(Espacios[[#This Row],[Destinación]]<>\"Espacios_Canon_Mensual\",\"Día\",\"Mes\"),\"\")","v":""},null,{"$f":"+IFERROR((Espacios[[#This Row],[Valor Espacio  ]]*(1+Espacios[[#This Row],[% Administración]])),\"\")","v":""},null,null,{"$f":"IFERROR((Espacios[[#This Row],[Espacio con administración]]*Espacios[[#This Row],[Cantidad de Tiempo]]*Espacios[[#This Row],[Cantidad de Espacios]]),\"\")","v":""},null,{"$f":"+IFERROR(Espacios[[#This Row],[Costo parcial2]]*Espacios[[#This Row],[% Participación]]/100,\"\")","v":""}]
[null,null,null,null,null,{"$f":"IFERROR((VLOOKUP(Espacios[[#This Row],[Espacio]],Tabla214[#All],MATCH(Espacios[[#This Row],[Destinación]],Tabla214[#Headers],0),FALSE)),\"\")","v":""},{"$f":"+IF(Espacios[[#This Row],[Destinación]]<>\"\",IF(Espacios[[#This Row],[Destinación]]<>\"Espacios_Canon_Mensual\",\"Día\",\"Mes\"),\"\")","v":""},null,{"$f":"+IFERROR((Espacios[[#This Row],[Valor Espacio  ]]*(1+Espacios[[#This Row],[% Administración]])),\"\")","v":""},null,null,{"$f":"IFERROR((Espacios[[#This Row],[Espacio con administración]]*Espacios[[#This Row],[Cantidad de Tiempo]]*Espacios[[#This Row],[Cantidad de Espacios]]),\"\")","v":""},null,{"$f":"+IFERROR(Espacios[[#This Row],[Costo parcial2]]*Espacios[[#This Row],[% Participación]]/100,\"\")","v":""}]
[null,null,null,null,null,{"$f":"IFERROR((VLOOKUP(Espacios[[#This Row],[Espacio]],Tabla214[#All],MATCH(Espacios[[#This Row],[Destinación]],Tabla214[#Headers],0),FALSE)),\"\")","v":""},{"$f":"+IF(Espacios[[#This Row],[Destinación]]<>\"\",IF(Espacios[[#This Row],[Destinación]]<>\"Espacios_Canon_Mensual\",\"Día\",\"Mes\"),\"\")","v":""},null,{"$f":"+IFERROR((Espacios[[#This Row],[Valor Espacio  ]]*(1+Espacios[[#This Row],[% Administración]])),\"\")","v":""},null,null,{"$f":"IFERROR((Espacios[[#This Row],[Espacio con administración]]*Espacios[[#This Row],[Cantidad de Tiempo]]*Espacios[[#This Row],[Cantidad de Espacios]]),\"\")","v":""},null,{"$f":"+IFERROR(Espacios[[#This Row],[Costo parcial2]]*Espacios[[#This Row],[% Participación]]/100,\"\")","v":""}]
[null,null,null,null,null,{"$f":"IFERROR((VLOOKUP(Espacios[[#This Row],[Espacio]],Tabla214[#All],MATCH(Espacios[[#This Row],[Destinación]],Tabla214[#Headers],0),FALSE)),\"\")","v":""},{"$f":"+IF(Espacios[[#This Row],[Destinación]]<>\"\",IF(Espacios[[#This Row],[Destinación]]<>\"Espacios_Canon_Mensual\",\"Día\",\"Mes\"),\"\")","v":""},null,{"$f":"+IFERROR((Espacios[[#This Row],[Valor Espacio  ]]*(1+Espacios[[#This Row],[% Administración]])),\"\")","v":""},null,null,{"$f":"IFERROR((Espacios[[#This Row],[Espacio con administración]]*Espacios[[#This Row],[Cantidad de Tiempo]]*Espacios[[#This Row],[Cantidad de Espacios]]),\"\")","v":""},null,{"$f":"+IFERROR(Espacios[[#This Row],[Costo parcial2]]*Espacios[[#This Row],[% Participación]]/100,\"\")","v":""}]
[null,null,null,null,null,{"$f":"IFERROR((VLOOKUP(Espacios[[#This Row],[Espacio]],Tabla214[#All],MATCH(Espacios[[#This Row],[Destinación]],Tabla214[#Headers],0),FALSE)),\"\")","v":""},{"$f":"+IF(Espacios[[#This Row],[Destinación]]<>\"\",IF(Espacios[[#This Row],[Destinación]]<>\"Espacios_Canon_Mensual\",\"Día\",\"Mes\"),\"\")","v":""},null,{"$f":"+IFERROR((Espacios[[#This Row],[Valor Espacio  ]]*(1+Espacios[[#This Row],[% Administración]])),\"\")","v":""},null,null,{"$f":"IFERROR((Espacios[[#This Row],[Espacio con administración]]*Espacios[[#This Row],[Cantidad de Tiempo]]*Espacios[[#This Row],[Cantidad de Espacios]]),\"\")","v":""},null,{"$f":"+IFERROR(Espacios[[#This Row],[Costo parcial2]]*Espacios[[#This Row],[% Participación]]/100,\"\")","v":""}]
[null,null,null,null,null,{"$f":"IFERROR((VLOOKUP(Espacios[[#This Row],[Espacio]],Tabla214[#All],MATCH(Espacios[[#This Row],[Destinación]],Tabla214[#Headers],0),FALSE)),\"\")","v":""},{"$f":"+IF(Espacios[[#This Row],[Destinación]]<>\"\",IF(Espacios[[#This Row],[Destinación]]<>\"Espacios_Canon_Mensual\",\"Día\",\"Mes\"),\"\")","v":""},null,{"$f":"+IFERROR((Espacios[[#This Row],[Valor Espacio  ]]*(1+Espacios[[#This Row],[% Administración]])),\"\")","v":""},null,null,{"$f":"IFERROR((Espacios[[#This Row],[Espacio con administración]]*Espacios[[#This Row],[Cantidad de Tiempo]]*Espacios[[#This Row],[Cantidad de Espacios]]),\"\")","v":""},null,{"$f":"+IFERROR(Espacios[[#This Row],[Costo parcial2]]*Espacios[[#This Row],[% Participación]]/100,\"\")","v":""}]
[null,null,null,null,null,{"$f":"IFERROR((VLOOKUP(Espacios[[#This Row],[Espacio]],Tabla214[#All],MATCH(Espacios[[#This Row],[Destinación]],Tabla214[#Headers],0),FALSE)),\"\")","v":""},{"$f":"+IF(Espacios[[#This Row],[Destinación]]<>\"\",IF(Espacios[[#This Row],[Destinación]]<>\"Espacios_Canon_Mensual\",\"Día\",\"Mes\"),\"\")","v":""},null,{"$f":"+IFERROR((Espacios[[#This Row],[Valor Espacio  ]]*(1+Espacios[[#This Row],[% Administración]])),\"\")","v":""},null,null,{"$f":"IFERROR((Espacios[[#This Row],[Espacio con administración]]*Espacios[[#This Row],[Cantidad de Tiempo]]*Espacios[[#This Row],[Cantidad de Espacios]]),\"\")","v":""},null,{"$f":"+IFERROR(Espacios[[#This Row],[Costo parcial2]]*Espacios[[#This Row],[% Participación]]/100,\"\")","v":""}]
[null,null,null,null,null,{"$f":"IFERROR((VLOOKUP(Espacios[[#This Row],[Espacio]],Tabla214[#All],MATCH(Espacios[[#This Row],[Destinación]],Tabla214[#Headers],0),FALSE)),\"\")","v":""},{"$f":"+IF(Espacios[[#This Row],[Destinación]]<>\"\",IF(Espacios[[#This Row],[Destinación]]<>\"Espacios_Canon_Mensual\",\"Día\",\"Mes\"),\"\")","v":""},null,{"$f":"+IFERROR((Espacios[[#This Row],[Valor Espacio  ]]*(1+Espacios[[#This Row],[% Administración]])),\"\")","v":""},null,null,{"$f":"IFERROR((Espacios[[#This Row],[Espacio con administración]]*Espacios[[#This Row],[Cantidad de Tiempo]]*Espacios[[#This Row],[Cantidad de Espacios]]),\"\")","v":""},null,{"$f":"+IFERROR(Espacios[[#This Row],[Costo parcial2]]*Espacios[[#This Row],[% Participación]]/100,\"\")","v":""}]
[null,null,null,null,null,{"$f":"IFERROR((VLOOKUP(Espacios[[#This Row],[Espacio]],Tabla214[#All],MATCH(Espacios[[#This Row],[Destinación]],Tabla214[#Headers],0),FALSE)),\"\")","v":""},{"$f":"+IF(Espacios[[#This Row],[Destinación]]<>\"\",IF(Espacios[[#This Row],[Destinación]]<>\"Espacios_Canon_Mensual\",\"Día\",\"Mes\"),\"\")","v":""},null,{"$f":"+IFERROR((Espacios[[#This Row],[Valor Espacio  ]]*(1+Espacios[[#This Row],[% Administración]])),\"\")","v":""},null,null,{"$f":"IFERROR((Espacios[[#This Row],[Espacio con administración]]*Espacios[[#This Row],[Cantidad de Tiempo]]*Espacios[[#This Row],[Cantidad de Espacios]]),\"\")","v":""},null,{"$f":"+IFERROR(Espacios[[#This Row],[Costo parcial2]]*Espacios[[#This Row],[% Participación]]/100,\"\")","v":""}]
[null,null,null,null,null,{"$f":"IFERROR((VLOOKUP(Espacios[[#This Row],[Espacio]],Tabla214[#All],MATCH(Espacios[[#This Row],[Destinación]],Tabla214[#Headers],0),FALSE)),\"\")","v":""},{"$f":"+IF(Espacios[[#This Row],[Destinación]]<>\"\",IF(Espacios[[#This Row],[Destinación]]<>\"Espacios_Canon_Mensual\",\"Día\",\"Mes\"),\"\")","v":""},null,{"$f":"+IFERROR((Espacios[[#This Row],[Valor Espacio  ]]*(1+Espacios[[#This Row],[% Administración]])),\"\")","v":""},null,null,{"$f":"IFERROR((Espacios[[#This Row],[Espacio con administración]]*Espacios[[#This Row],[Cantidad de Tiempo]]*Espacios[[#This Row],[Cantidad de Espacios]]),\"\")","v":""},null,{"$f":"+IFERROR(Espacios[[#This Row],[Costo parcial2]]*Espacios[[#This Row],[% Participación]]/100,\"\")","v":""}]
[null,null,null,null,null,{"$f":"IFERROR((VLOOKUP(Espacios[[#This Row],[Espacio]],Tabla214[#All],MATCH(Espacios[[#This Row],[Destinación]],Tabla214[#Headers],0),FALSE)),\"\")","v":""},{"$f":"+IF(Espacios[[#This Row],[Destinación]]<>\"\",IF(Espacios[[#This Row],[Destinación]]<>\"Espacios_Canon_Mensual\",\"Día\",\"Mes\"),\"\")","v":""},null,{"$f":"+IFERROR((Espacios[[#This Row],[Valor Espacio  ]]*(1+Espacios[[#This Row],[% Administración]])),\"\")","v":""},null,null,{"$f":"IFERROR((Espacios[[#This Row],[Espacio con administración]]*Espacios[[#This Row],[Cantidad de Tiempo]]*Espacios[[#This Row],[Cantidad de Espacios]]),\"\")","v":""},null,{"$f":"+IFERROR(Espacios[[#This Row],[Costo parcial2]]*Espacios[[#This Row],[% Participación]]/100,\"\")","v":""}]
[null,null,null,null,null,{"$f":"IFERROR((VLOOKUP(Espacios[[#This Row],[Espacio]],Tabla214[#All],MATCH(Espacios[[#This Row],[Destinación]],Tabla214[#Headers],0),FALSE)),\"\")","v":""},{"$f":"+IF(Espacios[[#This Row],[Destinación]]<>\"\",IF(Espacios[[#This Row],[Destinación]]<>\"Espacios_Canon_Mensual\",\"Día\",\"Mes\"),\"\")","v":""},null,{"$f":"+IFERROR((Espacios[[#This Row],[Valor Espacio  ]]*(1+Espacios[[#This Row],[% Administración]])),\"\")","v":""},null,null,{"$f":"IFERROR((Espacios[[#This Row],[Espacio con administración]]*Espacios[[#This Row],[Cantidad de Tiempo]]*Espacios[[#This Row],[Cantidad de Espacios]]),\"\")","v":""},null,{"$f":"+IFERROR(Espacios[[#This Row],[Costo parcial2]]*Espacios[[#This Row],[% Participación]]/100,\"\")","v":""}]
[null,null,null,null,null,{"$f":"IFERROR((VLOOKUP(Espacios[[#This Row],[Espacio]],Tabla214[#All],MATCH(Espacios[[#This Row],[Destinación]],Tabla214[#Headers],0),FALSE)),\"\")","v":""},{"$f":"+IF(Espacios[[#This Row],[Destinación]]<>\"\",IF(Espacios[[#This Row],[Destinación]]<>\"Espacios_Canon_Mensual\",\"Día\",\"Mes\"),\"\")","v":""},null,{"$f":"+IFERROR((Espacios[[#This Row],[Valor Espacio  ]]*(1+Espacios[[#This Row],[% Administración]])),\"\")","v":""},null,null,{"$f":"IFERROR((Espacios[[#This Row],[Espacio con administración]]*Espacios[[#This Row],[Cantidad de Tiempo]]*Espacios[[#This Row],[Cantidad de Espacios]]),\"\")","v":""},null,{"$f":"+IFERROR(Espacios[[#This Row],[Costo parcial2]]*Espacios[[#This Row],[% Participación]]/100,\"\")","v":""}]
[null,null,null,null,null,{"$f":"IFERROR((VLOOKUP(Espacios[[#This Row],[Espacio]],Tabla214[#All],MATCH(Espacios[[#This Row],[Destinación]],Tabla214[#Headers],0),FALSE)),\"\")","v":""},{"$f":"+IF(Espacios[[#This Row],[Destinación]]<>\"\",IF(Espacios[[#This Row],[Destinación]]<>\"Espacios_Canon_Mensual\",\"Día\",\"Mes\"),\"\")","v":""},null,{"$f":"+IFERROR((Espacios[[#This Row],[Valor Espacio  ]]*(1+Espacios[[#This Row],[% Administración]])),\"\")","v":""},null,null,{"$f":"IFERROR((Espacios[[#This Row],[Espacio con administración]]*Espacios[[#This Row],[Cantidad de Tiempo]]*Espacios[[#This Row],[Cantidad de Espacios]]),\"\")","v":""},null,{"$f":"+IFERROR(Espacios[[#This Row],[Costo parcial2]]*Espacios[[#This Row],[% Participación]]/100,\"\")","v":""}]
[null,null,null,null,null,{"$f":"IFERROR((VLOOKUP(Espacios[[#This Row],[Espacio]],Tabla214[#All],MATCH(Espacios[[#This Row],[Destinación]],Tabla214[#Headers],0),FALSE)),\"\")","v":""},{"$f":"+IF(Espacios[[#This Row],[Destinación]]<>\"\",IF(Espacios[[#This Row],[Destinación]]<>\"Espacios_Canon_Mensual\",\"Día\",\"Mes\"),\"\")","v":""},null,{"$f":"+IFERROR((Espacios[[#This Row],[Valor Espacio  ]]*(1+Espacios[[#This Row],[% Administración]])),\"\")","v":""},null,null,{"$f":"IFERROR((Espacios[[#This Row],[Espacio con administración]]*Espacios[[#This Row],[Cantidad de Tiempo]]*Espacios[[#This Row],[Cantidad de Espacios]]),\"\")","v":""},null,{"$f":"+IFERROR(Espacios[[#This Row],[Costo parcial2]]*Espacios[[#This Row],[% Participación]]/100,\"\")","v":""}]
[null,null,null,null,null,{"$f":"IFERROR((VLOOKUP(Espacios[[#This Row],[Espacio]],Tabla214[#All],MATCH(Espacios[[#This Row],[Destinación]],Tabla214[#Headers],0),FALSE)),\"\")","v":""},{"$f":"+IF(Espacios[[#This Row],[Destinación]]<>\"\",IF(Espacios[[#This Row],[Destinación]]<>\"Espacios_Canon_Mensual\",\"Día\",\"Mes\"),\"\")","v":""},null,{"$f":"+IFERROR((Espacios[[#This Row],[Valor Espacio  ]]*(1+Espacios[[#This Row],[% Administración]])),\"\")","v":""},null,null,{"$f":"IFERROR((Espacios[[#This Row],[Espacio con administración]]*Espacios[[#This Row],[Cantidad de Tiempo]]*Espacios[[#This Row],[Cantidad de Espacios]]),\"\")","v":""},null,{"$f":"+IFERROR(Espacios[[#This Row],[Costo parcial2]]*Espacios[[#This Row],[% Participación]]/100,\"\")","v":""}]
[null,null,null,null,null,{"$f":"IFERROR((VLOOKUP(Espacios[[#This Row],[Espacio]],Tabla214[#All],MATCH(Espacios[[#This Row],[Destinación]],Tabla214[#Headers],0),FALSE)),\"\")","v":""},{"$f":"+IF(Espacios[[#This Row],[Destinación]]<>\"\",IF(Espacios[[#This Row],[Destinación]]<>\"Espacios_Canon_Mensual\",\"Día\",\"Mes\"),\"\")","v":""},null,{"$f":"+IFERROR((Espacios[[#This Row],[Valor Espacio  ]]*(1+Espacios[[#This Row],[% Administración]])),\"\")","v":""},null,null,{"$f":"IFERROR((Espacios[[#This Row],[Espacio con administración]]*Espacios[[#This Row],[Cantidad de Tiempo]]*Espacios[[#This Row],[Cantidad de Espacios]]),\"\")","v":""},null,{"$f":"+IFERROR(Espacios[[#This Row],[Costo parcial2]]*Espacios[[#This Row],[% Participación]]/100,\"\")","v":""}]
[null,null,null,null,null,{"$f":"IFERROR((VLOOKUP(Espacios[[#This Row],[Espacio]],Tabla214[#All],MATCH(Espacios[[#This Row],[Destinación]],Tabla214[#Headers],0),FALSE)),\"\")","v":""},{"$f":"+IF(Espacios[[#This Row],[Destinación]]<>\"\",IF(Espacios[[#This Row],[Destinación]]<>\"Espacios_Canon_Mensual\",\"Día\",\"Mes\"),\"\")","v":""},null,{"$f":"+IFERROR((Espacios[[#This Row],[Valor Espacio  ]]*(1+Espacios[[#This Row],[% Administración]])),\"\")","v":""},null,null,{"$f":"IFERROR((Espacios[[#This Row],[Espacio con administración]]*Espacios[[#This Row],[Cantidad de Tiempo]]*Espacios[[#This Row],[Cantidad de Espacios]]),\"\")","v":""},null,{"$f":"+IFERROR(Espacios[[#This Row],[Costo parcial2]]*Espacios[[#This Row],[% Participación]]/100,\"\")","v":""}]
[null,null,null,null,null,{"$f":"IFERROR((VLOOKUP(Espacios[[#This Row],[Espacio]],Tabla214[#All],MATCH(Espacios[[#This Row],[Destinación]],Tabla214[#Headers],0),FALSE)),\"\")","v":""},{"$f":"+IF(Espacios[[#This Row],[Destinación]]<>\"\",IF(Espacios[[#This Row],[Destinación]]<>\"Espacios_Canon_Mensual\",\"Día\",\"Mes\"),\"\")","v":""},null,{"$f":"+IFERROR((Espacios[[#This Row],[Valor Espacio  ]]*(1+Espacios[[#This Row],[% Administración]])),\"\")","v":""},null,null,{"$f":"IFERROR((Espacios[[#This Row],[Espacio con administración]]*Espacios[[#This Row],[Cantidad de Tiempo]]*Espacios[[#This Row],[Cantidad de Espacios]]),\"\")","v":""},null,{"$f":"+IFERROR(Espacios[[#This Row],[Costo parcial2]]*Espacios[[#This Row],[% Participación]]/100,\"\")","v":""}]
[null,null,null,null,null,{"$f":"IFERROR((VLOOKUP(Espacios[[#This Row],[Espacio]],Tabla214[#All],MATCH(Espacios[[#This Row],[Destinación]],Tabla214[#Headers],0),FALSE)),\"\")","v":""},{"$f":"+IF(Espacios[[#This Row],[Destinación]]<>\"\",IF(Espacios[[#This Row],[Destinación]]<>\"Espacios_Canon_Mensual\",\"Día\",\"Mes\"),\"\")","v":""},null,{"$f":"+IFERROR((Espacios[[#This Row],[Valor Espacio  ]]*(1+Espacios[[#This Row],[% Administración]])),\"\")","v":""},null,null,{"$f":"IFERROR((Espacios[[#This Row],[Espacio con administración]]*Espacios[[#This Row],[Cantidad de Tiempo]]*Espacios[[#This Row],[Cantidad de Espacios]]),\"\")","v":""},null,{"$f":"+IFERROR(Espacios[[#This Row],[Costo parcial2]]*Espacios[[#This Row],[% Participación]]/100,\"\")","v":""}]
[null,null,null,null,null,{"$f":"IFERROR((VLOOKUP(Espacios[[#This Row],[Espacio]],Tabla214[#All],MATCH(Espacios[[#This Row],[Destinación]],Tabla214[#Headers],0),FALSE)),\"\")","v":""},{"$f":"+IF(Espacios[[#This Row],[Destinación]]<>\"\",IF(Espacios[[#This Row],[Destinación]]<>\"Espacios_Canon_Mensual\",\"Día\",\"Mes\"),\"\")","v":""},null,{"$f":"+IFERROR((Espacios[[#This Row],[Valor Espacio  ]]*(1+Espacios[[#This Row],[% Administración]])),\"\")","v":""},null,null,{"$f":"IFERROR((Espacios[[#This Row],[Espacio con administración]]*Espacios[[#This Row],[Cantidad de Tiempo]]*Espacios[[#This Row],[Cantidad de Espacios]]),\"\")","v":""},null,{"$f":"+IFERROR(Espacios[[#This Row],[Costo parcial2]]*Espacios[[#This Row],[% Participación]]/100,\"\")","v":""}]
[null,null,null,null,null,{"$f":"IFERROR((VLOOKUP(Espacios[[#This Row],[Espacio]],Tabla214[#All],MATCH(Espacios[[#This Row],[Destinación]],Tabla214[#Headers],0),FALSE)),\"\")","v":""},{"$f":"+IF(Espacios[[#This Row],[Destinación]]<>\"\",IF(Espacios[[#This Row],[Destinación]]<>\"Espacios_Canon_Mensual\",\"Día\",\"Mes\"),\"\")","v":""},null,{"$f":"+IFERROR((Espacios[[#This Row],[Valor Espacio  ]]*(1+Espacios[[#This Row],[% Administración]])),\"\")","v":""},null,null,{"$f":"IFERROR((Espacios[[#This Row],[Espacio con administración]]*Espacios[[#This Row],[Cantidad de Tiempo]]*Espacios[[#This Row],[Cantidad de Espacios]]),\"\")","v":""},null,{"$f":"+IFERROR(Espacios[[#This Row],[Costo parcial2]]*Espacios[[#This Row],[% Participación]]/100,\"\")","v":""}]
[null,null,null,null,null,{"$f":"IFERROR((VLOOKUP(Espacios[[#This Row],[Espacio]],Tabla214[#All],MATCH(Espacios[[#This Row],[Destinación]],Tabla214[#Headers],0),FALSE)),\"\")","v":""},{"$f":"+IF(Espacios[[#This Row],[Destinación]]<>\"\",IF(Espacios[[#This Row],[Destinación]]<>\"Espacios_Canon_Mensual\",\"Día\",\"Mes\"),\"\")","v":""},null,{"$f":"+IFERROR((Espacios[[#This Row],[Valor Espacio  ]]*(1+Espacios[[#This Row],[% Administración]])),\"\")","v":""},null,null,{"$f":"IFERROR((Espacios[[#This Row],[Espacio con administración]]*Espacios[[#This Row],[Cantidad de Tiempo]]*Espacios[[#This Row],[Cantidad de Espacios]]),\"\")","v":""},null,{"$f":"+IFERROR(Espacios[[#This Row],[Costo parcial2]]*Espacios[[#This Row],[% Participación]]/100,\"\")","v":""}]
[null,null,null,null,null,{"$f":"IFERROR((VLOOKUP(Espacios[[#This Row],[Espacio]],Tabla214[#All],MATCH(Espacios[[#This Row],[Destinación]],Tabla214[#Headers],0),FALSE)),\"\")","v":""},{"$f":"+IF(Espacios[[#This Row],[Destinación]]<>\"\",IF(Espacios[[#This Row],[Destinación]]<>\"Espacios_Canon_Mensual\",\"Día\",\"Mes\"),\"\")","v":""},null,{"$f":"+IFERROR((Espacios[[#This Row],[Valor Espacio  ]]*(1+Espacios[[#This Row],[% Administración]])),\"\")","v":""},null,null,{"$f":"IFERROR((Espacios[[#This Row],[Espacio con administración]]*Espacios[[#This Row],[Cantidad de Tiempo]]*Espacios[[#This Row],[Cantidad de Espacios]]),\"\")","v":""},null,{"$f":"+IFERROR(Espacios[[#This Row],[Costo parcial2]]*Espacios[[#This Row],[% Participación]]/100,\"\")","v":""}]
[null,null,null,null,null,{"$f":"IFERROR((VLOOKUP(Espacios[[#This Row],[Espacio]],Tabla214[#All],MATCH(Espacios[[#This Row],[Destinación]],Tabla214[#Headers],0),FALSE)),\"\")","v":""},{"$f":"+IF(Espacios[[#This Row],[Destinación]]<>\"\",IF(Espacios[[#This Row],[Destinación]]<>\"Espacios_Canon_Mensual\",\"Día\",\"Mes\"),\"\")","v":""},null,{"$f":"+IFERROR((Espacios[[#This Row],[Valor Espacio  ]]*(1+Espacios[[#This Row],[% Administración]])),\"\")","v":""},null,null,{"$f":"IFERROR((Espacios[[#This Row],[Espacio con administración]]*Espacios[[#This Row],[Cantidad de Tiempo]]*Espacios[[#This Row],[Cantidad de Espacios]]),\"\")","v":""},null,{"$f":"+IFERROR(Espacios[[#This Row],[Costo parcial2]]*Espacios[[#This Row],[% Participación]]/100,\"\")","v":""}]
[null,null,null,null,null,{"$f":"IFERROR((VLOOKUP(Espacios[[#This Row],[Espacio]],Tabla214[#All],MATCH(Espacios[[#This Row],[Destinación]],Tabla214[#Headers],0),FALSE)),\"\")","v":""},{"$f":"+IF(Espacios[[#This Row],[Destinación]]<>\"\",IF(Espacios[[#This Row],[Destinación]]<>\"Espacios_Canon_Mensual\",\"Día\",\"Mes\"),\"\")","v":""},null,{"$f":"+IFERROR((Espacios[[#This Row],[Valor Espacio  ]]*(1+Espacios[[#This Row],[% Administración]])),\"\")","v":""},null,null,{"$f":"IFERROR((Espacios[[#This Row],[Espacio con administración]]*Espacios[[#This Row],[Cantidad de Tiempo]]*Espacios[[#This Row],[Cantidad de Espacios]]),\"\")","v":""},null,{"$f":"+IFERROR(Espacios[[#This Row],[Costo parcial2]]*Espacios[[#This Row],[% Participación]]/100,\"\")","v":""}]
[null,null,null,null,null,{"$f":"IFERROR((VLOOKUP(Espacios[[#This Row],[Espacio]],Tabla214[#All],MATCH(Espacios[[#This Row],[Destinación]],Tabla214[#Headers],0),FALSE)),\"\")","v":""},{"$f":"+IF(Espacios[[#This Row],[Destinación]]<>\"\",IF(Espacios[[#This Row],[Destinación]]<>\"Espacios_Canon_Mensual\",\"Día\",\"Mes\"),\"\")","v":""},null,{"$f":"+IFERROR((Espacios[[#This Row],[Valor Espacio  ]]*(1+Espacios[[#This Row],[% Administración]])),\"\")","v":""},null,null,{"$f":"IFERROR((Espacios[[#This Row],[Espacio con administración]]*Espacios[[#This Row],[Cantidad de Tiempo]]*Espacios[[#This Row],[Cantidad de Espacios]]),\"\")","v":""},null,{"$f":"+IFERROR(Espacios[[#This Row],[Costo parcial2]]*Espacios[[#This Row],[% Participación]]/100,\"\")","v":""}]
[null,null,null,null,null,{"$f":"IFERROR((VLOOKUP(Espacios[[#This Row],[Espacio]],Tabla214[#All],MATCH(Espacios[[#This Row],[Destinación]],Tabla214[#Headers],0),FALSE)),\"\")","v":""},{"$f":"+IF(Espacios[[#This Row],[Destinación]]<>\"\",IF(Espacios[[#This Row],[Destinación]]<>\"Espacios_Canon_Mensual\",\"Día\",\"Mes\"),\"\")","v":""},null,{"$f":"+IFERROR((Espacios[[#This Row],[Valor Espacio  ]]*(1+Espacios[[#This Row],[% Administración]])),\"\")","v":""},null,null,{"$f":"IFERROR((Espacios[[#This Row],[Espacio con administración]]*Espacios[[#This Row],[Cantidad de Tiempo]]*Espacios[[#This Row],[Cantidad de Espacios]]),\"\")","v":""},null,{"$f":"+IFERROR(Espacios[[#This Row],[Costo parcial2]]*Espacios[[#This Row],[% Participación]]/100,\"\")","v":""}]
[null,null,null,null,null,{"$f":"IFERROR((VLOOKUP(Espacios[[#This Row],[Espacio]],Tabla214[#All],MATCH(Espacios[[#This Row],[Destinación]],Tabla214[#Headers],0),FALSE)),\"\")","v":""},{"$f":"+IF(Espacios[[#This Row],[Destinación]]<>\"\",IF(Espacios[[#This Row],[Destinación]]<>\"Espacios_Canon_Mensual\",\"Día\",\"Mes\"),\"\")","v":""},null,{"$f":"+IFERROR((Espacios[[#This Row],[Valor Espacio  ]]*(1+Espacios[[#This Row],[% Administración]])),\"\")","v":""},null,null,{"$f":"IFERROR((Espacios[[#This Row],[Espacio con administración]]*Espacios[[#This Row],[Cantidad de Tiempo]]*Espacios[[#This Row],[Cantidad de Espacios]]),\"\")","v":""},null,{"$f":"+IFERROR(Espacios[[#This Row],[Costo parcial2]]*Espacios[[#This Row],[% Participación]]/100,\"\")","v":""}]
[null,null,null,null,null,{"$f":"IFERROR((VLOOKUP(Espacios[[#This Row],[Espacio]],Tabla214[#All],MATCH(Espacios[[#This Row],[Destinación]],Tabla214[#Headers],0),FALSE)),\"\")","v":""},{"$f":"+IF(Espacios[[#This Row],[Destinación]]<>\"\",IF(Espacios[[#This Row],[Destinación]]<>\"Espacios_Canon_Mensual\",\"Día\",\"Mes\"),\"\")","v":""},null,{"$f":"+IFERROR((Espacios[[#This Row],[Valor Espacio  ]]*(1+Espacios[[#This Row],[% Administración]])),\"\")","v":""},null,null,{"$f":"IFERROR((Espacios[[#This Row],[Espacio con administración]]*Espacios[[#This Row],[Cantidad de Tiempo]]*Espacios[[#This Row],[Cantidad de Espacios]]),\"\")","v":""},null,{"$f":"+IFERROR(Espacios[[#This Row],[Costo parcial2]]*Espacios[[#This Row],[% Participación]]/100,\"\")","v":""}]
[null,null,null,null,null,{"$f":"IFERROR((VLOOKUP(Espacios[[#This Row],[Espacio]],Tabla214[#All],MATCH(Espacios[[#This Row],[Destinación]],Tabla214[#Headers],0),FALSE)),\"\")","v":""},{"$f":"+IF(Espacios[[#This Row],[Destinación]]<>\"\",IF(Espacios[[#This Row],[Destinación]]<>\"Espacios_Canon_Mensual\",\"Día\",\"Mes\"),\"\")","v":""},null,{"$f":"+IFERROR((Espacios[[#This Row],[Valor Espacio  ]]*(1+Espacios[[#This Row],[% Administración]])),\"\")","v":""},null,null,{"$f":"IFERROR((Espacios[[#This Row],[Espacio con administración]]*Espacios[[#This Row],[Cantidad de Tiempo]]*Espacios[[#This Row],[Cantidad de Espacios]]),\"\")","v":""},null,{"$f":"+IFERROR(Espacios[[#This Row],[Costo parcial2]]*Espacios[[#This Row],[% Participación]]/100,\"\")","v":""}]
[null,null,null,null,null,{"$f":"IFERROR((VLOOKUP(Espacios[[#This Row],[Espacio]],Tabla214[#All],MATCH(Espacios[[#This Row],[Destinación]],Tabla214[#Headers],0),FALSE)),\"\")","v":""},{"$f":"+IF(Espacios[[#This Row],[Destinación]]<>\"\",IF(Espacios[[#This Row],[Destinación]]<>\"Espacios_Canon_Mensual\",\"Día\",\"Mes\"),\"\")","v":""},null,{"$f":"+IFERROR((Espacios[[#This Row],[Valor Espacio  ]]*(1+Espacios[[#This Row],[% Administración]])),\"\")","v":""},null,null,{"$f":"IFERROR((Espacios[[#This Row],[Espacio con administración]]*Espacios[[#This Row],[Cantidad de Tiempo]]*Espacios[[#This Row],[Cantidad de Espacios]]),\"\")","v":""},null,{"$f":"+IFERROR(Espacios[[#This Row],[Costo parcial2]]*Espacios[[#This Row],[% Participación]]/100,\"\")","v":""}]
[null,null,null,null,null,{"$f":"IFERROR((VLOOKUP(Espacios[[#This Row],[Espacio]],Tabla214[#All],MATCH(Espacios[[#This Row],[Destinación]],Tabla214[#Headers],0),FALSE)),\"\")","v":""},{"$f":"+IF(Espacios[[#This Row],[Destinación]]<>\"\",IF(Espacios[[#This Row],[Destinación]]<>\"Espacios_Canon_Mensual\",\"Día\",\"Mes\"),\"\")","v":""},null,{"$f":"+IFERROR((Espacios[[#This Row],[Valor Espacio  ]]*(1+Espacios[[#This Row],[% Administración]])),\"\")","v":""},null,null,{"$f":"IFERROR((Espacios[[#This Row],[Espacio con administración]]*Espacios[[#This Row],[Cantidad de Tiempo]]*Espacios[[#This Row],[Cantidad de Espacios]]),\"\")","v":""},null,{"$f":"+IFERROR(Espacios[[#This Row],[Costo parcial2]]*Espacios[[#This Row],[% Participación]]/100,\"\")","v":""}]
[null,null,null,null,null,{"$f":"IFERROR((VLOOKUP(Espacios[[#This Row],[Espacio]],Tabla214[#All],MATCH(Espacios[[#This Row],[Destinación]],Tabla214[#Headers],0),FALSE)),\"\")","v":""},{"$f":"+IF(Espacios[[#This Row],[Destinación]]<>\"\",IF(Espacios[[#This Row],[Destinación]]<>\"Espacios_Canon_Mensual\",\"Día\",\"Mes\"),\"\")","v":""},null,{"$f":"+IFERROR((Espacios[[#This Row],[Valor Espacio  ]]*(1+Espacios[[#This Row],[% Administración]])),\"\")","v":""},null,null,{"$f":"IFERROR((Espacios[[#This Row],[Espacio con administración]]*Espacios[[#This Row],[Cantidad de Tiempo]]*Espacios[[#This Row],[Cantidad de Espacios]]),\"\")","v":""},null,{"$f":"+IFERROR(Espacios[[#This Row],[Costo parcial2]]*Espacios[[#This Row],[% Participación]]/100,\"\")","v":""}]
[null,null,null,null,null,{"$f":"IFERROR((VLOOKUP(Espacios[[#This Row],[Espacio]],Tabla214[#All],MATCH(Espacios[[#This Row],[Destinación]],Tabla214[#Headers],0),FALSE)),\"\")","v":""},{"$f":"+IF(Espacios[[#This Row],[Destinación]]<>\"\",IF(Espacios[[#This Row],[Destinación]]<>\"Espacios_Canon_Mensual\",\"Día\",\"Mes\"),\"\")","v":""},null,{"$f":"+IFERROR((Espacios[[#This Row],[Valor Espacio  ]]*(1+Espacios[[#This Row],[% Administración]])),\"\")","v":""},null,null,{"$f":"IFERROR((Espacios[[#This Row],[Espacio con administración]]*Espacios[[#This Row],[Cantidad de Tiempo]]*Espacios[[#This Row],[Cantidad de Espacios]]),\"\")","v":""},null,{"$f":"+IFERROR(Espacios[[#This Row],[Costo parcial2]]*Espacios[[#This Row],[% Participación]]/100,\"\")","v":""}]
[null,null,null,null,null,{"$f":"IFERROR((VLOOKUP(Espacios[[#This Row],[Espacio]],Tabla214[#All],MATCH(Espacios[[#This Row],[Destinación]],Tabla214[#Headers],0),FALSE)),\"\")","v":""},{"$f":"+IF(Espacios[[#This Row],[Destinación]]<>\"\",IF(Espacios[[#This Row],[Destinación]]<>\"Espacios_Canon_Mensual\",\"Día\",\"Mes\"),\"\")","v":""},null,{"$f":"+IFERROR((Espacios[[#This Row],[Valor Espacio  ]]*(1+Espacios[[#This Row],[% Administración]])),\"\")","v":""},null,null,{"$f":"IFERROR((Espacios[[#This Row],[Espacio con administración]]*Espacios[[#This Row],[Cantidad de Tiempo]]*Espacios[[#This Row],[Cantidad de Espacios]]),\"\")","v":""},null,{"$f":"+IFERROR(Espacios[[#This Row],[Costo parcial2]]*Espacios[[#This Row],[% Participación]]/100,\"\")","v":""}]
[null,null,null,null,null,{"$f":"IFERROR((VLOOKUP(Espacios[[#This Row],[Espacio]],Tabla214[#All],MATCH(Espacios[[#This Row],[Destinación]],Tabla214[#Headers],0),FALSE)),\"\")","v":""},{"$f":"+IF(Espacios[[#This Row],[Destinación]]<>\"\",IF(Espacios[[#This Row],[Destinación]]<>\"Espacios_Canon_Mensual\",\"Día\",\"Mes\"),\"\")","v":""},null,{"$f":"+IFERROR((Espacios[[#This Row],[Valor Espacio  ]]*(1+Espacios[[#This Row],[% Administración]])),\"\")","v":""},null,null,{"$f":"IFERROR((Espacios[[#This Row],[Espacio con administración]]*Espacios[[#This Row],[Cantidad de Tiempo]]*Espacios[[#This Row],[Cantidad de Espacios]]),\"\")","v":""},null,{"$f":"+IFERROR(Espacios[[#This Row],[Costo parcial2]]*Espacios[[#This Row],[% Participación]]/100,\"\")","v":""}]

{"sheet":"Otros costos","index":22,"n_rows":50,"n_cols":9,"rows_kept":50,"cut":false,"hidden":false,"merged":[]}
["Financiador","Fase","Otros costos","Descripción","Valor Contrato","% Administración","Costo parcial","% Participación","Costo"]
[null,null,null,null,null,null,{"$f":"+IFERROR((Otros_costos[[#This Row],[Valor Contrato]]*(1+Otros_costos[[#This Row],[% Administración]])),\"\")","v":0},null,{"$f":"IFERROR(Otros_costos[[#This Row],[Costo parcial]]*Otros_costos[[#This Row],[% Participación]]/100,\"\")","v":0}]
[null,null,null,null,null,null,{"$f":"+IFERROR((Otros_costos[[#This Row],[Valor Contrato]]*(1+Otros_costos[[#This Row],[% Administración]])),\"\")","v":0},null,{"$f":"IFERROR(Otros_costos[[#This Row],[Costo parcial]]*Otros_costos[[#This Row],[% Participación]]/100,\"\")","v":0}]
[null,null,null,null,null,null,{"$f":"+IFERROR((Otros_costos[[#This Row],[Valor Contrato]]*(1+Otros_costos[[#This Row],[% Administración]])),\"\")","v":0},null,{"$f":"IFERROR(Otros_costos[[#This Row],[Costo parcial]]*Otros_costos[[#This Row],[% Participación]]/100,\"\")","v":0}]
[null,null,null,null,null,null,{"$f":"+IFERROR((Otros_costos[[#This Row],[Valor Contrato]]*(1+Otros_costos[[#This Row],[% Administración]])),\"\")","v":0},null,{"$f":"IFERROR(Otros_costos[[#This Row],[Costo parcial]]*Otros_costos[[#This Row],[% Participación]]/100,\"\")","v":0}]
[null,null,null,null,null,null,{"$f":"+IFERROR((Otros_costos[[#This Row],[Valor Contrato]]*(1+Otros_costos[[#This Row],[% Administración]])),\"\")","v":0},null,{"$f":"IFERROR(Otros_costos[[#This Row],[Costo parcial]]*Otros_costos[[#This Row],[% Participación]]/100,\"\")","v":0}]
[null,null,null,null,null,null,{"$f":"+IFERROR((Otros_costos[[#This Row],[Valor Contrato]]*(1+Otros_costos[[#This Row],[% Administración]])),\"\")","v":0},null,{"$f":"IFERROR(Otros_costos[[#This Row],[Costo parcial]]*Otros_costos[[#This Row],[% Participación]]/100,\"\")","v":0}]
[null,null,null,null,null,null,{"$f":"+IFERROR((Otros_costos[[#This Row],[Valor Contrato]]*(1+Otros_costos[[#This Row],[% Administración]])),\"\")","v":0},null,{"$f":"IFERROR(Otros_costos[[#This Row],[Costo parcial]]*Otros_costos[[#This Row],[% Participación]]/100,\"\")","v":0}]
[null,null,null,null,null,null,{"$f":"+IFERROR((Otros_costos[[#This Row],[Valor Contrato]]*(1+Otros_costos[[#This Row],[% Administración]])),\"\")","v":0},null,{"$f":"IFERROR(Otros_costos[[#This Row],[Costo parcial]]*Otros_costos[[#This Row],[% Participación]]/100,\"\")","v":0}]
[null,null,null,null,null,null,{"$f":"+IFERROR((Otros_costos[[#This Row],[Valor Contrato]]*(1+Otros_costos[[#This Row],[% Administración]])),\"\")","v":0},null,{"$f":"IFERROR(Otros_costos[[#This Row],[Costo parcial]]*Otros_costos[[#This Row],[% Participación]]/100,\"\")","v":0}]
[null,null,null,null,null,null,{"$f":"+IFERROR((Otros_costos[[#This Row],[Valor Contrato]]*(1+Otros_costos[[#This Row],[% Administración]])),\"\")","v":0},null,{"$f":"IFERROR(Otros_costos[[#This Row],[Costo parcial]]*Otros_costos[[#This Row],[% Participación]]/100,\"\")","v":0}]
[null,null,null,null,null,null,{"$f":"+IFERROR((Otros_costos[[#This Row],[Valor Contrato]]*(1+Otros_costos[[#This Row],[% Administración]])),\"\")","v":0},null,{"$f":"IFERROR(Otros_costos[[#This Row],[Costo parcial]]*Otros_costos[[#This Row],[% Participación]]/100,\"\")","v":0}]
[null,null,null,null,null,null,{"$f":"+IFERROR((Otros_costos[[#This Row],[Valor Contrato]]*(1+Otros_costos[[#This Row],[% Administración]])),\"\")","v":0},null,{"$f":"IFERROR(Otros_costos[[#This Row],[Costo parcial]]*Otros_costos[[#This Row],[% Participación]]/100,\"\")","v":0}]
[null,null,null,null,null,null,{"$f":"+IFERROR((Otros_costos[[#This Row],[Valor Contrato]]*(1+Otros_costos[[#This Row],[% Administración]])),\"\")","v":0},null,{"$f":"IFERROR(Otros_costos[[#This Row],[Costo parcial]]*Otros_costos[[#This Row],[% Participación]]/100,\"\")","v":0}]
[null,null,null,null,null,null,{"$f":"+IFERROR((Otros_costos[[#This Row],[Valor Contrato]]*(1+Otros_costos[[#This Row],[% Administración]])),\"\")","v":0},null,{"$f":"IFERROR(Otros_costos[[#This Row],[Costo parcial]]*Otros_costos[[#This Row],[% Participación]]/100,\"\")","v":0}]
[null,null,null,null,null,null,{"$f":"+IFERROR((Otros_costos[[#This Row],[Valor Contrato]]*(1+Otros_costos[[#This Row],[% Administración]])),\"\")","v":0},null,{"$f":"IFERROR(Otros_costos[[#This Row],[Costo parcial]]*Otros_costos[[#This Row],[% Participación]]/100,\"\")","v":0}]
[null,null,null,null,null,null,{"$f":"+IFERROR((Otros_costos[[#This Row],[Valor Contrato]]*(1+Otros_costos[[#This Row],[% Administración]])),\"\")","v":0},null,{"$f":"IFERROR(Otros_costos[[#This Row],[Costo parcial]]*Otros_costos[[#This Row],[% Participación]]/100,\"\")","v":0}]
[null,null,null,null,null,null,{"$f":"+IFERROR((Otros_costos[[#This Row],[Valor Contrato]]*(1+Otros_costos[[#This Row],[% Administración]])),\"\")","v":0},null,{"$f":"IFERROR(Otros_costos[[#This Row],[Costo parcial]]*Otros_costos[[#This Row],[% Participación]]/100,\"\")","v":0}]
[null,null,null,null,null,null,{"$f":"+IFERROR((Otros_costos[[#This Row],[Valor Contrato]]*(1+Otros_costos[[#This Row],[% Administración]])),\"\")","v":0},null,{"$f":"IFERROR(Otros_costos[[#This Row],[Costo parcial]]*Otros_costos[[#This Row],[% Participación]]/100,\"\")","v":0}]
[null,null,null,null,null,null,{"$f":"+IFERROR((Otros_costos[[#This Row],[Valor Contrato]]*(1+Otros_costos[[#This Row],[% Administración]])),\"\")","v":0},null,{"$f":"IFERROR(Otros_costos[[#This Row],[Costo parcial]]*Otros_costos[[#This Row],[% Participación]]/100,\"\")","v":0}]
[null,null,null,null,null,null,{"$f":"+IFERROR((Otros_costos[[#This Row],[Valor Contrato]]*(1+Otros_costos[[#This Row],[% Administración]])),\"\")","v":0},null,{"$f":"IFERROR(Otros_costos[[#This Row],[Costo parcial]]*Otros_costos[[#This Row],[% Participación]]/100,\"\")","v":0}]
[null,null,null,null,null,null,{"$f":"+IFERROR((Otros_costos[[#This Row],[Valor Contrato]]*(1+Otros_costos[[#This Row],[% Administración]])),\"\")","v":0},null,{"$f":"IFERROR(Otros_costos[[#This Row],[Costo parcial]]*Otros_costos[[#This Row],[% Participación]]/100,\"\")","v":0}]
[null,null,null,null,null,null,{"$f":"+IFERROR((Otros_costos[[#This Row],[Valor Contrato]]*(1+Otros_costos[[#This Row],[% Administración]])),\"\")","v":0},null,{"$f":"IFERROR(Otros_costos[[#This Row],[Costo parcial]]*Otros_costos[[#This Row],[% Participación]]/100,\"\")","v":0}]
[null,null,null,null,null,null,{"$f":"+IFERROR((Otros_costos[[#This Row],[Valor Contrato]]*(1+Otros_costos[[#This Row],[% Administración]])),\"\")","v":0},null,{"$f":"IFERROR(Otros_costos[[#This Row],[Costo parcial]]*Otros_costos[[#This Row],[% Participación]]/100,\"\")","v":0}]
[null,null,null,null,null,null,{"$f":"+IFERROR((Otros_costos[[#This Row],[Valor Contrato]]*(1+Otros_costos[[#This Row],[% Administración]])),\"\")","v":0},null,{"$f":"IFERROR(Otros_costos[[#This Row],[Costo parcial]]*Otros_costos[[#This Row],[% Participación]]/100,\"\")","v":0}]
[null,null,null,null,null,null,{"$f":"+IFERROR((Otros_costos[[#This Row],[Valor Contrato]]*(1+Otros_costos[[#This Row],[% Administración]])),\"\")","v":0},null,{"$f":"IFERROR(Otros_costos[[#This Row],[Costo parcial]]*Otros_costos[[#This Row],[% Participación]]/100,\"\")","v":0}]
[null,null,null,null,null,null,{"$f":"+IFERROR((Otros_costos[[#This Row],[Valor Contrato]]*(1+Otros_costos[[#This Row],[% Administración]])),\"\")","v":0},null,{"$f":"IFERROR(Otros_costos[[#This Row],[Costo parcial]]*Otros_costos[[#This Row],[% Participación]]/100,\"\")","v":0}]
[null,null,null,null,null,null,{"$f":"+IFERROR((Otros_costos[[#This Row],[Valor Contrato]]*(1+Otros_costos[[#This Row],[% Administración]])),\"\")","v":0},null,{"$f":"IFERROR(Otros_costos[[#This Row],[Costo parcial]]*Otros_costos[[#This Row],[% Participación]]/100,\"\")","v":0}]
[null,null,null,null,null,null,{"$f":"+IFERROR((Otros_costos[[#This Row],[Valor Contrato]]*(1+Otros_costos[[#This Row],[% Administración]])),\"\")","v":0},null,{"$f":"IFERROR(Otros_costos[[#This Row],[Costo parcial]]*Otros_costos[[#This Row],[% Participación]]/100,\"\")","v":0}]
[null,null,null,null,null,null,{"$f":"+IFERROR((Otros_costos[[#This Row],[Valor Contrato]]*(1+Otros_costos[[#This Row],[% Administración]])),\"\")","v":0},null,{"$f":"IFERROR(Otros_costos[[#This Row],[Costo parcial]]*Otros_costos[[#This Row],[% Participación]]/100,\"\")","v":0}]
[null,null,null,null,null,null,{"$f":"+IFERROR((Otros_costos[[#This Row],[Valor Contrato]]*(1+Otros_costos[[#This Row],[% Administración]])),\"\")","v":0},null,{"$f":"IFERROR(Otros_costos[[#This Row],[Costo parcial]]*Otros_costos[[#This Row],[% Participación]]/100,\"\")","v":0}]
[null,null,null,null,null,null,{"$f":"+IFERROR((Otros_costos[[#This Row],[Valor Contrato]]*(1+Otros_costos[[#This Row],[% Administración]])),\"\")","v":0},null,{"$f":"IFERROR(Otros_costos[[#This Row],[Costo parcial]]*Otros_costos[[#This Row],[% Participación]]/100,\"\")","v":0}]
[null,null,null,null,null,null,{"$f":"+IFERROR((Otros_costos[[#This Row],[Valor Contrato]]*(1+Otros_costos[[#This Row],[% Administración]])),\"\")","v":0},null,{"$f":"IFERROR(Otros_costos[[#This Row],[Costo parcial]]*Otros_costos[[#This Row],[% Participación]]/100,\"\")","v":0}]
[null,null,null,null,null,null,{"$f":"+IFERROR((Otros_costos[[#This Row],[Valor Contrato]]*(1+Otros_costos[[#This Row],[% Administración]])),\"\")","v":0},null,{"$f":"IFERROR(Otros_costos[[#This Row],[Costo parcial]]*Otros_costos[[#This Row],[% Participación]]/100,\"\")","v":0}]
[null,null,null,null,null,null,{"$f":"+IFERROR((Otros_costos[[#This Row],[Valor Contrato]]*(1+Otros_costos[[#This Row],[% Administración]])),\"\")","v":0},null,{"$f":"IFERROR(Otros_costos[[#This Row],[Costo parcial]]*Otros_costos[[#This Row],[% Participación]]/100,\"\")","v":0}]
[null,null,null,null,null,null,{"$f":"+IFERROR((Otros_costos[[#This Row],[Valor Contrato]]*(1+Otros_costos[[#This Row],[% Administración]])),\"\")","v":0},null,{"$f":"IFERROR(Otros_costos[[#This Row],[Costo parcial]]*Otros_costos[[#This Row],[% Participación]]/100,\"\")","v":0}]
[null,null,null,null,null,null,{"$f":"+IFERROR((Otros_costos[[#This Row],[Valor Contrato]]*(1+Otros_costos[[#This Row],[% Administración]])),\"\")","v":0},null,{"$f":"IFERROR(Otros_costos[[#This Row],[Costo parcial]]*Otros_costos[[#This Row],[% Participación]]/100,\"\")","v":0}]
[null,null,null,null,null,null,{"$f":"+IFERROR((Otros_costos[[#This Row],[Valor Contrato]]*(1+Otros_costos[[#This Row],[% Administración]])),\"\")","v":0},null,{"$f":"IFERROR(Otros_costos[[#This Row],[Costo parcial]]*Otros_costos[[#This Row],[% Participación]]/100,\"\")","v":0}]
[null,null,null,null,null,null,{"$f":"+IFERROR((Otros_costos[[#This Row],[Valor Contrato]]*(1+Otros_costos[[#This Row],[% Administración]])),\"\")","v":0},null,{"$f":"IFERROR(Otros_costos[[#This Row],[Costo parcial]]*Otros_costos[[#This Row],[% Participación]]/100,\"\")","v":0}]
[null,null,null,null,null,null,{"$f":"+IFERROR((Otros_costos[[#This Row],[Valor Contrato]]*(1+Otros_costos[[#This Row],[% Administración]])),\"\")","v":0},null,{"$f":"IFERROR(Otros_costos[[#This Row],[Costo parcial]]*Otros_costos[[#This Row],[% Participación]]/100,\"\")","v":0}]
[null,null,null,null,null,null,{"$f":"+IFERROR((Otros_costos[[#This Row],[Valor Contrato]]*(1+Otros_costos[[#This Row],[% Administración]])),\"\")","v":0},null,{"$f":"IFERROR(Otros_costos[[#This Row],[Costo parcial]]*Otros_costos[[#This Row],[% Participación]]/100,\"\")","v":0}]
[null,null,null,null,null,null,{"$f":"+IFERROR((Otros_costos[[#This Row],[Valor Contrato]]*(1+Otros_costos[[#This Row],[% Administración]])),\"\")","v":0},null,{"$f":"IFERROR(Otros_costos[[#This Row],[Costo parcial]]*Otros_costos[[#This Row],[% Participación]]/100,\"\")","v":0}]
[null,null,null,null,null,null,{"$f":"+IFERROR((Otros_costos[[#This Row],[Valor Contrato]]*(1+Otros_costos[[#This Row],[% Administración]])),\"\")","v":0},null,{"$f":"IFERROR(Otros_costos[[#This Row],[Costo parcial]]*Otros_costos[[#This Row],[% Participación]]/100,\"\")","v":0}]
[null,null,null,null,null,null,{"$f":"+IFERROR((Otros_costos[[#This Row],[Valor Contrato]]*(1+Otros_costos[[#This Row],[% Administración]])),\"\")","v":0},null,{"$f":"IFERROR(Otros_costos[[#This Row],[Costo parcial]]*Otros_costos[[#This Row],[% Participación]]/100,\"\")","v":0}]
[null,null,null,null,null,null,{"$f":"+IFERROR((Otros_costos[[#This Row],[Valor Contrato]]*(1+Otros_costos[[#This Row],[% Administración]])),\"\")","v":0},null,{"$f":"IFERROR(Otros_costos[[#This Row],[Costo parcial]]*Otros_costos[[#This Row],[% Participación]]/100,\"\")","v":0}]
[null,null,null,null,null,null,{"$f":"+IFERROR((Otros_costos[[#This Row],[Valor Contrato]]*(1+Otros_costos[[#This Row],[% Administración]])),\"\")","v":0},null,{"$f":"IFERROR(Otros_costos[[#This Row],[Costo parcial]]*Otros_costos[[#This Row],[% Participación]]/100,\"\")","v":0}]
[null,null,null,null,null,null,{"$f":"+IFERROR((Otros_costos[[#This Row],[Valor Contrato]]*(1+Otros_costos[[#This Row],[% Administración]])),\"\")","v":0},null,{"$f":"IFERROR(Otros_costos[[#This Row],[Costo parcial]]*Otros_costos[[#This Row],[% Participación]]/100,\"\")","v":0}]
[null,null,null,null,null,null,{"$f":"+IFERROR((Otros_costos[[#This Row],[Valor Contrato]]*(1+Otros_costos[[#This Row],[% Administración]])),\"\")","v":0},null,{"$f":"IFERROR(Otros_costos[[#This Row],[Costo parcial]]*Otros_costos[[#This Row],[% Participación]]/100,\"\")","v":0}]
[null,null,null,null,null,null,{"$f":"+IFERROR((Otros_costos[[#This Row],[Valor Contrato]]*(1+Otros_costos[[#This Row],[% Administración]])),\"\")","v":0},null,{"$f":"IFERROR(Otros_costos[[#This Row],[Costo parcial]]*Otros_costos[[#This Row],[% Participación]]/100,\"\")","v":0}]
[null,null,null,null,null,null,{"$f":"+IFERROR((Otros_costos[[#This Row],[Valor Contrato]]*(1+Otros_costos[[#This Row],[% Administración]])),\"\")","v":0},null,{"$f":"IFERROR(Otros_costos[[#This Row],[Costo parcial]]*Otros_costos[[#This Row],[% Participación]]/100,\"\")","v":0}]

{"sheet":"Listas","index":23,"n_rows":934,"n_cols":60,"rows_kept":934,"cut":false,"hidden":true,"merged":[]}
[]
[null,"Dedicación","Columna1","Columna12"]
[null,"TC",1,"TC - Tiempo completo"]
[null,"MT",0.5,"MT - Medio tiempo"]
[]
[null,"Información General","Columna1"]
[null,"SMMLV",1160000,null,"**Valor 2023",0.16]
[]
[null,"Tipo proyecto","% Contribución"]
[null,"Venta de productos y servicios",6]
[null,"Asesoría y consultoría",10]
[null,"Educación contínua",6]
[null,"Investigación",6]
[null,"Administración delegada o Mandato","8 al 15"]
[]
[null,"Tipo bien o servicio","% Contribución"]
[null,"Productos haciendas",6]
[null,"Productos manufacturados",6]
[null,"Libros",6]
[null,"Educación continua o no formal",6]
[null,"Investigación",0]
[null,"Investigación aplicada","Según alcance 6% o 10"]
[null,"Apoyo a la gestión",10]
[null,"Servicios de laboratorio",6]
[null,"Exámenes especializados",6]
[null,"Consultas de: medicina, enfermería, odontología, nutrición y salud ocupacional",6]
[null,"Servicios jurídicos",6]
[null,"Servicios artísticos",6]
[null,"Servicios culturales",6]
[null,"Consultoría profesional",10]
[null,"Asesoría",10]
[null,"Asistencia técnica",10]
[null,"Interventoría",10]
[null,"Veeduría",10]
[null,"Auditoría",10]
[null,"Servicios logísticos",6]
[null,"Servicios informáticos",10]
[null,"Asesoría psicojurídica",10]
[null,"Valoración psicológica",6]
[null,"Aplicación de instrumentos y otros de evaluación pericial",6]
[null,"Aplicación de pruebas psicologicas",6]
[null,"Conceptos técnicos",10]
[null,"Subvenciones ",0]
[null,"Transferencia tecnológica o de conocimiento",10]
[null,"Arrendamiento y uso de espacios",10]
[null,"Administración delegada o mandato","8% al 15"]
[]
[null,"Información General CIS","Columna1"]
[null,"Auxilio de transporte (aplica para asistencial 1 y 2)",140606,null,"**Valor 2023",0.2]
[null,"Dotación (estimada)",49680,null,"**Actualizado según calculos FP, información suminitrada por Jose Alirio"]
[null,"Exámenes médicos ingreso y retiro",97200]
[null,"Cuota de aprendiz",55705]
[null,"% Administración (5,85% sobre el total del contrato)",9.3799999999999994E-2]
[]
[null,"Tipo de Vinculación","%","Factor",null,"***Según cálculos de Juan Sebastián Ocampo, pediente recalculos"]
[null,"Vinculado Administrativo",0.66966756202188404,{"$f":"1+Tabla205[[#This Row],[%]]","v":1.6696675620218842}]
[null,"Vinculado Docente",0.70708858422825405,{"$f":"1+Tabla205[[#This Row],[%]]","v":1.7070885842282539}]
[null,"Cátedra",0.64184535365226336,{"$f":"1+Tabla205[[#This Row],[%]]","v":1.6418453536522635}]
[null,"CIS, Fundación y similares",0.53520000000000001,{"$f":"1+Tabla205[[#This Row],[%]]","v":1.5352000000000001}]
[]
[null,"Cargo","Salario Mes",null,null,null,"***Actualizado a valores 2022, falta verificar las categorias asistenciales y directivas"]
[null,"Asistencial 1",1908406.9531999999,null,"**Valor 2023",null,"se elimina los directivos???"]
[null,"Asistencial 2",2058241.6557999998,null,0.1462]
[null,"Asistencial 3",2244912.9339999999]
[null,"Asistencial 4",2473958.0799999996]
[null,"Asistencial 5",2660593.8259999999]
[null,"Asistencial 6",2964113.3169999998]
[null,"Técnico 1 Técnica profesional 6 meses de experiencia",2660593.8259999999]
[null,"Técnico 2 Técnica profesional 6 meses de experiencia",2964113.3169999998]
[null,"Técnico 3 Tecnología 6 meses de experiencia",3056063.7733999998]
[null,"Técnico 4 Tecnología 12 meses de experiencia",3259787.0689999997]
[null,"Técnico 5 Tecnología 12 meses de experiencia",3360254.9375999998]
[null,"Técnico 6 Tecnología 24 meses de experiencia",3694410.0621999996]
[null,"Profesional 1 Titulo profesional no requiere experiencia",3940286.0089999996]
[null,"Profesional 2 Titulo profesional 6 meses de experiencia",4365604.1505999994]
[null,"Profesional 3 Titulo profesional 12 meses de experiencia",4813178.0575999999]
[null,"Profesional 4 Titulo profesional 12  meses de experiencia / Requiere posgrado",5304068.008799999]
[null,"Profesional 5 Titulo profesional 18  meses de experiencia / Requiere posgrado",5874954.6965999994]
[null,"Profesional 6 Titulo profesional 24  meses de experiencia / Requiere posgrado",6479907.5945999995]
[null,"Profesional 7 Titulo profesional 30  meses de experiencia / Requiere posgrado",7167422.4247999992]
[null,"Profesional 8 Titulo profesional 36  meses de experiencia / Requiere posgrado",7917703.1669999994]
[null,"Profesional 9 Titulo profesional 36  meses de experiencia / Requiere posgrado",9088364.2211999986]
[null,"Directivo 1",6531797.2147999993]
[null,"Directivo 2",7167422.4247999992]
[null,"Directivo 3",7320228.0777999992]
[null,"Directivo 4",7917702.0207999991]
[null,"Directivo 5",9088364.2211999986]
[null,"Directivo 6",9109019.8913999982]
[null,"Directivo 7",10088944.095999999]
[null,"Directivo 8",11480159.246599998]
[null,"Directivo 9",14296153.722399998]
[null,"Directivo 10",16308479.752399998]
[null,"Directivo 11",20377785.471999999]
[]
[null,"Categoría","Cátedra","Actividad Especial",null,"***Valores actualizados a 2022 según resolución rectoral 48842 de 05 de abril de 2022"]
[null,"CAT01 (Unidades 0 - 19.9 = Vr. Minimo permitido a pagar por horá cátedra)",24315.486799999999,37915.149799999999]
[null,"CAT02 (Unidades 20 - 39.9)",27801.080999999998,43330.944799999997]
[null,"CAT03 (Unidades 40 - 59.9)",31731.400799999996,49426.436399999999,null,"**Valor 2023"]
[null,"CAT04 (Unidades 60 - 79.9)",36266.914199999999,56519.121999999996,null,0.1462]
[null,"CAT05 (Unidades 80 - 99.9)",41461.492599999998,64634.217999999993]
[null,"CAT06 (Unidades 100 - 119.9)",47340.352399999996,73956.262599999987]
[null,"CAT07 (Unidades 120 - 139.9)",54089.177999999993,84599.875799999994]
[null,"CAT08 (Unidades 140 - 159.9)",61969.302999999993,97040.730599999995]
[null,"CAT09 (Unidades 160 - 179.9)",70972.703999999998,111332.69839999999]
[null,"CAT10 (Unidades 180 en adelante)",81440.948599999989,127834.53979999998]
[]
[null,"Punto docente","Columna1"]
[null,"Valor",18844.674199999998,null,"**Valor 2023",null,"**Actualizado 2022 Decreto 447 de 2022"]
[null,null,null,null,0.1462]
[null,"Otro personal  adtivo.","Valor hora",null,"***Valores actualizados a 2022 según resolución 2489 del 29 marzo de 2022"]
[null,"Monitor",7901.9199999999992,null,"**Valor 2023"]
[null,"Auxiliar Administrativo",6418.28,null,0.16]
[null,"Auxiliar de Programación",11359.88]
[null,"Docente Auxiliar de Cátedra 1",30552.079999999998]
[null,"Docente Auxiliar de Cátedra 2",24121.039999999997]
[]
[null,"Unidad de tiempo","Columna1","Columna2",null,null,1669000]
[null,"Mes ",1,1,null,null,{"$f":"+G117/D119","v":87842.105263157893}]
[null,"Día",30,{"$f":"+C131","v":19},null,null,{"$f":"+G117/Tabla210[[#This Row],[Columna1]]","v":55633.333333333336}]
[null,"Hora",{"$f":"+C119*8","v":240},{"$f":"+D119*8","v":152}]
[null,"Minuto",{"$f":"+C120*60","v":14400},{"$f":"+D120*60","v":9120}]
[null,"Segundo",{"$f":"+C121*60","v":864000},{"$f":"+D121*60","v":547200}]
[]
[null,"HPLM","Columna1",null,"***Información según Calendario 2022"]
[null,"Días al año",365,null,"**validar si se debe incluir sías promedio de incapacidad 3 y días de vacaciones 15 para los días laborales al año y al mes"]
[null,"Sábados y domingos",105]
[null,"Festivos",14]
[null,"Días promedio incapacidad",3]
[null,"Días vacaciones",15]
[null,"Días laborales al año",{"$f":"+C125-C126-C127-C128-C129","v":228}]
[null,"Días laborales al mes",{"$f":"+C130/12","v":19}]
[null,"Horas laborales diarias",8]
[null,"Horas laborales año",{"$f":"+C132*C130","v":1824}]
[null,"Horas laborales mes",{"$f":"+C133/12","v":152}]
[null,"Horas inactivas mes",{"$f":"+C134*10%","v":15.200000000000001}]
[null,"Horas potencialmente laborales mes",{"$f":"+C134-C135","v":136.80000000000001}]
[]
[null,"Equipos","Depreciación (años)"]
[null,"Accesorios deportivos",1]
[null,"Equipos audiovisuales",3]
[null,"Equipos de cómputo",3]
[null,"Equipos médicos y de laboratorio",10]
[null,"Equipos deportivos",10]
[null,"Implementos deportivos",5]
[null,"Materiales bibliográficos",20]
[null,"Muebles y enseres",10]
[null,"Software especializados",3]
[]
[null,"Destino Tiquetes","Valor",null,"*Ida y regreso. Valor promedio, compra con 15 días de anticipación"]
[null,"Local",500000,null,"***Actualizado según archivo \"1. Formato para la solicitud elaboración de presupuestos VRE_2022.xlsm\" suministrado por correo electrónico Finanzas Vicerrectoría Extensión Universidad de Antioquia el día jueves 16 de junio de 2022 alas 15:39"]
[null,"Nacional",750000,null,"Página web para consulta de tiquetes:",null,null,"http://www.aviatur.com/"]
[null,"Internacional",3700000]
[]
[null,null,"*Valor día","*Valor día","*Valor mes","***Actualizado según archivo \"1. Formato para la solicitud elaboración de presupuestos VRE_2022.xlsm\" suministrado por correo electrónico Finanzas Vicerrectoría Extensión Universidad de Antioquia el día jueves 16 de junio de 2022 alas 15:39",null,"***falta espacios en ciudad universitaria"]
[null,"Espacios","Evento_Dependencia_UdeA","Evento_Externo","Espacios_Canon_Mensual","RR"]
[null,"Edifico San Ignacio\n - Paraninfo",1000000,4000000,0,"(RR 10943)"]
[null,"Edifico San Ignacio\n - Aulas",125000,500000,0,"(RR 10943)",null,"Destinaciones",null,"Evento_Dependencia_UdeA",null,"Evento_Externo",null,"Espacios_Canon_Mensual"]
[null,"Edifico San Ignacio\n - Librería",0,0,4000000,"(RR 10943)",null,"Evento_Dependencia_UdeA",null,"Edifico San Ignacio\n - Paraninfo",null,"Edifico San Ignacio\n - Paraninfo",null,"Edifico San Ignacio\n - Librería"]
[null,"Edifico San Ignacio\n - Oficina",0,0,2000000,"(RR 10943)",null,"Evento_Externo",null,"Edifico San Ignacio\n - Aulas",null,"Edifico San Ignacio\n - Aulas",null,"Edifico San Ignacio\n - Oficina"]
[null,"Edifico San Ignacio\n - Antigua Rectoría",0,0,3000000,"(RR 10943)",null,"Espacios_Canon_Mensual",null,"Edificio de Extensión - Auditorio principal - Capacidad: 226",null,"Edificio de Extensión - Auditorio principal - Capacidad: 226",null,"Edifico San Ignacio\n - Antigua Rectoría"]
[null,"Edifico San Ignacio\n - Cafetería",0,0,4000000,"(RR 10943)",null,null,null,"Edificio de Extensión - Auditorio 1 piso 2 - Capacidad: 104",null,"Edificio de Extensión - Auditorio 1 piso 2 - Capacidad: 104",null,"Edifico San Ignacio\n - Cafetería"]
[null,"Edificio de Extensión - Auditorio principal - Capacidad: 226",990000,2062000,0,"(RR 43755)",null,null,null,"Edificio de Extensión - Auditorio 2 piso 2 - Capacidad: 90",null,"Edificio de Extensión - Auditorio 2 piso 2 - Capacidad: 90",null,"Edificio de Extensión - Oficina 60 m²"]
[null,"Edificio de Extensión - Auditorio 1 piso 2 - Capacidad: 104",412000,825000,0,"(RR 43755)",null,null,null,"Edificio de Extensión - Auditorio 1 o 2 piso 3 - Capacidad: 36",null,"Edificio de Extensión - Auditorio 1 o 2 piso 3 - Capacidad: 36",null,"Edificio de Extensión - Oficina 90 m²"]
[null,"Edificio de Extensión - Auditorio 2 piso 2 - Capacidad: 90",412000,825000,0,"(RR 43755)",null,null,null,"Edificio de Extensión - Sala de juntas - Capacidad: 66",null,"Edificio de Extensión - Sala de juntas - Capacidad: 66",null,"Edificio de Extensión - Oficina 120 m²"]
[null,"Edificio de Extensión - Auditorio 1 o 2 piso 3 - Capacidad: 36",206000,412000,0,"(RR 43755)",null,null,null,"Edificio de Extensión - Sala 1 o 2 piso 2  - Capacidad: 14",null,"Edificio de Extensión - Sala 1 o 2 piso 2  - Capacidad: 14",null,"Edificio de Extensión - Oficina 240 m²"]
[null,"Edificio de Extensión - Sala de juntas - Capacidad: 66",292000,584000,0,"(RR 43755)",null,null,null,"Edificio de Extensión - Sala 3 piso 2 - Capacidad: 28",null,"Edificio de Extensión - Sala 3 piso 2 - Capacidad: 28",null,"Edificio de Extensión - Oficina 360 m²"]
[null,"Edificio de Extensión - Sala 1 o 2 piso 2  - Capacidad: 14",80000,159000,0,"(RR 43755)",null,null,null,"Sede de Posgrados Seccionales UdeA  - Programas de Maestría - Doctorado",null,"Sede de Posgrados Seccionales UdeA  - Programas de Maestría - Doctorado",null,"Edificio de Extensión - Puesto de trabajo"]
[null,"Edificio de Extensión - Sala 3 piso 2 - Capacidad: 28",159000,322000,0,"(RR 43755)",null,null,null,"Sede de Posgrados Seccionales UdeA  - Programas de Especialización",null,"Sede de Posgrados Seccionales UdeA  - Programas de Especialización",null,"Edificio de Extensión - Local comercial - Restaurante, 52 m² área interna y 137,8 m² área de servicio"]
[null,"Edificio de Extensión - Oficina 60 m²",0,0,2474000,"(RR 43755)",null,null,null,"Sede de Posgrados Seccionales UdeA  - Programas de Extensión y Asociaciones de Egresados",null,"Sede de Posgrados Seccionales UdeA  - Programas de Extensión y Asociaciones de Egresados",null,"Edificio de Extensión - Local comercial - Café 1"]
[null,"Edificio de Extensión - Oficina 90 m²",0,0,3713000,"(RR 43755)",null,null,null,"Casa Bogotá - Sala de juntas",null,"Casa Bogotá - Sala de juntas",null,"Edificio de Extensión - Local comercial - Café 2 (Café Abril)"]
[null,"Edificio de Extensión - Oficina 120 m²",0,0,4949000,"(RR 43755)",null,null,null,"SIU Auditorio para 60 personas",null,"SIU Auditorio para 60 personas",null,"Edificio de Extensión - Local comercial - Tienda o librería"]
[null,"Edificio de Extensión - Oficina 240 m²",0,0,9900000,"(RR 43755)",null,null,null,"SIU Auditorio para 200 personas",null,"SIU Auditorio para 200 personas",null,"Edificio de Proyectos de Extensión\n - Puesto de trabajo zona 1"]
[null,"Edificio de Extensión - Oficina 360 m²",0,0,14849000,"(RR 43755)",null,null,null,null,null,null,null,"Edificio de Proyectos de Extensión\n - Puesto de trabajo zona 2"]
[null,"Edificio de Extensión - Puesto de trabajo",0,0,412000,"(RR 43755)",null,null,null,null,null,null,null,"Casa Bogotá - Oficina"]
[null,"Edificio de Extensión - Local comercial - Restaurante, 52 m² área interna y 137,8 m² área de servicio",0,0,5775000,"(RR 43755)"]
[null,"Edificio de Extensión - Local comercial - Café 1",0,0,2178000,"(RR 43755)"]
[null,"Edificio de Extensión - Local comercial - Café 2 (Café Abril)",0,0,2903000,"(RR 43755)"]
[null,"Edificio de Extensión - Local comercial - Tienda o librería",0,0,1447000,"(RR 43755)"]
[null,"Edificio de Proyectos de Extensión\n - Puesto de trabajo zona 1",0,0,299106,"(RR 43348)"]
[null,"Edificio de Proyectos de Extensión\n - Puesto de trabajo zona 2",0,0,239284,"(RR 43348)","*falta incluir cafetería y auditorios según RR ver HT espacios"]
[null,"Sede de Posgrados Seccionales UdeA  - Programas de Maestría - Doctorado",104000,368000,0,"(RR 41581)"]
[null,"Sede de Posgrados Seccionales UdeA  - Programas de Especialización",168000,368000,0,"(RR 41581)"]
[null,"Sede de Posgrados Seccionales UdeA  - Programas de Extensión y Asociaciones de Egresados",272000,368000,0,"(RR 41581)"]
[null,"Casa Bogotá - Sala de juntas",74970.588000000003,149472,0]
[null,"Casa Bogotá - Oficina",0,0,700000]
[null,"SIU Auditorio para 60 personas",438904,877800,0,"Comité Científico -  Consejo Directivo  Teléfono 6402"]
[null,"SIU Auditorio para 200 personas",877800,1755608,0,"Comité Científico -  Consejo Directivo  Teléfono 6402"]
[]
[]
[null,"Contratos"]
[null,"Alimentación refrigerios"]
[null,"Alquiler de equipos"]
[null,"Alquiler de espacios"]
[null,"Apoyo en transporte"]
[null,"Patentes"]
[null,"Seguros"]
[null,"Servicio de Laboratorio"]
[null,"Servicios técnicos - Equipos"]
[null,"Servicios técnicos - Personal"]
[null,"Otros"]
[]
[null,"***Según RA 091 de 04 de Diciembre de 2020, los valores de las variables no se actualizaron para 2022, siguen aplicando los mismos",null,null,null,null,null,null,null,null,null,"V = 2TO + 2TD + 2nTI + nD + nA + (n-1)C + (n-1)H",null,null,null,null,null,null,null,null,"N"]
[null,"VIÁTICOS","Moneda","TO","TD","TI","D","A","C","H",null,"VIÁTICOS","Moneda","TO","TD","TI","D","A","C","H",1,2,3,4,5,6,7,8,9,10,11,12,13,14,15,16,17,18,19,20,21,22,23,24,25,26,27,28,29,30]
[null,"Antioquia - Bajo Cauca (Caucasia y demás Municipios)","Pesos $COP",38813.104056437383,0,8000,8000,18600,18600,89000,null,"Antioquia - Bajo Cauca (Caucasia y demás Municipios)","Pesos $COP",38813.104056437383,0,8000,8000,18600,18600,89000,{"$f":" (2*$N204)+(2*$O204)+(2*U$203*$P204)+(U$203*$Q204)+(U$203*$R204)+((U$203-1)*$S204)+((U$203-1)*$T204)","v":120226.20811287477},270426.20811287477,420626.20811287477,570826.20811287477,721026.20811287477,871226.20811287477,1021426.2081128748,1171626.2081128748,1321826.2081128748,1472026.2081128748,{"$f":" (2*$N204)+(2*$O204)+(2*AE$203*$P204)+(AE$203*$Q204)+(AE$203*$R204)+((AE$203-1)*$S204)+((AE$203-1)*$T204)","v":1622226.2081128748},1772426.2081128748,1922626.2081128748,2072826.2081128748,2223026.208112875,2373226.208112875,2523426.208112875,2673626.208112875,2823826.208112875,2974026.208112875,{"$f":" (2*$N204)+(2*$O204)+(2*AO$203*$P204)+(AO$203*$Q204)+(AO$203*$R204)+((AO$203-1)*$S204)+((AO$203-1)*$T204)","v":3124226.208112875},3274426.208112875,3424626.208112875,3574826.208112875,3725026.208112875,3875226.208112875,4025426.208112875,4175626.208112875,4325826.208112875,4476026.208112875]
[null,"Antioquia - Magdalena Medio (Puerto Berrio y demás Municipios)","Pesos $COP",25813.104056437387,0,10000,12000,24500,24500,81250,null,"Antioquia - Magdalena Medio (Puerto Berrio y demás Municipios)","Pesos $COP",25813.104056437387,0,10000,12000,24500,24500,81250,108126.20811287477,270376.20811287477,432626.20811287477,594876.20811287477,757126.20811287477,919376.20811287477,1081626.2081128748,1243876.2081128748,1406126.2081128748,1568376.2081128748,1730626.2081128748,1892876.2081128748,2055126.2081128748,2217376.208112875,2379626.208112875,2541876.208112875,2704126.208112875,2866376.208112875,3028626.208112875,3190876.208112875,3353126.208112875,3515376.208112875,3677626.208112875,3839876.208112875,4002126.208112875,4164376.208112875,4326626.208112875,4488876.208112875,4651126.208112875,4813376.208112875]
[null,"Antioquia - Nordeste (Segovia, Amalfi y demás Municipios)","Pesos $COP",13813.104056437387,50000,15000,10250,18000,18000,85000,null,"Antioquia - Nordeste (Segovia, Amalfi y demás Municipios)","Pesos $COP",13813.104056437387,50000,15000,10250,18000,18000,85000,185876.20811287477,347126.20811287477,508376.20811287477,669626.20811287477,830876.20811287477,992126.20811287477,1153376.2081128748,1314626.2081128748,1475876.2081128748,1637126.2081128748,1798376.2081128748,1959626.2081128748,2120876.208112875,2282126.208112875,2443376.208112875,2604626.208112875,2765876.208112875,2927126.208112875,3088376.208112875,3249626.208112875,3410876.208112875,3572126.208112875,3733376.208112875,3894626.208112875,4055876.208112875,4217126.208112875,4378376.208112875,4539626.208112875,4700876.208112875,4862126.208112875]
[null,"Antioquia - Norte (Yarumal y demás Municipios)","Pesos $COP",13813.104056437387,22666.666666666668,5000,8900,19000,19000,56666.666666666664,null,"Antioquia - Norte (Yarumal y demás Municipios)","Pesos $COP",13813.104056437387,22666.666666666668,5000,8900,19000,19000,56666.666666666664,110859.54144620811,224426.20811287477,337992.87477954145,451559.54144620814,565126.20811287477,678692.87477954151,792259.54144620814,905826.20811287477,1019392.8747795415,1132959.541446208,1246526.2081128748,1360092.8747795415,1473659.541446208,1587226.2081128748,1700792.8747795415,1814359.541446208,1927926.2081128748,2041492.8747795413,2155059.541446208,2268626.2081128745,2382192.874779541,2495759.541446208,2609326.2081128745,2722892.874779541,2836459.541446208,2950026.2081128745,3063592.874779541,3177159.541446208,3290726.2081128745,3404292.874779541]
[null,"Antioquia - Occidente (Santa Fé de Antioquia y demás Municipios)","Pesos $COP",13813.104056437387,25000,8000,11140,17800,17800,113333.33333333333,null,"Antioquia - Occidente (Santa Fé de Antioquia y demás Municipios)","Pesos $COP",13813.104056437387,25000,8000,11140,17800,17800,113333.33333333333,122566.20811287477,298639.54144620808,474712.87477954139,650786.20811287477,826859.54144620802,1002932.8747795414,1179006.2081128748,1355079.541446208,1531152.8747795415,1707226.2081128748,1883299.541446208,2059372.8747795413,2235446.208112875,2411519.541446208,2587592.874779541,2763666.208112875,2939739.541446208,3115812.874779541,3291886.208112875,3467959.541446208,3644032.874779541,3820106.208112875,3996179.541446208,4172252.874779541,4348326.208112875,4524399.541446208,4700472.874779541,4876546.208112875,5052619.541446208,5228692.874779541]
[null,"Antioquia - Oriente lejano (Sonsón y demás Municipios)","Pesos $COP",13813.104056437387,28333.333333333332,8000,9700,13800,13800,73333.333333333328,null,"Antioquia - Oriente lejano (Sonsón y demás Municipios)","Pesos $COP",13813.104056437387,28333.333333333332,8000,9700,13800,13800,73333.333333333328,123792.87477954144,250426.20811287477,377059.54144620814,503692.87477954145,630326.20811287477,756959.54144620802,883592.87477954151,1010226.2081128748,1136859.541446208,1263492.8747795415,1390126.2081128748,1516759.541446208,1643392.8747795415,1770026.2081128748,1896659.541446208,2023292.8747795415,2149926.208112875,2276559.541446208,2403192.8747795415,2529826.208112875,2656459.541446208,2783092.8747795415,2909726.208112875,3036359.541446208,3162992.8747795415,3289626.208112875,3416259.541446208,3542892.874779541,3669526.208112875,3796159.541446208]
[null,"Antioquia - Oriente Cercano y Medio (Carmen de Viboral y demás Municipios)","Pesos $COP",13813.104056437387,10000,7000,10500,17000,17000,98266.666666666672,null,"Antioquia - Oriente Cercano y Medio (Carmen de Viboral y demás Municipios)","Pesos $COP",13813.104056437387,10000,7000,10500,17000,17000,98266.666666666672,89126.208112874767,245892.87477954145,402659.54144620814,559426.20811287477,716192.87477954151,872959.54144620814,1029726.2081128748,1186492.8747795415,1343259.541446208,1500026.2081128748,1656792.8747795415,1813559.5414462083,1970326.2081128748,2127092.8747795415,2283859.541446208,2440626.208112875,2597392.8747795415,2754159.541446208,2910926.208112875,3067692.8747795415,3224459.541446208,3381226.208112875,3537992.874779542,3694759.541446208,3851526.208112875,4008292.874779542,4165059.541446208,4321826.208112875,4478592.874779542,4635359.541446208]
[null,"Antioquia - Suroeste (Andes y demás Municipios)","Pesos $COP",13813.104056437387,25500,10000,9200,14200,14200,42833.333333333336,null,"Antioquia - Suroeste (Andes y demás Municipios)","Pesos $COP",13813.104056437387,25500,10000,9200,14200,14200,42833.333333333336,122026.20811287477,222459.54144620811,322892.87477954145,423326.20811287477,523759.54144620814,624192.87477954151,724626.20811287477,825059.54144620814,925492.87477954151,1025926.2081128748,1126359.541446208,1226792.8747795415,1327226.2081128748,1427659.541446208,1528092.8747795415,1628526.2081128748,1728959.541446208,1829392.8747795415,1929826.2081128748,2030259.541446208,2130692.8747795415,2231126.208112875,2331559.541446208,2431992.8747795415,2532426.208112875,2632859.541446208,2733292.8747795415,2833726.208112875,2934159.541446208,3034592.8747795415]
[null,"Antioquia - Urabá (Turbo, Apartadó y demás Municipios)","Pesos $COP",63813.104056437383,0,16000,11000,15000,15000,96000,null,"Antioquia - Urabá (Turbo, Apartadó y demás Municipios)","Pesos $COP",63813.104056437383,0,16000,11000,15000,15000,96000,185626.20811287477,354626.20811287477,523626.20811287477,692626.20811287477,861626.20811287477,1030626.2081128748,1199626.2081128748,1368626.2081128748,1537626.2081128748,1706626.2081128748,1875626.2081128748,2044626.2081128748,2213626.208112875,2382626.208112875,2551626.208112875,2720626.208112875,2889626.208112875,3058626.208112875,3227626.208112875,3396626.208112875,3565626.208112875,3734626.208112875,3903626.208112875,4072626.208112875,4241626.208112875,4410626.208112875,4579626.208112875,4748626.208112875,4917626.208112875,5086626.208112875]
[null,"Municipios de Colombia fuera de Antioquia","Pesos $COP",129575,0,10500,0,23250,23250,147298.76250000001,null,"Municipios de Colombia fuera de Antioquia","Pesos $COP",129575,0,10500,0,23250,23250,147298.76250000001,303400,518198.76250000001,732997.52500000002,947796.28750000009,1162595.05,1377393.8125,1592192.5750000002,1806991.3375000001,2021790.1,2236588.8624999998,2451387.625,2666186.3875000002,2880985.1500000004,3095783.9125000001,3310582.6750000003,3525381.4375,3740180.2,3954978.9625000004,4169777.7250000001,4384576.4875000007,4599375.25,4814174.0125000002,5028972.7750000004,5243771.5374999996,5458570.3000000007,5673369.0625,5888167.8250000002,6102966.5875000004,6317765.3500000006,6532564.1125000007]
[null,"Medellín - Desde Bajo Cauca (Caucasia y demás Municipios)","Pesos $COP",96400,0,10500,0,22000,22000,141222,null,"Medellín - Desde Bajo Cauca (Caucasia y demás Municipios)","Pesos $COP",96400,0,10500,0,22000,22000,141222,{"$f":" (2*$N214)+(2*$O214)+(2*U$203*$P214)+(U$203*$Q214)+(U$203*$R214)+((U$203-1)*$S214)+((U$203-1)*$T214)","v":235800},442022,648244,854466,1060688,1266910,1473132,1679354,1885576,2091798,{"$f":" (2*$N214)+(2*$O214)+(2*AE$203*$P214)+(AE$203*$Q214)+(AE$203*$R214)+((AE$203-1)*$S214)+((AE$203-1)*$T214)","v":2298020},2504242,2710464,2916686,3122908,3329130,3535352,3741574,3947796,4154018,{"$f":" (2*$N214)+(2*$O214)+(2*AO$203*$P214)+(AO$203*$Q214)+(AO$203*$R214)+((AO$203-1)*$S214)+((AO$203-1)*$T214)","v":4360240},4566462,4772684,4978906,5185128,5391350,5597572,5803794,6010016,6216238]
[null,"Medellín - Desde Magdalena Medio (Puerto Berrio y demás Municipios)","Pesos $COP",96400,0,10500,0,22000,22000,141222,null,"Medellín - Desde Magdalena Medio (Puerto Berrio y demás Municipios)","Pesos $COP",96400,0,10500,0,22000,22000,141222,235800,442022,648244,854466,1060688,1266910,1473132,1679354,1885576,2091798,2298020,2504242,2710464,2916686,3122908,3329130,3535352,3741574,3947796,4154018,4360240,4566462,4772684,4978906,5185128,5391350,5597572,5803794,6010016,6216238]
[null,"Medellín - Desde Nordeste (Segovia, Amalfi y demás Municipios)","Pesos $COP",96400,50000,10500,0,22000,22000,141222,null,"Medellín - Desde Nordeste (Segovia, Amalfi y demás Municipios)","Pesos $COP",96400,50000,10500,0,22000,22000,141222,335800,542022,748244,954466,1160688,1366910,1573132,1779354,1985576,2191798,2398020,2604242,2810464,3016686,3222908,3429130,3635352,3841574,4047796,4254018,4460240,4666462,4872684,5078906,5285128,5491350,5697572,5903794,6110016,6316238]
[null,"Medellín - Desde Norte (Yarumal y demás Municipios)","Pesos $COP",96400,22666.666666666668,10500,0,22000,22000,141222,null,"Medellín - Desde Norte (Yarumal y demás Municipios)","Pesos $COP",96400,22666.666666666668,10500,0,22000,22000,141222,281133.33333333337,487355.33333333337,693577.33333333337,899799.33333333337,1106021.3333333335,1312243.3333333335,1518465.3333333335,1724687.3333333335,1930909.3333333335,2137131.3333333335,2343353.3333333335,2549575.3333333335,2755797.3333333335,2962019.3333333335,3168241.3333333335,3374463.3333333335,3580685.3333333335,3786907.3333333335,3993129.3333333335,4199351.333333334,4405573.333333334,4611795.333333334,4818017.333333334,5024239.333333334,5230461.333333334,5436683.333333334,5642905.333333334,5849127.333333334,6055349.333333334,6261571.333333334]
[null,"Medellín - Desde Occidente (Santa Fé de Antioquia y demás Municipios)","Pesos $COP",96400,25000,10500,0,22000,22000,141222,null,"Medellín - Desde Occidente (Santa Fé de Antioquia y demás Municipios)","Pesos $COP",96400,25000,10500,0,22000,22000,141222,285800,492022,698244,904466,1110688,1316910,1523132,1729354,1935576,2141798,2348020,2554242,2760464,2966686,3172908,3379130,3585352,3791574,3997796,4204018,4410240,4616462,4822684,5028906,5235128,5441350,5647572,5853794,6060016,6266238]
[null,"Medellín - Desde Oriente lejano (Sonsón y demás Municipios)","Pesos $COP",96400,28333.333333333332,10500,0,22000,22000,141222,null,"Medellín - Desde Oriente lejano (Sonsón y demás Municipios)","Pesos $COP",96400,28333.333333333332,10500,0,22000,22000,141222,292466.66666666663,498688.66666666663,704910.66666666663,911132.66666666663,1117354.6666666665,1323576.6666666665,1529798.6666666665,1736020.6666666665,1942242.6666666665,2148464.6666666665,2354686.6666666665,2560908.6666666665,2767130.6666666665,2973352.6666666665,3179574.6666666665,3385796.6666666665,3592018.6666666665,3798240.6666666665,4004462.6666666665,4210684.666666666,4416906.666666666,4623128.666666666,4829350.666666666,5035572.666666666,5241794.666666666,5448016.666666666,5654238.666666666,5860460.666666666,6066682.666666666,6272904.666666666]
[null,"Medellín - Desde Oriente Cercano y Medio (Carmen de Viboral y demás Municipios)","Pesos $COP",96400,10000,10500,0,22000,22000,141222,null,"Medellín - Desde Oriente Cercano y Medio (Carmen de Viboral y demás Municipios)","Pesos $COP",96400,10000,10500,0,22000,22000,141222,255800,462022,668244,874466,1080688,1286910,1493132,1699354,1905576,2111798,2318020,2524242,2730464,2936686,3142908,3349130,3555352,3761574,3967796,4174018,4380240,4586462,4792684,4998906,5205128,5411350,5617572,5823794,6030016,6236238]
[null,"Medellín - Desde Suroeste (Andes y demás Municipios)","Pesos $COP",96400,25500,10500,0,22000,22000,141222,null,"Medellín - Desde Suroeste (Andes y demás Municipios)","Pesos $COP",96400,25500,10500,0,22000,22000,141222,286800,493022,699244,905466,1111688,1317910,1524132,1730354,1936576,2142798,2349020,2555242,2761464,2967686,3173908,3380130,3586352,3792574,3998796,4205018,4411240,4617462,4823684,5029906,5236128,5442350,5648572,5854794,6061016,6267238]
[null,"Medellín - Desde Urabá (Turbo, Apartadó y demás Municipios)","Pesos $COP",96400,0,10500,0,22000,22000,141222,null,"Medellín - Desde Urabá (Turbo, Apartadó y demás Municipios)","Pesos $COP",96400,0,10500,0,22000,22000,141222,235800,442022,648244,854466,1060688,1266910,1473132,1679354,1885576,2091798,2298020,2504242,2710464,2916686,3122908,3329130,3535352,3741574,3947796,4154018,4360240,4566462,4772684,4978906,5185128,5391350,5597572,5803794,6010016,6216238]
[null,"Medellín (desde los Municipios de Colombia fuera de Antioquia y el resto del mundo)","Pesos $COP",179363,0,10500,0,22000,22000,141222,null,"Medellín (desde los Municipios de Colombia fuera de Antioquia y el resto del mundo)","Pesos $COP",179363,0,10500,0,22000,22000,141222,401726,607948,814170,1020392,1226614,1432836,1639058,1845280,2051502,2257724,2463946,2670168,2876390,3082612,3288834,3495056,3701278,3907500,4113722,4319944,4526166,4732388,4938610,5144832,5351054,5557276,5763498,5969720,6175942,6382164]
[null,"Países de América del Norte (Incluye Puerto Rico y México)","Dólares USD",{"$f":"57.39*Viáticos!$F$2","v":0},0,{"$f":"11.61*Viáticos!$F$2","v":0},0,{"$f":"25.39*Viáticos!$F$2","v":0},{"$f":"25.39*Viáticos!$F$2","v":0},{"$f":"167.7*Viáticos!$F$2","v":0},null,"Países de América del Norte (Incluye Puerto Rico y México)","Dólares USD",57.39,0,11.61,0,25.39,25.39,167.7,{"$f":" ((2*$N224)+(2*$O224)+(2*U$203*$P224)+(U$203*$Q224)+(U$203*$R224)+((U$203-1)*$S224)+((U$203-1)*$T224))*Viáticos!$F$2","v":0},{"$f":" ((2*$N224)+(2*$O224)+(2*V$203*$P224)+(V$203*$Q224)+(V$203*$R224)+((V$203-1)*$S224)+((V$203-1)*$T224))*Viáticos!$F$2","v":0},{"$f":" ((2*$N224)+(2*$O224)+(2*W$203*$P224)+(W$203*$Q224)+(W$203*$R224)+((W$203-1)*$S224)+((W$203-1)*$T224))*Viáticos!$F$2","v":0},{"$f":" ((2*$N224)+(2*$O224)+(2*X$203*$P224)+(X$203*$Q224)+(X$203*$R224)+((X$203-1)*$S224)+((X$203-1)*$T224))*Viáticos!$F$2","v":0},{"$f":" ((2*$N224)+(2*$O224)+(2*Y$203*$P224)+(Y$203*$Q224)+(Y$203*$R224)+((Y$203-1)*$S224)+((Y$203-1)*$T224))*Viáticos!$F$2","v":0},{"$f":" ((2*$N224)+(2*$O224)+(2*Z$203*$P224)+(Z$203*$Q224)+(Z$203*$R224)+((Z$203-1)*$S224)+((Z$203-1)*$T224))*Viáticos!$F$2","v":0},{"$f":" ((2*$N224)+(2*$O224)+(2*AA$203*$P224)+(AA$203*$Q224)+(AA$203*$R224)+((AA$203-1)*$S224)+((AA$203-1)*$T224))*Viáticos!$F$2","v":0},{"$f":" ((2*$N224)+(2*$O224)+(2*AB$203*$P224)+(AB$203*$Q224)+(AB$203*$R224)+((AB$203-1)*$S224)+((AB$203-1)*$T224))*Viáticos!$F$2","v":0},{"$f":" ((2*$N224)+(2*$O224)+(2*AC$203*$P224)+(AC$203*$Q224)+(AC$203*$R224)+((AC$203-1)*$S224)+((AC$203-1)*$T224))*Viáticos!$F$2","v":0},{"$f":" ((2*$N224)+(2*$O224)+(2*AD$203*$P224)+(AD$203*$Q224)+(AD$203*$R224)+((AD$203-1)*$S224)+((AD$203-1)*$T224))*Viáticos!$F$2","v":0},{"$f":" ((2*$N224)+(2*$O224)+(2*AE$203*$P224)+(AE$203*$Q224)+(AE$203*$R224)+((AE$203-1)*$S224)+((AE$203-1)*$T224))*Viáticos!$F$2","v":0},{"$f":" ((2*$N224)+(2*$O224)+(2*AF$203*$P224)+(AF$203*$Q224)+(AF$203*$R224)+((AF$203-1)*$S224)+((AF$203-1)*$T224))*Viáticos!$F$2","v":0},{"$f":" ((2*$N224)+(2*$O224)+(2*AG$203*$P224)+(AG$203*$Q224)+(AG$203*$R224)+((AG$203-1)*$S224)+((AG$203-1)*$T224))*Viáticos!$F$2","v":0},{"$f":" ((2*$N224)+(2*$O224)+(2*AH$203*$P224)+(AH$203*$Q224)+(AH$203*$R224)+((AH$203-1)*$S224)+((AH$203-1)*$T224))*Viáticos!$F$2","v":0},{"$f":" ((2*$N224)+(2*$O224)+(2*AI$203*$P224)+(AI$203*$Q224)+(AI$203*$R224)+((AI$203-1)*$S224)+((AI$203-1)*$T224))*Viáticos!$F$2","v":0},{"$f":" ((2*$N224)+(2*$O224)+(2*AJ$203*$P224)+(AJ$203*$Q224)+(AJ$203*$R224)+((AJ$203-1)*$S224)+((AJ$203-1)*$T224))*Viáticos!$F$2","v":0},{"$f":" ((2*$N224)+(2*$O224)+(2*AK$203*$P224)+(AK$203*$Q224)+(AK$203*$R224)+((AK$203-1)*$S224)+((AK$203-1)*$T224))*Viáticos!$F$2","v":0},{"$f":" ((2*$N224)+(2*$O224)+(2*AL$203*$P224)+(AL$203*$Q224)+(AL$203*$R224)+((AL$203-1)*$S224)+((AL$203-1)*$T224))*Viáticos!$F$2","v":0},{"$f":" ((2*$N224)+(2*$O224)+(2*AM$203*$P224)+(AM$203*$Q224)+(AM$203*$R224)+((AM$203-1)*$S224)+((AM$203-1)*$T224))*Viáticos!$F$2","v":0},{"$f":" ((2*$N224)+(2*$O224)+(2*AN$203*$P224)+(AN$203*$Q224)+(AN$203*$R224)+((AN$203-1)*$S224)+((AN$203-1)*$T224))*Viáticos!$F$2","v":0},{"$f":" ((2*$N224)+(2*$O224)+(2*AO$203*$P224)+(AO$203*$Q224)+(AO$203*$R224)+((AO$203-1)*$S224)+((AO$203-1)*$T224))*Viáticos!$F$2","v":0},{"$f":" ((2*$N224)+(2*$O224)+(2*AP$203*$P224)+(AP$203*$Q224)+(AP$203*$R224)+((AP$203-1)*$S224)+((AP$203-1)*$T224))*Viáticos!$F$2","v":0},{"$f":" ((2*$N224)+(2*$O224)+(2*AQ$203*$P224)+(AQ$203*$Q224)+(AQ$203*$R224)+((AQ$203-1)*$S224)+((AQ$203-1)*$T224))*Viáticos!$F$2","v":0},{"$f":" ((2*$N224)+(2*$O224)+(2*AR$203*$P224)+(AR$203*$Q224)+(AR$203*$R224)+((AR$203-1)*$S224)+((AR$203-1)*$T224))*Viáticos!$F$2","v":0},{"$f":" ((2*$N224)+(2*$O224)+(2*AS$203*$P224)+(AS$203*$Q224)+(AS$203*$R224)+((AS$203-1)*$S224)+((AS$203-1)*$T224))*Viáticos!$F$2","v":0},{"$f":" ((2*$N224)+(2*$O224)+(2*AT$203*$P224)+(AT$203*$Q224)+(AT$203*$R224)+((AT$203-1)*$S224)+((AT$203-1)*$T224))*Viáticos!$F$2","v":0},{"$f":" ((2*$N224)+(2*$O224)+(2*AU$203*$P224)+(AU$203*$Q224)+(AU$203*$R224)+((AU$203-1)*$S224)+((AU$203-1)*$T224))*Viáticos!$F$2","v":0},{"$f":" ((2*$N224)+(2*$O224)+(2*AV$203*$P224)+(AV$203*$Q224)+(AV$203*$R224)+((AV$203-1)*$S224)+((AV$203-1)*$T224))*Viáticos!$F$2","v":0},{"$f":" ((2*$N224)+(2*$O224)+(2*AW$203*$P224)+(AW$203*$Q224)+(AW$203*$R224)+((AW$203-1)*$S224)+((AW$203-1)*$T224))*Viáticos!$F$2","v":0},{"$f":" ((2*$N224)+(2*$O224)+(2*AX$203*$P224)+(AX$203*$Q224)+(AX$203*$R224)+((AX$203-1)*$S224)+((AX$203-1)*$T224))*Viáticos!$F$2","v":0},null,"Países de América del Norte (Incluye Puerto Rico y México)","Dólares USD",57.39,0,11.61,0,25.39,25.39,167.7]
[null,"Países de África, Sur América; Centro América y el Caribe","Dólares USD",{"$f":"44.61*Viáticos!$F$2","v":0},0,{"$f":"5.23*Viáticos!$F$2","v":0},0,{"$f":"14.21*Viáticos!$F$2","v":0},{"$f":"14.21*Viáticos!$F$2","v":0},{"$f":"105.37*Viáticos!$F$2","v":0},null,"Países de África, Sur América; Centro América y el Caribe","Dólares USD",44.61,0,5.23,0,14.21,14.21,105.37,{"$f":" ((2*$N225)+(2*$O225)+(2*U$203*$P225)+(U$203*$Q225)+(U$203*$R225)+((U$203-1)*$S225)+((U$203-1)*$T225))*Viáticos!$F$2","v":0},{"$f":" ((2*$N225)+(2*$O225)+(2*V$203*$P225)+(V$203*$Q225)+(V$203*$R225)+((V$203-1)*$S225)+((V$203-1)*$T225))*Viáticos!$F$2","v":0},{"$f":" ((2*$N225)+(2*$O225)+(2*W$203*$P225)+(W$203*$Q225)+(W$203*$R225)+((W$203-1)*$S225)+((W$203-1)*$T225))*Viáticos!$F$2","v":0},{"$f":" ((2*$N225)+(2*$O225)+(2*X$203*$P225)+(X$203*$Q225)+(X$203*$R225)+((X$203-1)*$S225)+((X$203-1)*$T225))*Viáticos!$F$2","v":0},{"$f":" ((2*$N225)+(2*$O225)+(2*Y$203*$P225)+(Y$203*$Q225)+(Y$203*$R225)+((Y$203-1)*$S225)+((Y$203-1)*$T225))*Viáticos!$F$2","v":0},{"$f":" ((2*$N225)+(2*$O225)+(2*Z$203*$P225)+(Z$203*$Q225)+(Z$203*$R225)+((Z$203-1)*$S225)+((Z$203-1)*$T225))*Viáticos!$F$2","v":0},{"$f":" ((2*$N225)+(2*$O225)+(2*AA$203*$P225)+(AA$203*$Q225)+(AA$203*$R225)+((AA$203-1)*$S225)+((AA$203-1)*$T225))*Viáticos!$F$2","v":0},{"$f":" ((2*$N225)+(2*$O225)+(2*AB$203*$P225)+(AB$203*$Q225)+(AB$203*$R225)+((AB$203-1)*$S225)+((AB$203-1)*$T225))*Viáticos!$F$2","v":0},{"$f":" ((2*$N225)+(2*$O225)+(2*AC$203*$P225)+(AC$203*$Q225)+(AC$203*$R225)+((AC$203-1)*$S225)+((AC$203-1)*$T225))*Viáticos!$F$2","v":0},{"$f":" ((2*$N225)+(2*$O225)+(2*AD$203*$P225)+(AD$203*$Q225)+(AD$203*$R225)+((AD$203-1)*$S225)+((AD$203-1)*$T225))*Viáticos!$F$2","v":0},{"$f":" ((2*$N225)+(2*$O225)+(2*AE$203*$P225)+(AE$203*$Q225)+(AE$203*$R225)+((AE$203-1)*$S225)+((AE$203-1)*$T225))*Viáticos!$F$2","v":0},{"$f":" ((2*$N225)+(2*$O225)+(2*AF$203*$P225)+(AF$203*$Q225)+(AF$203*$R225)+((AF$203-1)*$S225)+((AF$203-1)*$T225))*Viáticos!$F$2","v":0},{"$f":" ((2*$N225)+(2*$O225)+(2*AG$203*$P225)+(AG$203*$Q225)+(AG$203*$R225)+((AG$203-1)*$S225)+((AG$203-1)*$T225))*Viáticos!$F$2","v":0},{"$f":" ((2*$N225)+(2*$O225)+(2*AH$203*$P225)+(AH$203*$Q225)+(AH$203*$R225)+((AH$203-1)*$S225)+((AH$203-1)*$T225))*Viáticos!$F$2","v":0},{"$f":" ((2*$N225)+(2*$O225)+(2*AI$203*$P225)+(AI$203*$Q225)+(AI$203*$R225)+((AI$203-1)*$S225)+((AI$203-1)*$T225))*Viáticos!$F$2","v":0},{"$f":" ((2*$N225)+(2*$O225)+(2*AJ$203*$P225)+(AJ$203*$Q225)+(AJ$203*$R225)+((AJ$203-1)*$S225)+((AJ$203-1)*$T225))*Viáticos!$F$2","v":0},{"$f":" ((2*$N225)+(2*$O225)+(2*AK$203*$P225)+(AK$203*$Q225)+(AK$203*$R225)+((AK$203-1)*$S225)+((AK$203-1)*$T225))*Viáticos!$F$2","v":0},{"$f":" ((2*$N225)+(2*$O225)+(2*AL$203*$P225)+(AL$203*$Q225)+(AL$203*$R225)+((AL$203-1)*$S225)+((AL$203-1)*$T225))*Viáticos!$F$2","v":0},{"$f":" ((2*$N225)+(2*$O225)+(2*AM$203*$P225)+(AM$203*$Q225)+(AM$203*$R225)+((AM$203-1)*$S225)+((AM$203-1)*$T225))*Viáticos!$F$2","v":0},{"$f":" ((2*$N225)+(2*$O225)+(2*AN$203*$P225)+(AN$203*$Q225)+(AN$203*$R225)+((AN$203-1)*$S225)+((AN$203-1)*$T225))*Viáticos!$F$2","v":0},{"$f":" ((2*$N225)+(2*$O225)+(2*AO$203*$P225)+(AO$203*$Q225)+(AO$203*$R225)+((AO$203-1)*$S225)+((AO$203-1)*$T225))*Viáticos!$F$2","v":0},{"$f":" ((2*$N225)+(2*$O225)+(2*AP$203*$P225)+(AP$203*$Q225)+(AP$203*$R225)+((AP$203-1)*$S225)+((AP$203-1)*$T225))*Viáticos!$F$2","v":0},{"$f":" ((2*$N225)+(2*$O225)+(2*AQ$203*$P225)+(AQ$203*$Q225)+(AQ$203*$R225)+((AQ$203-1)*$S225)+((AQ$203-1)*$T225))*Viáticos!$F$2","v":0},{"$f":" ((2*$N225)+(2*$O225)+(2*AR$203*$P225)+(AR$203*$Q225)+(AR$203*$R225)+((AR$203-1)*$S225)+((AR$203-1)*$T225))*Viáticos!$F$2","v":0},{"$f":" ((2*$N225)+(2*$O225)+(2*AS$203*$P225)+(AS$203*$Q225)+(AS$203*$R225)+((AS$203-1)*$S225)+((AS$203-1)*$T225))*Viáticos!$F$2","v":0},{"$f":" ((2*$N225)+(2*$O225)+(2*AT$203*$P225)+(AT$203*$Q225)+(AT$203*$R225)+((AT$203-1)*$S225)+((AT$203-1)*$T225))*Viáticos!$F$2","v":0},{"$f":" ((2*$N225)+(2*$O225)+(2*AU$203*$P225)+(AU$203*$Q225)+(AU$203*$R225)+((AU$203-1)*$S225)+((AU$203-1)*$T225))*Viáticos!$F$2","v":0},{"$f":" ((2*$N225)+(2*$O225)+(2*AV$203*$P225)+(AV$203*$Q225)+(AV$203*$R225)+((AV$203-1)*$S225)+((AV$203-1)*$T225))*Viáticos!$F$2","v":0},{"$f":" ((2*$N225)+(2*$O225)+(2*AW$203*$P225)+(AW$203*$Q225)+(AW$203*$R225)+((AW$203-1)*$S225)+((AW$203-1)*$T225))*Viáticos!$F$2","v":0},{"$f":" ((2*$N225)+(2*$O225)+(2*AX$203*$P225)+(AX$203*$Q225)+(AX$203*$R225)+((AX$203-1)*$S225)+((AX$203-1)*$T225))*Viáticos!$F$2","v":0},null,"Países de África, Sur América; Centro América y el Caribe","Dólares USD",44.61,0,5.23,0,14.21,14.21,105.37]
[null,"Países de Europa","Dólares USD",{"$f":"65.75*Viáticos!$F$2","v":0},0,{"$f":"13.4*Viáticos!$F$2","v":0},0,{"$f":"30.54*Viáticos!$F$2","v":0},{"$f":"30.54*Viáticos!$F$2","v":0},{"$f":"150.43*Viáticos!$F$2","v":0},null,"Países de Europa","Dólares USD",65.75,0,13.4,0,30.54,30.54,150.43,{"$f":" ((2*$N226)+(2*$O226)+(2*U$203*$P226)+(U$203*$Q226)+(U$203*$R226)+((U$203-1)*$S226)+((U$203-1)*$T226))*Viáticos!$F$2","v":0},{"$f":" ((2*$N226)+(2*$O226)+(2*V$203*$P226)+(V$203*$Q226)+(V$203*$R226)+((V$203-1)*$S226)+((V$203-1)*$T226))*Viáticos!$F$2","v":0},{"$f":" ((2*$N226)+(2*$O226)+(2*W$203*$P226)+(W$203*$Q226)+(W$203*$R226)+((W$203-1)*$S226)+((W$203-1)*$T226))*Viáticos!$F$2","v":0},{"$f":" ((2*$N226)+(2*$O226)+(2*X$203*$P226)+(X$203*$Q226)+(X$203*$R226)+((X$203-1)*$S226)+((X$203-1)*$T226))*Viáticos!$F$2","v":0},{"$f":" ((2*$N226)+(2*$O226)+(2*Y$203*$P226)+(Y$203*$Q226)+(Y$203*$R226)+((Y$203-1)*$S226)+((Y$203-1)*$T226))*Viáticos!$F$2","v":0},{"$f":" ((2*$N226)+(2*$O226)+(2*Z$203*$P226)+(Z$203*$Q226)+(Z$203*$R226)+((Z$203-1)*$S226)+((Z$203-1)*$T226))*Viáticos!$F$2","v":0},{"$f":" ((2*$N226)+(2*$O226)+(2*AA$203*$P226)+(AA$203*$Q226)+(AA$203*$R226)+((AA$203-1)*$S226)+((AA$203-1)*$T226))*Viáticos!$F$2","v":0},{"$f":" ((2*$N226)+(2*$O226)+(2*AB$203*$P226)+(AB$203*$Q226)+(AB$203*$R226)+((AB$203-1)*$S226)+((AB$203-1)*$T226))*Viáticos!$F$2","v":0},{"$f":" ((2*$N226)+(2*$O226)+(2*AC$203*$P226)+(AC$203*$Q226)+(AC$203*$R226)+((AC$203-1)*$S226)+((AC$203-1)*$T226))*Viáticos!$F$2","v":0},{"$f":" ((2*$N226)+(2*$O226)+(2*AD$203*$P226)+(AD$203*$Q226)+(AD$203*$R226)+((AD$203-1)*$S226)+((AD$203-1)*$T226))*Viáticos!$F$2","v":0},{"$f":" ((2*$N226)+(2*$O226)+(2*AE$203*$P226)+(AE$203*$Q226)+(AE$203*$R226)+((AE$203-1)*$S226)+((AE$203-1)*$T226))*Viáticos!$F$2","v":0},{"$f":" ((2*$N226)+(2*$O226)+(2*AF$203*$P226)+(AF$203*$Q226)+(AF$203*$R226)+((AF$203-1)*$S226)+((AF$203-1)*$T226))*Viáticos!$F$2","v":0},{"$f":" ((2*$N226)+(2*$O226)+(2*AG$203*$P226)+(AG$203*$Q226)+(AG$203*$R226)+((AG$203-1)*$S226)+((AG$203-1)*$T226))*Viáticos!$F$2","v":0},{"$f":" ((2*$N226)+(2*$O226)+(2*AH$203*$P226)+(AH$203*$Q226)+(AH$203*$R226)+((AH$203-1)*$S226)+((AH$203-1)*$T226))*Viáticos!$F$2","v":0},{"$f":" ((2*$N226)+(2*$O226)+(2*AI$203*$P226)+(AI$203*$Q226)+(AI$203*$R226)+((AI$203-1)*$S226)+((AI$203-1)*$T226))*Viáticos!$F$2","v":0},{"$f":" ((2*$N226)+(2*$O226)+(2*AJ$203*$P226)+(AJ$203*$Q226)+(AJ$203*$R226)+((AJ$203-1)*$S226)+((AJ$203-1)*$T226))*Viáticos!$F$2","v":0},{"$f":" ((2*$N226)+(2*$O226)+(2*AK$203*$P226)+(AK$203*$Q226)+(AK$203*$R226)+((AK$203-1)*$S226)+((AK$203-1)*$T226))*Viáticos!$F$2","v":0},{"$f":" ((2*$N226)+(2*$O226)+(2*AL$203*$P226)+(AL$203*$Q226)+(AL$203*$R226)+((AL$203-1)*$S226)+((AL$203-1)*$T226))*Viáticos!$F$2","v":0},{"$f":" ((2*$N226)+(2*$O226)+(2*AM$203*$P226)+(AM$203*$Q226)+(AM$203*$R226)+((AM$203-1)*$S226)+((AM$203-1)*$T226))*Viáticos!$F$2","v":0},{"$f":" ((2*$N226)+(2*$O226)+(2*AN$203*$P226)+(AN$203*$Q226)+(AN$203*$R226)+((AN$203-1)*$S226)+((AN$203-1)*$T226))*Viáticos!$F$2","v":0},{"$f":" ((2*$N226)+(2*$O226)+(2*AO$203*$P226)+(AO$203*$Q226)+(AO$203*$R226)+((AO$203-1)*$S226)+((AO$203-1)*$T226))*Viáticos!$F$2","v":0},{"$f":" ((2*$N226)+(2*$O226)+(2*AP$203*$P226)+(AP$203*$Q226)+(AP$203*$R226)+((AP$203-1)*$S226)+((AP$203-1)*$T226))*Viáticos!$F$2","v":0},{"$f":" ((2*$N226)+(2*$O226)+(2*AQ$203*$P226)+(AQ$203*$Q226)+(AQ$203*$R226)+((AQ$203-1)*$S226)+((AQ$203-1)*$T226))*Viáticos!$F$2","v":0},{"$f":" ((2*$N226)+(2*$O226)+(2*AR$203*$P226)+(AR$203*$Q226)+(AR$203*$R226)+((AR$203-1)*$S226)+((AR$203-1)*$T226))*Viáticos!$F$2","v":0},{"$f":" ((2*$N226)+(2*$O226)+(2*AS$203*$P226)+(AS$203*$Q226)+(AS$203*$R226)+((AS$203-1)*$S226)+((AS$203-1)*$T226))*Viáticos!$F$2","v":0},{"$f":" ((2*$N226)+(2*$O226)+(2*AT$203*$P226)+(AT$203*$Q226)+(AT$203*$R226)+((AT$203-1)*$S226)+((AT$203-1)*$T226))*Viáticos!$F$2","v":0},{"$f":" ((2*$N226)+(2*$O226)+(2*AU$203*$P226)+(AU$203*$Q226)+(AU$203*$R226)+((AU$203-1)*$S226)+((AU$203-1)*$T226))*Viáticos!$F$2","v":0},{"$f":" ((2*$N226)+(2*$O226)+(2*AV$203*$P226)+(AV$203*$Q226)+(AV$203*$R226)+((AV$203-1)*$S226)+((AV$203-1)*$T226))*Viáticos!$F$2","v":0},{"$f":" ((2*$N226)+(2*$O226)+(2*AW$203*$P226)+(AW$203*$Q226)+(AW$203*$R226)+((AW$203-1)*$S226)+((AW$203-1)*$T226))*Viáticos!$F$2","v":0},{"$f":" ((2*$N226)+(2*$O226)+(2*AX$203*$P226)+(AX$203*$Q226)+(AX$203*$R226)+((AX$203-1)*$S226)+((AX$203-1)*$T226))*Viáticos!$F$2","v":0},null,"Países de Europa","Dólares USD",65.75,0,13.4,0,30.54,30.54,150.43]
[null,"Países de Asia","Dólares USD",{"$f":"59.19*Viáticos!$F$2","v":0},0,{"$f":"15.15*Viáticos!$F$2","v":0},0,{"$f":"22.68*Viáticos!$F$2","v":0},{"$f":"22.68*Viáticos!$F$2","v":0},{"$f":"134.6*Viáticos!$F$2","v":0},null,"Países de Asia","Dólares USD",59.19,0,15.15,0,22.68,22.68,134.6,{"$f":" ((2*$N227)+(2*$O227)+(2*U$203*$P227)+(U$203*$Q227)+(U$203*$R227)+((U$203-1)*$S227)+((U$203-1)*$T227))*Viáticos!$F$2","v":0},{"$f":" ((2*$N227)+(2*$O227)+(2*V$203*$P227)+(V$203*$Q227)+(V$203*$R227)+((V$203-1)*$S227)+((V$203-1)*$T227))*Viáticos!$F$2","v":0},{"$f":" ((2*$N227)+(2*$O227)+(2*W$203*$P227)+(W$203*$Q227)+(W$203*$R227)+((W$203-1)*$S227)+((W$203-1)*$T227))*Viáticos!$F$2","v":0},{"$f":" ((2*$N227)+(2*$O227)+(2*X$203*$P227)+(X$203*$Q227)+(X$203*$R227)+((X$203-1)*$S227)+((X$203-1)*$T227))*Viáticos!$F$2","v":0},{"$f":" ((2*$N227)+(2*$O227)+(2*Y$203*$P227)+(Y$203*$Q227)+(Y$203*$R227)+((Y$203-1)*$S227)+((Y$203-1)*$T227))*Viáticos!$F$2","v":0},{"$f":" ((2*$N227)+(2*$O227)+(2*Z$203*$P227)+(Z$203*$Q227)+(Z$203*$R227)+((Z$203-1)*$S227)+((Z$203-1)*$T227))*Viáticos!$F$2","v":0},{"$f":" ((2*$N227)+(2*$O227)+(2*AA$203*$P227)+(AA$203*$Q227)+(AA$203*$R227)+((AA$203-1)*$S227)+((AA$203-1)*$T227))*Viáticos!$F$2","v":0},{"$f":" ((2*$N227)+(2*$O227)+(2*AB$203*$P227)+(AB$203*$Q227)+(AB$203*$R227)+((AB$203-1)*$S227)+((AB$203-1)*$T227))*Viáticos!$F$2","v":0},{"$f":" ((2*$N227)+(2*$O227)+(2*AC$203*$P227)+(AC$203*$Q227)+(AC$203*$R227)+((AC$203-1)*$S227)+((AC$203-1)*$T227))*Viáticos!$F$2","v":0},{"$f":" ((2*$N227)+(2*$O227)+(2*AD$203*$P227)+(AD$203*$Q227)+(AD$203*$R227)+((AD$203-1)*$S227)+((AD$203-1)*$T227))*Viáticos!$F$2","v":0},{"$f":" ((2*$N227)+(2*$O227)+(2*AE$203*$P227)+(AE$203*$Q227)+(AE$203*$R227)+((AE$203-1)*$S227)+((AE$203-1)*$T227))*Viáticos!$F$2","v":0},{"$f":" ((2*$N227)+(2*$O227)+(2*AF$203*$P227)+(AF$203*$Q227)+(AF$203*$R227)+((AF$203-1)*$S227)+((AF$203-1)*$T227))*Viáticos!$F$2","v":0},{"$f":" ((2*$N227)+(2*$O227)+(2*AG$203*$P227)+(AG$203*$Q227)+(AG$203*$R227)+((AG$203-1)*$S227)+((AG$203-1)*$T227))*Viáticos!$F$2","v":0},{"$f":" ((2*$N227)+(2*$O227)+(2*AH$203*$P227)+(AH$203*$Q227)+(AH$203*$R227)+((AH$203-1)*$S227)+((AH$203-1)*$T227))*Viáticos!$F$2","v":0},{"$f":" ((2*$N227)+(2*$O227)+(2*AI$203*$P227)+(AI$203*$Q227)+(AI$203*$R227)+((AI$203-1)*$S227)+((AI$203-1)*$T227))*Viáticos!$F$2","v":0},{"$f":" ((2*$N227)+(2*$O227)+(2*AJ$203*$P227)+(AJ$203*$Q227)+(AJ$203*$R227)+((AJ$203-1)*$S227)+((AJ$203-1)*$T227))*Viáticos!$F$2","v":0},{"$f":" ((2*$N227)+(2*$O227)+(2*AK$203*$P227)+(AK$203*$Q227)+(AK$203*$R227)+((AK$203-1)*$S227)+((AK$203-1)*$T227))*Viáticos!$F$2","v":0},{"$f":" ((2*$N227)+(2*$O227)+(2*AL$203*$P227)+(AL$203*$Q227)+(AL$203*$R227)+((AL$203-1)*$S227)+((AL$203-1)*$T227))*Viáticos!$F$2","v":0},{"$f":" ((2*$N227)+(2*$O227)+(2*AM$203*$P227)+(AM$203*$Q227)+(AM$203*$R227)+((AM$203-1)*$S227)+((AM$203-1)*$T227))*Viáticos!$F$2","v":0},{"$f":" ((2*$N227)+(2*$O227)+(2*AN$203*$P227)+(AN$203*$Q227)+(AN$203*$R227)+((AN$203-1)*$S227)+((AN$203-1)*$T227))*Viáticos!$F$2","v":0},{"$f":" ((2*$N227)+(2*$O227)+(2*AO$203*$P227)+(AO$203*$Q227)+(AO$203*$R227)+((AO$203-1)*$S227)+((AO$203-1)*$T227))*Viáticos!$F$2","v":0},{"$f":" ((2*$N227)+(2*$O227)+(2*AP$203*$P227)+(AP$203*$Q227)+(AP$203*$R227)+((AP$203-1)*$S227)+((AP$203-1)*$T227))*Viáticos!$F$2","v":0},{"$f":" ((2*$N227)+(2*$O227)+(2*AQ$203*$P227)+(AQ$203*$Q227)+(AQ$203*$R227)+((AQ$203-1)*$S227)+((AQ$203-1)*$T227))*Viáticos!$F$2","v":0},{"$f":" ((2*$N227)+(2*$O227)+(2*AR$203*$P227)+(AR$203*$Q227)+(AR$203*$R227)+((AR$203-1)*$S227)+((AR$203-1)*$T227))*Viáticos!$F$2","v":0},{"$f":" ((2*$N227)+(2*$O227)+(2*AS$203*$P227)+(AS$203*$Q227)+(AS$203*$R227)+((AS$203-1)*$S227)+((AS$203-1)*$T227))*Viáticos!$F$2","v":0},{"$f":" ((2*$N227)+(2*$O227)+(2*AT$203*$P227)+(AT$203*$Q227)+(AT$203*$R227)+((AT$203-1)*$S227)+((AT$203-1)*$T227))*Viáticos!$F$2","v":0},{"$f":" ((2*$N227)+(2*$O227)+(2*AU$203*$P227)+(AU$203*$Q227)+(AU$203*$R227)+((AU$203-1)*$S227)+((AU$203-1)*$T227))*Viáticos!$F$2","v":0},{"$f":" ((2*$N227)+(2*$O227)+(2*AV$203*$P227)+(AV$203*$Q227)+(AV$203*$R227)+((AV$203-1)*$S227)+((AV$203-1)*$T227))*Viáticos!$F$2","v":0},{"$f":" ((2*$N227)+(2*$O227)+(2*AW$203*$P227)+(AW$203*$Q227)+(AW$203*$R227)+((AW$203-1)*$S227)+((AW$203-1)*$T227))*Viáticos!$F$2","v":0},{"$f":" ((2*$N227)+(2*$O227)+(2*AX$203*$P227)+(AX$203*$Q227)+(AX$203*$R227)+((AX$203-1)*$S227)+((AX$203-1)*$T227))*Viáticos!$F$2","v":0},null,"Países de Asia","Dólares USD",59.19,0,15.15,0,22.68,22.68,134.6]
[null,"Países de Oceanía","Dólares USD",{"$f":"64.67*Viáticos!$F$2","v":0},0,{"$f":"10.69*Viáticos!$F$2","v":0},0,{"$f":"33.11*Viáticos!$F$2","v":0},{"$f":"33.11*Viáticos!$F$2","v":0},{"$f":"153.3*Viáticos!$F$2","v":0},null,"Países de Oceanía","Dólares USD",64.67,0,10.69,0,33.11,33.11,153.30000000000001,{"$f":" ((2*$N228)+(2*$O228)+(2*U$203*$P228)+(U$203*$Q228)+(U$203*$R228)+((U$203-1)*$S228)+((U$203-1)*$T228))*Viáticos!$F$2","v":0},{"$f":" ((2*$N228)+(2*$O228)+(2*V$203*$P228)+(V$203*$Q228)+(V$203*$R228)+((V$203-1)*$S228)+((V$203-1)*$T228))*Viáticos!$F$2","v":0},{"$f":" ((2*$N228)+(2*$O228)+(2*W$203*$P228)+(W$203*$Q228)+(W$203*$R228)+((W$203-1)*$S228)+((W$203-1)*$T228))*Viáticos!$F$2","v":0},{"$f":" ((2*$N228)+(2*$O228)+(2*X$203*$P228)+(X$203*$Q228)+(X$203*$R228)+((X$203-1)*$S228)+((X$203-1)*$T228))*Viáticos!$F$2","v":0},{"$f":" ((2*$N228)+(2*$O228)+(2*Y$203*$P228)+(Y$203*$Q228)+(Y$203*$R228)+((Y$203-1)*$S228)+((Y$203-1)*$T228))*Viáticos!$F$2","v":0},{"$f":" ((2*$N228)+(2*$O228)+(2*Z$203*$P228)+(Z$203*$Q228)+(Z$203*$R228)+((Z$203-1)*$S228)+((Z$203-1)*$T228))*Viáticos!$F$2","v":0},{"$f":" ((2*$N228)+(2*$O228)+(2*AA$203*$P228)+(AA$203*$Q228)+(AA$203*$R228)+((AA$203-1)*$S228)+((AA$203-1)*$T228))*Viáticos!$F$2","v":0},{"$f":" ((2*$N228)+(2*$O228)+(2*AB$203*$P228)+(AB$203*$Q228)+(AB$203*$R228)+((AB$203-1)*$S228)+((AB$203-1)*$T228))*Viáticos!$F$2","v":0},{"$f":" ((2*$N228)+(2*$O228)+(2*AC$203*$P228)+(AC$203*$Q228)+(AC$203*$R228)+((AC$203-1)*$S228)+((AC$203-1)*$T228))*Viáticos!$F$2","v":0},{"$f":" ((2*$N228)+(2*$O228)+(2*AD$203*$P228)+(AD$203*$Q228)+(AD$203*$R228)+((AD$203-1)*$S228)+((AD$203-1)*$T228))*Viáticos!$F$2","v":0},{"$f":" ((2*$N228)+(2*$O228)+(2*AE$203*$P228)+(AE$203*$Q228)+(AE$203*$R228)+((AE$203-1)*$S228)+((AE$203-1)*$T228))*Viáticos!$F$2","v":0},{"$f":" ((2*$N228)+(2*$O228)+(2*AF$203*$P228)+(AF$203*$Q228)+(AF$203*$R228)+((AF$203-1)*$S228)+((AF$203-1)*$T228))*Viáticos!$F$2","v":0},{"$f":" ((2*$N228)+(2*$O228)+(2*AG$203*$P228)+(AG$203*$Q228)+(AG$203*$R228)+((AG$203-1)*$S228)+((AG$203-1)*$T228))*Viáticos!$F$2","v":0},{"$f":" ((2*$N228)+(2*$O228)+(2*AH$203*$P228)+(AH$203*$Q228)+(AH$203*$R228)+((AH$203-1)*$S228)+((AH$203-1)*$T228))*Viáticos!$F$2","v":0},{"$f":" ((2*$N228)+(2*$O228)+(2*AI$203*$P228)+(AI$203*$Q228)+(AI$203*$R228)+((AI$203-1)*$S228)+((AI$203-1)*$T228))*Viáticos!$F$2","v":0},{"$f":" ((2*$N228)+(2*$O228)+(2*AJ$203*$P228)+(AJ$203*$Q228)+(AJ$203*$R228)+((AJ$203-1)*$S228)+((AJ$203-1)*$T228))*Viáticos!$F$2","v":0},{"$f":" ((2*$N228)+(2*$O228)+(2*AK$203*$P228)+(AK$203*$Q228)+(AK$203*$R228)+((AK$203-1)*$S228)+((AK$203-1)*$T228))*Viáticos!$F$2","v":0},{"$f":" ((2*$N228)+(2*$O228)+(2*AL$203*$P228)+(AL$203*$Q228)+(AL$203*$R228)+((AL$203-1)*$S228)+((AL$203-1)*$T228))*Viáticos!$F$2","v":0},{"$f":" ((2*$N228)+(2*$O228)+(2*AM$203*$P228)+(AM$203*$Q228)+(AM$203*$R228)+((AM$203-1)*$S228)+((AM$203-1)*$T228))*Viáticos!$F$2","v":0},{"$f":" ((2*$N228)+(2*$O228)+(2*AN$203*$P228)+(AN$203*$Q228)+(AN$203*$R228)+((AN$203-1)*$S228)+((AN$203-1)*$T228))*Viáticos!$F$2","v":0},{"$f":" ((2*$N228)+(2*$O228)+(2*AO$203*$P228)+(AO$203*$Q228)+(AO$203*$R228)+((AO$203-1)*$S228)+((AO$203-1)*$T228))*Viáticos!$F$2","v":0},{"$f":" ((2*$N228)+(2*$O228)+(2*AP$203*$P228)+(AP$203*$Q228)+(AP$203*$R228)+((AP$203-1)*$S228)+((AP$203-1)*$T228))*Viáticos!$F$2","v":0},{"$f":" ((2*$N228)+(2*$O228)+(2*AQ$203*$P228)+(AQ$203*$Q228)+(AQ$203*$R228)+((AQ$203-1)*$S228)+((AQ$203-1)*$T228))*Viáticos!$F$2","v":0},{"$f":" ((2*$N228)+(2*$O228)+(2*AR$203*$P228)+(AR$203*$Q228)+(AR$203*$R228)+((AR$203-1)*$S228)+((AR$203-1)*$T228))*Viáticos!$F$2","v":0},{"$f":" ((2*$N228)+(2*$O228)+(2*AS$203*$P228)+(AS$203*$Q228)+(AS$203*$R228)+((AS$203-1)*$S228)+((AS$203-1)*$T228))*Viáticos!$F$2","v":0},{"$f":" ((2*$N228)+(2*$O228)+(2*AT$203*$P228)+(AT$203*$Q228)+(AT$203*$R228)+((AT$203-1)*$S228)+((AT$203-1)*$T228))*Viáticos!$F$2","v":0},{"$f":" ((2*$N228)+(2*$O228)+(2*AU$203*$P228)+(AU$203*$Q228)+(AU$203*$R228)+((AU$203-1)*$S228)+((AU$203-1)*$T228))*Viáticos!$F$2","v":0},{"$f":" ((2*$N228)+(2*$O228)+(2*AV$203*$P228)+(AV$203*$Q228)+(AV$203*$R228)+((AV$203-1)*$S228)+((AV$203-1)*$T228))*Viáticos!$F$2","v":0},{"$f":" ((2*$N228)+(2*$O228)+(2*AW$203*$P228)+(AW$203*$Q228)+(AW$203*$R228)+((AW$203-1)*$S228)+((AW$203-1)*$T228))*Viáticos!$F$2","v":0},{"$f":" ((2*$N228)+(2*$O228)+(2*AX$203*$P228)+(AX$203*$Q228)+(AX$203*$R228)+((AX$203-1)*$S228)+((AX$203-1)*$T228))*Viáticos!$F$2","v":0},null,"Países de Oceanía","Dólares USD",64.67,0,10.69,0,33.11,33.11,153.30000000000001]
[]
[null,"V = 2TO + 2TD + 2nTI + nD + nA + (n-1)C + (n-1)H",null,"N=",2]
[null,"V = 2(TO+TD+nTI) +(n-1)(C+H)+n(D+A)",null,"V=",{"$f":"2*Listas!D204+2*Listas!E204+2*E230*Listas!F204+E230*Listas!G204+E230*Listas!H204+(E230-1)*Listas!I204+(E230-1)*Listas!J204","v":270426.20811287477}]
[null,"V = 2(TO+TD) + n(2TI+D+A) + (n-1)(C+H)",null,"V=",{"$f":"2*(Listas!D204+Listas!E204)+E230*(2*Listas!F204+Listas!G204+Listas!H204)+(E230-1)*(Listas!I204+Listas!J204)","v":270426.20811287477}]
[]
[null,"CeCo","CeCo2","CeCo3",null,"**Actualizado según reporte SAP KS13 a 16/06/2022"]
[null,"RECTORIA            ",10110001,{"$f":"+CONCATENATE(Tabla217[[#This Row],[CeCo2]],\" \",Tabla217[[#This Row],[CeCo]])","v":"10110001 RECTORIA            "},null,"Sin cerrados, sin estructura vieja, sin genérico"]
[null,"LIBRERIA UNIVERSITAR",10110002,{"$f":"+CONCATENATE(Tabla217[[#This Row],[CeCo2]],\" \",Tabla217[[#This Row],[CeCo]])","v":"10110002 LIBRERIA UNIVERSITAR"}]
[null,"OFICINA ASESORIA JUR",10110003,{"$f":"+CONCATENATE(Tabla217[[#This Row],[CeCo2]],\" \",Tabla217[[#This Row],[CeCo]])","v":"10110003 OFICINA ASESORIA JUR"}]
[null,"DESARROLLO ESTRATEGI",10110004,{"$f":"+CONCATENATE(Tabla217[[#This Row],[CeCo2]],\" \",Tabla217[[#This Row],[CeCo]])","v":"10110004 DESARROLLO ESTRATEGI"}]
[null,"AUDITORIA INSTITUCIO",10110005,{"$f":"+CONCATENATE(Tabla217[[#This Row],[CeCo2]],\" \",Tabla217[[#This Row],[CeCo]])","v":"10110005 AUDITORIA INSTITUCIO"}]
[null,"AUDITORIA INSTITUCIO",10110006,{"$f":"+CONCATENATE(Tabla217[[#This Row],[CeCo2]],\" \",Tabla217[[#This Row],[CeCo]])","v":"10110006 AUDITORIA INSTITUCIO"}]
[null,"RECURSOS CREE       ",10110007,{"$f":"+CONCATENATE(Tabla217[[#This Row],[CeCo2]],\" \",Tabla217[[#This Row],[CeCo]])","v":"10110007 RECURSOS CREE       "}]
[null,"ADQ BI PARQ TEC ANT ",10110008,{"$f":"+CONCATENATE(Tabla217[[#This Row],[CeCo2]],\" \",Tabla217[[#This Row],[CeCo]])","v":"10110008 ADQ BI PARQ TEC ANT "}]
[null,"ADQUI LOTE EDIT BEDO",10110009,{"$f":"+CONCATENATE(Tabla217[[#This Row],[CeCo2]],\" \",Tabla217[[#This Row],[CeCo]])","v":"10110009 ADQUI LOTE EDIT BEDO"}]
[null,"ESPECIAL RECTORIA   ",10110010,{"$f":"+CONCATENATE(Tabla217[[#This Row],[CeCo2]],\" \",Tabla217[[#This Row],[CeCo]])","v":"10110010 ESPECIAL RECTORIA   "}]
[null,"LIQUIDACION CIAL    ",10110011,{"$f":"+CONCATENATE(Tabla217[[#This Row],[CeCo2]],\" \",Tabla217[[#This Row],[CeCo]])","v":"10110011 LIQUIDACION CIAL    "}]
[null,"FOND PAT FAU        ",10110012,{"$f":"+CONCATENATE(Tabla217[[#This Row],[CeCo2]],\" \",Tabla217[[#This Row],[CeCo]])","v":"10110012 FOND PAT FAU        "}]
[null,"UNIDAD ESPECIAL PAZ ",10110013,{"$f":"+CONCATENATE(Tabla217[[#This Row],[CeCo2]],\" \",Tabla217[[#This Row],[CeCo]])","v":"10110013 UNIDAD ESPECIAL PAZ "}]
[null,"EXPOUNIVERSIDAD     ",10140001,{"$f":"+CONCATENATE(Tabla217[[#This Row],[CeCo2]],\" \",Tabla217[[#This Row],[CeCo]])","v":"10140001 EXPOUNIVERSIDAD     "}]
[null,"ADMON RECURSOS FUA  ",10140002,{"$f":"+CONCATENATE(Tabla217[[#This Row],[CeCo2]],\" \",Tabla217[[#This Row],[CeCo]])","v":"10140002 ADMON RECURSOS FUA  "}]
[null,"NICHE/COL/111-ESC GO",10140003,{"$f":"+CONCATENATE(Tabla217[[#This Row],[CeCo2]],\" \",Tabla217[[#This Row],[CeCo]])","v":"10140003 NICHE/COL/111-ESC GO"}]
[null,"ESC GOB POL PUB ANT ",10140004,{"$f":"+CONCATENATE(Tabla217[[#This Row],[CeCo2]],\" \",Tabla217[[#This Row],[CeCo]])","v":"10140004 ESC GOB POL PUB ANT "}]
[null,"COLOMBIA RESPONDE   ",10140005,{"$f":"+CONCATENATE(Tabla217[[#This Row],[CeCo2]],\" \",Tabla217[[#This Row],[CeCo]])","v":"10140005 COLOMBIA RESPONDE   "}]
[null,"SECRETARIA GENERAL  ",10210001,{"$f":"+CONCATENATE(Tabla217[[#This Row],[CeCo2]],\" \",Tabla217[[#This Row],[CeCo]])","v":"10210001 SECRETARIA GENERAL  "}]
[null,"DPTO ADMO DOC Y MICR",10210002,{"$f":"+CONCATENATE(Tabla217[[#This Row],[CeCo2]],\" \",Tabla217[[#This Row],[CeCo]])","v":"10210002 DPTO ADMO DOC Y MICR"}]
[null,"DPTO INF Y PRENSA   ",10210003,{"$f":"+CONCATENATE(Tabla217[[#This Row],[CeCo2]],\" \",Tabla217[[#This Row],[CeCo]])","v":"10210003 DPTO INF Y PRENSA   "}]
[null,"DPTO PUBLICACIONES  ",10210004,{"$f":"+CONCATENATE(Tabla217[[#This Row],[CeCo2]],\" \",Tabla217[[#This Row],[CeCo]])","v":"10210004 DPTO PUBLICACIONES  "}]
[null,"SECCION DE IMPRENTA ",10210005,{"$f":"+CONCATENATE(Tabla217[[#This Row],[CeCo2]],\" \",Tabla217[[#This Row],[CeCo]])","v":"10210005 SECCION DE IMPRENTA "}]
[null,"DPTO DE EMISOR CULTU",10210006,{"$f":"+CONCATENATE(Tabla217[[#This Row],[CeCo2]],\" \",Tabla217[[#This Row],[CeCo]])","v":"10210006 DPTO DE EMISOR CULTU"}]
[null,"DPTO DE SERVI AUDIOV",10210007,{"$f":"+CONCATENATE(Tabla217[[#This Row],[CeCo2]],\" \",Tabla217[[#This Row],[CeCo]])","v":"10210007 DPTO DE SERVI AUDIOV"}]
[null,"COMITE PUBLICACIONES",10210008,{"$f":"+CONCATENATE(Tabla217[[#This Row],[CeCo2]],\" \",Tabla217[[#This Row],[CeCo]])","v":"10210008 COMITE PUBLICACIONES"}]
[null,"EMISORA CULTURAL    ",10210009,{"$f":"+CONCATENATE(Tabla217[[#This Row],[CeCo2]],\" \",Tabla217[[#This Row],[CeCo]])","v":"10210009 EMISORA CULTURAL    "}]
[null,"SIST DE COMUNICA    ",10210010,{"$f":"+CONCATENATE(Tabla217[[#This Row],[CeCo2]],\" \",Tabla217[[#This Row],[CeCo]])","v":"10210010 SIST DE COMUNICA    "}]
[null,"PRODUCCION AUDIOVISU",10210011,{"$f":"+CONCATENATE(Tabla217[[#This Row],[CeCo2]],\" \",Tabla217[[#This Row],[CeCo]])","v":"10210011 PRODUCCION AUDIOVISU"}]
[null,"DIV GESTION DOCUMEN ",10210012,{"$f":"+CONCATENATE(Tabla217[[#This Row],[CeCo2]],\" \",Tabla217[[#This Row],[CeCo]])","v":"10210012 DIV GESTION DOCUMEN "}]
[null,"RECURSOS RECICLAJE  ",10210013,{"$f":"+CONCATENATE(Tabla217[[#This Row],[CeCo2]],\" \",Tabla217[[#This Row],[CeCo]])","v":"10210013 RECURSOS RECICLAJE  "}]
[null,"VICE GENERAL        ",10310001,{"$f":"+CONCATENATE(Tabla217[[#This Row],[CeCo2]],\" \",Tabla217[[#This Row],[CeCo]])","v":"10310001 VICE GENERAL        "}]
[null,"PROYECTOS EXTENSIÓN ",10340001,{"$f":"+CONCATENATE(Tabla217[[#This Row],[CeCo2]],\" \",Tabla217[[#This Row],[CeCo]])","v":"10340001 PROYECTOS EXTENSIÓN "}]
[null,"VICE ADMINISTRATIVA ",10410001,{"$f":"+CONCATENATE(Tabla217[[#This Row],[CeCo2]],\" \",Tabla217[[#This Row],[CeCo]])","v":"10410001 VICE ADMINISTRATIVA "}]
[null,"DEPTO FINANCIERO    ",10410002,{"$f":"+CONCATENATE(Tabla217[[#This Row],[CeCo2]],\" \",Tabla217[[#This Row],[CeCo]])","v":"10410002 DEPTO FINANCIERO    "}]
[null,"CONTABILIDAD        ",10410003,{"$f":"+CONCATENATE(Tabla217[[#This Row],[CeCo2]],\" \",Tabla217[[#This Row],[CeCo]])","v":"10410003 CONTABILIDAD        "}]
[null,"PRESUPUESTO         ",10410004,{"$f":"+CONCATENATE(Tabla217[[#This Row],[CeCo2]],\" \",Tabla217[[#This Row],[CeCo]])","v":"10410004 PRESUPUESTO         "}]
[null,"TESORERIA           ",10410005,{"$f":"+CONCATENATE(Tabla217[[#This Row],[CeCo2]],\" \",Tabla217[[#This Row],[CeCo]])","v":"10410005 TESORERIA           "}]
[null,"SECCION DE COMPRAS  ",10410006,{"$f":"+CONCATENATE(Tabla217[[#This Row],[CeCo2]],\" \",Tabla217[[#This Row],[CeCo]])","v":"10410006 SECCION DE COMPRAS  "}]
[null,"SECCION INVENTARIOS ",10410007,{"$f":"+CONCATENATE(Tabla217[[#This Row],[CeCo2]],\" \",Tabla217[[#This Row],[CeCo]])","v":"10410007 SECCION INVENTARIOS "}]
[null,"PEN JUB DOC BTO EXOF",10410008,{"$f":"+CONCATENATE(Tabla217[[#This Row],[CeCo2]],\" \",Tabla217[[#This Row],[CeCo]])","v":"10410008 PEN JUB DOC BTO EXOF"}]
[null,"DPTO DE SOSTENIMIENT",10410009,{"$f":"+CONCATENATE(Tabla217[[#This Row],[CeCo2]],\" \",Tabla217[[#This Row],[CeCo]])","v":"10410009 DPTO DE SOSTENIMIENT"}]
[null,"DPTO VIGI Y SEG IND ",10410010,{"$f":"+CONCATENATE(Tabla217[[#This Row],[CeCo2]],\" \",Tabla217[[#This Row],[CeCo]])","v":"10410010 DPTO VIGI Y SEG IND "}]
[null,"DPTO SEGURIDAD SOCIA",10410011,{"$f":"+CONCATENATE(Tabla217[[#This Row],[CeCo2]],\" \",Tabla217[[#This Row],[CeCo]])","v":"10410011 DPTO SEGURIDAD SOCIA"}]
[null,"CUENTAS DE APORTES  ",10410012,{"$f":"+CONCATENATE(Tabla217[[#This Row],[CeCo2]],\" \",Tabla217[[#This Row],[CeCo]])","v":"10410012 CUENTAS DE APORTES  "}]
[null,"MANEJO DE SERVICIOS ",10410013,{"$f":"+CONCATENATE(Tabla217[[#This Row],[CeCo2]],\" \",Tabla217[[#This Row],[CeCo]])","v":"10410013 MANEJO DE SERVICIOS "}]
[null,"FON PAGO PASI PENSI ",10410014,{"$f":"+CONCATENATE(Tabla217[[#This Row],[CeCo2]],\" \",Tabla217[[#This Row],[CeCo]])","v":"10410014 FON PAGO PASI PENSI "}]
[null,"DPTO COMERCIAL      ",10410015,{"$f":"+CONCATENATE(Tabla217[[#This Row],[CeCo2]],\" \",Tabla217[[#This Row],[CeCo]])","v":"10410015 DPTO COMERCIAL      "}]
[null,"PAGO DE SUBROGACION ",10410016,{"$f":"+CONCATENATE(Tabla217[[#This Row],[CeCo2]],\" \",Tabla217[[#This Row],[CeCo]])","v":"10410016 PAGO DE SUBROGACION "}]
[null,"FON ENC FIDU PENS   ",10410017,{"$f":"+CONCATENATE(Tabla217[[#This Row],[CeCo2]],\" \",Tabla217[[#This Row],[CeCo]])","v":"10410017 FON ENC FIDU PENS   "}]
[null,"ADQUI UDS HOSPITALA ",10410018,{"$f":"+CONCATENATE(Tabla217[[#This Row],[CeCo2]],\" \",Tabla217[[#This Row],[CeCo]])","v":"10410018 ADQUI UDS HOSPITALA "}]
[null,"CEN DLLO TEC HAC TUL",10410019,{"$f":"+CONCATENATE(Tabla217[[#This Row],[CeCo2]],\" \",Tabla217[[#This Row],[CeCo]])","v":"10410019 CEN DLLO TEC HAC TUL"}]
[null,"ESPEC ADMON UNIVERSI",10410020,{"$f":"+CONCATENATE(Tabla217[[#This Row],[CeCo2]],\" \",Tabla217[[#This Row],[CeCo]])","v":"10410020 ESPEC ADMON UNIVERSI"}]
[null,"CONCILIACION BANCARI",10410021,{"$f":"+CONCATENATE(Tabla217[[#This Row],[CeCo2]],\" \",Tabla217[[#This Row],[CeCo]])","v":"10410021 CONCILIACION BANCARI"}]
[null,"DEVOLUCIONES DE IVA ",10410022,{"$f":"+CONCATENATE(Tabla217[[#This Row],[CeCo2]],\" \",Tabla217[[#This Row],[CeCo]])","v":"10410022 DEVOLUCIONES DE IVA "}]
[null,"ESTA CARA AL TER SIG",10410023,{"$f":"+CONCATENATE(Tabla217[[#This Row],[CeCo2]],\" \",Tabla217[[#This Row],[CeCo]])","v":"10410023 ESTA CARA AL TER SIG"}]
[null,"CONSTRUCCI BLOQUE 40",10410024,{"$f":"+CONCATENATE(Tabla217[[#This Row],[CeCo2]],\" \",Tabla217[[#This Row],[CeCo]])","v":"10410024 CONSTRUCCI BLOQUE 40"}]
[null,"FONDO COMPENSACION  ",10410025,{"$f":"+CONCATENATE(Tabla217[[#This Row],[CeCo2]],\" \",Tabla217[[#This Row],[CeCo]])","v":"10410025 FONDO COMPENSACION  "}]
[null,"ESTAM NAL LEY 1697  ",10410026,{"$f":"+CONCATENATE(Tabla217[[#This Row],[CeCo2]],\" \",Tabla217[[#This Row],[CeCo]])","v":"10410026 ESTAM NAL LEY 1697  "}]
[null,"VENTA DE INMUEBLES  ",10410027,{"$f":"+CONCATENATE(Tabla217[[#This Row],[CeCo2]],\" \",Tabla217[[#This Row],[CeCo]])","v":"10410027 VENTA DE INMUEBLES  "}]
[null,"ING EXTRAORD VICEADM",10410028,{"$f":"+CONCATENATE(Tabla217[[#This Row],[CeCo2]],\" \",Tabla217[[#This Row],[CeCo]])","v":"10410028 ING EXTRAORD VICEADM"}]
[null,"DOTACION LAB ORIENTE",10410029,{"$f":"+CONCATENATE(Tabla217[[#This Row],[CeCo2]],\" \",Tabla217[[#This Row],[CeCo]])","v":"10410029 DOTACION LAB ORIENTE"}]
[null,"PLAN COMPLE DE SALUD",10410030,{"$f":"+CONCATENATE(Tabla217[[#This Row],[CeCo2]],\" \",Tabla217[[#This Row],[CeCo]])","v":"10410030 PLAN COMPLE DE SALUD"}]
[null,"PROGRAMA DE SALUD   ",10410031,{"$f":"+CONCATENATE(Tabla217[[#This Row],[CeCo2]],\" \",Tabla217[[#This Row],[CeCo]])","v":"10410031 PROGRAMA DE SALUD   "}]
[null,"PROMOCION Y PREVENCI",10410032,{"$f":"+CONCATENATE(Tabla217[[#This Row],[CeCo2]],\" \",Tabla217[[#This Row],[CeCo]])","v":"10410032 PROMOCION Y PREVENCI"}]
[null,"FON PAT SEG SOC SALU",10410033,{"$f":"+CONCATENATE(Tabla217[[#This Row],[CeCo2]],\" \",Tabla217[[#This Row],[CeCo]])","v":"10410033 FON PAT SEG SOC SALU"}]
[null,"FON PAT CA NO DO-INV",10410034,{"$f":"+CONCATENATE(Tabla217[[#This Row],[CeCo2]],\" \",Tabla217[[#This Row],[CeCo]])","v":"10410034 FON PAT CA NO DO-INV"}]
[null,"Reforestadora REES  ",10410035,{"$f":"+CONCATENATE(Tabla217[[#This Row],[CeCo2]],\" \",Tabla217[[#This Row],[CeCo]])","v":"10410035 Reforestadora REES  "}]
[null,"SENTENCIAS          ",10410036,{"$f":"+CONCATENATE(Tabla217[[#This Row],[CeCo2]],\" \",Tabla217[[#This Row],[CeCo]])","v":"10410036 SENTENCIAS          "}]
[null,"COMPLEJO DE LA SALUD",10410037,{"$f":"+CONCATENATE(Tabla217[[#This Row],[CeCo2]],\" \",Tabla217[[#This Row],[CeCo]])","v":"10410037 COMPLEJO DE LA SALUD"}]
[null,"DIV FINANCIERA      ",10410038,{"$f":"+CONCATENATE(Tabla217[[#This Row],[CeCo2]],\" \",Tabla217[[#This Row],[CeCo]])","v":"10410038 DIV FINANCIERA      "}]
[null,"DIV SERVICIOS LOGIST",10410039,{"$f":"+CONCATENATE(Tabla217[[#This Row],[CeCo2]],\" \",Tabla217[[#This Row],[CeCo]])","v":"10410039 DIV SERVICIOS LOGIST"}]
[null,"IMPUESTO DE RENTA   ",10410040,{"$f":"+CONCATENATE(Tabla217[[#This Row],[CeCo2]],\" \",Tabla217[[#This Row],[CeCo]])","v":"10410040 IMPUESTO DE RENTA   "}]
[null,"PÓLIZAS ESTUDIANTES ",10410041,{"$f":"+CONCATENATE(Tabla217[[#This Row],[CeCo2]],\" \",Tabla217[[#This Row],[CeCo]])","v":"10410041 PÓLIZAS ESTUDIANTES "}]
[null,"DIV PROGRAMA SALUD  ",10410042,{"$f":"+CONCATENATE(Tabla217[[#This Row],[CeCo2]],\" \",Tabla217[[#This Row],[CeCo]])","v":"10410042 DIV PROGRAMA SALUD  "}]
[null,"PROG AGROBIOTECNOLO ",10410043,{"$f":"+CONCATENATE(Tabla217[[#This Row],[CeCo2]],\" \",Tabla217[[#This Row],[CeCo]])","v":"10410043 PROG AGROBIOTECNOLO "}]
[null,"DIV TALENTO HUMANO  ",10410046,{"$f":"+CONCATENATE(Tabla217[[#This Row],[CeCo2]],\" \",Tabla217[[#This Row],[CeCo]])","v":"10410046 DIV TALENTO HUMANO  "}]
[null,"PROG DES TALENTO HUM",10410047,{"$f":"+CONCATENATE(Tabla217[[#This Row],[CeCo2]],\" \",Tabla217[[#This Row],[CeCo]])","v":"10410047 PROG DES TALENTO HUM"}]
[null,"PLAN FORMA ANUAL    ",10410048,{"$f":"+CONCATENATE(Tabla217[[#This Row],[CeCo2]],\" \",Tabla217[[#This Row],[CeCo]])","v":"10410048 PLAN FORMA ANUAL    "}]
[null,"FONDO PAT PERSO ADMI",10410049,{"$f":"+CONCATENATE(Tabla217[[#This Row],[CeCo2]],\" \",Tabla217[[#This Row],[CeCo]])","v":"10410049 FONDO PAT PERSO ADMI"}]
[null,"DIV SERVICIOS LOGIST",10410050,{"$f":"+CONCATENATE(Tabla217[[#This Row],[CeCo2]],\" \",Tabla217[[#This Row],[CeCo]])","v":"10410050 DIV SERVICIOS LOGIST"}]
[null,"REPOS PARQUE AUTOMO ",10410051,{"$f":"+CONCATENATE(Tabla217[[#This Row],[CeCo2]],\" \",Tabla217[[#This Row],[CeCo]])","v":"10410051 REPOS PARQUE AUTOMO "}]
[null,"FONDO AUTOSEGURO    ",10410052,{"$f":"+CONCATENATE(Tabla217[[#This Row],[CeCo2]],\" \",Tabla217[[#This Row],[CeCo]])","v":"10410052 FONDO AUTOSEGURO    "}]
[null,"MANTENIMIENTO EQUIPO",10410053,{"$f":"+CONCATENATE(Tabla217[[#This Row],[CeCo2]],\" \",Tabla217[[#This Row],[CeCo]])","v":"10410053 MANTENIMIENTO EQUIPO"}]
[null,"DIV INFRAES FÍSICA  ",10410054,{"$f":"+CONCATENATE(Tabla217[[#This Row],[CeCo2]],\" \",Tabla217[[#This Row],[CeCo]])","v":"10410054 DIV INFRAES FÍSICA  "}]
[null,"EDIF SAN IGNACIO    ",10410055,{"$f":"+CONCATENATE(Tabla217[[#This Row],[CeCo2]],\" \",Tabla217[[#This Row],[CeCo]])","v":"10410055 EDIF SAN IGNACIO    "}]
[null,"INFRAESTRUC Y MTTO  ",10410056,{"$f":"+CONCATENATE(Tabla217[[#This Row],[CeCo2]],\" \",Tabla217[[#This Row],[CeCo]])","v":"10410056 INFRAESTRUC Y MTTO  "}]
[null,"DONACIONES LEY223/95",10410057,{"$f":"+CONCATENATE(Tabla217[[#This Row],[CeCo2]],\" \",Tabla217[[#This Row],[CeCo]])","v":"10410057 DONACIONES LEY223/95"}]
[null,"PENSIONADOS Y/O JUBI",10410058,{"$f":"+CONCATENATE(Tabla217[[#This Row],[CeCo2]],\" \",Tabla217[[#This Row],[CeCo]])","v":"10410058 PENSIONADOS Y/O JUBI"}]
[null,"PROY ESTRATEG INFRAE",10410059,{"$f":"+CONCATENATE(Tabla217[[#This Row],[CeCo2]],\" \",Tabla217[[#This Row],[CeCo]])","v":"10410059 PROY ESTRATEG INFRAE"}]
[null,"CONSTRUCC ZONAS DEPO",10410060,{"$f":"+CONCATENATE(Tabla217[[#This Row],[CeCo2]],\" \",Tabla217[[#This Row],[CeCo]])","v":"10410060 CONSTRUCC ZONAS DEPO"}]
[null,"CONVENIO SENA-UDEA  ",10440001,{"$f":"+CONCATENATE(Tabla217[[#This Row],[CeCo2]],\" \",Tabla217[[#This Row],[CeCo]])","v":"10440001 CONVENIO SENA-UDEA  "}]
[null,"CONV MUN DE RIONEGRO",10440003,{"$f":"+CONCATENATE(Tabla217[[#This Row],[CeCo2]],\" \",Tabla217[[#This Row],[CeCo]])","v":"10440003 CONV MUN DE RIONEGRO"}]
[null,"CONV INTER DPTO ANT ",10440004,{"$f":"+CONCATENATE(Tabla217[[#This Row],[CeCo2]],\" \",Tabla217[[#This Row],[CeCo]])","v":"10440004 CONV INTER DPTO ANT "}]
[null,"PROYECTOS VICE ADMON",10440005,{"$f":"+CONCATENATE(Tabla217[[#This Row],[CeCo2]],\" \",Tabla217[[#This Row],[CeCo]])","v":"10440005 PROYECTOS VICE ADMON"}]
[null,"CON TUNEL FDO GOMEZ ",10440006,{"$f":"+CONCATENATE(Tabla217[[#This Row],[CeCo2]],\" \",Tabla217[[#This Row],[CeCo]])","v":"10440006 CON TUNEL FDO GOMEZ "}]
[null,"FON COMP ADMO DELE  ",10440007,{"$f":"+CONCATENATE(Tabla217[[#This Row],[CeCo2]],\" \",Tabla217[[#This Row],[CeCo]])","v":"10440007 FON COMP ADMO DELE  "}]
[null,"FED OF CANADIAN MUN ",10440008,{"$f":"+CONCATENATE(Tabla217[[#This Row],[CeCo2]],\" \",Tabla217[[#This Row],[CeCo]])","v":"10440008 FED OF CANADIAN MUN "}]
[null,"PROY ESC GOBIERNO   ",10440009,{"$f":"+CONCATENATE(Tabla217[[#This Row],[CeCo2]],\" \",Tabla217[[#This Row],[CeCo]])","v":"10440009 PROY ESC GOBIERNO   "}]
[null,"UDEA SOLIDARIA      ",10440010,{"$f":"+CONCATENATE(Tabla217[[#This Row],[CeCo2]],\" \",Tabla217[[#This Row],[CeCo]])","v":"10440010 UDEA SOLIDARIA      "}]
[null,"DIR GEST DEL FINAN  ",10510001,{"$f":"+CONCATENATE(Tabla217[[#This Row],[CeCo2]],\" \",Tabla217[[#This Row],[CeCo]])","v":"10510001 DIR GEST DEL FINAN  "}]
[null,"GEST POL FIN Y RIES ",10510002,{"$f":"+CONCATENATE(Tabla217[[#This Row],[CeCo2]],\" \",Tabla217[[#This Row],[CeCo]])","v":"10510002 GEST POL FIN Y RIES "}]
[null,"GEST VIAB FINAN     ",10510003,{"$f":"+CONCATENATE(Tabla217[[#This Row],[CeCo2]],\" \",Tabla217[[#This Row],[CeCo]])","v":"10510003 GEST VIAB FINAN     "}]
[null,"GEST DE RESULT INTEG",10510004,{"$f":"+CONCATENATE(Tabla217[[#This Row],[CeCo2]],\" \",Tabla217[[#This Row],[CeCo]])","v":"10510004 GEST DE RESULT INTEG"}]
[null,"GESTION DE ACTIVOS  ",10510005,{"$f":"+CONCATENATE(Tabla217[[#This Row],[CeCo2]],\" \",Tabla217[[#This Row],[CeCo]])","v":"10510005 GESTION DE ACTIVOS  "}]
[null,"DIR GES LOG E INFRA ",10610001,{"$f":"+CONCATENATE(Tabla217[[#This Row],[CeCo2]],\" \",Tabla217[[#This Row],[CeCo]])","v":"10610001 DIR GES LOG E INFRA "}]
[null,"PLANEACION LOGISTICA",10610002,{"$f":"+CONCATENATE(Tabla217[[#This Row],[CeCo2]],\" \",Tabla217[[#This Row],[CeCo]])","v":"10610002 PLANEACION LOGISTICA"}]
[null,"GEST DE SOLU LOGIS  ",10610003,{"$f":"+CONCATENATE(Tabla217[[#This Row],[CeCo2]],\" \",Tabla217[[#This Row],[CeCo]])","v":"10610003 GEST DE SOLU LOGIS  "}]
[null,"GEST DE COMPLE LOGIS",10610004,{"$f":"+CONCATENATE(Tabla217[[#This Row],[CeCo2]],\" \",Tabla217[[#This Row],[CeCo]])","v":"10610004 GEST DE COMPLE LOGIS"}]
[null,"GEST LOGIS PA LA INV",10610005,{"$f":"+CONCATENATE(Tabla217[[#This Row],[CeCo2]],\" \",Tabla217[[#This Row],[CeCo]])","v":"10610005 GEST LOGIS PA LA INV"}]
[null,"CENT INSTR INTER CII",10610006,{"$f":"+CONCATENATE(Tabla217[[#This Row],[CeCo2]],\" \",Tabla217[[#This Row],[CeCo]])","v":"10610006 CENT INSTR INTER CII"}]
[null,"EDIFICIO SAN IGNACIO",10610007,{"$f":"+CONCATENATE(Tabla217[[#This Row],[CeCo2]],\" \",Tabla217[[#This Row],[CeCo]])","v":"10610007 EDIFICIO SAN IGNACIO"}]
[null,"PUNTOS ECOLOGICOS   ",10610008,{"$f":"+CONCATENATE(Tabla217[[#This Row],[CeCo2]],\" \",Tabla217[[#This Row],[CeCo]])","v":"10610008 PUNTOS ECOLOGICOS   "}]
[null,"DONA LEY 223/95     ",10610009,{"$f":"+CONCATENATE(Tabla217[[#This Row],[CeCo2]],\" \",Tabla217[[#This Row],[CeCo]])","v":"10610009 DONA LEY 223/95     "}]
[null,"FON REPO PARQ AUTO  ",10610010,{"$f":"+CONCATENATE(Tabla217[[#This Row],[CeCo2]],\" \",Tabla217[[#This Row],[CeCo]])","v":"10610010 FON REPO PARQ AUTO  "}]
[null,"FONDO AUTOSEGURO    ",10610011,{"$f":"+CONCATENATE(Tabla217[[#This Row],[CeCo2]],\" \",Tabla217[[#This Row],[CeCo]])","v":"10610011 FONDO AUTOSEGURO    "}]
[null,"DESARROLLO INSTITU  ",10710001,{"$f":"+CONCATENATE(Tabla217[[#This Row],[CeCo2]],\" \",Tabla217[[#This Row],[CeCo]])","v":"10710001 DESARROLLO INSTITU  "}]
[null,"GEST DE DINAM INSTI ",10710002,{"$f":"+CONCATENATE(Tabla217[[#This Row],[CeCo2]],\" \",Tabla217[[#This Row],[CeCo]])","v":"10710002 GEST DE DINAM INSTI "}]
[null,"DESA TALENTO HUMANO ",10710003,{"$f":"+CONCATENATE(Tabla217[[#This Row],[CeCo2]],\" \",Tabla217[[#This Row],[CeCo]])","v":"10710003 DESA TALENTO HUMANO "}]
[null,"GEST INFR TEC Y SIST",10710004,{"$f":"+CONCATENATE(Tabla217[[#This Row],[CeCo2]],\" \",Tabla217[[#This Row],[CeCo]])","v":"10710004 GEST INFR TEC Y SIST"}]
[null,"GEST ARQUI DE PROC  ",10710005,{"$f":"+CONCATENATE(Tabla217[[#This Row],[CeCo2]],\" \",Tabla217[[#This Row],[CeCo]])","v":"10710005 GEST ARQUI DE PROC  "}]
[null,"PROG DESA TALE HUMAN",10710006,{"$f":"+CONCATENATE(Tabla217[[#This Row],[CeCo2]],\" \",Tabla217[[#This Row],[CeCo]])","v":"10710006 PROG DESA TALE HUMAN"}]
[null,"PLAN FORMACION ANUAL",10710007,{"$f":"+CONCATENATE(Tabla217[[#This Row],[CeCo2]],\" \",Tabla217[[#This Row],[CeCo]])","v":"10710007 PLAN FORMACION ANUAL"}]
[null,"GESTION INFORMATICA ",10710008,{"$f":"+CONCATENATE(Tabla217[[#This Row],[CeCo2]],\" \",Tabla217[[#This Row],[CeCo]])","v":"10710008 GESTION INFORMATICA "}]
[null,"DESARROLLO INSTITU  ",10710009,{"$f":"+CONCATENATE(Tabla217[[#This Row],[CeCo2]],\" \",Tabla217[[#This Row],[CeCo]])","v":"10710009 DESARROLLO INSTITU  "}]
[null,"PROYECTOS DE TRANSFO",10710010,{"$f":"+CONCATENATE(Tabla217[[#This Row],[CeCo2]],\" \",Tabla217[[#This Row],[CeCo]])","v":"10710010 PROYECTOS DE TRANSFO"}]
[null,"IMPLEMEN SERV INFORM",10710011,{"$f":"+CONCATENATE(Tabla217[[#This Row],[CeCo2]],\" \",Tabla217[[#This Row],[CeCo]])","v":"10710011 IMPLEMEN SERV INFORM"}]
[null,"FON PAT CAP ADMITIVO",10710012,{"$f":"+CONCATENATE(Tabla217[[#This Row],[CeCo2]],\" \",Tabla217[[#This Row],[CeCo]])","v":"10710012 FON PAT CAP ADMITIVO"}]
[null,"DIR DE BIEN UNIVERS ",10850001,{"$f":"+CONCATENATE(Tabla217[[#This Row],[CeCo2]],\" \",Tabla217[[#This Row],[CeCo]])","v":"10850001 DIR DE BIEN UNIVERS "}]
[null,"DPTO DESARROLLO HUMA",10850002,{"$f":"+CONCATENATE(Tabla217[[#This Row],[CeCo2]],\" \",Tabla217[[#This Row],[CeCo]])","v":"10850002 DPTO DESARROLLO HUMA"}]
[null,"DPTO PROM SAL Y PREV",10850003,{"$f":"+CONCATENATE(Tabla217[[#This Row],[CeCo2]],\" \",Tabla217[[#This Row],[CeCo]])","v":"10850003 DPTO PROM SAL Y PREV"}]
[null,"SECC ATE A  PERSONAS",10850004,{"$f":"+CONCATENATE(Tabla217[[#This Row],[CeCo2]],\" \",Tabla217[[#This Row],[CeCo]])","v":"10850004 SECC ATE A  PERSONAS"}]
[null,"SECC PROMO Y PREVEN ",10850005,{"$f":"+CONCATENATE(Tabla217[[#This Row],[CeCo2]],\" \",Tabla217[[#This Row],[CeCo]])","v":"10850005 SECC PROMO Y PREVEN "}]
[null,"DPTO DE DEPORTES    ",10850006,{"$f":"+CONCATENATE(Tabla217[[#This Row],[CeCo2]],\" \",Tabla217[[#This Row],[CeCo]])","v":"10850006 DPTO DE DEPORTES    "}]
[null,"SERVICIO MEDICO     ",10850007,{"$f":"+CONCATENATE(Tabla217[[#This Row],[CeCo2]],\" \",Tabla217[[#This Row],[CeCo]])","v":"10850007 SERVICIO MEDICO     "}]
[null,"SALUD PSICO PROSA   ",10850008,{"$f":"+CONCATENATE(Tabla217[[#This Row],[CeCo2]],\" \",Tabla217[[#This Row],[CeCo]])","v":"10850008 SALUD PSICO PROSA   "}]
[null,"NUEVOS CREADORES    ",10850009,{"$f":"+CONCATENATE(Tabla217[[#This Row],[CeCo2]],\" \",Tabla217[[#This Row],[CeCo]])","v":"10850009 NUEVOS CREADORES    "}]
[null,"FON ROT DE CALA DOM ",10850010,{"$f":"+CONCATENATE(Tabla217[[#This Row],[CeCo2]],\" \",Tabla217[[#This Row],[CeCo]])","v":"10850010 FON ROT DE CALA DOM "}]
[null,"DIREC DE BIE UNI    ",10850011,{"$f":"+CONCATENATE(Tabla217[[#This Row],[CeCo2]],\" \",Tabla217[[#This Row],[CeCo]])","v":"10850011 DIREC DE BIE UNI    "}]
[null,"BIE ESTUD ORIEN PERM",10850012,{"$f":"+CONCATENATE(Tabla217[[#This Row],[CeCo2]],\" \",Tabla217[[#This Row],[CeCo]])","v":"10850012 BIE ESTUD ORIEN PERM"}]
[null,"FON ROTAT DE VIVIEND",10850013,{"$f":"+CONCATENATE(Tabla217[[#This Row],[CeCo2]],\" \",Tabla217[[#This Row],[CeCo]])","v":"10850013 FON ROTAT DE VIVIEND"}]
[null,"DIVISION DE DEPORTES",10850014,{"$f":"+CONCATENATE(Tabla217[[#This Row],[CeCo2]],\" \",Tabla217[[#This Row],[CeCo]])","v":"10850014 DIVISION DE DEPORTES"}]
[null,"FON DON AMIG DE UNI ",10850015,{"$f":"+CONCATENATE(Tabla217[[#This Row],[CeCo2]],\" \",Tabla217[[#This Row],[CeCo]])","v":"10850015 FON DON AMIG DE UNI "}]
[null,"CONST COLISEO U DE A",10850016,{"$f":"+CONCATENATE(Tabla217[[#This Row],[CeCo2]],\" \",Tabla217[[#This Row],[CeCo]])","v":"10850016 CONST COLISEO U DE A"}]
[null,"FON DE BIEN UNIVER  ",10850017,{"$f":"+CONCATENATE(Tabla217[[#This Row],[CeCo2]],\" \",Tabla217[[#This Row],[CeCo]])","v":"10850017 FON DE BIEN UNIVER  "}]
[null,"FON PAT BIEN UNIVER ",10850018,{"$f":"+CONCATENATE(Tabla217[[#This Row],[CeCo2]],\" \",Tabla217[[#This Row],[CeCo]])","v":"10850018 FON PAT BIEN UNIVER "}]
[null,"FON PAT BECAS ESTUD ",10850019,{"$f":"+CONCATENATE(Tabla217[[#This Row],[CeCo2]],\" \",Tabla217[[#This Row],[CeCo]])","v":"10850019 FON PAT BECAS ESTUD "}]
[null,"FON PAT BIEN UNI-INV",10850020,{"$f":"+CONCATENATE(Tabla217[[#This Row],[CeCo2]],\" \",Tabla217[[#This Row],[CeCo]])","v":"10850020 FON PAT BIEN UNI-INV"}]
[null,"PROYEC ESP BIENESTAR",10850021,{"$f":"+CONCATENATE(Tabla217[[#This Row],[CeCo2]],\" \",Tabla217[[#This Row],[CeCo]])","v":"10850021 PROYEC ESP BIENESTAR"}]
[null,"DIR COMUNICACIONES  ",10910001,{"$f":"+CONCATENATE(Tabla217[[#This Row],[CeCo2]],\" \",Tabla217[[#This Row],[CeCo]])","v":"10910001 DIR COMUNICACIONES  "}]
[null,"DIV COMUNI INT Y EXT",10910002,{"$f":"+CONCATENATE(Tabla217[[#This Row],[CeCo2]],\" \",Tabla217[[#This Row],[CeCo]])","v":"10910002 DIV COMUNI INT Y EXT"}]
[null,"DIV CONTE MED Y EVEN",10910003,{"$f":"+CONCATENATE(Tabla217[[#This Row],[CeCo2]],\" \",Tabla217[[#This Row],[CeCo]])","v":"10910003 DIV CONTE MED Y EVEN"}]
[null,"DIV RADIO UNIVERSITA",10910004,{"$f":"+CONCATENATE(Tabla217[[#This Row],[CeCo2]],\" \",Tabla217[[#This Row],[CeCo]])","v":"10910004 DIV RADIO UNIVERSITA"}]
[null,"PROY DIV RADIO U    ",10910005,{"$f":"+CONCATENATE(Tabla217[[#This Row],[CeCo2]],\" \",Tabla217[[#This Row],[CeCo]])","v":"10910005 PROY DIV RADIO U    "}]
[null,"PROY DIV CONT Y EVEN",10910006,{"$f":"+CONCATENATE(Tabla217[[#This Row],[CeCo2]],\" \",Tabla217[[#This Row],[CeCo]])","v":"10910006 PROY DIV CONT Y EVEN"}]
[null,"PROY COMUNICACIONES ",10910007,{"$f":"+CONCATENATE(Tabla217[[#This Row],[CeCo2]],\" \",Tabla217[[#This Row],[CeCo]])","v":"10910007 PROY COMUNICACIONES "}]
[null,"DIR PLANEACION Y DI ",11010001,{"$f":"+CONCATENATE(Tabla217[[#This Row],[CeCo2]],\" \",Tabla217[[#This Row],[CeCo]])","v":"11010001 DIR PLANEACION Y DI "}]
[null,"DIV PLANES Y PROY   ",11010002,{"$f":"+CONCATENATE(Tabla217[[#This Row],[CeCo2]],\" \",Tabla217[[#This Row],[CeCo]])","v":"11010002 DIV PLANES Y PROY   "}]
[null,"DIV GESTIÓN INFORMA ",11010003,{"$f":"+CONCATENATE(Tabla217[[#This Row],[CeCo2]],\" \",Tabla217[[#This Row],[CeCo]])","v":"11010003 DIV GESTIÓN INFORMA "}]
[null,"DIV ARQUITE PROCESOS",11010004,{"$f":"+CONCATENATE(Tabla217[[#This Row],[CeCo2]],\" \",Tabla217[[#This Row],[CeCo]])","v":"11010004 DIV ARQUITE PROCESOS"}]
[null,"DLLO INSTITUCIONAL  ",11010005,{"$f":"+CONCATENATE(Tabla217[[#This Row],[CeCo2]],\" \",Tabla217[[#This Row],[CeCo]])","v":"11010005 DLLO INSTITUCIONAL  "}]
[null,"GESTIÓN INFORMÁTICA ",11010007,{"$f":"+CONCATENATE(Tabla217[[#This Row],[CeCo2]],\" \",Tabla217[[#This Row],[CeCo]])","v":"11010007 GESTIÓN INFORMÁTICA "}]
[null,"IMPLE SERVI INFORMA ",11010008,{"$f":"+CONCATENATE(Tabla217[[#This Row],[CeCo2]],\" \",Tabla217[[#This Row],[CeCo]])","v":"11010008 IMPLE SERVI INFORMA "}]
[null,"PLAN FOMENTO CALIDAD",11010009,{"$f":"+CONCATENATE(Tabla217[[#This Row],[CeCo2]],\" \",Tabla217[[#This Row],[CeCo]])","v":"11010009 PLAN FOMENTO CALIDAD"}]
[null,"DIRECCIÓN JURÍDICA  ",11110001,{"$f":"+CONCATENATE(Tabla217[[#This Row],[CeCo2]],\" \",Tabla217[[#This Row],[CeCo]])","v":"11110001 DIRECCIÓN JURÍDICA  "}]
[null,"DIRECCIÓN JURÍDICA  ",11110002,{"$f":"+CONCATENATE(Tabla217[[#This Row],[CeCo2]],\" \",Tabla217[[#This Row],[CeCo]])","v":"11110002 DIRECCIÓN JURÍDICA  "}]
[null,"OFI AUDITO INSTITU  ",11210001,{"$f":"+CONCATENATE(Tabla217[[#This Row],[CeCo2]],\" \",Tabla217[[#This Row],[CeCo]])","v":"11210001 OFI AUDITO INSTITU  "}]
[null,"AUDITORÍA INSTITU   ",11210002,{"$f":"+CONCATENATE(Tabla217[[#This Row],[CeCo2]],\" \",Tabla217[[#This Row],[CeCo]])","v":"11210002 AUDITORÍA INSTITU   "}]
[null,"DEPTO DE ADMI Y REG ",20110001,{"$f":"+CONCATENATE(Tabla217[[#This Row],[CeCo2]],\" \",Tabla217[[#This Row],[CeCo]])","v":"20110001 DEPTO DE ADMI Y REG "}]
[null,"SECC TEC DE INF     ",20110002,{"$f":"+CONCATENATE(Tabla217[[#This Row],[CeCo2]],\" \",Tabla217[[#This Row],[CeCo]])","v":"20110002 SECC TEC DE INF     "}]
[null,"FON COMPENSA-DOCEN  ",20120001,{"$f":"+CONCATENATE(Tabla217[[#This Row],[CeCo2]],\" \",Tabla217[[#This Row],[CeCo]])","v":"20120001 FON COMPENSA-DOCEN  "}]
[null,"DIVI PROG ACA Y DESA",20120002,{"$f":"+CONCATENATE(Tabla217[[#This Row],[CeCo2]],\" \",Tabla217[[#This Row],[CeCo]])","v":"20120002 DIVI PROG ACA Y DESA"}]
[null,"LICEO ANTIOQUENO    ",20120003,{"$f":"+CONCATENATE(Tabla217[[#This Row],[CeCo2]],\" \",Tabla217[[#This Row],[CeCo]])","v":"20120003 LICEO ANTIOQUENO    "}]
[null,"INST NOCT BCHRATO   ",20120004,{"$f":"+CONCATENATE(Tabla217[[#This Row],[CeCo2]],\" \",Tabla217[[#This Row],[CeCo]])","v":"20120004 INST NOCT BCHRATO   "}]
[null,"INTEG TEC A LA DOC  ",20120005,{"$f":"+CONCATENATE(Tabla217[[#This Row],[CeCo2]],\" \",Tabla217[[#This Row],[CeCo]])","v":"20120005 INTEG TEC A LA DOC  "}]
[null,"VIRTUALIDAD         ",20120006,{"$f":"+CONCATENATE(Tabla217[[#This Row],[CeCo2]],\" \",Tabla217[[#This Row],[CeCo]])","v":"20120006 VIRTUALIDAD         "}]
[null,"FON PAT-DLLO DOCENCI",20120007,{"$f":"+CONCATENATE(Tabla217[[#This Row],[CeCo2]],\" \",Tabla217[[#This Row],[CeCo]])","v":"20120007 FON PAT-DLLO DOCENCI"}]
[null,"FON PAT/DLLO DOC INV",20120008,{"$f":"+CONCATENATE(Tabla217[[#This Row],[CeCo2]],\" \",Tabla217[[#This Row],[CeCo]])","v":"20120008 FON PAT/DLLO DOC INV"}]
[null,"CUR SEMI Y EDU CONTI",20140001,{"$f":"+CONCATENATE(Tabla217[[#This Row],[CeCo2]],\" \",Tabla217[[#This Row],[CeCo]])","v":"20140001 CUR SEMI Y EDU CONTI"}]
[null,"ADMISIONES Y REGISTR",20140002,{"$f":"+CONCATENATE(Tabla217[[#This Row],[CeCo2]],\" \",Tabla217[[#This Row],[CeCo]])","v":"20140002 ADMISIONES Y REGISTR"}]
[null,"PRACT DE EXCE Y ACAD",20140003,{"$f":"+CONCATENATE(Tabla217[[#This Row],[CeCo2]],\" \",Tabla217[[#This Row],[CeCo]])","v":"20140003 PRACT DE EXCE Y ACAD"}]
[null,"UNIDAD VIRTUALIDAD  ",20140004,{"$f":"+CONCATENATE(Tabla217[[#This Row],[CeCo2]],\" \",Tabla217[[#This Row],[CeCo]])","v":"20140004 UNIDAD VIRTUALIDAD  "}]
[null,"PROYECTOS VICEDOCENC",20140005,{"$f":"+CONCATENATE(Tabla217[[#This Row],[CeCo2]],\" \",Tabla217[[#This Row],[CeCo]])","v":"20140005 PROYECTOS VICEDOCENC"}]
[null,"VICE DOCENCIA       ",20160001,{"$f":"+CONCATENATE(Tabla217[[#This Row],[CeCo2]],\" \",Tabla217[[#This Row],[CeCo]])","v":"20160001 VICE DOCENCIA       "}]
[null,"DEPTO DE BIBLIOTECAS",20160002,{"$f":"+CONCATENATE(Tabla217[[#This Row],[CeCo2]],\" \",Tabla217[[#This Row],[CeCo]])","v":"20160002 DEPTO DE BIBLIOTECAS"}]
[null,"DPTO DE BIBLIOTECAS ",20160003,{"$f":"+CONCATENATE(Tabla217[[#This Row],[CeCo2]],\" \",Tabla217[[#This Row],[CeCo]])","v":"20160003 DPTO DE BIBLIOTECAS "}]
[null,"FON LUIS LOPEZ MESA ",20160004,{"$f":"+CONCATENATE(Tabla217[[#This Row],[CeCo2]],\" \",Tabla217[[#This Row],[CeCo]])","v":"20160004 FON LUIS LOPEZ MESA "}]
[null,"FON PAT DPTO BIBLIO ",20160005,{"$f":"+CONCATENATE(Tabla217[[#This Row],[CeCo2]],\" \",Tabla217[[#This Row],[CeCo]])","v":"20160005 FON PAT DPTO BIBLIO "}]
[null,"SEDE DE INV UNIVERSI",20210001,{"$f":"+CONCATENATE(Tabla217[[#This Row],[CeCo2]],\" \",Tabla217[[#This Row],[CeCo]])","v":"20210001 SEDE DE INV UNIVERSI"}]
[null,"FORTALE DOCTORADO   ",20210002,{"$f":"+CONCATENATE(Tabla217[[#This Row],[CeCo2]],\" \",Tabla217[[#This Row],[CeCo]])","v":"20210002 FORTALE DOCTORADO   "}]
[null,"FON COMP-INVEST     ",20230001,{"$f":"+CONCATENATE(Tabla217[[#This Row],[CeCo2]],\" \",Tabla217[[#This Row],[CeCo]])","v":"20230001 FON COMP-INVEST     "}]
[null,"DIVI OPER DE INV    ",20230002,{"$f":"+CONCATENATE(Tabla217[[#This Row],[CeCo2]],\" \",Tabla217[[#This Row],[CeCo]])","v":"20230002 DIVI OPER DE INV    "}]
[null,"DIP GES REG INV     ",20230003,{"$f":"+CONCATENATE(Tabla217[[#This Row],[CeCo2]],\" \",Tabla217[[#This Row],[CeCo]])","v":"20230003 DIP GES REG INV     "}]
[null,"CONV ALIA ESTRA ARTI",20230004,{"$f":"+CONCATENATE(Tabla217[[#This Row],[CeCo2]],\" \",Tabla217[[#This Row],[CeCo]])","v":"20230004 CONV ALIA ESTRA ARTI"}]
[null,"CONV ALIA ESTRACIIEN",20230005,{"$f":"+CONCATENATE(Tabla217[[#This Row],[CeCo2]],\" \",Tabla217[[#This Row],[CeCo]])","v":"20230005 CONV ALIA ESTRACIIEN"}]
[null,"CONV ALIA ESTRA BIOI",20230006,{"$f":"+CONCATENATE(Tabla217[[#This Row],[CeCo2]],\" \",Tabla217[[#This Row],[CeCo]])","v":"20230006 CONV ALIA ESTRA BIOI"}]
[null,"CONV ALIA ESTRA CIDE",20230007,{"$f":"+CONCATENATE(Tabla217[[#This Row],[CeCo2]],\" \",Tabla217[[#This Row],[CeCo]])","v":"20230007 CONV ALIA ESTRA CIDE"}]
[null,"SIU FONDO REGALIAS  ",20230008,{"$f":"+CONCATENATE(Tabla217[[#This Row],[CeCo2]],\" \",Tabla217[[#This Row],[CeCo]])","v":"20230008 SIU FONDO REGALIAS  "}]
[null,"CEN DE ADMON SIU    ",20230009,{"$f":"+CONCATENATE(Tabla217[[#This Row],[CeCo2]],\" \",Tabla217[[#This Row],[CeCo]])","v":"20230009 CEN DE ADMON SIU    "}]
[null,"CONV EE VV RELL SANI",20230010,{"$f":"+CONCATENATE(Tabla217[[#This Row],[CeCo2]],\" \",Tabla217[[#This Row],[CeCo]])","v":"20230010 CONV EE VV RELL SANI"}]
[null,"FON PAT-DLLO INV    ",20230011,{"$f":"+CONCATENATE(Tabla217[[#This Row],[CeCo2]],\" \",Tabla217[[#This Row],[CeCo]])","v":"20230011 FON PAT-DLLO INV    "}]
[null,"INVES REGA AMAZO-SIU",20230012,{"$f":"+CONCATENATE(Tabla217[[#This Row],[CeCo2]],\" \",Tabla217[[#This Row],[CeCo]])","v":"20230012 INVES REGA AMAZO-SIU"}]
[null,"FON PAT DLLO DE INV-",20230013,{"$f":"+CONCATENATE(Tabla217[[#This Row],[CeCo2]],\" \",Tabla217[[#This Row],[CeCo]])","v":"20230013 FON PAT DLLO DE INV-"}]
[null,"PROYECTO MAX PLANCK ",20230014,{"$f":"+CONCATENATE(Tabla217[[#This Row],[CeCo2]],\" \",Tabla217[[#This Row],[CeCo]])","v":"20230014 PROYECTO MAX PLANCK "}]
[null,"CEDAIT-FONDO REGALIA",20230015,{"$f":"+CONCATENATE(Tabla217[[#This Row],[CeCo2]],\" \",Tabla217[[#This Row],[CeCo]])","v":"20230015 CEDAIT-FONDO REGALIA"}]
[null,"PROY COLOMBIA CIENTI",20230016,{"$f":"+CONCATENATE(Tabla217[[#This Row],[CeCo2]],\" \",Tabla217[[#This Row],[CeCo]])","v":"20230016 PROY COLOMBIA CIENTI"}]
[null,"BECAS BICENTENARIO  ",20230017,{"$f":"+CONCATENATE(Tabla217[[#This Row],[CeCo2]],\" \",Tabla217[[#This Row],[CeCo]])","v":"20230017 BECAS BICENTENARIO  "}]
[null,"PROYECTOS ESPECIALES",20230019,{"$f":"+CONCATENATE(Tabla217[[#This Row],[CeCo2]],\" \",Tabla217[[#This Row],[CeCo]])","v":"20230019 PROYECTOS ESPECIALES"}]
[null,"RED REGIONAL LABORAT",20230020,{"$f":"+CONCATENATE(Tabla217[[#This Row],[CeCo2]],\" \",Tabla217[[#This Row],[CeCo]])","v":"20230020 RED REGIONAL LABORAT"}]
[null,"FORTALECIMIENTO IES ",20230021,{"$f":"+CONCATENATE(Tabla217[[#This Row],[CeCo2]],\" \",Tabla217[[#This Row],[CeCo]])","v":"20230021 FORTALECIMIENTO IES "}]
[null,"PROYECTOS VICE INVES",20230022,{"$f":"+CONCATENATE(Tabla217[[#This Row],[CeCo2]],\" \",Tabla217[[#This Row],[CeCo]])","v":"20230022 PROYECTOS VICE INVES"}]
[null,"ADMN INTELIGENTE SGR",20230023,{"$f":"+CONCATENATE(Tabla217[[#This Row],[CeCo2]],\" \",Tabla217[[#This Row],[CeCo]])","v":"20230023 ADMN INTELIGENTE SGR"}]
[null,"RIESGOS CIBERNÉTICOS",20230024,{"$f":"+CONCATENATE(Tabla217[[#This Row],[CeCo2]],\" \",Tabla217[[#This Row],[CeCo]])","v":"20230024 RIESGOS CIBERNÉTICOS"}]
[null,"BIOBANCO SGR        ",20230025,{"$f":"+CONCATENATE(Tabla217[[#This Row],[CeCo2]],\" \",Tabla217[[#This Row],[CeCo]])","v":"20230025 BIOBANCO SGR        "}]
[null,"PROD ANTIVENENOS SGR",20230026,{"$f":"+CONCATENATE(Tabla217[[#This Row],[CeCo2]],\" \",Tabla217[[#This Row],[CeCo]])","v":"20230026 PROD ANTIVENENOS SGR"}]
[null,"PLATAFORMAS CTI+E   ",20230027,{"$f":"+CONCATENATE(Tabla217[[#This Row],[CeCo2]],\" \",Tabla217[[#This Row],[CeCo]])","v":"20230027 PLATAFORMAS CTI+E   "}]
[null,"APROP SOCIAL URABÁ  ",20230028,{"$f":"+CONCATENATE(Tabla217[[#This Row],[CeCo2]],\" \",Tabla217[[#This Row],[CeCo]])","v":"20230028 APROP SOCIAL URABÁ  "}]
[null,"CAFICULTORES ITUANGO",20230029,{"$f":"+CONCATENATE(Tabla217[[#This Row],[CeCo2]],\" \",Tabla217[[#This Row],[CeCo]])","v":"20230029 CAFICULTORES ITUANGO"}]
[null,"BECAS BICENTENARIO 2",20230030,{"$f":"+CONCATENATE(Tabla217[[#This Row],[CeCo2]],\" \",Tabla217[[#This Row],[CeCo]])","v":"20230030 BECAS BICENTENARIO 2"}]
[null,"REVISIÓN DE AFECTACI",20230031,{"$f":"+CONCATENATE(Tabla217[[#This Row],[CeCo2]],\" \",Tabla217[[#This Row],[CeCo]])","v":"20230031 REVISIÓN DE AFECTACI"}]
[null,"MEJORAMIENTO EMPAQUE",20230032,{"$f":"+CONCATENATE(Tabla217[[#This Row],[CeCo2]],\" \",Tabla217[[#This Row],[CeCo]])","v":"20230032 MEJORAMIENTO EMPAQUE"}]
[null,"BIOMARCADORES METABÓ",20230033,{"$f":"+CONCATENATE(Tabla217[[#This Row],[CeCo2]],\" \",Tabla217[[#This Row],[CeCo]])","v":"20230033 BIOMARCADORES METABÓ"}]
[null,"FORTAL CADENAS AGROP",20230034,{"$f":"+CONCATENATE(Tabla217[[#This Row],[CeCo2]],\" \",Tabla217[[#This Row],[CeCo]])","v":"20230034 FORTAL CADENAS AGROP"}]
[null,"REDUCCIÓN EMISIONES ",20230035,{"$f":"+CONCATENATE(Tabla217[[#This Row],[CeCo2]],\" \",Tabla217[[#This Row],[CeCo]])","v":"20230035 REDUCCIÓN EMISIONES "}]
[null,"INFLAMACIÓN Y DAÑO P",20230036,{"$f":"+CONCATENATE(Tabla217[[#This Row],[CeCo2]],\" \",Tabla217[[#This Row],[CeCo]])","v":"20230036 INFLAMACIÓN Y DAÑO P"}]
[null,"MEJORAMIENTO SUELOS ",20230037,{"$f":"+CONCATENATE(Tabla217[[#This Row],[CeCo2]],\" \",Tabla217[[#This Row],[CeCo]])","v":"20230037 MEJORAMIENTO SUELOS "}]
[null,"PROTOCOLOS Y DISPOSI",20230038,{"$f":"+CONCATENATE(Tabla217[[#This Row],[CeCo2]],\" \",Tabla217[[#This Row],[CeCo]])","v":"20230038 PROTOCOLOS Y DISPOSI"}]
[null,"BECAS MAESTRIA BOLIV",20230039,{"$f":"+CONCATENATE(Tabla217[[#This Row],[CeCo2]],\" \",Tabla217[[#This Row],[CeCo]])","v":"20230039 BECAS MAESTRIA BOLIV"}]
[null,"BECAS MAESTRÍA BOYAC",20230040,{"$f":"+CONCATENATE(Tabla217[[#This Row],[CeCo2]],\" \",Tabla217[[#This Row],[CeCo]])","v":"20230040 BECAS MAESTRÍA BOYAC"}]
[null,"MICOVIRUS AGENTE BIO",20230041,{"$f":"+CONCATENATE(Tabla217[[#This Row],[CeCo2]],\" \",Tabla217[[#This Row],[CeCo]])","v":"20230041 MICOVIRUS AGENTE BIO"}]
[null,"USO DE CRISPR-Cas9  ",20230042,{"$f":"+CONCATENATE(Tabla217[[#This Row],[CeCo2]],\" \",Tabla217[[#This Row],[CeCo]])","v":"20230042 USO DE CRISPR-Cas9  "}]
[null,"DESARROLLO SUPERFICI",20230043,{"$f":"+CONCATENATE(Tabla217[[#This Row],[CeCo2]],\" \",Tabla217[[#This Row],[CeCo]])","v":"20230043 DESARROLLO SUPERFICI"}]
[null,"PROYECTOS I+D+I SIU ",20230044,{"$f":"+CONCATENATE(Tabla217[[#This Row],[CeCo2]],\" \",Tabla217[[#This Row],[CeCo]])","v":"20230044 PROYECTOS I+D+I SIU "}]
[null,"EXT DIG AGROPECUARIA",20230045,{"$f":"+CONCATENATE(Tabla217[[#This Row],[CeCo2]],\" \",Tabla217[[#This Row],[CeCo]])","v":"20230045 EXT DIG AGROPECUARIA"}]
[null,"FORM POSGR CAP HUMAN",20230046,{"$f":"+CONCATENATE(Tabla217[[#This Row],[CeCo2]],\" \",Tabla217[[#This Row],[CeCo]])","v":"20230046 FORM POSGR CAP HUMAN"}]
[null,"DLLO DE ESTRAT INNOV",20230047,{"$f":"+CONCATENATE(Tabla217[[#This Row],[CeCo2]],\" \",Tabla217[[#This Row],[CeCo]])","v":"20230047 DLLO DE ESTRAT INNOV"}]
[null,"DISEÑO ESTRATE GEST ",20230048,{"$f":"+CONCATENATE(Tabla217[[#This Row],[CeCo2]],\" \",Tabla217[[#This Row],[CeCo]])","v":"20230048 DISEÑO ESTRATE GEST "}]
[null,"EXTENSION SIU       ",20240001,{"$f":"+CONCATENATE(Tabla217[[#This Row],[CeCo2]],\" \",Tabla217[[#This Row],[CeCo]])","v":"20240001 EXTENSION SIU       "}]
[null,"DIR SED INVESTI UNI ",20240002,{"$f":"+CONCATENATE(Tabla217[[#This Row],[CeCo2]],\" \",Tabla217[[#This Row],[CeCo]])","v":"20240002 DIR SED INVESTI UNI "}]
[null,"VICE INVESTIGACION  ",20260001,{"$f":"+CONCATENATE(Tabla217[[#This Row],[CeCo2]],\" \",Tabla217[[#This Row],[CeCo]])","v":"20260001 VICE INVESTIGACION  "}]
[null,"VICE DE INVESTIGACIO",20260002,{"$f":"+CONCATENATE(Tabla217[[#This Row],[CeCo2]],\" \",Tabla217[[#This Row],[CeCo]])","v":"20260002 VICE DE INVESTIGACIO"}]
[null,"CENT DE PROD DE TV  ",20310001,{"$f":"+CONCATENATE(Tabla217[[#This Row],[CeCo2]],\" \",Tabla217[[#This Row],[CeCo]])","v":"20310001 CENT DE PROD DE TV  "}]
[null,"MUSEO UNIV E HIST   ",20340001,{"$f":"+CONCATENATE(Tabla217[[#This Row],[CeCo2]],\" \",Tabla217[[#This Row],[CeCo]])","v":"20340001 MUSEO UNIV E HIST   "}]
[null,"PROG GEST TECNOLOGIC",20340002,{"$f":"+CONCATENATE(Tabla217[[#This Row],[CeCo2]],\" \",Tabla217[[#This Row],[CeCo]])","v":"20340002 PROG GEST TECNOLOGIC"}]
[null,"DIVISION EXT CULT   ",20340003,{"$f":"+CONCATENATE(Tabla217[[#This Row],[CeCo2]],\" \",Tabla217[[#This Row],[CeCo]])","v":"20340003 DIVISION EXT CULT   "}]
[null,"MUSEO UNIVERSITARIO ",20340005,{"$f":"+CONCATENATE(Tabla217[[#This Row],[CeCo2]],\" \",Tabla217[[#This Row],[CeCo]])","v":"20340005 MUSEO UNIVERSITARIO "}]
[null,"PROG DE EXT CULT    ",20340006,{"$f":"+CONCATENATE(Tabla217[[#This Row],[CeCo2]],\" \",Tabla217[[#This Row],[CeCo]])","v":"20340006 PROG DE EXT CULT    "}]
[null,"EGRESADOS           ",20340007,{"$f":"+CONCATENATE(Tabla217[[#This Row],[CeCo2]],\" \",Tabla217[[#This Row],[CeCo]])","v":"20340007 EGRESADOS           "}]
[null,"ADMON EDI DE EXT    ",20340008,{"$f":"+CONCATENATE(Tabla217[[#This Row],[CeCo2]],\" \",Tabla217[[#This Row],[CeCo]])","v":"20340008 ADMON EDI DE EXT    "}]
[null,"CONV INTER METRO M  ",20340009,{"$f":"+CONCATENATE(Tabla217[[#This Row],[CeCo2]],\" \",Tabla217[[#This Row],[CeCo]])","v":"20340009 CONV INTER METRO M  "}]
[null,"PROYECTOS ESPECIALES",20340010,{"$f":"+CONCATENATE(Tabla217[[#This Row],[CeCo2]],\" \",Tabla217[[#This Row],[CeCo]])","v":"20340010 PROYECTOS ESPECIALES"}]
[null,"TRANSFE CONOCIMIENTO",20340011,{"$f":"+CONCATENATE(Tabla217[[#This Row],[CeCo2]],\" \",Tabla217[[#This Row],[CeCo]])","v":"20340011 TRANSFE CONOCIMIENTO"}]
[null,"VICE EXTENSION UNIVE",20340012,{"$f":"+CONCATENATE(Tabla217[[#This Row],[CeCo2]],\" \",Tabla217[[#This Row],[CeCo]])","v":"20340012 VICE EXTENSION UNIVE"}]
[null,"GESTION TECNOLOGICA ",20340013,{"$f":"+CONCATENATE(Tabla217[[#This Row],[CeCo2]],\" \",Tabla217[[#This Row],[CeCo]])","v":"20340013 GESTION TECNOLOGICA "}]
[null,"TIENDA MUUA         ",20340014,{"$f":"+CONCATENATE(Tabla217[[#This Row],[CeCo2]],\" \",Tabla217[[#This Row],[CeCo]])","v":"20340014 TIENDA MUUA         "}]
[null,"FONDO PATR EXT CULT ",20340015,{"$f":"+CONCATENATE(Tabla217[[#This Row],[CeCo2]],\" \",Tabla217[[#This Row],[CeCo]])","v":"20340015 FONDO PATR EXT CULT "}]
[null,"PARQUE E            ",20340016,{"$f":"+CONCATENATE(Tabla217[[#This Row],[CeCo2]],\" \",Tabla217[[#This Row],[CeCo]])","v":"20340016 PARQUE E            "}]
[null,"EMPRENDIMIENTO EMPRE",20340017,{"$f":"+CONCATENATE(Tabla217[[#This Row],[CeCo2]],\" \",Tabla217[[#This Row],[CeCo]])","v":"20340017 EMPRENDIMIENTO EMPRE"}]
[null,"FON PAT EXT CULT-INV",20340018,{"$f":"+CONCATENATE(Tabla217[[#This Row],[CeCo2]],\" \",Tabla217[[#This Row],[CeCo]])","v":"20340018 FON PAT EXT CULT-INV"}]
[null,"PROYECTOS VICE EXTE ",20340019,{"$f":"+CONCATENATE(Tabla217[[#This Row],[CeCo2]],\" \",Tabla217[[#This Row],[CeCo]])","v":"20340019 PROYECTOS VICE EXTE "}]
[null,"SEDE BOGOTÁ UDEA    ",20340020,{"$f":"+CONCATENATE(Tabla217[[#This Row],[CeCo2]],\" \",Tabla217[[#This Row],[CeCo]])","v":"20340020 SEDE BOGOTÁ UDEA    "}]
[null,"FONDO INNOVA-REGALÍA",20340021,{"$f":"+CONCATENATE(Tabla217[[#This Row],[CeCo2]],\" \",Tabla217[[#This Row],[CeCo]])","v":"20340021 FONDO INNOVA-REGALÍA"}]
[null,"PARQUE E URABÁ      ",20340022,{"$f":"+CONCATENATE(Tabla217[[#This Row],[CeCo2]],\" \",Tabla217[[#This Row],[CeCo]])","v":"20340022 PARQUE E URABÁ      "}]
[null,"REVISTA UDEA        ",20340023,{"$f":"+CONCATENATE(Tabla217[[#This Row],[CeCo2]],\" \",Tabla217[[#This Row],[CeCo]])","v":"20340023 REVISTA UDEA        "}]
[null,"PROYECTOS ESPECIALES",20340024,{"$f":"+CONCATENATE(Tabla217[[#This Row],[CeCo2]],\" \",Tabla217[[#This Row],[CeCo]])","v":"20340024 PROYECTOS ESPECIALES"}]
[null,"ESCUELA DE GOBIERNO ",20340025,{"$f":"+CONCATENATE(Tabla217[[#This Row],[CeCo2]],\" \",Tabla217[[#This Row],[CeCo]])","v":"20340025 ESCUELA DE GOBIERNO "}]
[null,"DIVISIÓN EGRESADOS  ",20340026,{"$f":"+CONCATENATE(Tabla217[[#This Row],[CeCo2]],\" \",Tabla217[[#This Row],[CeCo]])","v":"20340026 DIVISIÓN EGRESADOS  "}]
[null,"DIV INTERACCIÓN SOCI",20340027,{"$f":"+CONCATENATE(Tabla217[[#This Row],[CeCo2]],\" \",Tabla217[[#This Row],[CeCo]])","v":"20340027 DIV INTERACCIÓN SOCI"}]
[null,"VICERRECT EXTENSIÓN ",20340028,{"$f":"+CONCATENATE(Tabla217[[#This Row],[CeCo2]],\" \",Tabla217[[#This Row],[CeCo]])","v":"20340028 VICERRECT EXTENSIÓN "}]
[null,"DIV CULTURA Y PATRIM",20340029,{"$f":"+CONCATENATE(Tabla217[[#This Row],[CeCo2]],\" \",Tabla217[[#This Row],[CeCo]])","v":"20340029 DIV CULTURA Y PATRIM"}]
[null,"DIVISIÓN INNOVACIÓN ",20340030,{"$f":"+CONCATENATE(Tabla217[[#This Row],[CeCo2]],\" \",Tabla217[[#This Row],[CeCo]])","v":"20340030 DIVISIÓN INNOVACIÓN "}]
[null,"PROYECTOS ESC GOBIER",20340031,{"$f":"+CONCATENATE(Tabla217[[#This Row],[CeCo2]],\" \",Tabla217[[#This Row],[CeCo]])","v":"20340031 PROYECTOS ESC GOBIER"}]
[null,"DISTRITO PRODUCTIVO ",20340032,{"$f":"+CONCATENATE(Tabla217[[#This Row],[CeCo2]],\" \",Tabla217[[#This Row],[CeCo]])","v":"20340032 DISTRITO PRODUCTIVO "}]
[null,"UDAIT               ",20340033,{"$f":"+CONCATENATE(Tabla217[[#This Row],[CeCo2]],\" \",Tabla217[[#This Row],[CeCo]])","v":"20340033 UDAIT               "}]
[null,"VICE EXTENSION      ",20360001,{"$f":"+CONCATENATE(Tabla217[[#This Row],[CeCo2]],\" \",Tabla217[[#This Row],[CeCo]])","v":"20360001 VICE EXTENSION      "}]
[null,"CONS CIUD UNIV ORIEN",20410001,{"$f":"+CONCATENATE(Tabla217[[#This Row],[CeCo2]],\" \",Tabla217[[#This Row],[CeCo]])","v":"20410001 CONS CIUD UNIV ORIEN"}]
[null,"AMP BQ 80 LAB CAUCAS",20410002,{"$f":"+CONCATENATE(Tabla217[[#This Row],[CeCo2]],\" \",Tabla217[[#This Row],[CeCo]])","v":"20410002 AMP BQ 80 LAB CAUCAS"}]
[null,"2A ETA SED CIENC MAR",20410003,{"$f":"+CONCATENATE(Tabla217[[#This Row],[CeCo2]],\" \",Tabla217[[#This Row],[CeCo]])","v":"20410003 2A ETA SED CIENC MAR"}]
[null,"CONSTRUCC APARTADO  ",20410004,{"$f":"+CONCATENATE(Tabla217[[#This Row],[CeCo2]],\" \",Tabla217[[#This Row],[CeCo]])","v":"20410004 CONSTRUCC APARTADO  "}]
[null,"MAGDALENA MEDIO     ",20410005,{"$f":"+CONCATENATE(Tabla217[[#This Row],[CeCo2]],\" \",Tabla217[[#This Row],[CeCo]])","v":"20410005 MAGDALENA MEDIO     "}]
[null,"SUROESTE            ",20410006,{"$f":"+CONCATENATE(Tabla217[[#This Row],[CeCo2]],\" \",Tabla217[[#This Row],[CeCo]])","v":"20410006 SUROESTE            "}]
[null,"OCCIDENTE           ",20410007,{"$f":"+CONCATENATE(Tabla217[[#This Row],[CeCo2]],\" \",Tabla217[[#This Row],[CeCo]])","v":"20410007 OCCIDENTE           "}]
[null,"ORIENTE             ",20410008,{"$f":"+CONCATENATE(Tabla217[[#This Row],[CeCo2]],\" \",Tabla217[[#This Row],[CeCo]])","v":"20410008 ORIENTE             "}]
[null,"NORDESTE            ",20410009,{"$f":"+CONCATENATE(Tabla217[[#This Row],[CeCo2]],\" \",Tabla217[[#This Row],[CeCo]])","v":"20410009 NORDESTE            "}]
[null,"BAJO CAUCA          ",20410010,{"$f":"+CONCATENATE(Tabla217[[#This Row],[CeCo2]],\" \",Tabla217[[#This Row],[CeCo]])","v":"20410010 BAJO CAUCA          "}]
[null,"URABA               ",20410011,{"$f":"+CONCATENATE(Tabla217[[#This Row],[CeCo2]],\" \",Tabla217[[#This Row],[CeCo]])","v":"20410011 URABA               "}]
[null,"DESCENTRALIZACIÓN UR",20410012,{"$f":"+CONCATENATE(Tabla217[[#This Row],[CeCo2]],\" \",Tabla217[[#This Row],[CeCo]])","v":"20410012 DESCENTRALIZACIÓN UR"}]
[null,"REGIONALIZACIÓN URAB",20410013,{"$f":"+CONCATENATE(Tabla217[[#This Row],[CeCo2]],\" \",Tabla217[[#This Row],[CeCo]])","v":"20410013 REGIONALIZACIÓN URAB"}]
[null,"MAGDALENA MEDIO     ",20420001,{"$f":"+CONCATENATE(Tabla217[[#This Row],[CeCo2]],\" \",Tabla217[[#This Row],[CeCo]])","v":"20420001 MAGDALENA MEDIO     "}]
[null,"SUROESTE            ",20420002,{"$f":"+CONCATENATE(Tabla217[[#This Row],[CeCo2]],\" \",Tabla217[[#This Row],[CeCo]])","v":"20420002 SUROESTE            "}]
[null,"OCCIDENTE           ",20420003,{"$f":"+CONCATENATE(Tabla217[[#This Row],[CeCo2]],\" \",Tabla217[[#This Row],[CeCo]])","v":"20420003 OCCIDENTE           "}]
[null,"ORIENTE             ",20420004,{"$f":"+CONCATENATE(Tabla217[[#This Row],[CeCo2]],\" \",Tabla217[[#This Row],[CeCo]])","v":"20420004 ORIENTE             "}]
[null,"NORDESTE            ",20420005,{"$f":"+CONCATENATE(Tabla217[[#This Row],[CeCo2]],\" \",Tabla217[[#This Row],[CeCo]])","v":"20420005 NORDESTE            "}]
[null,"BAJO CAUCA          ",20420006,{"$f":"+CONCATENATE(Tabla217[[#This Row],[CeCo2]],\" \",Tabla217[[#This Row],[CeCo]])","v":"20420006 BAJO CAUCA          "}]
[null,"URABA               ",20420007,{"$f":"+CONCATENATE(Tabla217[[#This Row],[CeCo2]],\" \",Tabla217[[#This Row],[CeCo]])","v":"20420007 URABA               "}]
[null,"NORTE ANTIOQUENO    ",20420008,{"$f":"+CONCATENATE(Tabla217[[#This Row],[CeCo2]],\" \",Tabla217[[#This Row],[CeCo]])","v":"20420008 NORTE ANTIOQUENO    "}]
[null,"FON PAT REG         ",20420009,{"$f":"+CONCATENATE(Tabla217[[#This Row],[CeCo2]],\" \",Tabla217[[#This Row],[CeCo]])","v":"20420009 FON PAT REG         "}]
[null,"FON PAT REG - INV   ",20420010,{"$f":"+CONCATENATE(Tabla217[[#This Row],[CeCo2]],\" \",Tabla217[[#This Row],[CeCo]])","v":"20420010 FON PAT REG - INV   "}]
[null,"PROGRAMA REGIONALIZA",20420011,{"$f":"+CONCATENATE(Tabla217[[#This Row],[CeCo2]],\" \",Tabla217[[#This Row],[CeCo]])","v":"20420011 PROGRAMA REGIONALIZA"}]
[null,"PROGRAMA REGIONALIZA",20420012,{"$f":"+CONCATENATE(Tabla217[[#This Row],[CeCo2]],\" \",Tabla217[[#This Row],[CeCo]])","v":"20420012 PROGRAMA REGIONALIZA"}]
[null,"CONV MUN DE ENVIGADO",20440001,{"$f":"+CONCATENATE(Tabla217[[#This Row],[CeCo2]],\" \",Tabla217[[#This Row],[CeCo]])","v":"20440001 CONV MUN DE ENVIGADO"}]
[null,"CEN REG EST SUP-ORIE",20440002,{"$f":"+CONCATENATE(Tabla217[[#This Row],[CeCo2]],\" \",Tabla217[[#This Row],[CeCo]])","v":"20440002 CEN REG EST SUP-ORIE"}]
[null,"CEN REG EST SUP-YARU",20440003,{"$f":"+CONCATENATE(Tabla217[[#This Row],[CeCo2]],\" \",Tabla217[[#This Row],[CeCo]])","v":"20440003 CEN REG EST SUP-YARU"}]
[null,"FORT EST REG EDU SUP",20440004,{"$f":"+CONCATENATE(Tabla217[[#This Row],[CeCo2]],\" \",Tabla217[[#This Row],[CeCo]])","v":"20440004 FORT EST REG EDU SUP"}]
[null,"FORT ED SU LINEA DOC",20440005,{"$f":"+CONCATENATE(Tabla217[[#This Row],[CeCo2]],\" \",Tabla217[[#This Row],[CeCo]])","v":"20440005 FORT ED SU LINEA DOC"}]
[null,"ESTA PIL PISCICUL   ",20440006,{"$f":"+CONCATENATE(Tabla217[[#This Row],[CeCo2]],\" \",Tabla217[[#This Row],[CeCo]])","v":"20440006 ESTA PIL PISCICUL   "}]
[null,"CONV MPIO ITAGUI-IND",20440007,{"$f":"+CONCATENATE(Tabla217[[#This Row],[CeCo2]],\" \",Tabla217[[#This Row],[CeCo]])","v":"20440007 CONV MPIO ITAGUI-IND"}]
[null,"PROY ESPECIAL REGION",20440008,{"$f":"+CONCATENATE(Tabla217[[#This Row],[CeCo2]],\" \",Tabla217[[#This Row],[CeCo]])","v":"20440008 PROY ESPECIAL REGION"}]
[null,"DIRECCION REGIONALIZ",20460001,{"$f":"+CONCATENATE(Tabla217[[#This Row],[CeCo2]],\" \",Tabla217[[#This Row],[CeCo]])","v":"20460001 DIRECCION REGIONALIZ"}]
[null,"REGIONALIZACION     ",20460002,{"$f":"+CONCATENATE(Tabla217[[#This Row],[CeCo2]],\" \",Tabla217[[#This Row],[CeCo]])","v":"20460002 REGIONALIZACION     "}]
[null,"DIR DE POSGRADO     ",20510001,{"$f":"+CONCATENATE(Tabla217[[#This Row],[CeCo2]],\" \",Tabla217[[#This Row],[CeCo]])","v":"20510001 DIR DE POSGRADO     "}]
[null,"SIST UNIV POSG      ",20510002,{"$f":"+CONCATENATE(Tabla217[[#This Row],[CeCo2]],\" \",Tabla217[[#This Row],[CeCo]])","v":"20510002 SIST UNIV POSG      "}]
[null,"FON COPA BECAS DOCTO",20510003,{"$f":"+CONCATENATE(Tabla217[[#This Row],[CeCo2]],\" \",Tabla217[[#This Row],[CeCo]])","v":"20510003 FON COPA BECAS DOCTO"}]
[null,"NUEVA SEDE POSGRAGOS",20510004,{"$f":"+CONCATENATE(Tabla217[[#This Row],[CeCo2]],\" \",Tabla217[[#This Row],[CeCo]])","v":"20510004 NUEVA SEDE POSGRAGOS"}]
[null,"PROGR MOVILIDAD POS ",20510005,{"$f":"+CONCATENATE(Tabla217[[#This Row],[CeCo2]],\" \",Tabla217[[#This Row],[CeCo]])","v":"20510005 PROGR MOVILIDAD POS "}]
[null,"BECAS POSDOCTORALES ",20530001,{"$f":"+CONCATENATE(Tabla217[[#This Row],[CeCo2]],\" \",Tabla217[[#This Row],[CeCo]])","v":"20530001 BECAS POSDOCTORALES "}]
[null,"FON BECA DOCTO UDEA ",20540001,{"$f":"+CONCATENATE(Tabla217[[#This Row],[CeCo2]],\" \",Tabla217[[#This Row],[CeCo]])","v":"20540001 FON BECA DOCTO UDEA "}]
[null,"FONDO BECAS MAESTRIA",20540002,{"$f":"+CONCATENATE(Tabla217[[#This Row],[CeCo2]],\" \",Tabla217[[#This Row],[CeCo]])","v":"20540002 FONDO BECAS MAESTRIA"}]
[null,"DIR GEST Y REL INTER",20610001,{"$f":"+CONCATENATE(Tabla217[[#This Row],[CeCo2]],\" \",Tabla217[[#This Row],[CeCo]])","v":"20610001 DIR GEST Y REL INTER"}]
[null,"DIR RELA INTERNALES ",20610002,{"$f":"+CONCATENATE(Tabla217[[#This Row],[CeCo2]],\" \",Tabla217[[#This Row],[CeCo]])","v":"20610002 DIR RELA INTERNALES "}]
[null,"FON PAT RELA INTER  ",20610003,{"$f":"+CONCATENATE(Tabla217[[#This Row],[CeCo2]],\" \",Tabla217[[#This Row],[CeCo]])","v":"20610003 FON PAT RELA INTER  "}]
[null,"FON PAT RELA INTER-I",20610004,{"$f":"+CONCATENATE(Tabla217[[#This Row],[CeCo2]],\" \",Tabla217[[#This Row],[CeCo]])","v":"20610004 FON PAT RELA INTER-I"}]
[null,"DPTO DE MORFOLOGIA  ",20720001,{"$f":"+CONCATENATE(Tabla217[[#This Row],[CeCo2]],\" \",Tabla217[[#This Row],[CeCo]])","v":"20720001 DPTO DE MORFOLOGIA  "}]
[null,"DPTO DE FISIOLOGIA  ",20720002,{"$f":"+CONCATENATE(Tabla217[[#This Row],[CeCo2]],\" \",Tabla217[[#This Row],[CeCo]])","v":"20720002 DPTO DE FISIOLOGIA  "}]
[null,"DPTO DE BIOQUIMICA  ",20720003,{"$f":"+CONCATENATE(Tabla217[[#This Row],[CeCo2]],\" \",Tabla217[[#This Row],[CeCo]])","v":"20720003 DPTO DE BIOQUIMICA  "}]
[null,"DPTO DE FARMA Y TOXI",20720004,{"$f":"+CONCATENATE(Tabla217[[#This Row],[CeCo2]],\" \",Tabla217[[#This Row],[CeCo]])","v":"20720004 DPTO DE FARMA Y TOXI"}]
[null,"DPTO DE PATOLOGIA   ",20720005,{"$f":"+CONCATENATE(Tabla217[[#This Row],[CeCo2]],\" \",Tabla217[[#This Row],[CeCo]])","v":"20720005 DPTO DE PATOLOGIA   "}]
[null,"DPTO DE MICRO Y PARA",20720006,{"$f":"+CONCATENATE(Tabla217[[#This Row],[CeCo2]],\" \",Tabla217[[#This Row],[CeCo]])","v":"20720006 DPTO DE MICRO Y PARA"}]
[null,"DPTO DE MEDIC INTERN",20720007,{"$f":"+CONCATENATE(Tabla217[[#This Row],[CeCo2]],\" \",Tabla217[[#This Row],[CeCo]])","v":"20720007 DPTO DE MEDIC INTERN"}]
[null,"DPTO DE CIRUGIA     ",20720008,{"$f":"+CONCATENATE(Tabla217[[#This Row],[CeCo2]],\" \",Tabla217[[#This Row],[CeCo]])","v":"20720008 DPTO DE CIRUGIA     "}]
[null,"DPTO DE OBSTE Y GINE",20720009,{"$f":"+CONCATENATE(Tabla217[[#This Row],[CeCo2]],\" \",Tabla217[[#This Row],[CeCo]])","v":"20720009 DPTO DE OBSTE Y GINE"}]
[null,"DPTO DE PEDI Y PUERI",20720010,{"$f":"+CONCATENATE(Tabla217[[#This Row],[CeCo2]],\" \",Tabla217[[#This Row],[CeCo]])","v":"20720010 DPTO DE PEDI Y PUERI"}]
[null,"DPTO SIQUIATRIA Y CI",20720011,{"$f":"+CONCATENATE(Tabla217[[#This Row],[CeCo2]],\" \",Tabla217[[#This Row],[CeCo]])","v":"20720011 DPTO SIQUIATRIA Y CI"}]
[null,"CEN  EXT FAC DE MED ",20720012,{"$f":"+CONCATENATE(Tabla217[[#This Row],[CeCo2]],\" \",Tabla217[[#This Row],[CeCo]])","v":"20720012 CEN  EXT FAC DE MED "}]
[null,"DPTO MED PRE Y SAL P",20720013,{"$f":"+CONCATENATE(Tabla217[[#This Row],[CeCo2]],\" \",Tabla217[[#This Row],[CeCo]])","v":"20720013 DPTO MED PRE Y SAL P"}]
[null,"DPTO DE EDUCA MEDICA",20720014,{"$f":"+CONCATENATE(Tabla217[[#This Row],[CeCo2]],\" \",Tabla217[[#This Row],[CeCo]])","v":"20720014 DPTO DE EDUCA MEDICA"}]
[null,"SECCION BIOTERIO    ",20720015,{"$f":"+CONCATENATE(Tabla217[[#This Row],[CeCo2]],\" \",Tabla217[[#This Row],[CeCo]])","v":"20720015 SECCION BIOTERIO    "}]
[null,"DPTO MED FIS Y REHA ",20720016,{"$f":"+CONCATENATE(Tabla217[[#This Row],[CeCo2]],\" \",Tabla217[[#This Row],[CeCo]])","v":"20720016 DPTO MED FIS Y REHA "}]
[null,"DPTO RADIOL Y RADIOT",20720017,{"$f":"+CONCATENATE(Tabla217[[#This Row],[CeCo2]],\" \",Tabla217[[#This Row],[CeCo]])","v":"20720017 DPTO RADIOL Y RADIOT"}]
[null,"ESC DE INV MED APLIC",20720018,{"$f":"+CONCATENATE(Tabla217[[#This Row],[CeCo2]],\" \",Tabla217[[#This Row],[CeCo]])","v":"20720018 ESC DE INV MED APLIC"}]
[null,"INST INVESTI MEDICAS",20730001,{"$f":"+CONCATENATE(Tabla217[[#This Row],[CeCo2]],\" \",Tabla217[[#This Row],[CeCo]])","v":"20730001 INST INVESTI MEDICAS"}]
[null,"GRUP INM CEL E INMUN",20730002,{"$f":"+CONCATENATE(Tabla217[[#This Row],[CeCo2]],\" \",Tabla217[[#This Row],[CeCo]])","v":"20730002 GRUP INM CEL E INMUN"}]
[null,"INST DE INV MEDICAS ",20730003,{"$f":"+CONCATENATE(Tabla217[[#This Row],[CeCo2]],\" \",Tabla217[[#This Row],[CeCo]])","v":"20730003 INST DE INV MEDICAS "}]
[null,"GRUPO NEUROCIENCIAS ",20730004,{"$f":"+CONCATENATE(Tabla217[[#This Row],[CeCo2]],\" \",Tabla217[[#This Row],[CeCo]])","v":"20730004 GRUPO NEUROCIENCIAS "}]
[null,"GRUPO DE MALARIA    ",20730005,{"$f":"+CONCATENATE(Tabla217[[#This Row],[CeCo2]],\" \",Tabla217[[#This Row],[CeCo]])","v":"20730005 GRUPO DE MALARIA    "}]
[null,"PROY ESPEC FAC MEDIC",20730006,{"$f":"+CONCATENATE(Tabla217[[#This Row],[CeCo2]],\" \",Tabla217[[#This Row],[CeCo]])","v":"20730006 PROY ESPEC FAC MEDIC"}]
[null,"GRUPO INMU FOND REG ",20730007,{"$f":"+CONCATENATE(Tabla217[[#This Row],[CeCo2]],\" \",Tabla217[[#This Row],[CeCo]])","v":"20730007 GRUPO INMU FOND REG "}]
[null,"LAB INTEG MEDIC ESPE",20730008,{"$f":"+CONCATENATE(Tabla217[[#This Row],[CeCo2]],\" \",Tabla217[[#This Row],[CeCo]])","v":"20730008 LAB INTEG MEDIC ESPE"}]
[null,"MANT PLAN FIS FA MED",20740001,{"$f":"+CONCATENATE(Tabla217[[#This Row],[CeCo2]],\" \",Tabla217[[#This Row],[CeCo]])","v":"20740001 MANT PLAN FIS FA MED"}]
[null,"INV PLAN FIS FAC MED",20740002,{"$f":"+CONCATENATE(Tabla217[[#This Row],[CeCo2]],\" \",Tabla217[[#This Row],[CeCo]])","v":"20740002 INV PLAN FIS FAC MED"}]
[null,"NACER SAL SEX Y REPR",20740003,{"$f":"+CONCATENATE(Tabla217[[#This Row],[CeCo2]],\" \",Tabla217[[#This Row],[CeCo]])","v":"20740003 NACER SAL SEX Y REPR"}]
[null,"EXT FAC MEDICINA    ",20740004,{"$f":"+CONCATENATE(Tabla217[[#This Row],[CeCo2]],\" \",Tabla217[[#This Row],[CeCo]])","v":"20740004 EXT FAC MEDICINA    "}]
[null,"CITO Y CONT CANC UTE",20740005,{"$f":"+CONCATENATE(Tabla217[[#This Row],[CeCo2]],\" \",Tabla217[[#This Row],[CeCo]])","v":"20740005 CITO Y CONT CANC UTE"}]
[null,"CATE DAVID VELASQUEZ",20740006,{"$f":"+CONCATENATE(Tabla217[[#This Row],[CeCo2]],\" \",Tabla217[[#This Row],[CeCo]])","v":"20740006 CATE DAVID VELASQUEZ"}]
[null,"BECA JUAN BAU M FLOR",20740007,{"$f":"+CONCATENATE(Tabla217[[#This Row],[CeCo2]],\" \",Tabla217[[#This Row],[CeCo]])","v":"20740007 BECA JUAN BAU M FLOR"}]
[null,"RECREANDO PAZ Y CONV",20740008,{"$f":"+CONCATENATE(Tabla217[[#This Row],[CeCo2]],\" \",Tabla217[[#This Row],[CeCo]])","v":"20740008 RECREANDO PAZ Y CONV"}]
[null,"ESC NAL GEST RIESGO ",20740009,{"$f":"+CONCATENATE(Tabla217[[#This Row],[CeCo2]],\" \",Tabla217[[#This Row],[CeCo]])","v":"20740009 ESC NAL GEST RIESGO "}]
[null,"PARQUE VIDA/FAC MEDI",20740010,{"$f":"+CONCATENATE(Tabla217[[#This Row],[CeCo2]],\" \",Tabla217[[#This Row],[CeCo]])","v":"20740010 PARQUE VIDA/FAC MEDI"}]
[null,"LAB GENÉTICA MÉDICA ",20740011,{"$f":"+CONCATENATE(Tabla217[[#This Row],[CeCo2]],\" \",Tabla217[[#This Row],[CeCo]])","v":"20740011 LAB GENÉTICA MÉDICA "}]
[null,"LAB HEMATOLOGÍA     ",20740012,{"$f":"+CONCATENATE(Tabla217[[#This Row],[CeCo2]],\" \",Tabla217[[#This Row],[CeCo]])","v":"20740012 LAB HEMATOLOGÍA     "}]
[null,"LAB FOTODERMATOLOGIA",20740013,{"$f":"+CONCATENATE(Tabla217[[#This Row],[CeCo2]],\" \",Tabla217[[#This Row],[CeCo]])","v":"20740013 LAB FOTODERMATOLOGIA"}]
[null,"LAB PATOLO LEÓN XIII",20740014,{"$f":"+CONCATENATE(Tabla217[[#This Row],[CeCo2]],\" \",Tabla217[[#This Row],[CeCo]])","v":"20740014 LAB PATOLO LEÓN XIII"}]
[null,"LAB Y DEPARTAMENTOS ",20740015,{"$f":"+CONCATENATE(Tabla217[[#This Row],[CeCo2]],\" \",Tabla217[[#This Row],[CeCo]])","v":"20740015 LAB Y DEPARTAMENTOS "}]
[null,"LAB FARMACO Y TOXI  ",20740016,{"$f":"+CONCATENATE(Tabla217[[#This Row],[CeCo2]],\" \",Tabla217[[#This Row],[CeCo]])","v":"20740016 LAB FARMACO Y TOXI  "}]
[null,"ADMÓN FAC MEDICINA  ",20740017,{"$f":"+CONCATENATE(Tabla217[[#This Row],[CeCo2]],\" \",Tabla217[[#This Row],[CeCo]])","v":"20740017 ADMÓN FAC MEDICINA  "}]
[null,"ADMÓN PARQUE VIDA   ",20740018,{"$f":"+CONCATENATE(Tabla217[[#This Row],[CeCo2]],\" \",Tabla217[[#This Row],[CeCo]])","v":"20740018 ADMÓN PARQUE VIDA   "}]
[null,"ADMÓN LIVING LAB    ",20740019,{"$f":"+CONCATENATE(Tabla217[[#This Row],[CeCo2]],\" \",Tabla217[[#This Row],[CeCo]])","v":"20740019 ADMÓN LIVING LAB    "}]
[null,"ADMÓN LAB SIMULACIÓN",20740020,{"$f":"+CONCATENATE(Tabla217[[#This Row],[CeCo2]],\" \",Tabla217[[#This Row],[CeCo]])","v":"20740020 ADMÓN LAB SIMULACIÓN"}]
[null,"DECA FACU DE MEDI   ",20760001,{"$f":"+CONCATENATE(Tabla217[[#This Row],[CeCo2]],\" \",Tabla217[[#This Row],[CeCo]])","v":"20760001 DECA FACU DE MEDI   "}]
[null,"DEC FAC MEDICINA    ",20760002,{"$f":"+CONCATENATE(Tabla217[[#This Row],[CeCo2]],\" \",Tabla217[[#This Row],[CeCo]])","v":"20760002 DEC FAC MEDICINA    "}]
[null,"DPTO APOYO ADMITIVO ",20810001,{"$f":"+CONCATENATE(Tabla217[[#This Row],[CeCo2]],\" \",Tabla217[[#This Row],[CeCo]])","v":"20810001 DPTO APOYO ADMITIVO "}]
[null,"DPTO DE EST BAS INTE",20820001,{"$f":"+CONCATENATE(Tabla217[[#This Row],[CeCo2]],\" \",Tabla217[[#This Row],[CeCo]])","v":"20820001 DPTO DE EST BAS INTE"}]
[null,"DPTO ATEN ODONT INTE",20820002,{"$f":"+CONCATENATE(Tabla217[[#This Row],[CeCo2]],\" \",Tabla217[[#This Row],[CeCo]])","v":"20820002 DPTO ATEN ODONT INTE"}]
[null,"CEN DE INV Y EXT ACA",20830001,{"$f":"+CONCATENATE(Tabla217[[#This Row],[CeCo2]],\" \",Tabla217[[#This Row],[CeCo]])","v":"20830001 CEN DE INV Y EXT ACA"}]
[null,"CEN INV ODONTO CIO  ",20830002,{"$f":"+CONCATENATE(Tabla217[[#This Row],[CeCo2]],\" \",Tabla217[[#This Row],[CeCo]])","v":"20830002 CEN INV ODONTO CIO  "}]
[null,"EXT FAC ODONTOLOGIA ",20840001,{"$f":"+CONCATENATE(Tabla217[[#This Row],[CeCo2]],\" \",Tabla217[[#This Row],[CeCo]])","v":"20840001 EXT FAC ODONTOLOGIA "}]
[null,"PROYECTOS EXTENSIÓN ",20840002,{"$f":"+CONCATENATE(Tabla217[[#This Row],[CeCo2]],\" \",Tabla217[[#This Row],[CeCo]])","v":"20840002 PROYECTOS EXTENSIÓN "}]
[null,"DECA FAC DE ODONTO  ",20860001,{"$f":"+CONCATENATE(Tabla217[[#This Row],[CeCo2]],\" \",Tabla217[[#This Row],[CeCo]])","v":"20860001 DECA FAC DE ODONTO  "}]
[null,"DEC FAC DE ODONTO   ",20860002,{"$f":"+CONCATENATE(Tabla217[[#This Row],[CeCo2]],\" \",Tabla217[[#This Row],[CeCo]])","v":"20860002 DEC FAC DE ODONTO   "}]
[null,"DPTO FORM BAS PROF  ",20920001,{"$f":"+CONCATENATE(Tabla217[[#This Row],[CeCo2]],\" \",Tabla217[[#This Row],[CeCo]])","v":"20920001 DPTO FORM BAS PROF  "}]
[null,"DPTO FORM PROF      ",20920002,{"$f":"+CONCATENATE(Tabla217[[#This Row],[CeCo2]],\" \",Tabla217[[#This Row],[CeCo]])","v":"20920002 DPTO FORM PROF      "}]
[null,"DPTO ADMON DE SALUD ",20920003,{"$f":"+CONCATENATE(Tabla217[[#This Row],[CeCo2]],\" \",Tabla217[[#This Row],[CeCo]])","v":"20920003 DPTO ADMON DE SALUD "}]
[null,"DPTO DE EDUCACION   ",20920004,{"$f":"+CONCATENATE(Tabla217[[#This Row],[CeCo2]],\" \",Tabla217[[#This Row],[CeCo]])","v":"20920004 DPTO DE EDUCACION   "}]
[null,"SECC CUR BAS Y COMP ",20920005,{"$f":"+CONCATENATE(Tabla217[[#This Row],[CeCo2]],\" \",Tabla217[[#This Row],[CeCo]])","v":"20920005 SECC CUR BAS Y COMP "}]
[null,"SECC EDUC PERMANENTE",20920006,{"$f":"+CONCATENATE(Tabla217[[#This Row],[CeCo2]],\" \",Tabla217[[#This Row],[CeCo]])","v":"20920006 SECC EDUC PERMANENTE"}]
[null,"DPTO DE EXT Y POSGRA",20920007,{"$f":"+CONCATENATE(Tabla217[[#This Row],[CeCo2]],\" \",Tabla217[[#This Row],[CeCo]])","v":"20920007 DPTO DE EXT Y POSGRA"}]
[null,"CEN DE INVESTIGACION",20930001,{"$f":"+CONCATENATE(Tabla217[[#This Row],[CeCo2]],\" \",Tabla217[[#This Row],[CeCo]])","v":"20930001 CEN DE INVESTIGACION"}]
[null,"CEN DE INV FAC ENF  ",20930002,{"$f":"+CONCATENATE(Tabla217[[#This Row],[CeCo2]],\" \",Tabla217[[#This Row],[CeCo]])","v":"20930002 CEN DE INV FAC ENF  "}]
[null,"CEN INV ENFE CIEN   ",20930003,{"$f":"+CONCATENATE(Tabla217[[#This Row],[CeCo2]],\" \",Tabla217[[#This Row],[CeCo]])","v":"20930003 CEN INV ENFE CIEN   "}]
[null,"POSG EN ENFE        ",20940001,{"$f":"+CONCATENATE(Tabla217[[#This Row],[CeCo2]],\" \",Tabla217[[#This Row],[CeCo]])","v":"20940001 POSG EN ENFE        "}]
[null,"GESTIÓN DE PROYECTOS",20940002,{"$f":"+CONCATENATE(Tabla217[[#This Row],[CeCo2]],\" \",Tabla217[[#This Row],[CeCo]])","v":"20940002 GESTIÓN DE PROYECTOS"}]
[null,"DECA FAC DE ENFE    ",20960001,{"$f":"+CONCATENATE(Tabla217[[#This Row],[CeCo2]],\" \",Tabla217[[#This Row],[CeCo]])","v":"20960001 DECA FAC DE ENFE    "}]
[null,"DEC FAC DE ENFE     ",20960002,{"$f":"+CONCATENATE(Tabla217[[#This Row],[CeCo2]],\" \",Tabla217[[#This Row],[CeCo]])","v":"20960002 DEC FAC DE ENFE     "}]
[null,"SECC DE SERV GENER  ",21010001,{"$f":"+CONCATENATE(Tabla217[[#This Row],[CeCo2]],\" \",Tabla217[[#This Row],[CeCo]])","v":"21010001 SECC DE SERV GENER  "}]
[null,"DPTO DE CIEN BASICAS",21020001,{"$f":"+CONCATENATE(Tabla217[[#This Row],[CeCo2]],\" \",Tabla217[[#This Row],[CeCo]])","v":"21020001 DPTO DE CIEN BASICAS"}]
[null,"DPTO DE CIEN ESPECI ",21020002,{"$f":"+CONCATENATE(Tabla217[[#This Row],[CeCo2]],\" \",Tabla217[[#This Row],[CeCo]])","v":"21020002 DPTO DE CIEN ESPECI "}]
[null,"CENTRO DE EXTENSION ",21020003,{"$f":"+CONCATENATE(Tabla217[[#This Row],[CeCo2]],\" \",Tabla217[[#This Row],[CeCo]])","v":"21020003 CENTRO DE EXTENSION "}]
[null,"PROY BECAS MAEST TDR",21020004,{"$f":"+CONCATENATE(Tabla217[[#This Row],[CeCo2]],\" \",Tabla217[[#This Row],[CeCo]])","v":"21020004 PROY BECAS MAEST TDR"}]
[null,"CEN DE INVESTI      ",21030001,{"$f":"+CONCATENATE(Tabla217[[#This Row],[CeCo2]],\" \",Tabla217[[#This Row],[CeCo]])","v":"21030001 CEN DE INVESTI      "}]
[null,"CEN INV SAL PUB CISA",21030002,{"$f":"+CONCATENATE(Tabla217[[#This Row],[CeCo2]],\" \",Tabla217[[#This Row],[CeCo]])","v":"21030002 CEN INV SAL PUB CISA"}]
[null,"RED CONTROL TABACO  ",21030003,{"$f":"+CONCATENATE(Tabla217[[#This Row],[CeCo2]],\" \",Tabla217[[#This Row],[CeCo]])","v":"21030003 RED CONTROL TABACO  "}]
[null,"GEST INT CALIDAD AIR",21030004,{"$f":"+CONCATENATE(Tabla217[[#This Row],[CeCo2]],\" \",Tabla217[[#This Row],[CeCo]])","v":"21030004 GEST INT CALIDAD AIR"}]
[null,"GEST PROY INVESTIGAC",21030005,{"$f":"+CONCATENATE(Tabla217[[#This Row],[CeCo2]],\" \",Tabla217[[#This Row],[CeCo]])","v":"21030005 GEST PROY INVESTIGAC"}]
[null,"FUNCIO SEDE BOGOTA  ",21040001,{"$f":"+CONCATENATE(Tabla217[[#This Row],[CeCo2]],\" \",Tabla217[[#This Row],[CeCo]])","v":"21040001 FUNCIO SEDE BOGOTA  "}]
[null,"ASESORIAS E INVESTIG",21040002,{"$f":"+CONCATENATE(Tabla217[[#This Row],[CeCo2]],\" \",Tabla217[[#This Row],[CeCo]])","v":"21040002 ASESORIAS E INVESTIG"}]
[null,"PROY AMBIENTAL CONTA",21040003,{"$f":"+CONCATENATE(Tabla217[[#This Row],[CeCo2]],\" \",Tabla217[[#This Row],[CeCo]])","v":"21040003 PROY AMBIENTAL CONTA"}]
[null,"COORDINA. POSGRADOS ",21040004,{"$f":"+CONCATENATE(Tabla217[[#This Row],[CeCo2]],\" \",Tabla217[[#This Row],[CeCo]])","v":"21040004 COORDINA. POSGRADOS "}]
[null,"PROYECTOS EXTENSIÓN ",21040005,{"$f":"+CONCATENATE(Tabla217[[#This Row],[CeCo2]],\" \",Tabla217[[#This Row],[CeCo]])","v":"21040005 PROYECTOS EXTENSIÓN "}]
[null,"EDUCACIÓN CONTINUA  ",21040006,{"$f":"+CONCATENATE(Tabla217[[#This Row],[CeCo2]],\" \",Tabla217[[#This Row],[CeCo]])","v":"21040006 EDUCACIÓN CONTINUA  "}]
[null,"LABORATORIO FNSP    ",21040007,{"$f":"+CONCATENATE(Tabla217[[#This Row],[CeCo2]],\" \",Tabla217[[#This Row],[CeCo]])","v":"21040007 LABORATORIO FNSP    "}]
[null,"DECA FAC NAL SAL PUB",21060001,{"$f":"+CONCATENATE(Tabla217[[#This Row],[CeCo2]],\" \",Tabla217[[#This Row],[CeCo]])","v":"21060001 DECA FAC NAL SAL PUB"}]
[null,"DEC FAC NAL SAL PUB ",21060002,{"$f":"+CONCATENATE(Tabla217[[#This Row],[CeCo2]],\" \",Tabla217[[#This Row],[CeCo]])","v":"21060002 DEC FAC NAL SAL PUB "}]
[null,"TDR INTERNACIONAL   ",21060003,{"$f":"+CONCATENATE(Tabla217[[#This Row],[CeCo2]],\" \",Tabla217[[#This Row],[CeCo]])","v":"21060003 TDR INTERNACIONAL   "}]
[null,"FON BANC DON ADQ TER",21110001,{"$f":"+CONCATENATE(Tabla217[[#This Row],[CeCo2]],\" \",Tabla217[[#This Row],[CeCo]])","v":"21110001 FON BANC DON ADQ TER"}]
[null,"DPTO DE FARMACIA    ",21120001,{"$f":"+CONCATENATE(Tabla217[[#This Row],[CeCo2]],\" \",Tabla217[[#This Row],[CeCo]])","v":"21120001 DPTO DE FARMACIA    "}]
[null,"DPTO  DE ALIMENTOS  ",21120002,{"$f":"+CONCATENATE(Tabla217[[#This Row],[CeCo2]],\" \",Tabla217[[#This Row],[CeCo]])","v":"21120002 DPTO  DE ALIMENTOS  "}]
[null,"CEN DE INVESTIGACIO ",21130001,{"$f":"+CONCATENATE(Tabla217[[#This Row],[CeCo2]],\" \",Tabla217[[#This Row],[CeCo]])","v":"21130001 CEN DE INVESTIGACIO "}]
[null,"CONV ESP COOPERA INV",21130002,{"$f":"+CONCATENATE(Tabla217[[#This Row],[CeCo2]],\" \",Tabla217[[#This Row],[CeCo]])","v":"21130002 CONV ESP COOPERA INV"}]
[null,"CEN INV QUI FARMA   ",21130003,{"$f":"+CONCATENATE(Tabla217[[#This Row],[CeCo2]],\" \",Tabla217[[#This Row],[CeCo]])","v":"21130003 CEN INV QUI FARMA   "}]
[null,"QUIM FARM FON REGA  ",21130004,{"$f":"+CONCATENATE(Tabla217[[#This Row],[CeCo2]],\" \",Tabla217[[#This Row],[CeCo]])","v":"21130004 QUIM FARM FON REGA  "}]
[null,"PROYECTOS INVESTIGAC",21130005,{"$f":"+CONCATENATE(Tabla217[[#This Row],[CeCo2]],\" \",Tabla217[[#This Row],[CeCo]])","v":"21130005 PROYECTOS INVESTIGAC"}]
[null,"SERV Y EXT          ",21140001,{"$f":"+CONCATENATE(Tabla217[[#This Row],[CeCo2]],\" \",Tabla217[[#This Row],[CeCo]])","v":"21140001 SERV Y EXT          "}]
[null,"LAB ESPE DE ANA-LEA ",21140002,{"$f":"+CONCATENATE(Tabla217[[#This Row],[CeCo2]],\" \",Tabla217[[#This Row],[CeCo]])","v":"21140002 LAB ESPE DE ANA-LEA "}]
[null,"PLANT PROD MED ESENC",21140003,{"$f":"+CONCATENATE(Tabla217[[#This Row],[CeCo2]],\" \",Tabla217[[#This Row],[CeCo]])","v":"21140003 PLANT PROD MED ESENC"}]
[null,"CENT DE MEZ DE MEDIC",21140004,{"$f":"+CONCATENATE(Tabla217[[#This Row],[CeCo2]],\" \",Tabla217[[#This Row],[CeCo]])","v":"21140004 CENT DE MEZ DE MEDIC"}]
[null,"POSG CIENCIAS FARM  ",21140005,{"$f":"+CONCATENATE(Tabla217[[#This Row],[CeCo2]],\" \",Tabla217[[#This Row],[CeCo]])","v":"21140005 POSG CIENCIAS FARM  "}]
[null,"PUNTO GOURMET       ",21140006,{"$f":"+CONCATENATE(Tabla217[[#This Row],[CeCo2]],\" \",Tabla217[[#This Row],[CeCo]])","v":"21140006 PUNTO GOURMET       "}]
[null,"PROYECTOS ESPECIALES",21140007,{"$f":"+CONCATENATE(Tabla217[[#This Row],[CeCo2]],\" \",Tabla217[[#This Row],[CeCo]])","v":"21140007 PROYECTOS ESPECIALES"}]
[null,"DEC FAC QUIMI FARMAC",21160001,{"$f":"+CONCATENATE(Tabla217[[#This Row],[CeCo2]],\" \",Tabla217[[#This Row],[CeCo]])","v":"21160001 DEC FAC QUIMI FARMAC"}]
[null,"DEC FAC QUI FARMAC  ",21160002,{"$f":"+CONCATENATE(Tabla217[[#This Row],[CeCo2]],\" \",Tabla217[[#This Row],[CeCo]])","v":"21160002 DEC FAC QUI FARMAC  "}]
[null,"ESCUE MEDI VETERI   ",21220001,{"$f":"+CONCATENATE(Tabla217[[#This Row],[CeCo2]],\" \",Tabla217[[#This Row],[CeCo]])","v":"21220001 ESCUE MEDI VETERI   "}]
[null,"DPTO PCCION AGROPEC ",21220002,{"$f":"+CONCATENATE(Tabla217[[#This Row],[CeCo2]],\" \",Tabla217[[#This Row],[CeCo]])","v":"21220002 DPTO PCCION AGROPEC "}]
[null,"DPTO FORM ACA HACIE ",21220003,{"$f":"+CONCATENATE(Tabla217[[#This Row],[CeCo2]],\" \",Tabla217[[#This Row],[CeCo]])","v":"21220003 DPTO FORM ACA HACIE "}]
[null,"CENTRO PRÁCTICA ORIE",21220004,{"$f":"+CONCATENATE(Tabla217[[#This Row],[CeCo2]],\" \",Tabla217[[#This Row],[CeCo]])","v":"21220004 CENTRO PRÁCTICA ORIE"}]
[null,"CEN INV AGRA-CIAGRA ",21230001,{"$f":"+CONCATENATE(Tabla217[[#This Row],[CeCo2]],\" \",Tabla217[[#This Row],[CeCo]])","v":"21230001 CEN INV AGRA-CIAGRA "}]
[null,"CEN INV CIEN AGRA   ",21230002,{"$f":"+CONCATENATE(Tabla217[[#This Row],[CeCo2]],\" \",Tabla217[[#This Row],[CeCo]])","v":"21230002 CEN INV CIEN AGRA   "}]
[null,"ESPECIAL INVESTIG   ",21230003,{"$f":"+CONCATENATE(Tabla217[[#This Row],[CeCo2]],\" \",Tabla217[[#This Row],[CeCo]])","v":"21230003 ESPECIAL INVESTIG   "}]
[null,"POSG FAC CIEN AGRA  ",21240001,{"$f":"+CONCATENATE(Tabla217[[#This Row],[CeCo2]],\" \",Tabla217[[#This Row],[CeCo]])","v":"21240001 POSG FAC CIEN AGRA  "}]
[null,"HACIENDA EL PROGRESO",21240002,{"$f":"+CONCATENATE(Tabla217[[#This Row],[CeCo2]],\" \",Tabla217[[#This Row],[CeCo]])","v":"21240002 HACIENDA EL PROGRESO"}]
[null,"UNIDAD DE DIAGNOSTIC",21240003,{"$f":"+CONCATENATE(Tabla217[[#This Row],[CeCo2]],\" \",Tabla217[[#This Row],[CeCo]])","v":"21240003 UNIDAD DE DIAGNOSTIC"}]
[null,"EXT FAC CCIAS AGRA  ",21240004,{"$f":"+CONCATENATE(Tabla217[[#This Row],[CeCo2]],\" \",Tabla217[[#This Row],[CeCo]])","v":"21240004 EXT FAC CCIAS AGRA  "}]
[null,"CENTROS DE PRÁCTICAS",21240005,{"$f":"+CONCATENATE(Tabla217[[#This Row],[CeCo2]],\" \",Tabla217[[#This Row],[CeCo]])","v":"21240005 CENTROS DE PRÁCTICAS"}]
[null,"PROYECTOS EXTENSIÓN ",21240006,{"$f":"+CONCATENATE(Tabla217[[#This Row],[CeCo2]],\" \",Tabla217[[#This Row],[CeCo]])","v":"21240006 PROYECTOS EXTENSIÓN "}]
[null,"DEC FAC DE CIEN AGRA",21260001,{"$f":"+CONCATENATE(Tabla217[[#This Row],[CeCo2]],\" \",Tabla217[[#This Row],[CeCo]])","v":"21260001 DEC FAC DE CIEN AGRA"}]
[null,"DEC FAC CCIAS AGRA  ",21260002,{"$f":"+CONCATENATE(Tabla217[[#This Row],[CeCo2]],\" \",Tabla217[[#This Row],[CeCo]])","v":"21260002 DEC FAC CCIAS AGRA  "}]
[null,"DLLO HACIENDAS      ",21260003,{"$f":"+CONCATENATE(Tabla217[[#This Row],[CeCo2]],\" \",Tabla217[[#This Row],[CeCo]])","v":"21260003 DLLO HACIENDAS      "}]
[null,"HACIENDA LA MONTANA ",21260004,{"$f":"+CONCATENATE(Tabla217[[#This Row],[CeCo2]],\" \",Tabla217[[#This Row],[CeCo]])","v":"21260004 HACIENDA LA MONTANA "}]
[null,"HACIENDA VEGAS CLARA",21260005,{"$f":"+CONCATENATE(Tabla217[[#This Row],[CeCo2]],\" \",Tabla217[[#This Row],[CeCo]])","v":"21260005 HACIENDA VEGAS CLARA"}]
[null,"DPTO REC APOYO E INF",21310001,{"$f":"+CONCATENATE(Tabla217[[#This Row],[CeCo2]],\" \",Tabla217[[#This Row],[CeCo]])","v":"21310001 DPTO REC APOYO E INF"}]
[null,"CONSTRUCC BLOQUE 19 ",21310002,{"$f":"+CONCATENATE(Tabla217[[#This Row],[CeCo2]],\" \",Tabla217[[#This Row],[CeCo]])","v":"21310002 CONSTRUCC BLOQUE 19 "}]
[null,"PROG INGENIERI CIVIL",21320001,{"$f":"+CONCATENATE(Tabla217[[#This Row],[CeCo2]],\" \",Tabla217[[#This Row],[CeCo]])","v":"21320001 PROG INGENIERI CIVIL"}]
[null,"PROG ING TELECO     ",21320002,{"$f":"+CONCATENATE(Tabla217[[#This Row],[CeCo2]],\" \",Tabla217[[#This Row],[CeCo]])","v":"21320002 PROG ING TELECO     "}]
[null,"DPTO DE ING IND     ",21320003,{"$f":"+CONCATENATE(Tabla217[[#This Row],[CeCo2]],\" \",Tabla217[[#This Row],[CeCo]])","v":"21320003 DPTO DE ING IND     "}]
[null,"DPTO DE ING METAL   ",21320004,{"$f":"+CONCATENATE(Tabla217[[#This Row],[CeCo2]],\" \",Tabla217[[#This Row],[CeCo]])","v":"21320004 DPTO DE ING METAL   "}]
[null,"DPTO DE ING QUIMICA ",21320005,{"$f":"+CONCATENATE(Tabla217[[#This Row],[CeCo2]],\" \",Tabla217[[#This Row],[CeCo]])","v":"21320005 DPTO DE ING QUIMICA "}]
[null,"DPTO ING SAN  Y AMB ",21320006,{"$f":"+CONCATENATE(Tabla217[[#This Row],[CeCo2]],\" \",Tabla217[[#This Row],[CeCo]])","v":"21320006 DPTO ING SAN  Y AMB "}]
[null,"DPTO DE ING MECANICA",21320007,{"$f":"+CONCATENATE(Tabla217[[#This Row],[CeCo2]],\" \",Tabla217[[#This Row],[CeCo]])","v":"21320007 DPTO DE ING MECANICA"}]
[null,"DPTO DE ING ELECTRIC",21320008,{"$f":"+CONCATENATE(Tabla217[[#This Row],[CeCo2]],\" \",Tabla217[[#This Row],[CeCo]])","v":"21320008 DPTO DE ING ELECTRIC"}]
[null,"DPTO DE ING DE SISTS",21320009,{"$f":"+CONCATENATE(Tabla217[[#This Row],[CeCo2]],\" \",Tabla217[[#This Row],[CeCo]])","v":"21320009 DPTO DE ING DE SISTS"}]
[null,"DPTO DE ING ELECTRO ",21320010,{"$f":"+CONCATENATE(Tabla217[[#This Row],[CeCo2]],\" \",Tabla217[[#This Row],[CeCo]])","v":"21320010 DPTO DE ING ELECTRO "}]
[null,"PROG BIOINGENIERIA  ",21320011,{"$f":"+CONCATENATE(Tabla217[[#This Row],[CeCo2]],\" \",Tabla217[[#This Row],[CeCo]])","v":"21320011 PROG BIOINGENIERIA  "}]
[null,"CEN DE EXT ACADEMICA",21320012,{"$f":"+CONCATENATE(Tabla217[[#This Row],[CeCo2]],\" \",Tabla217[[#This Row],[CeCo]])","v":"21320012 CEN DE EXT ACADEMICA"}]
[null,"DPTO AMBIENTAL      ",21320013,{"$f":"+CONCATENATE(Tabla217[[#This Row],[CeCo2]],\" \",Tabla217[[#This Row],[CeCo]])","v":"21320013 DPTO AMBIENTAL      "}]
[null,"DPTO AMBIENTAL VIRT ",21320014,{"$f":"+CONCATENATE(Tabla217[[#This Row],[CeCo2]],\" \",Tabla217[[#This Row],[CeCo]])","v":"21320014 DPTO AMBIENTAL VIRT "}]
[null,"DPTO INDUSTRIAL VIRT",21320015,{"$f":"+CONCATENATE(Tabla217[[#This Row],[CeCo2]],\" \",Tabla217[[#This Row],[CeCo]])","v":"21320015 DPTO INDUSTRIAL VIRT"}]
[null,"DPTO SISTEMA VIRTUAL",21320016,{"$f":"+CONCATENATE(Tabla217[[#This Row],[CeCo2]],\" \",Tabla217[[#This Row],[CeCo]])","v":"21320016 DPTO SISTEMA VIRTUAL"}]
[null,"DPTO TELECOMUNI VIRT",21320017,{"$f":"+CONCATENATE(Tabla217[[#This Row],[CeCo2]],\" \",Tabla217[[#This Row],[CeCo]])","v":"21320017 DPTO TELECOMUNI VIRT"}]
[null,"CEN INV Y SER TECN  ",21330001,{"$f":"+CONCATENATE(Tabla217[[#This Row],[CeCo2]],\" \",Tabla217[[#This Row],[CeCo]])","v":"21330001 CEN INV Y SER TECN  "}]
[null,"CEN INV AMBIENTA CIA",21330002,{"$f":"+CONCATENATE(Tabla217[[#This Row],[CeCo2]],\" \",Tabla217[[#This Row],[CeCo]])","v":"21330002 CEN INV AMBIENTA CIA"}]
[null,"ING FON REGALIAS    ",21330003,{"$f":"+CONCATENATE(Tabla217[[#This Row],[CeCo2]],\" \",Tabla217[[#This Row],[CeCo]])","v":"21330003 ING FON REGALIAS    "}]
[null,"PROY INV FAC ING    ",21330004,{"$f":"+CONCATENATE(Tabla217[[#This Row],[CeCo2]],\" \",Tabla217[[#This Row],[CeCo]])","v":"21330004 PROY INV FAC ING    "}]
[null,"GRUPOS DE INVESTIGAC",21330005,{"$f":"+CONCATENATE(Tabla217[[#This Row],[CeCo2]],\" \",Tabla217[[#This Row],[CeCo]])","v":"21330005 GRUPOS DE INVESTIGAC"}]
[null,"MOVI COMUNIDAD ACADE",21340001,{"$f":"+CONCATENATE(Tabla217[[#This Row],[CeCo2]],\" \",Tabla217[[#This Row],[CeCo]])","v":"21340001 MOVI COMUNIDAD ACADE"}]
[null,"POSG FAC DE ING     ",21340002,{"$f":"+CONCATENATE(Tabla217[[#This Row],[CeCo2]],\" \",Tabla217[[#This Row],[CeCo]])","v":"21340002 POSG FAC DE ING     "}]
[null,"CEN EXT-EDU NO FORMA",21340003,{"$f":"+CONCATENATE(Tabla217[[#This Row],[CeCo2]],\" \",Tabla217[[#This Row],[CeCo]])","v":"21340003 CEN EXT-EDU NO FORMA"}]
[null,"PROY ESPEC FAC ING  ",21340005,{"$f":"+CONCATENATE(Tabla217[[#This Row],[CeCo2]],\" \",Tabla217[[#This Row],[CeCo]])","v":"21340005 PROY ESPEC FAC ING  "}]
[null,"CENTRO EXT ASE Y CON",21340006,{"$f":"+CONCATENATE(Tabla217[[#This Row],[CeCo2]],\" \",Tabla217[[#This Row],[CeCo]])","v":"21340006 CENTRO EXT ASE Y CON"}]
[null,"SERVICIOS DE LABORAT",21340007,{"$f":"+CONCATENATE(Tabla217[[#This Row],[CeCo2]],\" \",Tabla217[[#This Row],[CeCo]])","v":"21340007 SERVICIOS DE LABORAT"}]
[null,"INGENI@             ",21340008,{"$f":"+CONCATENATE(Tabla217[[#This Row],[CeCo2]],\" \",Tabla217[[#This Row],[CeCo]])","v":"21340008 INGENI@             "}]
[null,"DECA FAC INGENIERIA ",21360001,{"$f":"+CONCATENATE(Tabla217[[#This Row],[CeCo2]],\" \",Tabla217[[#This Row],[CeCo]])","v":"21360001 DECA FAC INGENIERIA "}]
[null,"DPTO DE MATEMATICAS ",21420001,{"$f":"+CONCATENATE(Tabla217[[#This Row],[CeCo2]],\" \",Tabla217[[#This Row],[CeCo]])","v":"21420001 DPTO DE MATEMATICAS "}]
[null,"INSTITUTO DE FISICA ",21420002,{"$f":"+CONCATENATE(Tabla217[[#This Row],[CeCo2]],\" \",Tabla217[[#This Row],[CeCo]])","v":"21420002 INSTITUTO DE FISICA "}]
[null,"INSTITUTO BIOLOGIA  ",21420003,{"$f":"+CONCATENATE(Tabla217[[#This Row],[CeCo2]],\" \",Tabla217[[#This Row],[CeCo]])","v":"21420003 INSTITUTO BIOLOGIA  "}]
[null,"INSTITUTO DE QUIMICA",21420004,{"$f":"+CONCATENATE(Tabla217[[#This Row],[CeCo2]],\" \",Tabla217[[#This Row],[CeCo]])","v":"21420004 INSTITUTO DE QUIMICA"}]
[null,"SECCION HERBARIO    ",21420005,{"$f":"+CONCATENATE(Tabla217[[#This Row],[CeCo2]],\" \",Tabla217[[#This Row],[CeCo]])","v":"21420005 SECCION HERBARIO    "}]
[null,"CEN INV CIE EXA Y NA",21430001,{"$f":"+CONCATENATE(Tabla217[[#This Row],[CeCo2]],\" \",Tabla217[[#This Row],[CeCo]])","v":"21430001 CEN INV CIE EXA Y NA"}]
[null,"CEN INV CIE EXA Y NA",21430002,{"$f":"+CONCATENATE(Tabla217[[#This Row],[CeCo2]],\" \",Tabla217[[#This Row],[CeCo]])","v":"21430002 CEN INV CIE EXA Y NA"}]
[null,"CIEN FONDO REGALIAS ",21430003,{"$f":"+CONCATENATE(Tabla217[[#This Row],[CeCo2]],\" \",Tabla217[[#This Row],[CeCo]])","v":"21430003 CIEN FONDO REGALIAS "}]
[null,"PROYECTOS INVESTIGAC",21430004,{"$f":"+CONCATENATE(Tabla217[[#This Row],[CeCo2]],\" \",Tabla217[[#This Row],[CeCo]])","v":"21430004 PROYECTOS INVESTIGAC"}]
[null,"LAB DE IDENTI GEN   ",21440001,{"$f":"+CONCATENATE(Tabla217[[#This Row],[CeCo2]],\" \",Tabla217[[#This Row],[CeCo]])","v":"21440001 LAB DE IDENTI GEN   "}]
[null,"CIENC TEC E INNO FID",21440002,{"$f":"+CONCATENATE(Tabla217[[#This Row],[CeCo2]],\" \",Tabla217[[#This Row],[CeCo]])","v":"21440002 CIENC TEC E INNO FID"}]
[null,"MAEST. ENSEÑANZA MAT",21440003,{"$f":"+CONCATENATE(Tabla217[[#This Row],[CeCo2]],\" \",Tabla217[[#This Row],[CeCo]])","v":"21440003 MAEST. ENSEÑANZA MAT"}]
[null,"PROYECTOS FCEN      ",21440004,{"$f":"+CONCATENATE(Tabla217[[#This Row],[CeCo2]],\" \",Tabla217[[#This Row],[CeCo]])","v":"21440004 PROYECTOS FCEN      "}]
[null,"DEC FAC CIE EXA Y NA",21460001,{"$f":"+CONCATENATE(Tabla217[[#This Row],[CeCo2]],\" \",Tabla217[[#This Row],[CeCo]])","v":"21460001 DEC FAC CIE EXA Y NA"}]
[null,"DEC FAC CIE EXA Y NA",21460002,{"$f":"+CONCATENATE(Tabla217[[#This Row],[CeCo2]],\" \",Tabla217[[#This Row],[CeCo]])","v":"21460002 DEC FAC CIE EXA Y NA"}]
[null,"DPTO CCIAS CONTABLES",21510001,{"$f":"+CONCATENATE(Tabla217[[#This Row],[CeCo2]],\" \",Tabla217[[#This Row],[CeCo]])","v":"21510001 DPTO CCIAS CONTABLES"}]
[null,"DPTO DE ECONOMIA    ",21520001,{"$f":"+CONCATENATE(Tabla217[[#This Row],[CeCo2]],\" \",Tabla217[[#This Row],[CeCo]])","v":"21520001 DPTO DE ECONOMIA    "}]
[null,"DPTO CIEN ADMITIVAS ",21520002,{"$f":"+CONCATENATE(Tabla217[[#This Row],[CeCo2]],\" \",Tabla217[[#This Row],[CeCo]])","v":"21520002 DPTO CIEN ADMITIVAS "}]
[null,"DPTO DE EST Y MAT   ",21520003,{"$f":"+CONCATENATE(Tabla217[[#This Row],[CeCo2]],\" \",Tabla217[[#This Row],[CeCo]])","v":"21520003 DPTO DE EST Y MAT   "}]
[null,"DPTO DE CIEN CONTABL",21520004,{"$f":"+CONCATENATE(Tabla217[[#This Row],[CeCo2]],\" \",Tabla217[[#This Row],[CeCo]])","v":"21520004 DPTO DE CIEN CONTABL"}]
[null,"POSG Y EDUC PERMANEN",21520005,{"$f":"+CONCATENATE(Tabla217[[#This Row],[CeCo2]],\" \",Tabla217[[#This Row],[CeCo]])","v":"21520005 POSG Y EDUC PERMANEN"}]
[null,"CEN DE INV Y CONSULT",21530001,{"$f":"+CONCATENATE(Tabla217[[#This Row],[CeCo2]],\" \",Tabla217[[#This Row],[CeCo]])","v":"21530001 CEN DE INV Y CONSULT"}]
[null,"CEN INVEST Y CONSUL ",21530002,{"$f":"+CONCATENATE(Tabla217[[#This Row],[CeCo2]],\" \",Tabla217[[#This Row],[CeCo]])","v":"21530002 CEN INVEST Y CONSUL "}]
[null,"INV RIES CAMBI CLIMA",21530003,{"$f":"+CONCATENATE(Tabla217[[#This Row],[CeCo2]],\" \",Tabla217[[#This Row],[CeCo]])","v":"21530003 INV RIES CAMBI CLIMA"}]
[null,"INV CCIAS ECONOMICAS",21530004,{"$f":"+CONCATENATE(Tabla217[[#This Row],[CeCo2]],\" \",Tabla217[[#This Row],[CeCo]])","v":"21530004 INV CCIAS ECONOMICAS"}]
[null,"CIC PROYECTOS       ",21530005,{"$f":"+CONCATENATE(Tabla217[[#This Row],[CeCo2]],\" \",Tabla217[[#This Row],[CeCo]])","v":"21530005 CIC PROYECTOS       "}]
[null,"RECURSOS ESTRATE CIC",21540001,{"$f":"+CONCATENATE(Tabla217[[#This Row],[CeCo2]],\" \",Tabla217[[#This Row],[CeCo]])","v":"21540001 RECURSOS ESTRATE CIC"}]
[null,"DPTO DE ECONOMIA    ",21540002,{"$f":"+CONCATENATE(Tabla217[[#This Row],[CeCo2]],\" \",Tabla217[[#This Row],[CeCo]])","v":"21540002 DPTO DE ECONOMIA    "}]
[null,"DPTO MATEMA Y ESTAD ",21540003,{"$f":"+CONCATENATE(Tabla217[[#This Row],[CeCo2]],\" \",Tabla217[[#This Row],[CeCo]])","v":"21540003 DPTO MATEMA Y ESTAD "}]
[null,"DPTO CCIAS ADMITIVAS",21540004,{"$f":"+CONCATENATE(Tabla217[[#This Row],[CeCo2]],\" \",Tabla217[[#This Row],[CeCo]])","v":"21540004 DPTO CCIAS ADMITIVAS"}]
[null,"CONSULTORIO CONTABLE",21540005,{"$f":"+CONCATENATE(Tabla217[[#This Row],[CeCo2]],\" \",Tabla217[[#This Row],[CeCo]])","v":"21540005 CONSULTORIO CONTABLE"}]
[null,"POSG AREA ADMON EMP ",21540006,{"$f":"+CONCATENATE(Tabla217[[#This Row],[CeCo2]],\" \",Tabla217[[#This Row],[CeCo]])","v":"21540006 POSG AREA ADMON EMP "}]
[null,"EDUCACION PERMANENTE",21540007,{"$f":"+CONCATENATE(Tabla217[[#This Row],[CeCo2]],\" \",Tabla217[[#This Row],[CeCo]])","v":"21540007 EDUCACION PERMANENTE"}]
[null,"COLOM RESPONDE CELIN",21540008,{"$f":"+CONCATENATE(Tabla217[[#This Row],[CeCo2]],\" \",Tabla217[[#This Row],[CeCo]])","v":"21540008 COLOM RESPONDE CELIN"}]
[null,"PROY UNIDAD INNPULSA",21540009,{"$f":"+CONCATENATE(Tabla217[[#This Row],[CeCo2]],\" \",Tabla217[[#This Row],[CeCo]])","v":"21540009 PROY UNIDAD INNPULSA"}]
[null,"PROY PROG TRANS PROD",21540010,{"$f":"+CONCATENATE(Tabla217[[#This Row],[CeCo2]],\" \",Tabla217[[#This Row],[CeCo]])","v":"21540010 PROY PROG TRANS PROD"}]
[null,"SENA FORMACIÓN      ",21540011,{"$f":"+CONCATENATE(Tabla217[[#This Row],[CeCo2]],\" \",Tabla217[[#This Row],[CeCo]])","v":"21540011 SENA FORMACIÓN      "}]
[null,"LABORATORIO FINANCIE",21540012,{"$f":"+CONCATENATE(Tabla217[[#This Row],[CeCo2]],\" \",Tabla217[[#This Row],[CeCo]])","v":"21540012 LABORATORIO FINANCIE"}]
[null,"DECA FAC CIEN ECONOM",21560001,{"$f":"+CONCATENATE(Tabla217[[#This Row],[CeCo2]],\" \",Tabla217[[#This Row],[CeCo]])","v":"21560001 DECA FAC CIEN ECONOM"}]
[null,"DEC FAC DE CIEN ECON",21560002,{"$f":"+CONCATENATE(Tabla217[[#This Row],[CeCo2]],\" \",Tabla217[[#This Row],[CeCo]])","v":"21560002 DEC FAC DE CIEN ECON"}]
[null,"DPTO DE ARTES VISUAL",21620001,{"$f":"+CONCATENATE(Tabla217[[#This Row],[CeCo2]],\" \",Tabla217[[#This Row],[CeCo]])","v":"21620001 DPTO DE ARTES VISUAL"}]
[null,"DPTO DE MUSICA      ",21620002,{"$f":"+CONCATENATE(Tabla217[[#This Row],[CeCo2]],\" \",Tabla217[[#This Row],[CeCo]])","v":"21620002 DPTO DE MUSICA      "}]
[null,"DPTO DE TEATRO      ",21620003,{"$f":"+CONCATENATE(Tabla217[[#This Row],[CeCo2]],\" \",Tabla217[[#This Row],[CeCo]])","v":"21620003 DPTO DE TEATRO      "}]
[null,"CEN EXT PROM Y DIV  ",21620004,{"$f":"+CONCATENATE(Tabla217[[#This Row],[CeCo2]],\" \",Tabla217[[#This Row],[CeCo]])","v":"21620004 CEN EXT PROM Y DIV  "}]
[null,"INVESTIGACION ARTES ",21630001,{"$f":"+CONCATENATE(Tabla217[[#This Row],[CeCo2]],\" \",Tabla217[[#This Row],[CeCo]])","v":"21630001 INVESTIGACION ARTES "}]
[null,"POSGRADOS FAC ARTES ",21640001,{"$f":"+CONCATENATE(Tabla217[[#This Row],[CeCo2]],\" \",Tabla217[[#This Row],[CeCo]])","v":"21640001 POSGRADOS FAC ARTES "}]
[null,"RED DE ESCU Y BANDA ",21640002,{"$f":"+CONCATENATE(Tabla217[[#This Row],[CeCo2]],\" \",Tabla217[[#This Row],[CeCo]])","v":"21640002 RED DE ESCU Y BANDA "}]
[null,"PROYECTOS EXTENSIÓN ",21640003,{"$f":"+CONCATENATE(Tabla217[[#This Row],[CeCo2]],\" \",Tabla217[[#This Row],[CeCo]])","v":"21640003 PROYECTOS EXTENSIÓN "}]
[null,"DECANATURA DE ARTES ",21660001,{"$f":"+CONCATENATE(Tabla217[[#This Row],[CeCo2]],\" \",Tabla217[[#This Row],[CeCo]])","v":"21660001 DECANATURA DE ARTES "}]
[null,"DEC FAC DE ARTES    ",21660002,{"$f":"+CONCATENATE(Tabla217[[#This Row],[CeCo2]],\" \",Tabla217[[#This Row],[CeCo]])","v":"21660002 DEC FAC DE ARTES    "}]
[null,"SECC CIEN DE LA RELI",21720001,{"$f":"+CONCATENATE(Tabla217[[#This Row],[CeCo2]],\" \",Tabla217[[#This Row],[CeCo]])","v":"21720001 SECC CIEN DE LA RELI"}]
[null,"DPTO DE HISTORIA    ",21720002,{"$f":"+CONCATENATE(Tabla217[[#This Row],[CeCo2]],\" \",Tabla217[[#This Row],[CeCo]])","v":"21720002 DPTO DE HISTORIA    "}]
[null,"DPTO DE ANTROPOLOGIA",21720003,{"$f":"+CONCATENATE(Tabla217[[#This Row],[CeCo2]],\" \",Tabla217[[#This Row],[CeCo]])","v":"21720003 DPTO DE ANTROPOLOGIA"}]
[null,"DPTO DE SICOLOGIA   ",21720004,{"$f":"+CONCATENATE(Tabla217[[#This Row],[CeCo2]],\" \",Tabla217[[#This Row],[CeCo]])","v":"21720004 DPTO DE SICOLOGIA   "}]
[null,"DPTO DE SOCIOLOGIA  ",21720005,{"$f":"+CONCATENATE(Tabla217[[#This Row],[CeCo2]],\" \",Tabla217[[#This Row],[CeCo]])","v":"21720005 DPTO DE SOCIOLOGIA  "}]
[null,"DPTO TRABAJO SOCIAL ",21720006,{"$f":"+CONCATENATE(Tabla217[[#This Row],[CeCo2]],\" \",Tabla217[[#This Row],[CeCo]])","v":"21720006 DPTO TRABAJO SOCIAL "}]
[null,"DPTO DE PSICOANALISI",21720007,{"$f":"+CONCATENATE(Tabla217[[#This Row],[CeCo2]],\" \",Tabla217[[#This Row],[CeCo]])","v":"21720007 DPTO DE PSICOANALISI"}]
[null,"CEN DE INV Y EXT    ",21730001,{"$f":"+CONCATENATE(Tabla217[[#This Row],[CeCo2]],\" \",Tabla217[[#This Row],[CeCo]])","v":"21730001 CEN DE INV Y EXT    "}]
[null,"CEN INV CIE SOC Y HU",21730002,{"$f":"+CONCATENATE(Tabla217[[#This Row],[CeCo2]],\" \",Tabla217[[#This Row],[CeCo]])","v":"21730002 CEN INV CIE SOC Y HU"}]
[null,"ADMINISTRACIÓN CISH ",21730003,{"$f":"+CONCATENATE(Tabla217[[#This Row],[CeCo2]],\" \",Tabla217[[#This Row],[CeCo]])","v":"21730003 ADMINISTRACIÓN CISH "}]
[null,"PSICOLOGIA          ",21740001,{"$f":"+CONCATENATE(Tabla217[[#This Row],[CeCo2]],\" \",Tabla217[[#This Row],[CeCo]])","v":"21740001 PSICOLOGIA          "}]
[null,"TRABAJO SOCIAL      ",21740002,{"$f":"+CONCATENATE(Tabla217[[#This Row],[CeCo2]],\" \",Tabla217[[#This Row],[CeCo]])","v":"21740002 TRABAJO SOCIAL      "}]
[null,"POS FAC CIE SOC Y HU",21740003,{"$f":"+CONCATENATE(Tabla217[[#This Row],[CeCo2]],\" \",Tabla217[[#This Row],[CeCo]])","v":"21740003 POS FAC CIE SOC Y HU"}]
[null,"PROGRAMA HISTORIA   ",21740004,{"$f":"+CONCATENATE(Tabla217[[#This Row],[CeCo2]],\" \",Tabla217[[#This Row],[CeCo]])","v":"21740004 PROGRAMA HISTORIA   "}]
[null,"CEN EST DE OPINI CEO",21740005,{"$f":"+CONCATENATE(Tabla217[[#This Row],[CeCo2]],\" \",Tabla217[[#This Row],[CeCo]])","v":"21740005 CEN EST DE OPINI CEO"}]
[null,"SOCIOLOGIA          ",21740006,{"$f":"+CONCATENATE(Tabla217[[#This Row],[CeCo2]],\" \",Tabla217[[#This Row],[CeCo]])","v":"21740006 SOCIOLOGIA          "}]
[null,"PROGRAMA ANTROPOLOGI",21740007,{"$f":"+CONCATENATE(Tabla217[[#This Row],[CeCo2]],\" \",Tabla217[[#This Row],[CeCo]])","v":"21740007 PROGRAMA ANTROPOLOGI"}]
[null,"PROGRAMA PSICOANALIS",21740008,{"$f":"+CONCATENATE(Tabla217[[#This Row],[CeCo2]],\" \",Tabla217[[#This Row],[CeCo]])","v":"21740008 PROGRAMA PSICOANALIS"}]
[null,"ESTUD LATINOAMERICAN",21740009,{"$f":"+CONCATENATE(Tabla217[[#This Row],[CeCo2]],\" \",Tabla217[[#This Row],[CeCo]])","v":"21740009 ESTUD LATINOAMERICAN"}]
[null,"SERVICIOS EXT PSICOL",21740010,{"$f":"+CONCATENATE(Tabla217[[#This Row],[CeCo2]],\" \",Tabla217[[#This Row],[CeCo]])","v":"21740010 SERVICIOS EXT PSICOL"}]
[null,"PROYECTOS EXTENSIÓN ",21740011,{"$f":"+CONCATENATE(Tabla217[[#This Row],[CeCo2]],\" \",Tabla217[[#This Row],[CeCo]])","v":"21740011 PROYECTOS EXTENSIÓN "}]
[null,"FONDO PUBLICACIONES ",21740012,{"$f":"+CONCATENATE(Tabla217[[#This Row],[CeCo2]],\" \",Tabla217[[#This Row],[CeCo]])","v":"21740012 FONDO PUBLICACIONES "}]
[null,"CENTRO ARTICULACIÓN ",21740013,{"$f":"+CONCATENATE(Tabla217[[#This Row],[CeCo2]],\" \",Tabla217[[#This Row],[CeCo]])","v":"21740013 CENTRO ARTICULACIÓN "}]
[null,"LAB ARQUEOLOGÍA     ",21740014,{"$f":"+CONCATENATE(Tabla217[[#This Row],[CeCo2]],\" \",Tabla217[[#This Row],[CeCo]])","v":"21740014 LAB ARQUEOLOGÍA     "}]
[null,"LAB COMIDAS Y CULTUR",21740015,{"$f":"+CONCATENATE(Tabla217[[#This Row],[CeCo2]],\" \",Tabla217[[#This Row],[CeCo]])","v":"21740015 LAB COMIDAS Y CULTUR"}]
[null,"DEC FAC CIE SOC Y HU",21760001,{"$f":"+CONCATENATE(Tabla217[[#This Row],[CeCo2]],\" \",Tabla217[[#This Row],[CeCo]])","v":"21760001 DEC FAC CIE SOC Y HU"}]
[null,"DEC FAC CIE SOC Y HU",21760002,{"$f":"+CONCATENATE(Tabla217[[#This Row],[CeCo2]],\" \",Tabla217[[#This Row],[CeCo]])","v":"21760002 DEC FAC CIE SOC Y HU"}]
[null,"DPTO DE PRACTICAS   ",21820001,{"$f":"+CONCATENATE(Tabla217[[#This Row],[CeCo2]],\" \",Tabla217[[#This Row],[CeCo]])","v":"21820001 DPTO DE PRACTICAS   "}]
[null,"DPTO DE FORM UNIVER ",21820002,{"$f":"+CONCATENATE(Tabla217[[#This Row],[CeCo2]],\" \",Tabla217[[#This Row],[CeCo]])","v":"21820002 DPTO DE FORM UNIVER "}]
[null,"SECC DER PRIV Y LAB ",21820003,{"$f":"+CONCATENATE(Tabla217[[#This Row],[CeCo2]],\" \",Tabla217[[#This Row],[CeCo]])","v":"21820003 SECC DER PRIV Y LAB "}]
[null,"SECC DER POL CIE POL",21820004,{"$f":"+CONCATENATE(Tabla217[[#This Row],[CeCo2]],\" \",Tabla217[[#This Row],[CeCo]])","v":"21820004 SECC DER POL CIE POL"}]
[null,"CEN DE INV EN DERECH",21830001,{"$f":"+CONCATENATE(Tabla217[[#This Row],[CeCo2]],\" \",Tabla217[[#This Row],[CeCo]])","v":"21830001 CEN DE INV EN DERECH"}]
[null,"CEN INV EN DER CIDER",21830002,{"$f":"+CONCATENATE(Tabla217[[#This Row],[CeCo2]],\" \",Tabla217[[#This Row],[CeCo]])","v":"21830002 CEN INV EN DER CIDER"}]
[null,"POSGRADOS EN DERECHO",21840001,{"$f":"+CONCATENATE(Tabla217[[#This Row],[CeCo2]],\" \",Tabla217[[#This Row],[CeCo]])","v":"21840001 POSGRADOS EN DERECHO"}]
[null,"PROYECTOS EXTENSIÓN ",21840002,{"$f":"+CONCATENATE(Tabla217[[#This Row],[CeCo2]],\" \",Tabla217[[#This Row],[CeCo]])","v":"21840002 PROYECTOS EXTENSIÓN "}]
[null,"DEC FAC DER Y CIE PO",21860001,{"$f":"+CONCATENATE(Tabla217[[#This Row],[CeCo2]],\" \",Tabla217[[#This Row],[CeCo]])","v":"21860001 DEC FAC DER Y CIE PO"}]
[null,"DEC FAC DE Y CIE POL",21860002,{"$f":"+CONCATENATE(Tabla217[[#This Row],[CeCo2]],\" \",Tabla217[[#This Row],[CeCo]])","v":"21860002 DEC FAC DE Y CIE POL"}]
[null,"DPTO DE LING Y LITER",21920001,{"$f":"+CONCATENATE(Tabla217[[#This Row],[CeCo2]],\" \",Tabla217[[#This Row],[CeCo]])","v":"21920001 DPTO DE LING Y LITER"}]
[null,"DPTO DE COMU SOCIAL ",21920002,{"$f":"+CONCATENATE(Tabla217[[#This Row],[CeCo2]],\" \",Tabla217[[#This Row],[CeCo]])","v":"21920002 DPTO DE COMU SOCIAL "}]
[null,"FORMACIÓN ACAD Y FIL",21920004,{"$f":"+CONCATENATE(Tabla217[[#This Row],[CeCo2]],\" \",Tabla217[[#This Row],[CeCo]])","v":"21920004 FORMACIÓN ACAD Y FIL"}]
[null,"POSGRADOS           ",21920005,{"$f":"+CONCATENATE(Tabla217[[#This Row],[CeCo2]],\" \",Tabla217[[#This Row],[CeCo]])","v":"21920005 POSGRADOS           "}]
[null,"CEN DE INV Y EXT    ",21930001,{"$f":"+CONCATENATE(Tabla217[[#This Row],[CeCo2]],\" \",Tabla217[[#This Row],[CeCo]])","v":"21930001 CEN DE INV Y EXT    "}]
[null,"INV Y POSG LING Y LI",21930003,{"$f":"+CONCATENATE(Tabla217[[#This Row],[CeCo2]],\" \",Tabla217[[#This Row],[CeCo]])","v":"21930003 INV Y POSG LING Y LI"}]
[null,"CENTRO DE INV Y POSG",21930004,{"$f":"+CONCATENATE(Tabla217[[#This Row],[CeCo2]],\" \",Tabla217[[#This Row],[CeCo]])","v":"21930004 CENTRO DE INV Y POSG"}]
[null,"INVESTIGACIÓN       ",21930005,{"$f":"+CONCATENATE(Tabla217[[#This Row],[CeCo2]],\" \",Tabla217[[#This Row],[CeCo]])","v":"21930005 INVESTIGACIÓN       "}]
[null,"INVESTIG EJEC PROYEC",21930006,{"$f":"+CONCATENATE(Tabla217[[#This Row],[CeCo2]],\" \",Tabla217[[#This Row],[CeCo]])","v":"21930006 INVESTIG EJEC PROYEC"}]
[null,"FONDO TIC           ",21940002,{"$f":"+CONCATENATE(Tabla217[[#This Row],[CeCo2]],\" \",Tabla217[[#This Row],[CeCo]])","v":"21940002 FONDO TIC           "}]
[null,"PARQUE VIDA FACOM   ",21940003,{"$f":"+CONCATENATE(Tabla217[[#This Row],[CeCo2]],\" \",Tabla217[[#This Row],[CeCo]])","v":"21940003 PARQUE VIDA FACOM   "}]
[null,"CONV MARCO FELAFACS ",21940004,{"$f":"+CONCATENATE(Tabla217[[#This Row],[CeCo2]],\" \",Tabla217[[#This Row],[CeCo]])","v":"21940004 CONV MARCO FELAFACS "}]
[null,"EXT LINGU Y LITERA  ",21940005,{"$f":"+CONCATENATE(Tabla217[[#This Row],[CeCo2]],\" \",Tabla217[[#This Row],[CeCo]])","v":"21940005 EXT LINGU Y LITERA  "}]
[null,"CORANTIOQUIA        ",21940006,{"$f":"+CONCATENATE(Tabla217[[#This Row],[CeCo2]],\" \",Tabla217[[#This Row],[CeCo]])","v":"21940006 CORANTIOQUIA        "}]
[null,"COMUNIC FON REGALIAS",21940007,{"$f":"+CONCATENATE(Tabla217[[#This Row],[CeCo2]],\" \",Tabla217[[#This Row],[CeCo]])","v":"21940007 COMUNIC FON REGALIAS"}]
[null,"CENTRO DE EXTENSIÓN ",21940008,{"$f":"+CONCATENATE(Tabla217[[#This Row],[CeCo2]],\" \",Tabla217[[#This Row],[CeCo]])","v":"21940008 CENTRO DE EXTENSIÓN "}]
[null,"EXTENSIÓN SERVICIOS ",21940009,{"$f":"+CONCATENATE(Tabla217[[#This Row],[CeCo2]],\" \",Tabla217[[#This Row],[CeCo]])","v":"21940009 EXTENSIÓN SERVICIOS "}]
[null,"EXTENSIÓN PROYECTOS ",21940010,{"$f":"+CONCATENATE(Tabla217[[#This Row],[CeCo2]],\" \",Tabla217[[#This Row],[CeCo]])","v":"21940010 EXTENSIÓN PROYECTOS "}]
[null,"PROYECTOS MISIONALES",21940011,{"$f":"+CONCATENATE(Tabla217[[#This Row],[CeCo2]],\" \",Tabla217[[#This Row],[CeCo]])","v":"21940011 PROYECTOS MISIONALES"}]
[null,"DECA FAC DE COMU    ",21960001,{"$f":"+CONCATENATE(Tabla217[[#This Row],[CeCo2]],\" \",Tabla217[[#This Row],[CeCo]])","v":"21960001 DECA FAC DE COMU    "}]
[null,"RECURSOS PROPIOS    ",21960003,{"$f":"+CONCATENATE(Tabla217[[#This Row],[CeCo2]],\" \",Tabla217[[#This Row],[CeCo]])","v":"21960003 RECURSOS PROPIOS    "}]
[null,"FACULTAD DE COMUNIC ",21960004,{"$f":"+CONCATENATE(Tabla217[[#This Row],[CeCo2]],\" \",Tabla217[[#This Row],[CeCo]])","v":"21960004 FACULTAD DE COMUNIC "}]
[null,"SECC PCCION MEDIOS  ",22020001,{"$f":"+CONCATENATE(Tabla217[[#This Row],[CeCo2]],\" \",Tabla217[[#This Row],[CeCo]])","v":"22020001 SECC PCCION MEDIOS  "}]
[null,"DPTO EDUCA AVANZADA ",22020002,{"$f":"+CONCATENATE(Tabla217[[#This Row],[CeCo2]],\" \",Tabla217[[#This Row],[CeCo]])","v":"22020002 DPTO EDUCA AVANZADA "}]
[null,"DPTO EDUCA INFANTIL ",22020003,{"$f":"+CONCATENATE(Tabla217[[#This Row],[CeCo2]],\" \",Tabla217[[#This Row],[CeCo]])","v":"22020003 DPTO EDUCA INFANTIL "}]
[null,"DPTO DE PEDAGOGIA   ",22020004,{"$f":"+CONCATENATE(Tabla217[[#This Row],[CeCo2]],\" \",Tabla217[[#This Row],[CeCo]])","v":"22020004 DPTO DE PEDAGOGIA   "}]
[null,"DPTO ENS CIEN Y ARTE",22020005,{"$f":"+CONCATENATE(Tabla217[[#This Row],[CeCo2]],\" \",Tabla217[[#This Row],[CeCo]])","v":"22020005 DPTO ENS CIEN Y ARTE"}]
[null,"DPTO EXT Y EDU A DIS",22020006,{"$f":"+CONCATENATE(Tabla217[[#This Row],[CeCo2]],\" \",Tabla217[[#This Row],[CeCo]])","v":"22020006 DPTO EXT Y EDU A DIS"}]
[null,"CEN DE INV EDU Y PED",22030001,{"$f":"+CONCATENATE(Tabla217[[#This Row],[CeCo2]],\" \",Tabla217[[#This Row],[CeCo]])","v":"22030001 CEN DE INV EDU Y PED"}]
[null,"CEN INV EDUCA-CIED  ",22030002,{"$f":"+CONCATENATE(Tabla217[[#This Row],[CeCo2]],\" \",Tabla217[[#This Row],[CeCo]])","v":"22030002 CEN INV EDUCA-CIED  "}]
[null,"CONTRATOS CENTRO INV",22030003,{"$f":"+CONCATENATE(Tabla217[[#This Row],[CeCo2]],\" \",Tabla217[[#This Row],[CeCo]])","v":"22030003 CONTRATOS CENTRO INV"}]
[null,"EDUCACION AVANZADA  ",22040001,{"$f":"+CONCATENATE(Tabla217[[#This Row],[CeCo2]],\" \",Tabla217[[#This Row],[CeCo]])","v":"22040001 EDUCACION AVANZADA  "}]
[null,"ADMINISTRACION      ",22040002,{"$f":"+CONCATENATE(Tabla217[[#This Row],[CeCo2]],\" \",Tabla217[[#This Row],[CeCo]])","v":"22040002 ADMINISTRACION      "}]
[null,"EDUCACION AMBIENTAL ",22040003,{"$f":"+CONCATENATE(Tabla217[[#This Row],[CeCo2]],\" \",Tabla217[[#This Row],[CeCo]])","v":"22040003 EDUCACION AMBIENTAL "}]
[null,"PEQUEÑOS PROY DE EXT",22040004,{"$f":"+CONCATENATE(Tabla217[[#This Row],[CeCo2]],\" \",Tabla217[[#This Row],[CeCo]])","v":"22040004 PEQUEÑOS PROY DE EXT"}]
[null,"CONV MPIO MEDELLIN  ",22040005,{"$f":"+CONCATENATE(Tabla217[[#This Row],[CeCo2]],\" \",Tabla217[[#This Row],[CeCo]])","v":"22040005 CONV MPIO MEDELLIN  "}]
[null,"SERV CONSUL Y ASESOR",22040006,{"$f":"+CONCATENATE(Tabla217[[#This Row],[CeCo2]],\" \",Tabla217[[#This Row],[CeCo]])","v":"22040006 SERV CONSUL Y ASESOR"}]
[null,"CONVENIO MEN 1414   ",22040007,{"$f":"+CONCATENATE(Tabla217[[#This Row],[CeCo2]],\" \",Tabla217[[#This Row],[CeCo]])","v":"22040007 CONVENIO MEN 1414   "}]
[null,"PROYECTOS EXTENSIÓN ",22040008,{"$f":"+CONCATENATE(Tabla217[[#This Row],[CeCo2]],\" \",Tabla217[[#This Row],[CeCo]])","v":"22040008 PROYECTOS EXTENSIÓN "}]
[null,"DECA FAC EDUCACION  ",22060001,{"$f":"+CONCATENATE(Tabla217[[#This Row],[CeCo2]],\" \",Tabla217[[#This Row],[CeCo]])","v":"22060001 DECA FAC EDUCACION  "}]
[null,"DPTO DE FORMA ACADE ",22120001,{"$f":"+CONCATENATE(Tabla217[[#This Row],[CeCo2]],\" \",Tabla217[[#This Row],[CeCo]])","v":"22120001 DPTO DE FORMA ACADE "}]
[null,"DPTO QUIM CLI Y CITO",22120002,{"$f":"+CONCATENATE(Tabla217[[#This Row],[CeCo2]],\" \",Tabla217[[#This Row],[CeCo]])","v":"22120002 DPTO QUIM CLI Y CITO"}]
[null,"CEN DE INV Y EXT    ",22130001,{"$f":"+CONCATENATE(Tabla217[[#This Row],[CeCo2]],\" \",Tabla217[[#This Row],[CeCo]])","v":"22130001 CEN DE INV Y EXT    "}]
[null,"LAB DOC ASIS E INV  ",22130002,{"$f":"+CONCATENATE(Tabla217[[#This Row],[CeCo2]],\" \",Tabla217[[#This Row],[CeCo]])","v":"22130002 LAB DOC ASIS E INV  "}]
[null,"CONTR IICA-FEDEGAN  ",22130003,{"$f":"+CONCATENATE(Tabla217[[#This Row],[CeCo2]],\" \",Tabla217[[#This Row],[CeCo]])","v":"22130003 CONTR IICA-FEDEGAN  "}]
[null,"CONTR FASCIOLOSIS-GE",22130004,{"$f":"+CONCATENATE(Tabla217[[#This Row],[CeCo2]],\" \",Tabla217[[#This Row],[CeCo]])","v":"22130004 CONTR FASCIOLOSIS-GE"}]
[null,"CENTRO DE INVESTIGA ",22130005,{"$f":"+CONCATENATE(Tabla217[[#This Row],[CeCo2]],\" \",Tabla217[[#This Row],[CeCo]])","v":"22130005 CENTRO DE INVESTIGA "}]
[null,"PROYECTOS INVESTIGAC",22130006,{"$f":"+CONCATENATE(Tabla217[[#This Row],[CeCo2]],\" \",Tabla217[[#This Row],[CeCo]])","v":"22130006 PROYECTOS INVESTIGAC"}]
[null,"LAB CLIN LEON XIII  ",22140001,{"$f":"+CONCATENATE(Tabla217[[#This Row],[CeCo2]],\" \",Tabla217[[#This Row],[CeCo]])","v":"22140001 LAB CLIN LEON XIII  "}]
[null,"BANC SANG LEON XIII ",22140002,{"$f":"+CONCATENATE(Tabla217[[#This Row],[CeCo2]],\" \",Tabla217[[#This Row],[CeCo]])","v":"22140002 BANC SANG LEON XIII "}]
[null,"EDUCACIÓN CONTINUA  ",22140003,{"$f":"+CONCATENATE(Tabla217[[#This Row],[CeCo2]],\" \",Tabla217[[#This Row],[CeCo]])","v":"22140003 EDUCACIÓN CONTINUA  "}]
[null,"AREA DE CITOLOGÍA   ",22140004,{"$f":"+CONCATENATE(Tabla217[[#This Row],[CeCo2]],\" \",Tabla217[[#This Row],[CeCo]])","v":"22140004 AREA DE CITOLOGÍA   "}]
[null,"MUESTRAS COVID-19   ",22140005,{"$f":"+CONCATENATE(Tabla217[[#This Row],[CeCo2]],\" \",Tabla217[[#This Row],[CeCo]])","v":"22140005 MUESTRAS COVID-19   "}]
[null,"ALIANZA COVID-19    ",22140006,{"$f":"+CONCATENATE(Tabla217[[#This Row],[CeCo2]],\" \",Tabla217[[#This Row],[CeCo]])","v":"22140006 ALIANZA COVID-19    "}]
[null,"PROYECTOS EXTENSIÓN ",22140007,{"$f":"+CONCATENATE(Tabla217[[#This Row],[CeCo2]],\" \",Tabla217[[#This Row],[CeCo]])","v":"22140007 PROYECTOS EXTENSIÓN "}]
[null,"DIR ESC DE MICROBIO ",22160001,{"$f":"+CONCATENATE(Tabla217[[#This Row],[CeCo2]],\" \",Tabla217[[#This Row],[CeCo]])","v":"22160001 DIR ESC DE MICROBIO "}]
[null,"DIR ESC MICROBIOLOGI",22160002,{"$f":"+CONCATENATE(Tabla217[[#This Row],[CeCo2]],\" \",Tabla217[[#This Row],[CeCo]])","v":"22160002 DIR ESC MICROBIOLOGI"}]
[null,"DPTO FORMA ACAD     ",22220001,{"$f":"+CONCATENATE(Tabla217[[#This Row],[CeCo2]],\" \",Tabla217[[#This Row],[CeCo]])","v":"22220001 DPTO FORMA ACAD     "}]
[null,"CEN DE INV Y EXT    ",22220002,{"$f":"+CONCATENATE(Tabla217[[#This Row],[CeCo2]],\" \",Tabla217[[#This Row],[CeCo]])","v":"22220002 CEN DE INV Y EXT    "}]
[null,"CEN INV NUT Y DIET  ",22230001,{"$f":"+CONCATENATE(Tabla217[[#This Row],[CeCo2]],\" \",Tabla217[[#This Row],[CeCo]])","v":"22230001 CEN INV NUT Y DIET  "}]
[null,"PROYECTOS INVEST NYD",22230002,{"$f":"+CONCATENATE(Tabla217[[#This Row],[CeCo2]],\" \",Tabla217[[#This Row],[CeCo]])","v":"22230002 PROYECTOS INVEST NYD"}]
[null,"SEG ALIMENT Y NUTRI ",22240001,{"$f":"+CONCATENATE(Tabla217[[#This Row],[CeCo2]],\" \",Tabla217[[#This Row],[CeCo]])","v":"22240001 SEG ALIMENT Y NUTRI "}]
[null,"GERENCIA MANA       ",22240002,{"$f":"+CONCATENATE(Tabla217[[#This Row],[CeCo2]],\" \",Tabla217[[#This Row],[CeCo]])","v":"22240002 GERENCIA MANA       "}]
[null,"GCIA SEG ALIM MANA  ",22240003,{"$f":"+CONCATENATE(Tabla217[[#This Row],[CeCo2]],\" \",Tabla217[[#This Row],[CeCo]])","v":"22240003 GCIA SEG ALIM MANA  "}]
[null,"GCIA SEG ALI MANA IN",22240004,{"$f":"+CONCATENATE(Tabla217[[#This Row],[CeCo2]],\" \",Tabla217[[#This Row],[CeCo]])","v":"22240004 GCIA SEG ALI MANA IN"}]
[null,"PROYECTOS ESC NYD   ",22240005,{"$f":"+CONCATENATE(Tabla217[[#This Row],[CeCo2]],\" \",Tabla217[[#This Row],[CeCo]])","v":"22240005 PROYECTOS ESC NYD   "}]
[null,"DIR ESC NUTRI Y DIET",22260001,{"$f":"+CONCATENATE(Tabla217[[#This Row],[CeCo2]],\" \",Tabla217[[#This Row],[CeCo]])","v":"22260001 DIR ESC NUTRI Y DIET"}]
[null,"DIR ESC NUTRI Y DIET",22260002,{"$f":"+CONCATENATE(Tabla217[[#This Row],[CeCo2]],\" \",Tabla217[[#This Row],[CeCo]])","v":"22260002 DIR ESC NUTRI Y DIET"}]
[null,"DPTO DE FORMA ACADEM",22320001,{"$f":"+CONCATENATE(Tabla217[[#This Row],[CeCo2]],\" \",Tabla217[[#This Row],[CeCo]])","v":"22320001 DPTO DE FORMA ACADEM"}]
[null,"SECC DE SERV Y EXT  ",22320002,{"$f":"+CONCATENATE(Tabla217[[#This Row],[CeCo2]],\" \",Tabla217[[#This Row],[CeCo]])","v":"22320002 SECC DE SERV Y EXT  "}]
[null,"PROYECTOS INVESTIGAC",22330001,{"$f":"+CONCATENATE(Tabla217[[#This Row],[CeCo2]],\" \",Tabla217[[#This Row],[CeCo]])","v":"22330001 PROYECTOS INVESTIGAC"}]
[null,"FORMAC ING MPIO MED ",22340001,{"$f":"+CONCATENATE(Tabla217[[#This Row],[CeCo2]],\" \",Tabla217[[#This Row],[CeCo]])","v":"22340001 FORMAC ING MPIO MED "}]
[null,"SECCION SERVICIOS   ",22340002,{"$f":"+CONCATENATE(Tabla217[[#This Row],[CeCo2]],\" \",Tabla217[[#This Row],[CeCo]])","v":"22340002 SECCION SERVICIOS   "}]
[null,"POSG ESC DE IDIOMAS ",22340003,{"$f":"+CONCATENATE(Tabla217[[#This Row],[CeCo2]],\" \",Tabla217[[#This Row],[CeCo]])","v":"22340003 POSG ESC DE IDIOMAS "}]
[null,"MULTILINGUA         ",22340004,{"$f":"+CONCATENATE(Tabla217[[#This Row],[CeCo2]],\" \",Tabla217[[#This Row],[CeCo]])","v":"22340004 MULTILINGUA         "}]
[null,"CEN INTER IDIO Y CUL",22340005,{"$f":"+CONCATENATE(Tabla217[[#This Row],[CeCo2]],\" \",Tabla217[[#This Row],[CeCo]])","v":"22340005 CEN INTER IDIO Y CUL"}]
[null,"INST CONFUCIO MED   ",22340006,{"$f":"+CONCATENATE(Tabla217[[#This Row],[CeCo2]],\" \",Tabla217[[#This Row],[CeCo]])","v":"22340006 INST CONFUCIO MED   "}]
[null,"MAESTRIA EN TRADUCCI",22340007,{"$f":"+CONCATENATE(Tabla217[[#This Row],[CeCo2]],\" \",Tabla217[[#This Row],[CeCo]])","v":"22340007 MAESTRIA EN TRADUCCI"}]
[null,"PROY ESCUELA IDIOMAS",22340008,{"$f":"+CONCATENATE(Tabla217[[#This Row],[CeCo2]],\" \",Tabla217[[#This Row],[CeCo]])","v":"22340008 PROY ESCUELA IDIOMAS"}]
[null,"AGENCIA TRADUC E INT",22340009,{"$f":"+CONCATENATE(Tabla217[[#This Row],[CeCo2]],\" \",Tabla217[[#This Row],[CeCo]])","v":"22340009 AGENCIA TRADUC E INT"}]
[null,"DIR ESC IDIOMAS     ",22360001,{"$f":"+CONCATENATE(Tabla217[[#This Row],[CeCo2]],\" \",Tabla217[[#This Row],[CeCo]])","v":"22360001 DIR ESC IDIOMAS     "}]
[null,"DIREC ESC DE IDIOMAS",22360002,{"$f":"+CONCATENATE(Tabla217[[#This Row],[CeCo2]],\" \",Tabla217[[#This Row],[CeCo]])","v":"22360002 DIREC ESC DE IDIOMAS"}]
[null,"CEN INV CIEN INF    ",22430001,{"$f":"+CONCATENATE(Tabla217[[#This Row],[CeCo2]],\" \",Tabla217[[#This Row],[CeCo]])","v":"22430001 CEN INV CIEN INF    "}]
[null,"CEN INV EN CCIAS INF",22430002,{"$f":"+CONCATENATE(Tabla217[[#This Row],[CeCo2]],\" \",Tabla217[[#This Row],[CeCo]])","v":"22430002 CEN INV EN CCIAS INF"}]
[null,"PROYECTOS EXTENSIÓN ",22440001,{"$f":"+CONCATENATE(Tabla217[[#This Row],[CeCo2]],\" \",Tabla217[[#This Row],[CeCo]])","v":"22440001 PROYECTOS EXTENSIÓN "}]
[null,"DIR ESC DE BIBLIOTEC",22460001,{"$f":"+CONCATENATE(Tabla217[[#This Row],[CeCo2]],\" \",Tabla217[[#This Row],[CeCo]])","v":"22460001 DIR ESC DE BIBLIOTEC"}]
[null,"DPTO EDU FIS Y DEP  ",22520001,{"$f":"+CONCATENATE(Tabla217[[#This Row],[CeCo2]],\" \",Tabla217[[#This Row],[CeCo]])","v":"22520001 DPTO EDU FIS Y DEP  "}]
[null,"DPTO DE DEPORTE UNIV",22520002,{"$f":"+CONCATENATE(Tabla217[[#This Row],[CeCo2]],\" \",Tabla217[[#This Row],[CeCo]])","v":"22520002 DPTO DE DEPORTE UNIV"}]
[null,"SECC MEDICINA DEPORT",22520003,{"$f":"+CONCATENATE(Tabla217[[#This Row],[CeCo2]],\" \",Tabla217[[#This Row],[CeCo]])","v":"22520003 SECC MEDICINA DEPORT"}]
[null,"CEN INV CIEN DEL DEP",22530001,{"$f":"+CONCATENATE(Tabla217[[#This Row],[CeCo2]],\" \",Tabla217[[#This Row],[CeCo]])","v":"22530001 CEN INV CIEN DEL DEP"}]
[null,"CEN INV CIEN DEP    ",22530002,{"$f":"+CONCATENATE(Tabla217[[#This Row],[CeCo2]],\" \",Tabla217[[#This Row],[CeCo]])","v":"22530002 CEN INV CIEN DEP    "}]
[null,"POSG IN UNIV EDU FIS",22540001,{"$f":"+CONCATENATE(Tabla217[[#This Row],[CeCo2]],\" \",Tabla217[[#This Row],[CeCo]])","v":"22540001 POSG IN UNIV EDU FIS"}]
[null,"CONV UNE TELECO S.A.",22540002,{"$f":"+CONCATENATE(Tabla217[[#This Row],[CeCo2]],\" \",Tabla217[[#This Row],[CeCo]])","v":"22540002 CONV UNE TELECO S.A."}]
[null,"CURSOS DE EXTENSION ",22540003,{"$f":"+CONCATENATE(Tabla217[[#This Row],[CeCo2]],\" \",Tabla217[[#This Row],[CeCo]])","v":"22540003 CURSOS DE EXTENSION "}]
[null,"PROG CONV - INDE ANT",22540004,{"$f":"+CONCATENATE(Tabla217[[#This Row],[CeCo2]],\" \",Tabla217[[#This Row],[CeCo]])","v":"22540004 PROG CONV - INDE ANT"}]
[null,"POSG INST UNI EDU FI",22540005,{"$f":"+CONCATENATE(Tabla217[[#This Row],[CeCo2]],\" \",Tabla217[[#This Row],[CeCo]])","v":"22540005 POSG INST UNI EDU FI"}]
[null,"CONTRATOS ACT FISICA",22540006,{"$f":"+CONCATENATE(Tabla217[[#This Row],[CeCo2]],\" \",Tabla217[[#This Row],[CeCo]])","v":"22540006 CONTRATOS ACT FISICA"}]
[null,"DIR IN EDU FIS Y DEP",22560001,{"$f":"+CONCATENATE(Tabla217[[#This Row],[CeCo2]],\" \",Tabla217[[#This Row],[CeCo]])","v":"22560001 DIR IN EDU FIS Y DEP"}]
[null,"DIR IN EDU FIS Y DEP",22560002,{"$f":"+CONCATENATE(Tabla217[[#This Row],[CeCo2]],\" \",Tabla217[[#This Row],[CeCo]])","v":"22560002 DIR IN EDU FIS Y DEP"}]
[null,"DPTO DE FORMA ACADE ",22620001,{"$f":"+CONCATENATE(Tabla217[[#This Row],[CeCo2]],\" \",Tabla217[[#This Row],[CeCo]])","v":"22620001 DPTO DE FORMA ACADE "}]
[null,"DIR INSTITUTO FILOSO",22660001,{"$f":"+CONCATENATE(Tabla217[[#This Row],[CeCo2]],\" \",Tabla217[[#This Row],[CeCo]])","v":"22660001 DIR INSTITUTO FILOSO"}]
[null,"DIR INST DE FIL INFI",22660002,{"$f":"+CONCATENATE(Tabla217[[#This Row],[CeCo2]],\" \",Tabla217[[#This Row],[CeCo]])","v":"22660002 DIR INST DE FIL INFI"}]
[null,"INV BAS EN CIEN POL ",22730001,{"$f":"+CONCATENATE(Tabla217[[#This Row],[CeCo2]],\" \",Tabla217[[#This Row],[CeCo]])","v":"22730001 INV BAS EN CIEN POL "}]
[null,"PROB POLI COLOM     ",22730002,{"$f":"+CONCATENATE(Tabla217[[#This Row],[CeCo2]],\" \",Tabla217[[#This Row],[CeCo]])","v":"22730002 PROB POLI COLOM     "}]
[null,"ASUN POLI INTER     ",22730003,{"$f":"+CONCATENATE(Tabla217[[#This Row],[CeCo2]],\" \",Tabla217[[#This Row],[CeCo]])","v":"22730003 ASUN POLI INTER     "}]
[null,"PROYECTOS IEP       ",22740001,{"$f":"+CONCATENATE(Tabla217[[#This Row],[CeCo2]],\" \",Tabla217[[#This Row],[CeCo]])","v":"22740001 PROYECTOS IEP       "}]
[null,"INST DE ESTU POLITI ",22760001,{"$f":"+CONCATENATE(Tabla217[[#This Row],[CeCo2]],\" \",Tabla217[[#This Row],[CeCo]])","v":"22760001 INST DE ESTU POLITI "}]
[null,"DIR IN EST POL-INEPO",22760002,{"$f":"+CONCATENATE(Tabla217[[#This Row],[CeCo2]],\" \",Tabla217[[#This Row],[CeCo]])","v":"22760002 DIR IN EST POL-INEPO"}]
[null,"PROG DE INVESTIGACIO",22830001,{"$f":"+CONCATENATE(Tabla217[[#This Row],[CeCo2]],\" \",Tabla217[[#This Row],[CeCo]])","v":"22830001 PROG DE INVESTIGACIO"}]
[null,"PROG EXT Y EDU CONT ",22830002,{"$f":"+CONCATENATE(Tabla217[[#This Row],[CeCo2]],\" \",Tabla217[[#This Row],[CeCo]])","v":"22830002 PROG EXT Y EDU CONT "}]
[null,"PROY DE INVEST INER ",22830003,{"$f":"+CONCATENATE(Tabla217[[#This Row],[CeCo2]],\" \",Tabla217[[#This Row],[CeCo]])","v":"22830003 PROY DE INVEST INER "}]
[null,"CONSTRUCC AUTOP INER",22840001,{"$f":"+CONCATENATE(Tabla217[[#This Row],[CeCo2]],\" \",Tabla217[[#This Row],[CeCo]])","v":"22840001 CONSTRUCC AUTOP INER"}]
[null,"INST ESTUDIOS REGION",22860001,{"$f":"+CONCATENATE(Tabla217[[#This Row],[CeCo2]],\" \",Tabla217[[#This Row],[CeCo]])","v":"22860001 INST ESTUDIOS REGION"}]
[null,"DIR INS EST REG INER",22860002,{"$f":"+CONCATENATE(Tabla217[[#This Row],[CeCo2]],\" \",Tabla217[[#This Row],[CeCo]])","v":"22860002 DIR INS EST REG INER"}]
[null,"CORP ACAD AMBIENTAL ",22930001,{"$f":"+CONCATENATE(Tabla217[[#This Row],[CeCo2]],\" \",Tabla217[[#This Row],[CeCo]])","v":"22930001 CORP ACAD AMBIENTAL "}]
[null,"CORP AMB FON REGAL  ",22930002,{"$f":"+CONCATENATE(Tabla217[[#This Row],[CeCo2]],\" \",Tabla217[[#This Row],[CeCo]])","v":"22930002 CORP AMB FON REGAL  "}]
[null,"AUTORIDADES AMB CAA ",22940001,{"$f":"+CONCATENATE(Tabla217[[#This Row],[CeCo2]],\" \",Tabla217[[#This Row],[CeCo]])","v":"22940001 AUTORIDADES AMB CAA "}]
[null,"POSG Y CURSOS DE EXT",22940002,{"$f":"+CONCATENATE(Tabla217[[#This Row],[CeCo2]],\" \",Tabla217[[#This Row],[CeCo]])","v":"22940002 POSG Y CURSOS DE EXT"}]
[null,"ESPECIALES CAA      ",22940003,{"$f":"+CONCATENATE(Tabla217[[#This Row],[CeCo2]],\" \",Tabla217[[#This Row],[CeCo]])","v":"22940003 ESPECIALES CAA      "}]
[null,"ENTIDADES ESTATALES ",22940004,{"$f":"+CONCATENATE(Tabla217[[#This Row],[CeCo2]],\" \",Tabla217[[#This Row],[CeCo]])","v":"22940004 ENTIDADES ESTATALES "}]
[null,"ECOSISTEMAS MARINOS ",22940005,{"$f":"+CONCATENATE(Tabla217[[#This Row],[CeCo2]],\" \",Tabla217[[#This Row],[CeCo]])","v":"22940005 ECOSISTEMAS MARINOS "}]
[null,"CONV COOPERACIÓN EPM",22940006,{"$f":"+CONCATENATE(Tabla217[[#This Row],[CeCo2]],\" \",Tabla217[[#This Row],[CeCo]])","v":"22940006 CONV COOPERACIÓN EPM"}]
[null,"CORPORACION AMBIENTA",22960001,{"$f":"+CONCATENATE(Tabla217[[#This Row],[CeCo2]],\" \",Tabla217[[#This Row],[CeCo]])","v":"22960001 CORPORACION AMBIENTA"}]
[null,"CORP ACAD EST PATOL ",23030001,{"$f":"+CONCATENATE(Tabla217[[#This Row],[CeCo2]],\" \",Tabla217[[#This Row],[CeCo]])","v":"23030001 CORP ACAD EST PATOL "}]
[null,"CORP ACA EST PAT TRO",23030002,{"$f":"+CONCATENATE(Tabla217[[#This Row],[CeCo2]],\" \",Tabla217[[#This Row],[CeCo]])","v":"23030002 CORP ACA EST PAT TRO"}]
[null,"REC GEN CACAO -REGA ",23030003,{"$f":"+CONCATENATE(Tabla217[[#This Row],[CeCo2]],\" \",Tabla217[[#This Row],[CeCo]])","v":"23030003 REC GEN CACAO -REGA "}]
[null,"MOD CULT CACAO -REGA",23030004,{"$f":"+CONCATENATE(Tabla217[[#This Row],[CeCo2]],\" \",Tabla217[[#This Row],[CeCo]])","v":"23030004 MOD CULT CACAO -REGA"}]
[null,"ADMON CONTRA BOYACA ",23030006,{"$f":"+CONCATENATE(Tabla217[[#This Row],[CeCo2]],\" \",Tabla217[[#This Row],[CeCo]])","v":"23030006 ADMON CONTRA BOYACA "}]
[null,"PROYECTOS ESPECIALES",23040001,{"$f":"+CONCATENATE(Tabla217[[#This Row],[CeCo2]],\" \",Tabla217[[#This Row],[CeCo]])","v":"23040001 PROYECTOS ESPECIALES"}]
[null,"CORP ACA CIEN BAS BI",23130001,{"$f":"+CONCATENATE(Tabla217[[#This Row],[CeCo2]],\" \",Tabla217[[#This Row],[CeCo]])","v":"23130001 CORP ACA CIEN BAS BI"}]
[null,"CORP ACA CIEN BAS BI",23130002,{"$f":"+CONCATENATE(Tabla217[[#This Row],[CeCo2]],\" \",Tabla217[[#This Row],[CeCo]])","v":"23130002 CORP ACA CIEN BAS BI"}]
[null,"SERVICIOS EXTENSIÓN ",23140001,{"$f":"+CONCATENATE(Tabla217[[#This Row],[CeCo2]],\" \",Tabla217[[#This Row],[CeCo]])","v":"23140001 SERVICIOS EXTENSIÓN "}]
[null,"CORP INV CIEN BIOGEN",23230001,{"$f":"+CONCATENATE(Tabla217[[#This Row],[CeCo2]],\" \",Tabla217[[#This Row],[CeCo]])","v":"23230001 CORP INV CIEN BIOGEN"}]